{"text_format":"1","workbook":"xlsx","n_sheets":8,"sheets":["Setup","DrawPrep","MD","Matches","notes","Rankings","CalcPrg","tmp"],"not_rendered":{"charts":0,"images":0,"macros":1,"external_links":0,"defined_names":4,"comments":0,"pivot_tables":0},"unopened":[],"bounds":{"document_bytes":16777216,"sheet_cells":100000,"rows_first":2000,"rows_last":500,"rows_between":2000,"halvings":0,"cell_chars":16384,"cell_head_chars":4096},"cells_cut":0,"cells_raw":0,"read":"whole","date_system":"1900"}

{"sheet":"Setup","index":0,"n_rows":31,"n_cols":8,"rows_kept":31,"cut":false,"hidden":false,"merged":[[1,3,2,3],[0,0,0,1]]}
["ΔΙΠΛΑ 16άρι ΤΑΜΠΛΟ",null,null,"Θέσεις","seed"]
[null,null,null,"3-4",{"$f":"VALUE(LEFT(F2,1))","v":3},"3 4"]
["Διοργανωτής: ","Υπ.Παιδείας",null,null,{"$f":"VALUE(RIGHT(F2,1))","v":4}]
["Τίτλος Τουρνουά: ","Σχολικό Πρωτάθλημα 2014"]
["type: "]
["Έδρα αγώνων: ","ΑΕΤ ΝΙΚΗ ΠΑΤΡΩΝ"]
["Κατηγορία: ","Αγόρια Δ",null,"0 1 2 3 4 11 5 8 14 10 15 12 6 9 7 13 "]
["Έναρξη: ","5",null,"1 2 3 4 "]
["Λήξη: ","11 Μαίου",null,"0 0 0 0 0 0 0 0 0 0 0 0 0 0 0 0 0 0 0 0 0 0 0 0 0 0 0 0 0 0 0 0 0 0 0 0 0 0 0 0 "]
["Επιδιατητής: ","Γ.Καζάνης"]
["Τηλέφωνο επιδ: ",null,null,0,"seed","space pos","Index","Value"]
[null,null,null,{"$f":"IF(E12=\"-\",\"-\",IF(E12>0,D11+1,0))","v":0},{"$f":"IF(F12>0,VALUE(MID($D$7,1,F12-1)),\"-\")","v":0},{"$f":"IF(LEN($D$7)>1,FIND(\" \",$D$7,1),0)","v":2},0,0]
["Ηλικία (12, 14, 16, 18): ","12",null,{"$f":"IF(E13=\"-\",\"-\",IF(E13>0,D12+1,0))","v":1},{"$f":"IF(F13>0,VALUE(MID($D$7,F12+1,F13-F12-1)),\"-\")","v":1},{"$f":"IF(AND(F12>0,LEN($D$7)>F12+1),FIND(\" \",$D$7,F12+1),0)","v":4},1,1]
[null,null,null,2,2,6,2,2]
[null,null,null,3,3,8,3,3]
[null,null,null,4,4,10,4,4]
["Main Draw",{"$f":"\"(\"&COUNTBLANK(DrawPrep!H3:H18)&\")\"","v":"(1)"},null,5,11,13,5,11]
["Πλήθος bye (0-8): ",{"$f":"COUNTBLANK(DrawPrep!H3:H18)","v":1},null,6,5,15,6,5]
["Αριθμός θέσεων seeded: ",4,null,7,8,17,7,8]
[null,null,null,8,14,20,8,14]
[null,null,null,9,10,23,9,10]
[null,null,null,10,15,26,10,15]
[null,null,null,11,12,29,11,12]
[null,null,null,12,6,31,12,6]
["md  (# για off) ","ok",null,13,9,33,13,9]
[null,null,null,14,7,35,14,7]
["=RandUniq(3;4;2)",null,null,15,13,38,15,13]
[]
["=CONCATENATE(LEFT(D9;$B$18*2);LEFT(D8;$B$19*2);RandUniq($B$19+1;16-$B$18;16-$B$19-$B$18);\" \")"]
[]
[null,null," "]

{"sheet":"DrawPrep","index":1,"n_rows":66,"n_cols":23,"rows_kept":66,"cut":false,"hidden":false,"merged":[]}
[{"$f":"IF(Setup!B6>\" \",Setup!B3 & \", \" & Setup!B4 & \", \" & Setup!B6 & \", \" & Setup!B8 & \"-\" & Setup!B9,Setup!B3 & \", \" & Setup!B4 & \", \" & Setup!B8 & \"-\" & Setup!B9)","v":"Υπ.Παιδείας, Σχολικό Πρωτάθλημα 2014, ΑΕΤ ΝΙΚΗ ΠΑΤΡΩΝ, 5-11 Μαίου"},null,null,null,null,null,null,null,null,null,null,null,null,{"$f":"Setup!$B$7","v":"Αγόρια Δ"}]
["α/α","β-Δ","β-Μ","SortV","D>0","S>0","   Α.Μ.  ","Ονοματεπώνυμο","Σύλλογος","ptsD","ptsS","   Α.Μ.   ","Ονοματεπώνυμο","Σύλλογος","ptsD","ptsS","s1","s2","s3","s4","s5","SortPts","Rand"]
[1,{"$f":"J3+O3","v":0},{"$f":"K3+P3","v":1243.5},{"$f":"IF(E3=2,1,IF(E3=1,2,IF(F3=2,3,IF(F3=1,4,5))))","v":3},{"$f":"COUNTIF(J3,\">0\")+COUNTIF(O3,\">0\")","v":0},{"$f":"COUNTIF(K3,\">0\")+COUNTIF(P3,\">0\")","v":2},23775,{"$f":"IF($G3=\"\",\"\",VLOOKUP(Setup!$B$13&\"-\"&$G3,Rankings!$A:$E,2,FALSE))","v":"ΑΝΤΩΝΟΠΟΥΛΟΣ ΧΡΗΣΤΟΣ"},{"$f":"IF($G3=\"\",\"\",VLOOKUP(Setup!$B$13&\"-\"&$G3,Rankings!$A:$E,3,FALSE))","v":"1ο ΓΕΛ ΝΙΚΑΙΑΣ"},{"$f":"IF(COUNTIF(Rankings!$A:$A,Setup!$B$13&\"-\"&$G3)>0,VLOOKUP(Setup!$B$13&\"-\"&$G3,Rankings!$A:$E,5,FALSE),0)","v":0},{"$f":"IF(COUNTIF(Rankings!$A:$A,Setup!$B$13&\"-\"&$G3)>0,VLOOKUP(Setup!$B$13&\"-\"&$G3,Rankings!$A:$E,4,FALSE),0)","v":940},23234,{"$f":"IF($L3=\"\",\"\",VLOOKUP(Setup!$B$13&\"-\"&$L3,Rankings!$A:$E,2,FALSE))","v":"ΚΑΖΑΝΤΖΗΣ ΜΙΧΑΗΛ-ΤΟΥΒ"},{"$f":"IF($L3=\"\",\"\",VLOOKUP(Setup!$B$13&\"-\"&$L3,Rankings!$A:$E,3,FALSE))","v":"ΚΟΛΛΕΓΙΟ ΑΘΗΝΩΝ"},{"$f":"IF(COUNTIF(Rankings!$A:$A,Setup!$B$13&\"-\"&$L3)>0,VLOOKUP(Setup!$B$13&\"-\"&$L3,Rankings!$A:$E,5,FALSE),0)","v":0},{"$f":"IF(COUNTIF(Rankings!$A:$A,Setup!$B$13&\"-\"&$L3)>0,VLOOKUP(Setup!$B$13&\"-\"&$L3,Rankings!$A:$E,4,FALSE),0)","v":303.5},{"$f":"B3+W3","v":2.2323415892039181E-2},{"$f":"IF(J3>0,(B3+P3/1000+W3/1000),(B3+K3/1000+W3/1000))","v":0.94002232341589198},{"$f":"C3+W3","v":1243.5223234158921},{"$f":"C3+W3","v":1243.5223234158921},{"$f":"W3","v":2.2323415892039181E-2},{"$f":"IF(G3=\"\",0,VLOOKUP(D3,D3:U3,13+D3,FALSE))","v":1243.5223234158921},2.2323415892039181E-2]
[2,{"$f":"J4+O4","v":0},{"$f":"K4+P4","v":737.5},{"$f":"IF(E4=2,1,IF(E4=1,2,IF(F4=2,3,IF(F4=1,4,5))))","v":3},{"$f":"COUNTIF(J4,\">0\")+COUNTIF(O4,\">0\")","v":0},{"$f":"COUNTIF(K4,\">0\")+COUNTIF(P4,\">0\")","v":2},23517,{"$f":"IF($G4=\"\",\"\",VLOOKUP(Setup!$B$13&\"-\"&$G4,Rankings!$A:$E,2,FALSE))","v":"ΤΣΙΡΑΝΙΔΗΣ ΕΥΣΤΑΘΙΟΣ"},{"$f":"IF($G4=\"\",\"\",VLOOKUP(Setup!$B$13&\"-\"&$G4,Rankings!$A:$E,3,FALSE))","v":"2ο ΓΕΛ ΠΤΟΛΕΜΑΪΔΑΣ"},{"$f":"IF(COUNTIF(Rankings!$A:$A,Setup!$B$13&\"-\"&$G4)>0,VLOOKUP(Setup!$B$13&\"-\"&$G4,Rankings!$A:$E,5,FALSE),0)","v":0},{"$f":"IF(COUNTIF(Rankings!$A:$A,Setup!$B$13&\"-\"&$G4)>0,VLOOKUP(Setup!$B$13&\"-\"&$G4,Rankings!$A:$E,4,FALSE),0)","v":690},23645,{"$f":"IF($L4=\"\",\"\",VLOOKUP(Setup!$B$13&\"-\"&$L4,Rankings!$A:$E,2,FALSE))","v":"ΝΑΚΑΣ ΚΩΝΣΤΑΝΤΙΝΟΣ"},{"$f":"IF($L4=\"\",\"\",VLOOKUP(Setup!$B$13&\"-\"&$L4,Rankings!$A:$E,3,FALSE))","v":"1ο ΓΕΛ ΚΟΖΑΝΗΣ"},{"$f":"IF(COUNTIF(Rankings!$A:$A,Setup!$B$13&\"-\"&$L4)>0,VLOOKUP(Setup!$B$13&\"-\"&$L4,Rankings!$A:$E,5,FALSE),0)","v":0},{"$f":"IF(COUNTIF(Rankings!$A:$A,Setup!$B$13&\"-\"&$L4)>0,VLOOKUP(Setup!$B$13&\"-\"&$L4,Rankings!$A:$E,4,FALSE),0)","v":47.5},{"$f":"B4+W4","v":4.3046994674434763E-2},{"$f":"IF(J4>0,(B4+P4/1000+W4/1000),(B4+K4/1000+W4/1000))","v":0.69004304699467434},{"$f":"C4+W4","v":737.54304699467446},{"$f":"C4+W4","v":737.54304699467446},{"$f":"W4","v":4.3046994674434763E-2},{"$f":"IF(G4=\"\",0,VLOOKUP(D4,D4:U4,13+D4,FALSE))","v":737.54304699467446},4.3046994674434763E-2]
[3,{"$f":"J5+O5","v":0},{"$f":"K5+P5","v":619},{"$f":"IF(E5=2,1,IF(E5=1,2,IF(F5=2,3,IF(F5=1,4,5))))","v":3},{"$f":"COUNTIF(J5,\">0\")+COUNTIF(O5,\">0\")","v":0},{"$f":"COUNTIF(K5,\">0\")+COUNTIF(P5,\">0\")","v":2},23661,{"$f":"IF($G5=\"\",\"\",VLOOKUP(Setup!$B$13&\"-\"&$G5,Rankings!$A:$E,2,FALSE))","v":"ΦΩΤΕΙΝΟΠΟΥΛΟΣ ΚΩΝΣΤΑΝΤΙΝΟΣ"},{"$f":"IF($G5=\"\",\"\",VLOOKUP(Setup!$B$13&\"-\"&$G5,Rankings!$A:$E,3,FALSE))","v":"ΙΔ.ΕΝ.ΛΥΚΕΙΟ ΘΕΟΜΗΤΩΡ"},{"$f":"IF(COUNTIF(Rankings!$A:$A,Setup!$B$13&\"-\"&$G5)>0,VLOOKUP(Setup!$B$13&\"-\"&$G5,Rankings!$A:$E,5,FALSE),0)","v":0},{"$f":"IF(COUNTIF(Rankings!$A:$A,Setup!$B$13&\"-\"&$G5)>0,VLOOKUP(Setup!$B$13&\"-\"&$G5,Rankings!$A:$E,4,FALSE),0)","v":368.5},23192,{"$f":"IF($L5=\"\",\"\",VLOOKUP(Setup!$B$13&\"-\"&$L5,Rankings!$A:$E,2,FALSE))","v":"ΚΟΥΤΣΑΦΤΗΣ ΑΠΟΣΤΟΛΟΣ"},{"$f":"IF($L5=\"\",\"\",VLOOKUP(Setup!$B$13&\"-\"&$L5,Rankings!$A:$E,3,FALSE))","v":"2ο ΓΕΛ ΒΡΙΛΗΣΣΙΩΝ"},{"$f":"IF(COUNTIF(Rankings!$A:$A,Setup!$B$13&\"-\"&$L5)>0,VLOOKUP(Setup!$B$13&\"-\"&$L5,Rankings!$A:$E,5,FALSE),0)","v":0},{"$f":"IF(COUNTIF(Rankings!$A:$A,Setup!$B$13&\"-\"&$L5)>0,VLOOKUP(Setup!$B$13&\"-\"&$L5,Rankings!$A:$E,4,FALSE),0)","v":250.5},{"$f":"B5+W5","v":3.2043364800093073E-2},{"$f":"IF(J5>0,(B5+P5/1000+W5/1000),(B5+K5/1000+W5/1000))","v":0.36853204336480011},{"$f":"C5+W5","v":619.03204336480007},{"$f":"C5+W5","v":619.03204336480007},{"$f":"W5","v":3.2043364800093073E-2},{"$f":"IF(G5=\"\",0,VLOOKUP(D5,D5:U5,13+D5,FALSE))","v":619.03204336480007},3.2043364800093073E-2]
[4,{"$f":"J6+O6","v":0},{"$f":"K6+P6","v":504},{"$f":"IF(E6=2,1,IF(E6=1,2,IF(F6=2,3,IF(F6=1,4,5))))","v":4},{"$f":"COUNTIF(J6,\">0\")+COUNTIF(O6,\">0\")","v":0},{"$f":"COUNTIF(K6,\">0\")+COUNTIF(P6,\">0\")","v":1},29120,{"$f":"IF($G6=\"\",\"\",VLOOKUP(Setup!$B$13&\"-\"&$G6,Rankings!$A:$E,2,FALSE))","v":"ΜΑΝΤΟΠΟΥΛΟΣ ΑΝΔΡΕΑΣ"},{"$f":"IF($G6=\"\",\"\",VLOOKUP(Setup!$B$13&\"-\"&$G6,Rankings!$A:$E,3,FALSE))","v":"ΙΔ.ΓΕΛ ΕΛΛΗΝΙΚΟ ΚΟΛΛΕΓΙΟ"},{"$f":"IF(COUNTIF(Rankings!$A:$A,Setup!$B$13&\"-\"&$G6)>0,VLOOKUP(Setup!$B$13&\"-\"&$G6,Rankings!$A:$E,5,FALSE),0)","v":0},{"$f":"IF(COUNTIF(Rankings!$A:$A,Setup!$B$13&\"-\"&$G6)>0,VLOOKUP(Setup!$B$13&\"-\"&$G6,Rankings!$A:$E,4,FALSE),0)","v":0},25875,{"$f":"IF($L6=\"\",\"\",VLOOKUP(Setup!$B$13&\"-\"&$L6,Rankings!$A:$E,2,FALSE))","v":"ΛΑΖΑΡΙΔΗΣ ΚΩΝΣΤΑΝΤΙΝΟΣ"},{"$f":"IF($L6=\"\",\"\",VLOOKUP(Setup!$B$13&\"-\"&$L6,Rankings!$A:$E,3,FALSE))","v":"ΙΔ.ΓΕΛ ΕΛΛΗΝΙΚΟ ΚΟΛΛΕΓΙΟ"},{"$f":"IF(COUNTIF(Rankings!$A:$A,Setup!$B$13&\"-\"&$L6)>0,VLOOKUP(Setup!$B$13&\"-\"&$L6,Rankings!$A:$E,5,FALSE),0)","v":0},{"$f":"IF(COUNTIF(Rankings!$A:$A,Setup!$B$13&\"-\"&$L6)>0,VLOOKUP(Setup!$B$13&\"-\"&$L6,Rankings!$A:$E,4,FALSE),0)","v":504},{"$f":"B6+W6","v":2.7540076643545772E-2},{"$f":"IF(J6>0,(B6+P6/1000+W6/1000),(B6+K6/1000+W6/1000))","v":2.7540076643545772E-5},{"$f":"C6+W6","v":504.02754007664356},{"$f":"C6+W6","v":504.02754007664356},{"$f":"W6","v":2.7540076643545772E-2},{"$f":"IF(G6=\"\",0,VLOOKUP(D6,D6:U6,13+D6,FALSE))","v":504.02754007664356},2.7540076643545772E-2]
[5,{"$f":"J7+O7","v":0},{"$f":"K7+P7","v":495.5},{"$f":"IF(E7=2,1,IF(E7=1,2,IF(F7=2,3,IF(F7=1,4,5))))","v":3},{"$f":"COUNTIF(J7,\">0\")+COUNTIF(O7,\">0\")","v":0},{"$f":"COUNTIF(K7,\">0\")+COUNTIF(P7,\">0\")","v":2},23662,{"$f":"IF($G7=\"\",\"\",VLOOKUP(Setup!$B$13&\"-\"&$G7,Rankings!$A:$E,2,FALSE))","v":"ΤΑΣΟΥΛΗΣ ΒΑΣΙΛΕΙΟΣ"},{"$f":"IF($G7=\"\",\"\",VLOOKUP(Setup!$B$13&\"-\"&$G7,Rankings!$A:$E,3,FALSE))","v":"3ο ΓΕΛ ΗΛΙΟΥΠΟΛΗΣ"},{"$f":"IF(COUNTIF(Rankings!$A:$A,Setup!$B$13&\"-\"&$G7)>0,VLOOKUP(Setup!$B$13&\"-\"&$G7,Rankings!$A:$E,5,FALSE),0)","v":0},{"$f":"IF(COUNTIF(Rankings!$A:$A,Setup!$B$13&\"-\"&$G7)>0,VLOOKUP(Setup!$B$13&\"-\"&$G7,Rankings!$A:$E,4,FALSE),0)","v":219.5},22965,{"$f":"IF($L7=\"\",\"\",VLOOKUP(Setup!$B$13&\"-\"&$L7,Rankings!$A:$E,2,FALSE))","v":"ΚΟΡΔΟΣ ΙΩΑΝΝΗΣ"},{"$f":"IF($L7=\"\",\"\",VLOOKUP(Setup!$B$13&\"-\"&$L7,Rankings!$A:$E,3,FALSE))","v":"ΙΔΙΩΤ.ΓΕΝ. ΛΥΚΕΙΟ ΠΡΟΤΥΠΟ ΑΘΗΝΩΝ"},{"$f":"IF(COUNTIF(Rankings!$A:$A,Setup!$B$13&\"-\"&$L7)>0,VLOOKUP(Setup!$B$13&\"-\"&$L7,Rankings!$A:$E,5,FALSE),0)","v":0},{"$f":"IF(COUNTIF(Rankings!$A:$A,Setup!$B$13&\"-\"&$L7)>0,VLOOKUP(Setup!$B$13&\"-\"&$L7,Rankings!$A:$E,4,FALSE),0)","v":276},{"$f":"B7+W7","v":2.2875343804069918E-2},{"$f":"IF(J7>0,(B7+P7/1000+W7/1000),(B7+K7/1000+W7/1000))","v":0.21952287534380407},{"$f":"C7+W7","v":495.52287534380406},{"$f":"C7+W7","v":495.52287534380406},{"$f":"W7","v":2.2875343804069918E-2},{"$f":"IF(G7=\"\",0,VLOOKUP(D7,D7:U7,13+D7,FALSE))","v":495.52287534380406},2.2875343804069918E-2]
[6,{"$f":"J8+O8","v":0},{"$f":"K8+P8","v":466},{"$f":"IF(E8=2,1,IF(E8=1,2,IF(F8=2,3,IF(F8=1,4,5))))","v":3},{"$f":"COUNTIF(J8,\">0\")+COUNTIF(O8,\">0\")","v":0},{"$f":"COUNTIF(K8,\">0\")+COUNTIF(P8,\">0\")","v":2},27879,{"$f":"IF($G8=\"\",\"\",VLOOKUP(Setup!$B$13&\"-\"&$G8,Rankings!$A:$E,2,FALSE))","v":"ΚΙΣΣΑΣ ΧΡΗΣΤΟΣ-ΕΥΑΓΓΕΛΟΣ"},{"$f":"IF($G8=\"\",\"\",VLOOKUP(Setup!$B$13&\"-\"&$G8,Rankings!$A:$E,3,FALSE))","v":"1ο ΓΕΛ ΚΙΑΤΟΥ"},{"$f":"IF(COUNTIF(Rankings!$A:$A,Setup!$B$13&\"-\"&$G8)>0,VLOOKUP(Setup!$B$13&\"-\"&$G8,Rankings!$A:$E,5,FALSE),0)","v":0},{"$f":"IF(COUNTIF(Rankings!$A:$A,Setup!$B$13&\"-\"&$G8)>0,VLOOKUP(Setup!$B$13&\"-\"&$G8,Rankings!$A:$E,4,FALSE),0)","v":180},22866,{"$f":"IF($L8=\"\",\"\",VLOOKUP(Setup!$B$13&\"-\"&$L8,Rankings!$A:$E,2,FALSE))","v":"ΚΟΝΤΟΠΟΥΛΟΣ ΘΕΟΦΑΝΗΣ"},{"$f":"IF($L8=\"\",\"\",VLOOKUP(Setup!$B$13&\"-\"&$L8,Rankings!$A:$E,3,FALSE))","v":"2ο ΓΕΛ ΚΟΡΙΝΘΟΥ"},{"$f":"IF(COUNTIF(Rankings!$A:$A,Setup!$B$13&\"-\"&$L8)>0,VLOOKUP(Setup!$B$13&\"-\"&$L8,Rankings!$A:$E,5,FALSE),0)","v":0},{"$f":"IF(COUNTIF(Rankings!$A:$A,Setup!$B$13&\"-\"&$L8)>0,VLOOKUP(Setup!$B$13&\"-\"&$L8,Rankings!$A:$E,4,FALSE),0)","v":286},{"$f":"B8+W8","v":2.9524581948367944E-2},{"$f":"IF(J8>0,(B8+P8/1000+W8/1000),(B8+K8/1000+W8/1000))","v":0.18002952458194837},{"$f":"C8+W8","v":466.02952458194835},{"$f":"C8+W8","v":466.02952458194835},{"$f":"W8","v":2.9524581948367944E-2},{"$f":"IF(G8=\"\",0,VLOOKUP(D8,D8:U8,13+D8,FALSE))","v":466.02952458194835},2.9524581948367944E-2]
[7,{"$f":"J9+O9","v":0},{"$f":"K9+P9","v":462.5},{"$f":"IF(E9=2,1,IF(E9=1,2,IF(F9=2,3,IF(F9=1,4,5))))","v":3},{"$f":"COUNTIF(J9,\">0\")+COUNTIF(O9,\">0\")","v":0},{"$f":"COUNTIF(K9,\">0\")+COUNTIF(P9,\">0\")","v":2},22834,{"$f":"IF($G9=\"\",\"\",VLOOKUP(Setup!$B$13&\"-\"&$G9,Rankings!$A:$E,2,FALSE))","v":"ΑΔΑΛΟΓΛΟΥ ΛΑΖΑΡΟΣ"},{"$f":"IF($G9=\"\",\"\",VLOOKUP(Setup!$B$13&\"-\"&$G9,Rankings!$A:$E,3,FALSE))","v":"3ο ΓΕΛ ΒΕΡΟΙΑΣ"},{"$f":"IF(COUNTIF(Rankings!$A:$A,Setup!$B$13&\"-\"&$G9)>0,VLOOKUP(Setup!$B$13&\"-\"&$G9,Rankings!$A:$E,5,FALSE),0)","v":0},{"$f":"IF(COUNTIF(Rankings!$A:$A,Setup!$B$13&\"-\"&$G9)>0,VLOOKUP(Setup!$B$13&\"-\"&$G9,Rankings!$A:$E,4,FALSE),0)","v":210.5},29652,{"$f":"IF($L9=\"\",\"\",VLOOKUP(Setup!$B$13&\"-\"&$L9,Rankings!$A:$E,2,FALSE))","v":"ΚΟΣΚΙΝΑΣ ΝΙΚΟΛΑΟΣ"},{"$f":"IF($L9=\"\",\"\",VLOOKUP(Setup!$B$13&\"-\"&$L9,Rankings!$A:$E,3,FALSE))","v":"3ο ΓΕΛ ΚΕΡΚΥΡΑΣ"},{"$f":"IF(COUNTIF(Rankings!$A:$A,Setup!$B$13&\"-\"&$L9)>0,VLOOKUP(Setup!$B$13&\"-\"&$L9,Rankings!$A:$E,5,FALSE),0)","v":0},{"$f":"IF(COUNTIF(Rankings!$A:$A,Setup!$B$13&\"-\"&$L9)>0,VLOOKUP(Setup!$B$13&\"-\"&$L9,Rankings!$A:$E,4,FALSE),0)","v":252},{"$f":"B9+W9","v":4.8960349210016981E-3},{"$f":"IF(J9>0,(B9+P9/1000+W9/1000),(B9+K9/1000+W9/1000))","v":0.21050489603492101},{"$f":"C9+W9","v":462.50489603492099},{"$f":"C9+W9","v":462.50489603492099},{"$f":"W9","v":4.8960349210016981E-3},{"$f":"IF(G9=\"\",0,VLOOKUP(D9,D9:U9,13+D9,FALSE))","v":462.50489603492099},4.8960349210016981E-3]
[8,{"$f":"J10+O10","v":0},{"$f":"K10+P10","v":444},{"$f":"IF(E10=2,1,IF(E10=1,2,IF(F10=2,3,IF(F10=1,4,5))))","v":3},{"$f":"COUNTIF(J10,\">0\")+COUNTIF(O10,\">0\")","v":0},{"$f":"COUNTIF(K10,\">0\")+COUNTIF(P10,\">0\")","v":2},26603,{"$f":"IF($G10=\"\",\"\",VLOOKUP(Setup!$B$13&\"-\"&$G10,Rankings!$A:$E,2,FALSE))","v":"ΔΕΛΛΗΣ ΑΝΔΡΕΑΣ-ΑΛΕΞΑΝΔΡΟΣ"},{"$f":"IF($G10=\"\",\"\",VLOOKUP(Setup!$B$13&\"-\"&$G10,Rankings!$A:$E,3,FALSE))","v":"2ο ΓΕΛ ΑΡΓΟΥΣ"},{"$f":"IF(COUNTIF(Rankings!$A:$A,Setup!$B$13&\"-\"&$G10)>0,VLOOKUP(Setup!$B$13&\"-\"&$G10,Rankings!$A:$E,5,FALSE),0)","v":0},{"$f":"IF(COUNTIF(Rankings!$A:$A,Setup!$B$13&\"-\"&$G10)>0,VLOOKUP(Setup!$B$13&\"-\"&$G10,Rankings!$A:$E,4,FALSE),0)","v":293},26604,{"$f":"IF($L10=\"\",\"\",VLOOKUP(Setup!$B$13&\"-\"&$L10,Rankings!$A:$E,2,FALSE))","v":"ΔΕΛΛΗΣ ΧΡΙΣΤΟΣ-ΕΡΡΙΚΟΣ"},{"$f":"IF($L10=\"\",\"\",VLOOKUP(Setup!$B$13&\"-\"&$L10,Rankings!$A:$E,3,FALSE))","v":"2ο ΓΕΛ ΑΡΓΟΥΣ"},{"$f":"IF(COUNTIF(Rankings!$A:$A,Setup!$B$13&\"-\"&$L10)>0,VLOOKUP(Setup!$B$13&\"-\"&$L10,Rankings!$A:$E,5,FALSE),0)","v":0},{"$f":"IF(COUNTIF(Rankings!$A:$A,Setup!$B$13&\"-\"&$L10)>0,VLOOKUP(Setup!$B$13&\"-\"&$L10,Rankings!$A:$E,4,FALSE),0)","v":151},{"$f":"B10+W10","v":1.6222924282678958E-3},{"$f":"IF(J10>0,(B10+P10/1000+W10/1000),(B10+K10/1000+W10/1000))","v":0.29300162229242827},{"$f":"C10+W10","v":444.00162229242829},{"$f":"C10+W10","v":444.00162229242829},{"$f":"W10","v":1.6222924282678958E-3},{"$f":"IF(G10=\"\",0,VLOOKUP(D10,D10:U10,13+D10,FALSE))","v":444.00162229242829},1.6222924282678958E-3]
[9,{"$f":"J11+O11","v":0},{"$f":"K11+P11","v":423},{"$f":"IF(E11=2,1,IF(E11=1,2,IF(F11=2,3,IF(F11=1,4,5))))","v":3},{"$f":"COUNTIF(J11,\">0\")+COUNTIF(O11,\">0\")","v":0},{"$f":"COUNTIF(K11,\">0\")+COUNTIF(P11,\">0\")","v":2},25240,{"$f":"IF($G11=\"\",\"\",VLOOKUP(Setup!$B$13&\"-\"&$G11,Rankings!$A:$E,2,FALSE))","v":"ΔΗΜΟΠΟΥΛΟΣ ΠΛΑΤΩΝ ΜΑΡΙΟΣ"},{"$f":"IF($G11=\"\",\"\",VLOOKUP(Setup!$B$13&\"-\"&$G11,Rankings!$A:$E,3,FALSE))","v":"ΠΕΙΡΑΜΑΤΙΚΟ ΡΙΟΥ"},{"$f":"IF(COUNTIF(Rankings!$A:$A,Setup!$B$13&\"-\"&$G11)>0,VLOOKUP(Setup!$B$13&\"-\"&$G11,Rankings!$A:$E,5,FALSE),0)","v":0},{"$f":"IF(COUNTIF(Rankings!$A:$A,Setup!$B$13&\"-\"&$G11)>0,VLOOKUP(Setup!$B$13&\"-\"&$G11,Rankings!$A:$E,4,FALSE),0)","v":265.5},23357,{"$f":"IF($L11=\"\",\"\",VLOOKUP(Setup!$B$13&\"-\"&$L11,Rankings!$A:$E,2,FALSE))","v":"ΑΝΔΡΟΥΤΣΕΛΗΣ ΑΛΕΞΙΟΣ"},{"$f":"IF($L11=\"\",\"\",VLOOKUP(Setup!$B$13&\"-\"&$L11,Rankings!$A:$E,3,FALSE))","v":"ΠΕΙΡΑΜΑΤΙΚΟ ΡΙΟΥ"},{"$f":"IF(COUNTIF(Rankings!$A:$A,Setup!$B$13&\"-\"&$L11)>0,VLOOKUP(Setup!$B$13&\"-\"&$L11,Rankings!$A:$E,5,FALSE),0)","v":0},{"$f":"IF(COUNTIF(Rankings!$A:$A,Setup!$B$13&\"-\"&$L11)>0,VLOOKUP(Setup!$B$13&\"-\"&$L11,Rankings!$A:$E,4,FALSE),0)","v":157.5},{"$f":"B11+W11","v":4.0696027380390423E-2},{"$f":"IF(J11>0,(B11+P11/1000+W11/1000),(B11+K11/1000+W11/1000))","v":0.2655406960273804},{"$f":"C11+W11","v":423.04069602738036},{"$f":"C11+W11","v":423.04069602738036},{"$f":"W11","v":4.0696027380390423E-2},{"$f":"IF(G11=\"\",0,VLOOKUP(D11,D11:U11,13+D11,FALSE))","v":423.04069602738036},4.0696027380390423E-2]
[10,{"$f":"J12+O12","v":0},{"$f":"K12+P12","v":355.5},{"$f":"IF(E12=2,1,IF(E12=1,2,IF(F12=2,3,IF(F12=1,4,5))))","v":3},{"$f":"COUNTIF(J12,\">0\")+COUNTIF(O12,\">0\")","v":0},{"$f":"COUNTIF(K12,\">0\")+COUNTIF(P12,\">0\")","v":2},25351,{"$f":"IF($G12=\"\",\"\",VLOOKUP(Setup!$B$13&\"-\"&$G12,Rankings!$A:$E,2,FALSE))","v":"ΔΙΑΜΑΝΤΟΠΟΥΛΟΣ ΓΕΩΡΓΙΟΣ"},{"$f":"IF($G12=\"\",\"\",VLOOKUP(Setup!$B$13&\"-\"&$G12,Rankings!$A:$E,3,FALSE))","v":"ΚΟΛΛΕΓΙΟ ΨΥΧΙΚΟΥ"},{"$f":"IF(COUNTIF(Rankings!$A:$A,Setup!$B$13&\"-\"&$G12)>0,VLOOKUP(Setup!$B$13&\"-\"&$G12,Rankings!$A:$E,5,FALSE),0)","v":0},{"$f":"IF(COUNTIF(Rankings!$A:$A,Setup!$B$13&\"-\"&$G12)>0,VLOOKUP(Setup!$B$13&\"-\"&$G12,Rankings!$A:$E,4,FALSE),0)","v":158},26210,{"$f":"IF($L12=\"\",\"\",VLOOKUP(Setup!$B$13&\"-\"&$L12,Rankings!$A:$E,2,FALSE))","v":"ΚΟΝΤΩΣΗΣ ΓΕΩΡΓΙΟΣ"},{"$f":"IF($L12=\"\",\"\",VLOOKUP(Setup!$B$13&\"-\"&$L12,Rankings!$A:$E,3,FALSE))","v":"ΛΕΟΝΤΕΙΟ ΛΥΚΕΙΟ ΠΑΤΗΣΙΩΝ"},{"$f":"IF(COUNTIF(Rankings!$A:$A,Setup!$B$13&\"-\"&$L12)>0,VLOOKUP(Setup!$B$13&\"-\"&$L12,Rankings!$A:$E,5,FALSE),0)","v":0},{"$f":"IF(COUNTIF(Rankings!$A:$A,Setup!$B$13&\"-\"&$L12)>0,VLOOKUP(Setup!$B$13&\"-\"&$L12,Rankings!$A:$E,4,FALSE),0)","v":197.5},{"$f":"B12+W12","v":4.4180843317665024E-2},{"$f":"IF(J12>0,(B12+P12/1000+W12/1000),(B12+K12/1000+W12/1000))","v":0.15804418084331767},{"$f":"C12+W12","v":355.54418084331769},{"$f":"C12+W12","v":355.54418084331769},{"$f":"W12","v":4.4180843317665024E-2},{"$f":"IF(G12=\"\",0,VLOOKUP(D12,D12:U12,13+D12,FALSE))","v":355.54418084331769},4.4180843317665024E-2]
[11,{"$f":"J13+O13","v":0},{"$f":"K13+P13","v":347.5},{"$f":"IF(E13=2,1,IF(E13=1,2,IF(F13=2,3,IF(F13=1,4,5))))","v":3},{"$f":"COUNTIF(J13,\">0\")+COUNTIF(O13,\">0\")","v":0},{"$f":"COUNTIF(K13,\">0\")+COUNTIF(P13,\">0\")","v":2},25503,{"$f":"IF($G13=\"\",\"\",VLOOKUP(Setup!$B$13&\"-\"&$G13,Rankings!$A:$E,2,FALSE))","v":"ΠΑΡΑΣΧΑΚΗΣ ΝΙΚΟΛΑΟΣ"},{"$f":"IF($G13=\"\",\"\",VLOOKUP(Setup!$B$13&\"-\"&$G13,Rankings!$A:$E,3,FALSE))","v":"1ο ΓΕΛ Ν.ΙΩΝΙΑΣ"},{"$f":"IF(COUNTIF(Rankings!$A:$A,Setup!$B$13&\"-\"&$G13)>0,VLOOKUP(Setup!$B$13&\"-\"&$G13,Rankings!$A:$E,5,FALSE),0)","v":0},{"$f":"IF(COUNTIF(Rankings!$A:$A,Setup!$B$13&\"-\"&$G13)>0,VLOOKUP(Setup!$B$13&\"-\"&$G13,Rankings!$A:$E,4,FALSE),0)","v":206},23093,{"$f":"IF($L13=\"\",\"\",VLOOKUP(Setup!$B$13&\"-\"&$L13,Rankings!$A:$E,2,FALSE))","v":"ΚΑΛΔΕΡΩΝ ΖΑΚ"},{"$f":"IF($L13=\"\",\"\",VLOOKUP(Setup!$B$13&\"-\"&$L13,Rankings!$A:$E,3,FALSE))","v":"ΓΕΛ ΛΑΡΙΣΑΣ"},{"$f":"IF(COUNTIF(Rankings!$A:$A,Setup!$B$13&\"-\"&$L13)>0,VLOOKUP(Setup!$B$13&\"-\"&$L13,Rankings!$A:$E,5,FALSE),0)","v":0},{"$f":"IF(COUNTIF(Rankings!$A:$A,Setup!$B$13&\"-\"&$L13)>0,VLOOKUP(Setup!$B$13&\"-\"&$L13,Rankings!$A:$E,4,FALSE),0)","v":141.5},{"$f":"B13+W13","v":3.8442504627631345E-2},{"$f":"IF(J13>0,(B13+P13/1000+W13/1000),(B13+K13/1000+W13/1000))","v":0.20603844250462763},{"$f":"C13+W13","v":347.53844250462765},{"$f":"C13+W13","v":347.53844250462765},{"$f":"W13","v":3.8442504627631345E-2},{"$f":"IF(G13=\"\",0,VLOOKUP(D13,D13:U13,13+D13,FALSE))","v":347.53844250462765},3.8442504627631345E-2]
[12,{"$f":"J14+O14","v":0},{"$f":"K14+P14","v":338},{"$f":"IF(E14=2,1,IF(E14=1,2,IF(F14=2,3,IF(F14=1,4,5))))","v":3},{"$f":"COUNTIF(J14,\">0\")+COUNTIF(O14,\">0\")","v":0},{"$f":"COUNTIF(K14,\">0\")+COUNTIF(P14,\">0\")","v":2},24053,{"$f":"IF($G14=\"\",\"\",VLOOKUP(Setup!$B$13&\"-\"&$G14,Rankings!$A:$E,2,FALSE))","v":"ΙΩΑΝΝΙΔΗΣ ΙΩΑΝΝΗΣ"},{"$f":"IF($G14=\"\",\"\",VLOOKUP(Setup!$B$13&\"-\"&$G14,Rankings!$A:$E,3,FALSE))","v":"3ο ΓΕΛ ΑΓ. ΠΑΡΑΣΚΕΥΗΣ"},{"$f":"IF(COUNTIF(Rankings!$A:$A,Setup!$B$13&\"-\"&$G14)>0,VLOOKUP(Setup!$B$13&\"-\"&$G14,Rankings!$A:$E,5,FALSE),0)","v":0},{"$f":"IF(COUNTIF(Rankings!$A:$A,Setup!$B$13&\"-\"&$G14)>0,VLOOKUP(Setup!$B$13&\"-\"&$G14,Rankings!$A:$E,4,FALSE),0)","v":183},24054,{"$f":"IF($L14=\"\",\"\",VLOOKUP(Setup!$B$13&\"-\"&$L14,Rankings!$A:$E,2,FALSE))","v":"ΙΩΑΝΝΙΔΗΣ ΠΑΝΤΕΛΕΗΜΩΝ"},{"$f":"IF($L14=\"\",\"\",VLOOKUP(Setup!$B$13&\"-\"&$L14,Rankings!$A:$E,3,FALSE))","v":"3ο ΓΕΛ ΑΓ. ΠΑΡΑΣΚΕΥΗΣ"},{"$f":"IF(COUNTIF(Rankings!$A:$A,Setup!$B$13&\"-\"&$L14)>0,VLOOKUP(Setup!$B$13&\"-\"&$L14,Rankings!$A:$E,5,FALSE),0)","v":0},{"$f":"IF(COUNTIF(Rankings!$A:$A,Setup!$B$13&\"-\"&$L14)>0,VLOOKUP(Setup!$B$13&\"-\"&$L14,Rankings!$A:$E,4,FALSE),0)","v":155},{"$f":"B14+W14","v":1.5451203545017035E-2},{"$f":"IF(J14>0,(B14+P14/1000+W14/1000),(B14+K14/1000+W14/1000))","v":0.18301545120354501},{"$f":"C14+W14","v":338.01545120354501},{"$f":"C14+W14","v":338.01545120354501},{"$f":"W14","v":1.5451203545017035E-2},{"$f":"IF(G14=\"\",0,VLOOKUP(D14,D14:U14,13+D14,FALSE))","v":338.01545120354501},1.5451203545017035E-2]
[13,{"$f":"J15+O15","v":0},{"$f":"K15+P15","v":330},{"$f":"IF(E15=2,1,IF(E15=1,2,IF(F15=2,3,IF(F15=1,4,5))))","v":3},{"$f":"COUNTIF(J15,\">0\")+COUNTIF(O15,\">0\")","v":0},{"$f":"COUNTIF(K15,\">0\")+COUNTIF(P15,\">0\")","v":2},24168,{"$f":"IF($G15=\"\",\"\",VLOOKUP(Setup!$B$13&\"-\"&$G15,Rankings!$A:$E,2,FALSE))","v":"ΜΙΧΑΗΛΟΣ ΣΤΕΦΑΝΟΣ"},{"$f":"IF($G15=\"\",\"\",VLOOKUP(Setup!$B$13&\"-\"&$G15,Rankings!$A:$E,3,FALSE))","v":"3ο ΓΕΛ ΗΡΑΚΛΕΙΟΥ"},{"$f":"IF(COUNTIF(Rankings!$A:$A,Setup!$B$13&\"-\"&$G15)>0,VLOOKUP(Setup!$B$13&\"-\"&$G15,Rankings!$A:$E,5,FALSE),0)","v":0},{"$f":"IF(COUNTIF(Rankings!$A:$A,Setup!$B$13&\"-\"&$G15)>0,VLOOKUP(Setup!$B$13&\"-\"&$G15,Rankings!$A:$E,4,FALSE),0)","v":190},24165,{"$f":"IF($L15=\"\",\"\",VLOOKUP(Setup!$B$13&\"-\"&$L15,Rankings!$A:$E,2,FALSE))","v":"ΠΕΡΔΙΚΟΓΙΑΝΝΗΣ ΣΤΥΛΙΑΝΟΣ"},{"$f":"IF($L15=\"\",\"\",VLOOKUP(Setup!$B$13&\"-\"&$L15,Rankings!$A:$E,3,FALSE))","v":"8ο ΓΕΛ ΗΡΑΚΛΕΙΟΥ"},{"$f":"IF(COUNTIF(Rankings!$A:$A,Setup!$B$13&\"-\"&$L15)>0,VLOOKUP(Setup!$B$13&\"-\"&$L15,Rankings!$A:$E,5,FALSE),0)","v":0},{"$f":"IF(COUNTIF(Rankings!$A:$A,Setup!$B$13&\"-\"&$L15)>0,VLOOKUP(Setup!$B$13&\"-\"&$L15,Rankings!$A:$E,4,FALSE),0)","v":140},{"$f":"B15+W15","v":2.737359674750417E-2},{"$f":"IF(J15>0,(B15+P15/1000+W15/1000),(B15+K15/1000+W15/1000))","v":0.19002737359674751},{"$f":"C15+W15","v":330.02737359674751},{"$f":"C15+W15","v":330.02737359674751},{"$f":"W15","v":2.737359674750417E-2},{"$f":"IF(G15=\"\",0,VLOOKUP(D15,D15:U15,13+D15,FALSE))","v":330.02737359674751},2.737359674750417E-2]
[14,{"$f":"J16+O16","v":0},{"$f":"K16+P16","v":321},{"$f":"IF(E16=2,1,IF(E16=1,2,IF(F16=2,3,IF(F16=1,4,5))))","v":3},{"$f":"COUNTIF(J16,\">0\")+COUNTIF(O16,\">0\")","v":0},{"$f":"COUNTIF(K16,\">0\")+COUNTIF(P16,\">0\")","v":2},25238,{"$f":"IF($G16=\"\",\"\",VLOOKUP(Setup!$B$13&\"-\"&$G16,Rankings!$A:$E,2,FALSE))","v":"ΤΖΕΛΑΤΗΣ ΣΤΕΦΑΝΟΣ"},{"$f":"IF($G16=\"\",\"\",VLOOKUP(Setup!$B$13&\"-\"&$G16,Rankings!$A:$E,3,FALSE))","v":"1ο ΓΕΛ ΡΑΦΗΝΑΣ"},{"$f":"IF(COUNTIF(Rankings!$A:$A,Setup!$B$13&\"-\"&$G16)>0,VLOOKUP(Setup!$B$13&\"-\"&$G16,Rankings!$A:$E,5,FALSE),0)","v":0},{"$f":"IF(COUNTIF(Rankings!$A:$A,Setup!$B$13&\"-\"&$G16)>0,VLOOKUP(Setup!$B$13&\"-\"&$G16,Rankings!$A:$E,4,FALSE),0)","v":152},25273,{"$f":"IF($L16=\"\",\"\",VLOOKUP(Setup!$B$13&\"-\"&$L16,Rankings!$A:$E,2,FALSE))","v":"ΤΣΟΝΑΚΗΣ ΚΩΝΣΤΑΝΤΙΝΟΣ"},{"$f":"IF($L16=\"\",\"\",VLOOKUP(Setup!$B$13&\"-\"&$L16,Rankings!$A:$E,3,FALSE))","v":"1ο ΓΕΛ ΠΑΠΑΓΟΥ"},{"$f":"IF(COUNTIF(Rankings!$A:$A,Setup!$B$13&\"-\"&$L16)>0,VLOOKUP(Setup!$B$13&\"-\"&$L16,Rankings!$A:$E,5,FALSE),0)","v":0},{"$f":"IF(COUNTIF(Rankings!$A:$A,Setup!$B$13&\"-\"&$L16)>0,VLOOKUP(Setup!$B$13&\"-\"&$L16,Rankings!$A:$E,4,FALSE),0)","v":169},{"$f":"B16+W16","v":2.3870636546600862E-2},{"$f":"IF(J16>0,(B16+P16/1000+W16/1000),(B16+K16/1000+W16/1000))","v":0.1520238706365466},{"$f":"C16+W16","v":321.02387063654658},{"$f":"C16+W16","v":321.02387063654658},{"$f":"W16","v":2.3870636546600862E-2},{"$f":"IF(G16=\"\",0,VLOOKUP(D16,D16:U16,13+D16,FALSE))","v":321.02387063654658},2.3870636546600862E-2]
[15,{"$f":"J17+O17","v":0},{"$f":"K17+P17","v":215},{"$f":"IF(E17=2,1,IF(E17=1,2,IF(F17=2,3,IF(F17=1,4,5))))","v":3},{"$f":"COUNTIF(J17,\">0\")+COUNTIF(O17,\">0\")","v":0},{"$f":"COUNTIF(K17,\">0\")+COUNTIF(P17,\">0\")","v":2},25243,{"$f":"IF($G17=\"\",\"\",VLOOKUP(Setup!$B$13&\"-\"&$G17,Rankings!$A:$E,2,FALSE))","v":"ΜΑΡΟΥΛΗΣ ΧΑΡΑΛΑΜΠΟΣ"},{"$f":"IF($G17=\"\",\"\",VLOOKUP(Setup!$B$13&\"-\"&$G17,Rankings!$A:$E,3,FALSE))","v":"ΑΡΣΑΚΕΙΟ ΠΑΤΡΩΝ"},{"$f":"IF(COUNTIF(Rankings!$A:$A,Setup!$B$13&\"-\"&$G17)>0,VLOOKUP(Setup!$B$13&\"-\"&$G17,Rankings!$A:$E,5,FALSE),0)","v":0},{"$f":"IF(COUNTIF(Rankings!$A:$A,Setup!$B$13&\"-\"&$G17)>0,VLOOKUP(Setup!$B$13&\"-\"&$G17,Rankings!$A:$E,4,FALSE),0)","v":149},32290,{"$f":"IF($L17=\"\",\"\",VLOOKUP(Setup!$B$13&\"-\"&$L17,Rankings!$A:$E,2,FALSE))","v":"ΛΑYΡΑΝΟΣ ΓΡΗΓΟΡΗΣ"},{"$f":"IF($L17=\"\",\"\",VLOOKUP(Setup!$B$13&\"-\"&$L17,Rankings!$A:$E,3,FALSE))","v":"ΓΕΛ ΡΙΟΥ"},{"$f":"IF(COUNTIF(Rankings!$A:$A,Setup!$B$13&\"-\"&$L17)>0,VLOOKUP(Setup!$B$13&\"-\"&$L17,Rankings!$A:$E,5,FALSE),0)","v":0},{"$f":"IF(COUNTIF(Rankings!$A:$A,Setup!$B$13&\"-\"&$L17)>0,VLOOKUP(Setup!$B$13&\"-\"&$L17,Rankings!$A:$E,4,FALSE),0)","v":66},{"$f":"B17+W17","v":1.8883382916195936E-2},{"$f":"IF(J17>0,(B17+P17/1000+W17/1000),(B17+K17/1000+W17/1000))","v":0.14901888338291619},{"$f":"C17+W17","v":215.01888338291619},{"$f":"C17+W17","v":215.01888338291619},{"$f":"W17","v":1.8883382916195936E-2},{"$f":"IF(G17=\"\",0,VLOOKUP(D17,D17:U17,13+D17,FALSE))","v":215.01888338291619},1.8883382916195936E-2]
[16,{"$f":"J18+O18","v":0},{"$f":"K18+P18","v":0},{"$f":"IF(E18=2,1,IF(E18=1,2,IF(F18=2,3,IF(F18=1,4,5))))","v":5},{"$f":"COUNTIF(J18,\">0\")+COUNTIF(O18,\">0\")","v":0},{"$f":"COUNTIF(K18,\">0\")+COUNTIF(P18,\">0\")","v":0},null,{"$f":"IF($G18=\"\",\"\",VLOOKUP(Setup!$B$13&\"-\"&$G18,Rankings!$A:$E,2,FALSE))","v":""},{"$f":"IF($G18=\"\",\"\",VLOOKUP(Setup!$B$13&\"-\"&$G18,Rankings!$A:$E,3,FALSE))","v":""},{"$f":"IF(COUNTIF(Rankings!$A:$A,Setup!$B$13&\"-\"&$G18)>0,VLOOKUP(Setup!$B$13&\"-\"&$G18,Rankings!$A:$E,5,FALSE),0)","v":0},{"$f":"IF(COUNTIF(Rankings!$A:$A,Setup!$B$13&\"-\"&$G18)>0,VLOOKUP(Setup!$B$13&\"-\"&$G18,Rankings!$A:$E,4,FALSE),0)","v":0},null,{"$f":"IF($L18=\"\",\"\",VLOOKUP(Setup!$B$13&\"-\"&$L18,Rankings!$A:$E,2,FALSE))","v":""},{"$f":"IF($L18=\"\",\"\",VLOOKUP(Setup!$B$13&\"-\"&$L18,Rankings!$A:$E,3,FALSE))","v":""},{"$f":"IF(COUNTIF(Rankings!$A:$A,Setup!$B$13&\"-\"&$L18)>0,VLOOKUP(Setup!$B$13&\"-\"&$L18,Rankings!$A:$E,5,FALSE),0)","v":0},{"$f":"IF(COUNTIF(Rankings!$A:$A,Setup!$B$13&\"-\"&$L18)>0,VLOOKUP(Setup!$B$13&\"-\"&$L18,Rankings!$A:$E,4,FALSE),0)","v":0},{"$f":"B18+W18","v":4.5204183025610578E-2},{"$f":"IF(J18>0,(B18+P18/1000+W18/1000),(B18+K18/1000+W18/1000))","v":4.520418302561058E-5},{"$f":"C18+W18","v":4.5204183025610578E-2},{"$f":"C18+W18","v":4.5204183025610578E-2},{"$f":"W18","v":4.5204183025610578E-2},{"$f":"IF(G18=\"\",0,VLOOKUP(D18,D18:U18,13+D18,FALSE))","v":0},4.5204183025610578E-2]
[17,{"$f":"J19+O19","v":0},{"$f":"K19+P19","v":0},{"$f":"IF(E19=2,1,IF(E19=1,2,IF(F19=2,3,IF(F19=1,4,5))))","v":5},{"$f":"COUNTIF(J19,\">0\")+COUNTIF(O19,\">0\")","v":0},{"$f":"COUNTIF(K19,\">0\")+COUNTIF(P19,\">0\")","v":0},null,{"$f":"IF($G19=\"\",\"\",VLOOKUP(Setup!$B$13&\"-\"&$G19,Rankings!$A:$E,2,FALSE))","v":""},{"$f":"IF($G19=\"\",\"\",VLOOKUP(Setup!$B$13&\"-\"&$G19,Rankings!$A:$E,3,FALSE))","v":""},{"$f":"IF(COUNTIF(Rankings!$A:$A,Setup!$B$13&\"-\"&$G19)>0,VLOOKUP(Setup!$B$13&\"-\"&$G19,Rankings!$A:$E,5,FALSE),0)","v":0},{"$f":"IF(COUNTIF(Rankings!$A:$A,Setup!$B$13&\"-\"&$G19)>0,VLOOKUP(Setup!$B$13&\"-\"&$G19,Rankings!$A:$E,4,FALSE),0)","v":0},null,{"$f":"IF($L19=\"\",\"\",VLOOKUP(Setup!$B$13&\"-\"&$L19,Rankings!$A:$E,2,FALSE))","v":""},{"$f":"IF($L19=\"\",\"\",VLOOKUP(Setup!$B$13&\"-\"&$L19,Rankings!$A:$E,3,FALSE))","v":""},{"$f":"IF(COUNTIF(Rankings!$A:$A,Setup!$B$13&\"-\"&$L19)>0,VLOOKUP(Setup!$B$13&\"-\"&$L19,Rankings!$A:$E,5,FALSE),0)","v":0},{"$f":"IF(COUNTIF(Rankings!$A:$A,Setup!$B$13&\"-\"&$L19)>0,VLOOKUP(Setup!$B$13&\"-\"&$L19,Rankings!$A:$E,4,FALSE),0)","v":0},{"$f":"B19+W19","v":4.5018844128656733E-2},{"$f":"IF(J19>0,(B19+P19/1000+W19/1000),(B19+K19/1000+W19/1000))","v":4.5018844128656733E-5},{"$f":"C19+W19","v":4.5018844128656733E-2},{"$f":"C19+W19","v":4.5018844128656733E-2},{"$f":"W19","v":4.5018844128656733E-2},{"$f":"IF(G19=\"\",0,VLOOKUP(D19,D19:U19,13+D19,FALSE))","v":0},4.5018844128656733E-2]
[18,{"$f":"J20+O20","v":0},{"$f":"K20+P20","v":0},{"$f":"IF(E20=2,1,IF(E20=1,2,IF(F20=2,3,IF(F20=1,4,5))))","v":5},{"$f":"COUNTIF(J20,\">0\")+COUNTIF(O20,\">0\")","v":0},{"$f":"COUNTIF(K20,\">0\")+COUNTIF(P20,\">0\")","v":0},null,{"$f":"IF($G20=\"\",\"\",VLOOKUP(Setup!$B$13&\"-\"&$G20,Rankings!$A:$E,2,FALSE))","v":""},{"$f":"IF($G20=\"\",\"\",VLOOKUP(Setup!$B$13&\"-\"&$G20,Rankings!$A:$E,3,FALSE))","v":""},{"$f":"IF(COUNTIF(Rankings!$A:$A,Setup!$B$13&\"-\"&$G20)>0,VLOOKUP(Setup!$B$13&\"-\"&$G20,Rankings!$A:$E,5,FALSE),0)","v":0},{"$f":"IF(COUNTIF(Rankings!$A:$A,Setup!$B$13&\"-\"&$G20)>0,VLOOKUP(Setup!$B$13&\"-\"&$G20,Rankings!$A:$E,4,FALSE),0)","v":0},null,{"$f":"IF($L20=\"\",\"\",VLOOKUP(Setup!$B$13&\"-\"&$L20,Rankings!$A:$E,2,FALSE))","v":""},{"$f":"IF($L20=\"\",\"\",VLOOKUP(Setup!$B$13&\"-\"&$L20,Rankings!$A:$E,3,FALSE))","v":""},{"$f":"IF(COUNTIF(Rankings!$A:$A,Setup!$B$13&\"-\"&$L20)>0,VLOOKUP(Setup!$B$13&\"-\"&$L20,Rankings!$A:$E,5,FALSE),0)","v":0},{"$f":"IF(COUNTIF(Rankings!$A:$A,Setup!$B$13&\"-\"&$L20)>0,VLOOKUP(Setup!$B$13&\"-\"&$L20,Rankings!$A:$E,4,FALSE),0)","v":0},{"$f":"B20+W20","v":4.4294951849488486E-2},{"$f":"IF(J20>0,(B20+P20/1000+W20/1000),(B20+K20/1000+W20/1000))","v":4.4294951849488483E-5},{"$f":"C20+W20","v":4.4294951849488486E-2},{"$f":"C20+W20","v":4.4294951849488486E-2},{"$f":"W20","v":4.4294951849488486E-2},{"$f":"IF(G20=\"\",0,VLOOKUP(D20,D20:U20,13+D20,FALSE))","v":0},4.4294951849488486E-2]
[19,{"$f":"J21+O21","v":0},{"$f":"K21+P21","v":0},{"$f":"IF(E21=2,1,IF(E21=1,2,IF(F21=2,3,IF(F21=1,4,5))))","v":5},{"$f":"COUNTIF(J21,\">0\")+COUNTIF(O21,\">0\")","v":0},{"$f":"COUNTIF(K21,\">0\")+COUNTIF(P21,\">0\")","v":0},null,{"$f":"IF($G21=\"\",\"\",VLOOKUP(Setup!$B$13&\"-\"&$G21,Rankings!$A:$E,2,FALSE))","v":""},{"$f":"IF($G21=\"\",\"\",VLOOKUP(Setup!$B$13&\"-\"&$G21,Rankings!$A:$E,3,FALSE))","v":""},{"$f":"IF(COUNTIF(Rankings!$A:$A,Setup!$B$13&\"-\"&$G21)>0,VLOOKUP(Setup!$B$13&\"-\"&$G21,Rankings!$A:$E,5,FALSE),0)","v":0},{"$f":"IF(COUNTIF(Rankings!$A:$A,Setup!$B$13&\"-\"&$G21)>0,VLOOKUP(Setup!$B$13&\"-\"&$G21,Rankings!$A:$E,4,FALSE),0)","v":0},null,{"$f":"IF($L21=\"\",\"\",VLOOKUP(Setup!$B$13&\"-\"&$L21,Rankings!$A:$E,2,FALSE))","v":""},{"$f":"IF($L21=\"\",\"\",VLOOKUP(Setup!$B$13&\"-\"&$L21,Rankings!$A:$E,3,FALSE))","v":""},{"$f":"IF(COUNTIF(Rankings!$A:$A,Setup!$B$13&\"-\"&$L21)>0,VLOOKUP(Setup!$B$13&\"-\"&$L21,Rankings!$A:$E,5,FALSE),0)","v":0},{"$f":"IF(COUNTIF(Rankings!$A:$A,Setup!$B$13&\"-\"&$L21)>0,VLOOKUP(Setup!$B$13&\"-\"&$L21,Rankings!$A:$E,4,FALSE),0)","v":0},{"$f":"B21+W21","v":4.1536414400533524E-2},{"$f":"IF(J21>0,(B21+P21/1000+W21/1000),(B21+K21/1000+W21/1000))","v":4.1536414400533525E-5},{"$f":"C21+W21","v":4.1536414400533524E-2},{"$f":"C21+W21","v":4.1536414400533524E-2},{"$f":"W21","v":4.1536414400533524E-2},{"$f":"IF(G21=\"\",0,VLOOKUP(D21,D21:U21,13+D21,FALSE))","v":0},4.1536414400533524E-2]
[20,{"$f":"J22+O22","v":0},{"$f":"K22+P22","v":0},{"$f":"IF(E22=2,1,IF(E22=1,2,IF(F22=2,3,IF(F22=1,4,5))))","v":5},{"$f":"COUNTIF(J22,\">0\")+COUNTIF(O22,\">0\")","v":0},{"$f":"COUNTIF(K22,\">0\")+COUNTIF(P22,\">0\")","v":0},null,{"$f":"IF($G22=\"\",\"\",VLOOKUP(Setup!$B$13&\"-\"&$G22,Rankings!$A:$E,2,FALSE))","v":""},{"$f":"IF($G22=\"\",\"\",VLOOKUP(Setup!$B$13&\"-\"&$G22,Rankings!$A:$E,3,FALSE))","v":""},{"$f":"IF(COUNTIF(Rankings!$A:$A,Setup!$B$13&\"-\"&$G22)>0,VLOOKUP(Setup!$B$13&\"-\"&$G22,Rankings!$A:$E,5,FALSE),0)","v":0},{"$f":"IF(COUNTIF(Rankings!$A:$A,Setup!$B$13&\"-\"&$G22)>0,VLOOKUP(Setup!$B$13&\"-\"&$G22,Rankings!$A:$E,4,FALSE),0)","v":0},null,{"$f":"IF($L22=\"\",\"\",VLOOKUP(Setup!$B$13&\"-\"&$L22,Rankings!$A:$E,2,FALSE))","v":""},{"$f":"IF($L22=\"\",\"\",VLOOKUP(Setup!$B$13&\"-\"&$L22,Rankings!$A:$E,3,FALSE))","v":""},{"$f":"IF(COUNTIF(Rankings!$A:$A,Setup!$B$13&\"-\"&$L22)>0,VLOOKUP(Setup!$B$13&\"-\"&$L22,Rankings!$A:$E,5,FALSE),0)","v":0},{"$f":"IF(COUNTIF(Rankings!$A:$A,Setup!$B$13&\"-\"&$L22)>0,VLOOKUP(Setup!$B$13&\"-\"&$L22,Rankings!$A:$E,4,FALSE),0)","v":0},{"$f":"B22+W22","v":4.0850174876528401E-2},{"$f":"IF(J22>0,(B22+P22/1000+W22/1000),(B22+K22/1000+W22/1000))","v":4.0850174876528403E-5},{"$f":"C22+W22","v":4.0850174876528401E-2},{"$f":"C22+W22","v":4.0850174876528401E-2},{"$f":"W22","v":4.0850174876528401E-2},{"$f":"IF(G22=\"\",0,VLOOKUP(D22,D22:U22,13+D22,FALSE))","v":0},4.0850174876528401E-2]
[21,{"$f":"J23+O23","v":0},{"$f":"K23+P23","v":0},{"$f":"IF(E23=2,1,IF(E23=1,2,IF(F23=2,3,IF(F23=1,4,5))))","v":5},{"$f":"COUNTIF(J23,\">0\")+COUNTIF(O23,\">0\")","v":0},{"$f":"COUNTIF(K23,\">0\")+COUNTIF(P23,\">0\")","v":0},null,{"$f":"IF($G23=\"\",\"\",VLOOKUP(Setup!$B$13&\"-\"&$G23,Rankings!$A:$E,2,FALSE))","v":""},{"$f":"IF($G23=\"\",\"\",VLOOKUP(Setup!$B$13&\"-\"&$G23,Rankings!$A:$E,3,FALSE))","v":""},{"$f":"IF(COUNTIF(Rankings!$A:$A,Setup!$B$13&\"-\"&$G23)>0,VLOOKUP(Setup!$B$13&\"-\"&$G23,Rankings!$A:$E,5,FALSE),0)","v":0},{"$f":"IF(COUNTIF(Rankings!$A:$A,Setup!$B$13&\"-\"&$G23)>0,VLOOKUP(Setup!$B$13&\"-\"&$G23,Rankings!$A:$E,4,FALSE),0)","v":0},null,{"$f":"IF($L23=\"\",\"\",VLOOKUP(Setup!$B$13&\"-\"&$L23,Rankings!$A:$E,2,FALSE))","v":""},{"$f":"IF($L23=\"\",\"\",VLOOKUP(Setup!$B$13&\"-\"&$L23,Rankings!$A:$E,3,FALSE))","v":""},{"$f":"IF(COUNTIF(Rankings!$A:$A,Setup!$B$13&\"-\"&$L23)>0,VLOOKUP(Setup!$B$13&\"-\"&$L23,Rankings!$A:$E,5,FALSE),0)","v":0},{"$f":"IF(COUNTIF(Rankings!$A:$A,Setup!$B$13&\"-\"&$L23)>0,VLOOKUP(Setup!$B$13&\"-\"&$L23,Rankings!$A:$E,4,FALSE),0)","v":0},{"$f":"B23+W23","v":4.034316701487594E-2},{"$f":"IF(J23>0,(B23+P23/1000+W23/1000),(B23+K23/1000+W23/1000))","v":4.0343167014875938E-5},{"$f":"C23+W23","v":4.034316701487594E-2},{"$f":"C23+W23","v":4.034316701487594E-2},{"$f":"W23","v":4.034316701487594E-2},{"$f":"IF(G23=\"\",0,VLOOKUP(D23,D23:U23,13+D23,FALSE))","v":0},4.034316701487594E-2]
[22,{"$f":"J24+O24","v":0},{"$f":"K24+P24","v":0},{"$f":"IF(E24=2,1,IF(E24=1,2,IF(F24=2,3,IF(F24=1,4,5))))","v":5},{"$f":"COUNTIF(J24,\">0\")+COUNTIF(O24,\">0\")","v":0},{"$f":"COUNTIF(K24,\">0\")+COUNTIF(P24,\">0\")","v":0},null,{"$f":"IF($G24=\"\",\"\",VLOOKUP(Setup!$B$13&\"-\"&$G24,Rankings!$A:$E,2,FALSE))","v":""},{"$f":"IF($G24=\"\",\"\",VLOOKUP(Setup!$B$13&\"-\"&$G24,Rankings!$A:$E,3,FALSE))","v":""},{"$f":"IF(COUNTIF(Rankings!$A:$A,Setup!$B$13&\"-\"&$G24)>0,VLOOKUP(Setup!$B$13&\"-\"&$G24,Rankings!$A:$E,5,FALSE),0)","v":0},{"$f":"IF(COUNTIF(Rankings!$A:$A,Setup!$B$13&\"-\"&$G24)>0,VLOOKUP(Setup!$B$13&\"-\"&$G24,Rankings!$A:$E,4,FALSE),0)","v":0},null,{"$f":"IF($L24=\"\",\"\",VLOOKUP(Setup!$B$13&\"-\"&$L24,Rankings!$A:$E,2,FALSE))","v":""},{"$f":"IF($L24=\"\",\"\",VLOOKUP(Setup!$B$13&\"-\"&$L24,Rankings!$A:$E,3,FALSE))","v":""},{"$f":"IF(COUNTIF(Rankings!$A:$A,Setup!$B$13&\"-\"&$L24)>0,VLOOKUP(Setup!$B$13&\"-\"&$L24,Rankings!$A:$E,5,FALSE),0)","v":0},{"$f":"IF(COUNTIF(Rankings!$A:$A,Setup!$B$13&\"-\"&$L24)>0,VLOOKUP(Setup!$B$13&\"-\"&$L24,Rankings!$A:$E,4,FALSE),0)","v":0},{"$f":"B24+W24","v":3.7374031055920721E-2},{"$f":"IF(J24>0,(B24+P24/1000+W24/1000),(B24+K24/1000+W24/1000))","v":3.7374031055920719E-5},{"$f":"C24+W24","v":3.7374031055920721E-2},{"$f":"C24+W24","v":3.7374031055920721E-2},{"$f":"W24","v":3.7374031055920721E-2},{"$f":"IF(G24=\"\",0,VLOOKUP(D24,D24:U24,13+D24,FALSE))","v":0},3.7374031055920721E-2]
[23,{"$f":"J25+O25","v":0},{"$f":"K25+P25","v":0},{"$f":"IF(E25=2,1,IF(E25=1,2,IF(F25=2,3,IF(F25=1,4,5))))","v":5},{"$f":"COUNTIF(J25,\">0\")+COUNTIF(O25,\">0\")","v":0},{"$f":"COUNTIF(K25,\">0\")+COUNTIF(P25,\">0\")","v":0},null,{"$f":"IF($G25=\"\",\"\",VLOOKUP(Setup!$B$13&\"-\"&$G25,Rankings!$A:$E,2,FALSE))","v":""},{"$f":"IF($G25=\"\",\"\",VLOOKUP(Setup!$B$13&\"-\"&$G25,Rankings!$A:$E,3,FALSE))","v":""},{"$f":"IF(COUNTIF(Rankings!$A:$A,Setup!$B$13&\"-\"&$G25)>0,VLOOKUP(Setup!$B$13&\"-\"&$G25,Rankings!$A:$E,5,FALSE),0)","v":0},{"$f":"IF(COUNTIF(Rankings!$A:$A,Setup!$B$13&\"-\"&$G25)>0,VLOOKUP(Setup!$B$13&\"-\"&$G25,Rankings!$A:$E,4,FALSE),0)","v":0},null,{"$f":"IF($L25=\"\",\"\",VLOOKUP(Setup!$B$13&\"-\"&$L25,Rankings!$A:$E,2,FALSE))","v":""},{"$f":"IF($L25=\"\",\"\",VLOOKUP(Setup!$B$13&\"-\"&$L25,Rankings!$A:$E,3,FALSE))","v":""},{"$f":"IF(COUNTIF(Rankings!$A:$A,Setup!$B$13&\"-\"&$L25)>0,VLOOKUP(Setup!$B$13&\"-\"&$L25,Rankings!$A:$E,5,FALSE),0)","v":0},{"$f":"IF(COUNTIF(Rankings!$A:$A,Setup!$B$13&\"-\"&$L25)>0,VLOOKUP(Setup!$B$13&\"-\"&$L25,Rankings!$A:$E,4,FALSE),0)","v":0},{"$f":"B25+W25","v":3.7369964887333885E-2},{"$f":"IF(J25>0,(B25+P25/1000+W25/1000),(B25+K25/1000+W25/1000))","v":3.7369964887333885E-5},{"$f":"C25+W25","v":3.7369964887333885E-2},{"$f":"C25+W25","v":3.7369964887333885E-2},{"$f":"W25","v":3.7369964887333885E-2},{"$f":"IF(G25=\"\",0,VLOOKUP(D25,D25:U25,13+D25,FALSE))","v":0},3.7369964887333885E-2]
[24,{"$f":"J26+O26","v":0},{"$f":"K26+P26","v":0},{"$f":"IF(E26=2,1,IF(E26=1,2,IF(F26=2,3,IF(F26=1,4,5))))","v":5},{"$f":"COUNTIF(J26,\">0\")+COUNTIF(O26,\">0\")","v":0},{"$f":"COUNTIF(K26,\">0\")+COUNTIF(P26,\">0\")","v":0},null,{"$f":"IF($G26=\"\",\"\",VLOOKUP(Setup!$B$13&\"-\"&$G26,Rankings!$A:$E,2,FALSE))","v":""},{"$f":"IF($G26=\"\",\"\",VLOOKUP(Setup!$B$13&\"-\"&$G26,Rankings!$A:$E,3,FALSE))","v":""},{"$f":"IF(COUNTIF(Rankings!$A:$A,Setup!$B$13&\"-\"&$G26)>0,VLOOKUP(Setup!$B$13&\"-\"&$G26,Rankings!$A:$E,5,FALSE),0)","v":0},{"$f":"IF(COUNTIF(Rankings!$A:$A,Setup!$B$13&\"-\"&$G26)>0,VLOOKUP(Setup!$B$13&\"-\"&$G26,Rankings!$A:$E,4,FALSE),0)","v":0},null,{"$f":"IF($L26=\"\",\"\",VLOOKUP(Setup!$B$13&\"-\"&$L26,Rankings!$A:$E,2,FALSE))","v":""},{"$f":"IF($L26=\"\",\"\",VLOOKUP(Setup!$B$13&\"-\"&$L26,Rankings!$A:$E,3,FALSE))","v":""},{"$f":"IF(COUNTIF(Rankings!$A:$A,Setup!$B$13&\"-\"&$L26)>0,VLOOKUP(Setup!$B$13&\"-\"&$L26,Rankings!$A:$E,5,FALSE),0)","v":0},{"$f":"IF(COUNTIF(Rankings!$A:$A,Setup!$B$13&\"-\"&$L26)>0,VLOOKUP(Setup!$B$13&\"-\"&$L26,Rankings!$A:$E,4,FALSE),0)","v":0},{"$f":"B26+W26","v":3.3765820716472626E-2},{"$f":"IF(J26>0,(B26+P26/1000+W26/1000),(B26+K26/1000+W26/1000))","v":3.3765820716472626E-5},{"$f":"C26+W26","v":3.3765820716472626E-2},{"$f":"C26+W26","v":3.3765820716472626E-2},{"$f":"W26","v":3.3765820716472626E-2},{"$f":"IF(G26=\"\",0,VLOOKUP(D26,D26:U26,13+D26,FALSE))","v":0},3.3765820716472626E-2]
[25,{"$f":"J27+O27","v":0},{"$f":"K27+P27","v":0},{"$f":"IF(E27=2,1,IF(E27=1,2,IF(F27=2,3,IF(F27=1,4,5))))","v":5},{"$f":"COUNTIF(J27,\">0\")+COUNTIF(O27,\">0\")","v":0},{"$f":"COUNTIF(K27,\">0\")+COUNTIF(P27,\">0\")","v":0},null,{"$f":"IF($G27=\"\",\"\",VLOOKUP(Setup!$B$13&\"-\"&$G27,Rankings!$A:$E,2,FALSE))","v":""},{"$f":"IF($G27=\"\",\"\",VLOOKUP(Setup!$B$13&\"-\"&$G27,Rankings!$A:$E,3,FALSE))","v":""},{"$f":"IF(COUNTIF(Rankings!$A:$A,Setup!$B$13&\"-\"&$G27)>0,VLOOKUP(Setup!$B$13&\"-\"&$G27,Rankings!$A:$E,5,FALSE),0)","v":0},{"$f":"IF(COUNTIF(Rankings!$A:$A,Setup!$B$13&\"-\"&$G27)>0,VLOOKUP(Setup!$B$13&\"-\"&$G27,Rankings!$A:$E,4,FALSE),0)","v":0},null,{"$f":"IF($L27=\"\",\"\",VLOOKUP(Setup!$B$13&\"-\"&$L27,Rankings!$A:$E,2,FALSE))","v":""},{"$f":"IF($L27=\"\",\"\",VLOOKUP(Setup!$B$13&\"-\"&$L27,Rankings!$A:$E,3,FALSE))","v":""},{"$f":"IF(COUNTIF(Rankings!$A:$A,Setup!$B$13&\"-\"&$L27)>0,VLOOKUP(Setup!$B$13&\"-\"&$L27,Rankings!$A:$E,5,FALSE),0)","v":0},{"$f":"IF(COUNTIF(Rankings!$A:$A,Setup!$B$13&\"-\"&$L27)>0,VLOOKUP(Setup!$B$13&\"-\"&$L27,Rankings!$A:$E,4,FALSE),0)","v":0},{"$f":"B27+W27","v":3.329370880670874E-2},{"$f":"IF(J27>0,(B27+P27/1000+W27/1000),(B27+K27/1000+W27/1000))","v":3.3293708806708742E-5},{"$f":"C27+W27","v":3.329370880670874E-2},{"$f":"C27+W27","v":3.329370880670874E-2},{"$f":"W27","v":3.329370880670874E-2},{"$f":"IF(G27=\"\",0,VLOOKUP(D27,D27:U27,13+D27,FALSE))","v":0},3.329370880670874E-2]
[26,{"$f":"J28+O28","v":0},{"$f":"K28+P28","v":0},{"$f":"IF(E28=2,1,IF(E28=1,2,IF(F28=2,3,IF(F28=1,4,5))))","v":5},{"$f":"COUNTIF(J28,\">0\")+COUNTIF(O28,\">0\")","v":0},{"$f":"COUNTIF(K28,\">0\")+COUNTIF(P28,\">0\")","v":0},null,{"$f":"IF($G28=\"\",\"\",VLOOKUP(Setup!$B$13&\"-\"&$G28,Rankings!$A:$E,2,FALSE))","v":""},{"$f":"IF($G28=\"\",\"\",VLOOKUP(Setup!$B$13&\"-\"&$G28,Rankings!$A:$E,3,FALSE))","v":""},{"$f":"IF(COUNTIF(Rankings!$A:$A,Setup!$B$13&\"-\"&$G28)>0,VLOOKUP(Setup!$B$13&\"-\"&$G28,Rankings!$A:$E,5,FALSE),0)","v":0},{"$f":"IF(COUNTIF(Rankings!$A:$A,Setup!$B$13&\"-\"&$G28)>0,VLOOKUP(Setup!$B$13&\"-\"&$G28,Rankings!$A:$E,4,FALSE),0)","v":0},null,{"$f":"IF($L28=\"\",\"\",VLOOKUP(Setup!$B$13&\"-\"&$L28,Rankings!$A:$E,2,FALSE))","v":""},{"$f":"IF($L28=\"\",\"\",VLOOKUP(Setup!$B$13&\"-\"&$L28,Rankings!$A:$E,3,FALSE))","v":""},{"$f":"IF(COUNTIF(Rankings!$A:$A,Setup!$B$13&\"-\"&$L28)>0,VLOOKUP(Setup!$B$13&\"-\"&$L28,Rankings!$A:$E,5,FALSE),0)","v":0},{"$f":"IF(COUNTIF(Rankings!$A:$A,Setup!$B$13&\"-\"&$L28)>0,VLOOKUP(Setup!$B$13&\"-\"&$L28,Rankings!$A:$E,4,FALSE),0)","v":0},{"$f":"B28+W28","v":3.2754986314108218E-2},{"$f":"IF(J28>0,(B28+P28/1000+W28/1000),(B28+K28/1000+W28/1000))","v":3.2754986314108219E-5},{"$f":"C28+W28","v":3.2754986314108218E-2},{"$f":"C28+W28","v":3.2754986314108218E-2},{"$f":"W28","v":3.2754986314108218E-2},{"$f":"IF(G28=\"\",0,VLOOKUP(D28,D28:U28,13+D28,FALSE))","v":0},3.2754986314108218E-2]
[27,{"$f":"J29+O29","v":0},{"$f":"K29+P29","v":0},{"$f":"IF(E29=2,1,IF(E29=1,2,IF(F29=2,3,IF(F29=1,4,5))))","v":5},{"$f":"COUNTIF(J29,\">0\")+COUNTIF(O29,\">0\")","v":0},{"$f":"COUNTIF(K29,\">0\")+COUNTIF(P29,\">0\")","v":0},null,{"$f":"IF($G29=\"\",\"\",VLOOKUP(Setup!$B$13&\"-\"&$G29,Rankings!$A:$E,2,FALSE))","v":""},{"$f":"IF($G29=\"\",\"\",VLOOKUP(Setup!$B$13&\"-\"&$G29,Rankings!$A:$E,3,FALSE))","v":""},{"$f":"IF(COUNTIF(Rankings!$A:$A,Setup!$B$13&\"-\"&$G29)>0,VLOOKUP(Setup!$B$13&\"-\"&$G29,Rankings!$A:$E,5,FALSE),0)","v":0},{"$f":"IF(COUNTIF(Rankings!$A:$A,Setup!$B$13&\"-\"&$G29)>0,VLOOKUP(Setup!$B$13&\"-\"&$G29,Rankings!$A:$E,4,FALSE),0)","v":0},null,{"$f":"IF($L29=\"\",\"\",VLOOKUP(Setup!$B$13&\"-\"&$L29,Rankings!$A:$E,2,FALSE))","v":""},{"$f":"IF($L29=\"\",\"\",VLOOKUP(Setup!$B$13&\"-\"&$L29,Rankings!$A:$E,3,FALSE))","v":""},{"$f":"IF(COUNTIF(Rankings!$A:$A,Setup!$B$13&\"-\"&$L29)>0,VLOOKUP(Setup!$B$13&\"-\"&$L29,Rankings!$A:$E,5,FALSE),0)","v":0},{"$f":"IF(COUNTIF(Rankings!$A:$A,Setup!$B$13&\"-\"&$L29)>0,VLOOKUP(Setup!$B$13&\"-\"&$L29,Rankings!$A:$E,4,FALSE),0)","v":0},{"$f":"B29+W29","v":3.232444921562707E-2},{"$f":"IF(J29>0,(B29+P29/1000+W29/1000),(B29+K29/1000+W29/1000))","v":3.2324449215627069E-5},{"$f":"C29+W29","v":3.232444921562707E-2},{"$f":"C29+W29","v":3.232444921562707E-2},{"$f":"W29","v":3.232444921562707E-2},{"$f":"IF(G29=\"\",0,VLOOKUP(D29,D29:U29,13+D29,FALSE))","v":0},3.232444921562707E-2]
[28,{"$f":"J30+O30","v":0},{"$f":"K30+P30","v":0},{"$f":"IF(E30=2,1,IF(E30=1,2,IF(F30=2,3,IF(F30=1,4,5))))","v":5},{"$f":"COUNTIF(J30,\">0\")+COUNTIF(O30,\">0\")","v":0},{"$f":"COUNTIF(K30,\">0\")+COUNTIF(P30,\">0\")","v":0},null,{"$f":"IF($G30=\"\",\"\",VLOOKUP(Setup!$B$13&\"-\"&$G30,Rankings!$A:$E,2,FALSE))","v":""},{"$f":"IF($G30=\"\",\"\",VLOOKUP(Setup!$B$13&\"-\"&$G30,Rankings!$A:$E,3,FALSE))","v":""},{"$f":"IF(COUNTIF(Rankings!$A:$A,Setup!$B$13&\"-\"&$G30)>0,VLOOKUP(Setup!$B$13&\"-\"&$G30,Rankings!$A:$E,5,FALSE),0)","v":0},{"$f":"IF(COUNTIF(Rankings!$A:$A,Setup!$B$13&\"-\"&$G30)>0,VLOOKUP(Setup!$B$13&\"-\"&$G30,Rankings!$A:$E,4,FALSE),0)","v":0},null,{"$f":"IF($L30=\"\",\"\",VLOOKUP(Setup!$B$13&\"-\"&$L30,Rankings!$A:$E,2,FALSE))","v":""},{"$f":"IF($L30=\"\",\"\",VLOOKUP(Setup!$B$13&\"-\"&$L30,Rankings!$A:$E,3,FALSE))","v":""},{"$f":"IF(COUNTIF(Rankings!$A:$A,Setup!$B$13&\"-\"&$L30)>0,VLOOKUP(Setup!$B$13&\"-\"&$L30,Rankings!$A:$E,5,FALSE),0)","v":0},{"$f":"IF(COUNTIF(Rankings!$A:$A,Setup!$B$13&\"-\"&$L30)>0,VLOOKUP(Setup!$B$13&\"-\"&$L30,Rankings!$A:$E,4,FALSE),0)","v":0},{"$f":"B30+W30","v":3.0231680078730339E-2},{"$f":"IF(J30>0,(B30+P30/1000+W30/1000),(B30+K30/1000+W30/1000))","v":3.0231680078730339E-5},{"$f":"C30+W30","v":3.0231680078730339E-2},{"$f":"C30+W30","v":3.0231680078730339E-2},{"$f":"W30","v":3.0231680078730339E-2},{"$f":"IF(G30=\"\",0,VLOOKUP(D30,D30:U30,13+D30,FALSE))","v":0},3.0231680078730339E-2]
[29,{"$f":"J31+O31","v":0},{"$f":"K31+P31","v":0},{"$f":"IF(E31=2,1,IF(E31=1,2,IF(F31=2,3,IF(F31=1,4,5))))","v":5},{"$f":"COUNTIF(J31,\">0\")+COUNTIF(O31,\">0\")","v":0},{"$f":"COUNTIF(K31,\">0\")+COUNTIF(P31,\">0\")","v":0},null,{"$f":"IF($G31=\"\",\"\",VLOOKUP(Setup!$B$13&\"-\"&$G31,Rankings!$A:$E,2,FALSE))","v":""},{"$f":"IF($G31=\"\",\"\",VLOOKUP(Setup!$B$13&\"-\"&$G31,Rankings!$A:$E,3,FALSE))","v":""},{"$f":"IF(COUNTIF(Rankings!$A:$A,Setup!$B$13&\"-\"&$G31)>0,VLOOKUP(Setup!$B$13&\"-\"&$G31,Rankings!$A:$E,5,FALSE),0)","v":0},{"$f":"IF(COUNTIF(Rankings!$A:$A,Setup!$B$13&\"-\"&$G31)>0,VLOOKUP(Setup!$B$13&\"-\"&$G31,Rankings!$A:$E,4,FALSE),0)","v":0},null,{"$f":"IF($L31=\"\",\"\",VLOOKUP(Setup!$B$13&\"-\"&$L31,Rankings!$A:$E,2,FALSE))","v":""},{"$f":"IF($L31=\"\",\"\",VLOOKUP(Setup!$B$13&\"-\"&$L31,Rankings!$A:$E,3,FALSE))","v":""},{"$f":"IF(COUNTIF(Rankings!$A:$A,Setup!$B$13&\"-\"&$L31)>0,VLOOKUP(Setup!$B$13&\"-\"&$L31,Rankings!$A:$E,5,FALSE),0)","v":0},{"$f":"IF(COUNTIF(Rankings!$A:$A,Setup!$B$13&\"-\"&$L31)>0,VLOOKUP(Setup!$B$13&\"-\"&$L31,Rankings!$A:$E,4,FALSE),0)","v":0},{"$f":"B31+W31","v":2.9726979444727079E-2},{"$f":"IF(J31>0,(B31+P31/1000+W31/1000),(B31+K31/1000+W31/1000))","v":2.9726979444727078E-5},{"$f":"C31+W31","v":2.9726979444727079E-2},{"$f":"C31+W31","v":2.9726979444727079E-2},{"$f":"W31","v":2.9726979444727079E-2},{"$f":"IF(G31=\"\",0,VLOOKUP(D31,D31:U31,13+D31,FALSE))","v":0},2.9726979444727079E-2]
[30,{"$f":"J32+O32","v":0},{"$f":"K32+P32","v":0},{"$f":"IF(E32=2,1,IF(E32=1,2,IF(F32=2,3,IF(F32=1,4,5))))","v":5},{"$f":"COUNTIF(J32,\">0\")+COUNTIF(O32,\">0\")","v":0},{"$f":"COUNTIF(K32,\">0\")+COUNTIF(P32,\">0\")","v":0},null,{"$f":"IF($G32=\"\",\"\",VLOOKUP(Setup!$B$13&\"-\"&$G32,Rankings!$A:$E,2,FALSE))","v":""},{"$f":"IF($G32=\"\",\"\",VLOOKUP(Setup!$B$13&\"-\"&$G32,Rankings!$A:$E,3,FALSE))","v":""},{"$f":"IF(COUNTIF(Rankings!$A:$A,Setup!$B$13&\"-\"&$G32)>0,VLOOKUP(Setup!$B$13&\"-\"&$G32,Rankings!$A:$E,5,FALSE),0)","v":0},{"$f":"IF(COUNTIF(Rankings!$A:$A,Setup!$B$13&\"-\"&$G32)>0,VLOOKUP(Setup!$B$13&\"-\"&$G32,Rankings!$A:$E,4,FALSE),0)","v":0},null,{"$f":"IF($L32=\"\",\"\",VLOOKUP(Setup!$B$13&\"-\"&$L32,Rankings!$A:$E,2,FALSE))","v":""},{"$f":"IF($L32=\"\",\"\",VLOOKUP(Setup!$B$13&\"-\"&$L32,Rankings!$A:$E,3,FALSE))","v":""},{"$f":"IF(COUNTIF(Rankings!$A:$A,Setup!$B$13&\"-\"&$L32)>0,VLOOKUP(Setup!$B$13&\"-\"&$L32,Rankings!$A:$E,5,FALSE),0)","v":0},{"$f":"IF(COUNTIF(Rankings!$A:$A,Setup!$B$13&\"-\"&$L32)>0,VLOOKUP(Setup!$B$13&\"-\"&$L32,Rankings!$A:$E,4,FALSE),0)","v":0},{"$f":"B32+W32","v":2.908420074184984E-2},{"$f":"IF(J32>0,(B32+P32/1000+W32/1000),(B32+K32/1000+W32/1000))","v":2.9084200741849841E-5},{"$f":"C32+W32","v":2.908420074184984E-2},{"$f":"C32+W32","v":2.908420074184984E-2},{"$f":"W32","v":2.908420074184984E-2},{"$f":"IF(G32=\"\",0,VLOOKUP(D32,D32:U32,13+D32,FALSE))","v":0},2.908420074184984E-2]
[31,{"$f":"J33+O33","v":0},{"$f":"K33+P33","v":0},{"$f":"IF(E33=2,1,IF(E33=1,2,IF(F33=2,3,IF(F33=1,4,5))))","v":5},{"$f":"COUNTIF(J33,\">0\")+COUNTIF(O33,\">0\")","v":0},{"$f":"COUNTIF(K33,\">0\")+COUNTIF(P33,\">0\")","v":0},null,{"$f":"IF($G33=\"\",\"\",VLOOKUP(Setup!$B$13&\"-\"&$G33,Rankings!$A:$E,2,FALSE))","v":""},{"$f":"IF($G33=\"\",\"\",VLOOKUP(Setup!$B$13&\"-\"&$G33,Rankings!$A:$E,3,FALSE))","v":""},{"$f":"IF(COUNTIF(Rankings!$A:$A,Setup!$B$13&\"-\"&$G33)>0,VLOOKUP(Setup!$B$13&\"-\"&$G33,Rankings!$A:$E,5,FALSE),0)","v":0},{"$f":"IF(COUNTIF(Rankings!$A:$A,Setup!$B$13&\"-\"&$G33)>0,VLOOKUP(Setup!$B$13&\"-\"&$G33,Rankings!$A:$E,4,FALSE),0)","v":0},null,{"$f":"IF($L33=\"\",\"\",VLOOKUP(Setup!$B$13&\"-\"&$L33,Rankings!$A:$E,2,FALSE))","v":""},{"$f":"IF($L33=\"\",\"\",VLOOKUP(Setup!$B$13&\"-\"&$L33,Rankings!$A:$E,3,FALSE))","v":""},{"$f":"IF(COUNTIF(Rankings!$A:$A,Setup!$B$13&\"-\"&$L33)>0,VLOOKUP(Setup!$B$13&\"-\"&$L33,Rankings!$A:$E,5,FALSE),0)","v":0},{"$f":"IF(COUNTIF(Rankings!$A:$A,Setup!$B$13&\"-\"&$L33)>0,VLOOKUP(Setup!$B$13&\"-\"&$L33,Rankings!$A:$E,4,FALSE),0)","v":0},{"$f":"B33+W33","v":2.8481875116145142E-2},{"$f":"IF(J33>0,(B33+P33/1000+W33/1000),(B33+K33/1000+W33/1000))","v":2.8481875116145142E-5},{"$f":"C33+W33","v":2.8481875116145142E-2},{"$f":"C33+W33","v":2.8481875116145142E-2},{"$f":"W33","v":2.8481875116145142E-2},{"$f":"IF(G33=\"\",0,VLOOKUP(D33,D33:U33,13+D33,FALSE))","v":0},2.8481875116145142E-2]
[32,{"$f":"J34+O34","v":0},{"$f":"K34+P34","v":0},{"$f":"IF(E34=2,1,IF(E34=1,2,IF(F34=2,3,IF(F34=1,4,5))))","v":5},{"$f":"COUNTIF(J34,\">0\")+COUNTIF(O34,\">0\")","v":0},{"$f":"COUNTIF(K34,\">0\")+COUNTIF(P34,\">0\")","v":0},null,{"$f":"IF($G34=\"\",\"\",VLOOKUP(Setup!$B$13&\"-\"&$G34,Rankings!$A:$E,2,FALSE))","v":""},{"$f":"IF($G34=\"\",\"\",VLOOKUP(Setup!$B$13&\"-\"&$G34,Rankings!$A:$E,3,FALSE))","v":""},{"$f":"IF(COUNTIF(Rankings!$A:$A,Setup!$B$13&\"-\"&$G34)>0,VLOOKUP(Setup!$B$13&\"-\"&$G34,Rankings!$A:$E,5,FALSE),0)","v":0},{"$f":"IF(COUNTIF(Rankings!$A:$A,Setup!$B$13&\"-\"&$G34)>0,VLOOKUP(Setup!$B$13&\"-\"&$G34,Rankings!$A:$E,4,FALSE),0)","v":0},null,{"$f":"IF($L34=\"\",\"\",VLOOKUP(Setup!$B$13&\"-\"&$L34,Rankings!$A:$E,2,FALSE))","v":""},{"$f":"IF($L34=\"\",\"\",VLOOKUP(Setup!$B$13&\"-\"&$L34,Rankings!$A:$E,3,FALSE))","v":""},{"$f":"IF(COUNTIF(Rankings!$A:$A,Setup!$B$13&\"-\"&$L34)>0,VLOOKUP(Setup!$B$13&\"-\"&$L34,Rankings!$A:$E,5,FALSE),0)","v":0},{"$f":"IF(COUNTIF(Rankings!$A:$A,Setup!$B$13&\"-\"&$L34)>0,VLOOKUP(Setup!$B$13&\"-\"&$L34,Rankings!$A:$E,4,FALSE),0)","v":0},{"$f":"B34+W34","v":2.6055571552962432E-2},{"$f":"IF(J34>0,(B34+P34/1000+W34/1000),(B34+K34/1000+W34/1000))","v":2.6055571552962433E-5},{"$f":"C34+W34","v":2.6055571552962432E-2},{"$f":"C34+W34","v":2.6055571552962432E-2},{"$f":"W34","v":2.6055571552962432E-2},{"$f":"IF(G34=\"\",0,VLOOKUP(D34,D34:U34,13+D34,FALSE))","v":0},2.6055571552962432E-2]
[33,{"$f":"J35+O35","v":0},{"$f":"K35+P35","v":0},{"$f":"IF(E35=2,1,IF(E35=1,2,IF(F35=2,3,IF(F35=1,4,5))))","v":5},{"$f":"COUNTIF(J35,\">0\")+COUNTIF(O35,\">0\")","v":0},{"$f":"COUNTIF(K35,\">0\")+COUNTIF(P35,\">0\")","v":0},null,{"$f":"IF($G35=\"\",\"\",VLOOKUP(Setup!$B$13&\"-\"&$G35,Rankings!$A:$E,2,FALSE))","v":""},{"$f":"IF($G35=\"\",\"\",VLOOKUP(Setup!$B$13&\"-\"&$G35,Rankings!$A:$E,3,FALSE))","v":""},{"$f":"IF(COUNTIF(Rankings!$A:$A,Setup!$B$13&\"-\"&$G35)>0,VLOOKUP(Setup!$B$13&\"-\"&$G35,Rankings!$A:$E,5,FALSE),0)","v":0},{"$f":"IF(COUNTIF(Rankings!$A:$A,Setup!$B$13&\"-\"&$G35)>0,VLOOKUP(Setup!$B$13&\"-\"&$G35,Rankings!$A:$E,4,FALSE),0)","v":0},null,{"$f":"IF($L35=\"\",\"\",VLOOKUP(Setup!$B$13&\"-\"&$L35,Rankings!$A:$E,2,FALSE))","v":""},{"$f":"IF($L35=\"\",\"\",VLOOKUP(Setup!$B$13&\"-\"&$L35,Rankings!$A:$E,3,FALSE))","v":""},{"$f":"IF(COUNTIF(Rankings!$A:$A,Setup!$B$13&\"-\"&$L35)>0,VLOOKUP(Setup!$B$13&\"-\"&$L35,Rankings!$A:$E,5,FALSE),0)","v":0},{"$f":"IF(COUNTIF(Rankings!$A:$A,Setup!$B$13&\"-\"&$L35)>0,VLOOKUP(Setup!$B$13&\"-\"&$L35,Rankings!$A:$E,4,FALSE),0)","v":0},{"$f":"B35+W35","v":2.582258453289428E-2},{"$f":"IF(J35>0,(B35+P35/1000+W35/1000),(B35+K35/1000+W35/1000))","v":2.5822584532894281E-5},{"$f":"C35+W35","v":2.582258453289428E-2},{"$f":"C35+W35","v":2.582258453289428E-2},{"$f":"W35","v":2.582258453289428E-2},{"$f":"IF(G35=\"\",0,VLOOKUP(D35,D35:U35,13+D35,FALSE))","v":0},2.582258453289428E-2]
[34,{"$f":"J36+O36","v":0},{"$f":"K36+P36","v":0},{"$f":"IF(E36=2,1,IF(E36=1,2,IF(F36=2,3,IF(F36=1,4,5))))","v":5},{"$f":"COUNTIF(J36,\">0\")+COUNTIF(O36,\">0\")","v":0},{"$f":"COUNTIF(K36,\">0\")+COUNTIF(P36,\">0\")","v":0},null,{"$f":"IF($G36=\"\",\"\",VLOOKUP(Setup!$B$13&\"-\"&$G36,Rankings!$A:$E,2,FALSE))","v":""},{"$f":"IF($G36=\"\",\"\",VLOOKUP(Setup!$B$13&\"-\"&$G36,Rankings!$A:$E,3,FALSE))","v":""},{"$f":"IF(COUNTIF(Rankings!$A:$A,Setup!$B$13&\"-\"&$G36)>0,VLOOKUP(Setup!$B$13&\"-\"&$G36,Rankings!$A:$E,5,FALSE),0)","v":0},{"$f":"IF(COUNTIF(Rankings!$A:$A,Setup!$B$13&\"-\"&$G36)>0,VLOOKUP(Setup!$B$13&\"-\"&$G36,Rankings!$A:$E,4,FALSE),0)","v":0},null,{"$f":"IF($L36=\"\",\"\",VLOOKUP(Setup!$B$13&\"-\"&$L36,Rankings!$A:$E,2,FALSE))","v":""},{"$f":"IF($L36=\"\",\"\",VLOOKUP(Setup!$B$13&\"-\"&$L36,Rankings!$A:$E,3,FALSE))","v":""},{"$f":"IF(COUNTIF(Rankings!$A:$A,Setup!$B$13&\"-\"&$L36)>0,VLOOKUP(Setup!$B$13&\"-\"&$L36,Rankings!$A:$E,5,FALSE),0)","v":0},{"$f":"IF(COUNTIF(Rankings!$A:$A,Setup!$B$13&\"-\"&$L36)>0,VLOOKUP(Setup!$B$13&\"-\"&$L36,Rankings!$A:$E,4,FALSE),0)","v":0},{"$f":"B36+W36","v":2.5137572336648484E-2},{"$f":"IF(J36>0,(B36+P36/1000+W36/1000),(B36+K36/1000+W36/1000))","v":2.5137572336648483E-5},{"$f":"C36+W36","v":2.5137572336648484E-2},{"$f":"C36+W36","v":2.5137572336648484E-2},{"$f":"W36","v":2.5137572336648484E-2},{"$f":"IF(G36=\"\",0,VLOOKUP(D36,D36:U36,13+D36,FALSE))","v":0},2.5137572336648484E-2]
[35,{"$f":"J37+O37","v":0},{"$f":"K37+P37","v":0},{"$f":"IF(E37=2,1,IF(E37=1,2,IF(F37=2,3,IF(F37=1,4,5))))","v":5},{"$f":"COUNTIF(J37,\">0\")+COUNTIF(O37,\">0\")","v":0},{"$f":"COUNTIF(K37,\">0\")+COUNTIF(P37,\">0\")","v":0},null,{"$f":"IF($G37=\"\",\"\",VLOOKUP(Setup!$B$13&\"-\"&$G37,Rankings!$A:$E,2,FALSE))","v":""},{"$f":"IF($G37=\"\",\"\",VLOOKUP(Setup!$B$13&\"-\"&$G37,Rankings!$A:$E,3,FALSE))","v":""},{"$f":"IF(COUNTIF(Rankings!$A:$A,Setup!$B$13&\"-\"&$G37)>0,VLOOKUP(Setup!$B$13&\"-\"&$G37,Rankings!$A:$E,5,FALSE),0)","v":0},{"$f":"IF(COUNTIF(Rankings!$A:$A,Setup!$B$13&\"-\"&$G37)>0,VLOOKUP(Setup!$B$13&\"-\"&$G37,Rankings!$A:$E,4,FALSE),0)","v":0},null,{"$f":"IF($L37=\"\",\"\",VLOOKUP(Setup!$B$13&\"-\"&$L37,Rankings!$A:$E,2,FALSE))","v":""},{"$f":"IF($L37=\"\",\"\",VLOOKUP(Setup!$B$13&\"-\"&$L37,Rankings!$A:$E,3,FALSE))","v":""},{"$f":"IF(COUNTIF(Rankings!$A:$A,Setup!$B$13&\"-\"&$L37)>0,VLOOKUP(Setup!$B$13&\"-\"&$L37,Rankings!$A:$E,5,FALSE),0)","v":0},{"$f":"IF(COUNTIF(Rankings!$A:$A,Setup!$B$13&\"-\"&$L37)>0,VLOOKUP(Setup!$B$13&\"-\"&$L37,Rankings!$A:$E,4,FALSE),0)","v":0},{"$f":"B37+W37","v":2.5025714865064611E-2},{"$f":"IF(J37>0,(B37+P37/1000+W37/1000),(B37+K37/1000+W37/1000))","v":2.502571486506461E-5},{"$f":"C37+W37","v":2.5025714865064611E-2},{"$f":"C37+W37","v":2.5025714865064611E-2},{"$f":"W37","v":2.5025714865064611E-2},{"$f":"IF(G37=\"\",0,VLOOKUP(D37,D37:U37,13+D37,FALSE))","v":0},2.5025714865064611E-2]
[36,{"$f":"J38+O38","v":0},{"$f":"K38+P38","v":0},{"$f":"IF(E38=2,1,IF(E38=1,2,IF(F38=2,3,IF(F38=1,4,5))))","v":5},{"$f":"COUNTIF(J38,\">0\")+COUNTIF(O38,\">0\")","v":0},{"$f":"COUNTIF(K38,\">0\")+COUNTIF(P38,\">0\")","v":0},null,{"$f":"IF($G38=\"\",\"\",VLOOKUP(Setup!$B$13&\"-\"&$G38,Rankings!$A:$E,2,FALSE))","v":""},{"$f":"IF($G38=\"\",\"\",VLOOKUP(Setup!$B$13&\"-\"&$G38,Rankings!$A:$E,3,FALSE))","v":""},{"$f":"IF(COUNTIF(Rankings!$A:$A,Setup!$B$13&\"-\"&$G38)>0,VLOOKUP(Setup!$B$13&\"-\"&$G38,Rankings!$A:$E,5,FALSE),0)","v":0},{"$f":"IF(COUNTIF(Rankings!$A:$A,Setup!$B$13&\"-\"&$G38)>0,VLOOKUP(Setup!$B$13&\"-\"&$G38,Rankings!$A:$E,4,FALSE),0)","v":0},null,{"$f":"IF($L38=\"\",\"\",VLOOKUP(Setup!$B$13&\"-\"&$L38,Rankings!$A:$E,2,FALSE))","v":""},{"$f":"IF($L38=\"\",\"\",VLOOKUP(Setup!$B$13&\"-\"&$L38,Rankings!$A:$E,3,FALSE))","v":""},{"$f":"IF(COUNTIF(Rankings!$A:$A,Setup!$B$13&\"-\"&$L38)>0,VLOOKUP(Setup!$B$13&\"-\"&$L38,Rankings!$A:$E,5,FALSE),0)","v":0},{"$f":"IF(COUNTIF(Rankings!$A:$A,Setup!$B$13&\"-\"&$L38)>0,VLOOKUP(Setup!$B$13&\"-\"&$L38,Rankings!$A:$E,4,FALSE),0)","v":0},{"$f":"B38+W38","v":2.4676337176553344E-2},{"$f":"IF(J38>0,(B38+P38/1000+W38/1000),(B38+K38/1000+W38/1000))","v":2.4676337176553346E-5},{"$f":"C38+W38","v":2.4676337176553344E-2},{"$f":"C38+W38","v":2.4676337176553344E-2},{"$f":"W38","v":2.4676337176553344E-2},{"$f":"IF(G38=\"\",0,VLOOKUP(D38,D38:U38,13+D38,FALSE))","v":0},2.4676337176553344E-2]
[37,{"$f":"J39+O39","v":0},{"$f":"K39+P39","v":0},{"$f":"IF(E39=2,1,IF(E39=1,2,IF(F39=2,3,IF(F39=1,4,5))))","v":5},{"$f":"COUNTIF(J39,\">0\")+COUNTIF(O39,\">0\")","v":0},{"$f":"COUNTIF(K39,\">0\")+COUNTIF(P39,\">0\")","v":0},null,{"$f":"IF($G39=\"\",\"\",VLOOKUP(Setup!$B$13&\"-\"&$G39,Rankings!$A:$E,2,FALSE))","v":""},{"$f":"IF($G39=\"\",\"\",VLOOKUP(Setup!$B$13&\"-\"&$G39,Rankings!$A:$E,3,FALSE))","v":""},{"$f":"IF(COUNTIF(Rankings!$A:$A,Setup!$B$13&\"-\"&$G39)>0,VLOOKUP(Setup!$B$13&\"-\"&$G39,Rankings!$A:$E,5,FALSE),0)","v":0},{"$f":"IF(COUNTIF(Rankings!$A:$A,Setup!$B$13&\"-\"&$G39)>0,VLOOKUP(Setup!$B$13&\"-\"&$G39,Rankings!$A:$E,4,FALSE),0)","v":0},null,{"$f":"IF($L39=\"\",\"\",VLOOKUP(Setup!$B$13&\"-\"&$L39,Rankings!$A:$E,2,FALSE))","v":""},{"$f":"IF($L39=\"\",\"\",VLOOKUP(Setup!$B$13&\"-\"&$L39,Rankings!$A:$E,3,FALSE))","v":""},{"$f":"IF(COUNTIF(Rankings!$A:$A,Setup!$B$13&\"-\"&$L39)>0,VLOOKUP(Setup!$B$13&\"-\"&$L39,Rankings!$A:$E,5,FALSE),0)","v":0},{"$f":"IF(COUNTIF(Rankings!$A:$A,Setup!$B$13&\"-\"&$L39)>0,VLOOKUP(Setup!$B$13&\"-\"&$L39,Rankings!$A:$E,4,FALSE),0)","v":0},{"$f":"B39+W39","v":2.3684350295179256E-2},{"$f":"IF(J39>0,(B39+P39/1000+W39/1000),(B39+K39/1000+W39/1000))","v":2.3684350295179255E-5},{"$f":"C39+W39","v":2.3684350295179256E-2},{"$f":"C39+W39","v":2.3684350295179256E-2},{"$f":"W39","v":2.3684350295179256E-2},{"$f":"IF(G39=\"\",0,VLOOKUP(D39,D39:U39,13+D39,FALSE))","v":0},2.3684350295179256E-2]
[38,{"$f":"J40+O40","v":0},{"$f":"K40+P40","v":0},{"$f":"IF(E40=2,1,IF(E40=1,2,IF(F40=2,3,IF(F40=1,4,5))))","v":5},{"$f":"COUNTIF(J40,\">0\")+COUNTIF(O40,\">0\")","v":0},{"$f":"COUNTIF(K40,\">0\")+COUNTIF(P40,\">0\")","v":0},null,{"$f":"IF($G40=\"\",\"\",VLOOKUP(Setup!$B$13&\"-\"&$G40,Rankings!$A:$E,2,FALSE))","v":""},{"$f":"IF($G40=\"\",\"\",VLOOKUP(Setup!$B$13&\"-\"&$G40,Rankings!$A:$E,3,FALSE))","v":""},{"$f":"IF(COUNTIF(Rankings!$A:$A,Setup!$B$13&\"-\"&$G40)>0,VLOOKUP(Setup!$B$13&\"-\"&$G40,Rankings!$A:$E,5,FALSE),0)","v":0},{"$f":"IF(COUNTIF(Rankings!$A:$A,Setup!$B$13&\"-\"&$G40)>0,VLOOKUP(Setup!$B$13&\"-\"&$G40,Rankings!$A:$E,4,FALSE),0)","v":0},null,{"$f":"IF($L40=\"\",\"\",VLOOKUP(Setup!$B$13&\"-\"&$L40,Rankings!$A:$E,2,FALSE))","v":""},{"$f":"IF($L40=\"\",\"\",VLOOKUP(Setup!$B$13&\"-\"&$L40,Rankings!$A:$E,3,FALSE))","v":""},{"$f":"IF(COUNTIF(Rankings!$A:$A,Setup!$B$13&\"-\"&$L40)>0,VLOOKUP(Setup!$B$13&\"-\"&$L40,Rankings!$A:$E,5,FALSE),0)","v":0},{"$f":"IF(COUNTIF(Rankings!$A:$A,Setup!$B$13&\"-\"&$L40)>0,VLOOKUP(Setup!$B$13&\"-\"&$L40,Rankings!$A:$E,4,FALSE),0)","v":0},{"$f":"B40+W40","v":2.350668911581557E-2},{"$f":"IF(J40>0,(B40+P40/1000+W40/1000),(B40+K40/1000+W40/1000))","v":2.350668911581557E-5},{"$f":"C40+W40","v":2.350668911581557E-2},{"$f":"C40+W40","v":2.350668911581557E-2},{"$f":"W40","v":2.350668911581557E-2},{"$f":"IF(G40=\"\",0,VLOOKUP(D40,D40:U40,13+D40,FALSE))","v":0},2.350668911581557E-2]
[39,{"$f":"J41+O41","v":0},{"$f":"K41+P41","v":0},{"$f":"IF(E41=2,1,IF(E41=1,2,IF(F41=2,3,IF(F41=1,4,5))))","v":5},{"$f":"COUNTIF(J41,\">0\")+COUNTIF(O41,\">0\")","v":0},{"$f":"COUNTIF(K41,\">0\")+COUNTIF(P41,\">0\")","v":0},null,{"$f":"IF($G41=\"\",\"\",VLOOKUP(Setup!$B$13&\"-\"&$G41,Rankings!$A:$E,2,FALSE))","v":""},{"$f":"IF($G41=\"\",\"\",VLOOKUP(Setup!$B$13&\"-\"&$G41,Rankings!$A:$E,3,FALSE))","v":""},{"$f":"IF(COUNTIF(Rankings!$A:$A,Setup!$B$13&\"-\"&$G41)>0,VLOOKUP(Setup!$B$13&\"-\"&$G41,Rankings!$A:$E,5,FALSE),0)","v":0},{"$f":"IF(COUNTIF(Rankings!$A:$A,Setup!$B$13&\"-\"&$G41)>0,VLOOKUP(Setup!$B$13&\"-\"&$G41,Rankings!$A:$E,4,FALSE),0)","v":0},null,{"$f":"IF($L41=\"\",\"\",VLOOKUP(Setup!$B$13&\"-\"&$L41,Rankings!$A:$E,2,FALSE))","v":""},{"$f":"IF($L41=\"\",\"\",VLOOKUP(Setup!$B$13&\"-\"&$L41,Rankings!$A:$E,3,FALSE))","v":""},{"$f":"IF(COUNTIF(Rankings!$A:$A,Setup!$B$13&\"-\"&$L41)>0,VLOOKUP(Setup!$B$13&\"-\"&$L41,Rankings!$A:$E,5,FALSE),0)","v":0},{"$f":"IF(COUNTIF(Rankings!$A:$A,Setup!$B$13&\"-\"&$L41)>0,VLOOKUP(Setup!$B$13&\"-\"&$L41,Rankings!$A:$E,4,FALSE),0)","v":0},{"$f":"B41+W41","v":2.2502996454758908E-2},{"$f":"IF(J41>0,(B41+P41/1000+W41/1000),(B41+K41/1000+W41/1000))","v":2.2502996454758908E-5},{"$f":"C41+W41","v":2.2502996454758908E-2},{"$f":"C41+W41","v":2.2502996454758908E-2},{"$f":"W41","v":2.2502996454758908E-2},{"$f":"IF(G41=\"\",0,VLOOKUP(D41,D41:U41,13+D41,FALSE))","v":0},2.2502996454758908E-2]
[40,{"$f":"J42+O42","v":0},{"$f":"K42+P42","v":0},{"$f":"IF(E42=2,1,IF(E42=1,2,IF(F42=2,3,IF(F42=1,4,5))))","v":5},{"$f":"COUNTIF(J42,\">0\")+COUNTIF(O42,\">0\")","v":0},{"$f":"COUNTIF(K42,\">0\")+COUNTIF(P42,\">0\")","v":0},null,{"$f":"IF($G42=\"\",\"\",VLOOKUP(Setup!$B$13&\"-\"&$G42,Rankings!$A:$E,2,FALSE))","v":""},{"$f":"IF($G42=\"\",\"\",VLOOKUP(Setup!$B$13&\"-\"&$G42,Rankings!$A:$E,3,FALSE))","v":""},{"$f":"IF(COUNTIF(Rankings!$A:$A,Setup!$B$13&\"-\"&$G42)>0,VLOOKUP(Setup!$B$13&\"-\"&$G42,Rankings!$A:$E,5,FALSE),0)","v":0},{"$f":"IF(COUNTIF(Rankings!$A:$A,Setup!$B$13&\"-\"&$G42)>0,VLOOKUP(Setup!$B$13&\"-\"&$G42,Rankings!$A:$E,4,FALSE),0)","v":0},null,{"$f":"IF($L42=\"\",\"\",VLOOKUP(Setup!$B$13&\"-\"&$L42,Rankings!$A:$E,2,FALSE))","v":""},{"$f":"IF($L42=\"\",\"\",VLOOKUP(Setup!$B$13&\"-\"&$L42,Rankings!$A:$E,3,FALSE))","v":""},{"$f":"IF(COUNTIF(Rankings!$A:$A,Setup!$B$13&\"-\"&$L42)>0,VLOOKUP(Setup!$B$13&\"-\"&$L42,Rankings!$A:$E,5,FALSE),0)","v":0},{"$f":"IF(COUNTIF(Rankings!$A:$A,Setup!$B$13&\"-\"&$L42)>0,VLOOKUP(Setup!$B$13&\"-\"&$L42,Rankings!$A:$E,4,FALSE),0)","v":0},{"$f":"B42+W42","v":2.1022684789879988E-2},{"$f":"IF(J42>0,(B42+P42/1000+W42/1000),(B42+K42/1000+W42/1000))","v":2.1022684789879986E-5},{"$f":"C42+W42","v":2.1022684789879988E-2},{"$f":"C42+W42","v":2.1022684789879988E-2},{"$f":"W42","v":2.1022684789879988E-2},{"$f":"IF(G42=\"\",0,VLOOKUP(D42,D42:U42,13+D42,FALSE))","v":0},2.1022684789879988E-2]
[41,{"$f":"J43+O43","v":0},{"$f":"K43+P43","v":0},{"$f":"IF(E43=2,1,IF(E43=1,2,IF(F43=2,3,IF(F43=1,4,5))))","v":5},{"$f":"COUNTIF(J43,\">0\")+COUNTIF(O43,\">0\")","v":0},{"$f":"COUNTIF(K43,\">0\")+COUNTIF(P43,\">0\")","v":0},null,{"$f":"IF($G43=\"\",\"\",VLOOKUP(Setup!$B$13&\"-\"&$G43,Rankings!$A:$E,2,FALSE))","v":""},{"$f":"IF($G43=\"\",\"\",VLOOKUP(Setup!$B$13&\"-\"&$G43,Rankings!$A:$E,3,FALSE))","v":""},{"$f":"IF(COUNTIF(Rankings!$A:$A,Setup!$B$13&\"-\"&$G43)>0,VLOOKUP(Setup!$B$13&\"-\"&$G43,Rankings!$A:$E,5,FALSE),0)","v":0},{"$f":"IF(COUNTIF(Rankings!$A:$A,Setup!$B$13&\"-\"&$G43)>0,VLOOKUP(Setup!$B$13&\"-\"&$G43,Rankings!$A:$E,4,FALSE),0)","v":0},null,{"$f":"IF($L43=\"\",\"\",VLOOKUP(Setup!$B$13&\"-\"&$L43,Rankings!$A:$E,2,FALSE))","v":""},{"$f":"IF($L43=\"\",\"\",VLOOKUP(Setup!$B$13&\"-\"&$L43,Rankings!$A:$E,3,FALSE))","v":""},{"$f":"IF(COUNTIF(Rankings!$A:$A,Setup!$B$13&\"-\"&$L43)>0,VLOOKUP(Setup!$B$13&\"-\"&$L43,Rankings!$A:$E,5,FALSE),0)","v":0},{"$f":"IF(COUNTIF(Rankings!$A:$A,Setup!$B$13&\"-\"&$L43)>0,VLOOKUP(Setup!$B$13&\"-\"&$L43,Rankings!$A:$E,4,FALSE),0)","v":0},{"$f":"B43+W43","v":2.0770348360372778E-2},{"$f":"IF(J43>0,(B43+P43/1000+W43/1000),(B43+K43/1000+W43/1000))","v":2.0770348360372778E-5},{"$f":"C43+W43","v":2.0770348360372778E-2},{"$f":"C43+W43","v":2.0770348360372778E-2},{"$f":"W43","v":2.0770348360372778E-2},{"$f":"IF(G43=\"\",0,VLOOKUP(D43,D43:U43,13+D43,FALSE))","v":0},2.0770348360372778E-2]
[42,{"$f":"J44+O44","v":0},{"$f":"K44+P44","v":0},{"$f":"IF(E44=2,1,IF(E44=1,2,IF(F44=2,3,IF(F44=1,4,5))))","v":5},{"$f":"COUNTIF(J44,\">0\")+COUNTIF(O44,\">0\")","v":0},{"$f":"COUNTIF(K44,\">0\")+COUNTIF(P44,\">0\")","v":0},null,{"$f":"IF($G44=\"\",\"\",VLOOKUP(Setup!$B$13&\"-\"&$G44,Rankings!$A:$E,2,FALSE))","v":""},{"$f":"IF($G44=\"\",\"\",VLOOKUP(Setup!$B$13&\"-\"&$G44,Rankings!$A:$E,3,FALSE))","v":""},{"$f":"IF(COUNTIF(Rankings!$A:$A,Setup!$B$13&\"-\"&$G44)>0,VLOOKUP(Setup!$B$13&\"-\"&$G44,Rankings!$A:$E,5,FALSE),0)","v":0},{"$f":"IF(COUNTIF(Rankings!$A:$A,Setup!$B$13&\"-\"&$G44)>0,VLOOKUP(Setup!$B$13&\"-\"&$G44,Rankings!$A:$E,4,FALSE),0)","v":0},null,{"$f":"IF($L44=\"\",\"\",VLOOKUP(Setup!$B$13&\"-\"&$L44,Rankings!$A:$E,2,FALSE))","v":""},{"$f":"IF($L44=\"\",\"\",VLOOKUP(Setup!$B$13&\"-\"&$L44,Rankings!$A:$E,3,FALSE))","v":""},{"$f":"IF(COUNTIF(Rankings!$A:$A,Setup!$B$13&\"-\"&$L44)>0,VLOOKUP(Setup!$B$13&\"-\"&$L44,Rankings!$A:$E,5,FALSE),0)","v":0},{"$f":"IF(COUNTIF(Rankings!$A:$A,Setup!$B$13&\"-\"&$L44)>0,VLOOKUP(Setup!$B$13&\"-\"&$L44,Rankings!$A:$E,4,FALSE),0)","v":0},{"$f":"B44+W44","v":1.9136643974335756E-2},{"$f":"IF(J44>0,(B44+P44/1000+W44/1000),(B44+K44/1000+W44/1000))","v":1.9136643974335755E-5},{"$f":"C44+W44","v":1.9136643974335756E-2},{"$f":"C44+W44","v":1.9136643974335756E-2},{"$f":"W44","v":1.9136643974335756E-2},{"$f":"IF(G44=\"\",0,VLOOKUP(D44,D44:U44,13+D44,FALSE))","v":0},1.9136643974335756E-2]
[43,{"$f":"J45+O45","v":0},{"$f":"K45+P45","v":0},{"$f":"IF(E45=2,1,IF(E45=1,2,IF(F45=2,3,IF(F45=1,4,5))))","v":5},{"$f":"COUNTIF(J45,\">0\")+COUNTIF(O45,\">0\")","v":0},{"$f":"COUNTIF(K45,\">0\")+COUNTIF(P45,\">0\")","v":0},null,{"$f":"IF($G45=\"\",\"\",VLOOKUP(Setup!$B$13&\"-\"&$G45,Rankings!$A:$E,2,FALSE))","v":""},{"$f":"IF($G45=\"\",\"\",VLOOKUP(Setup!$B$13&\"-\"&$G45,Rankings!$A:$E,3,FALSE))","v":""},{"$f":"IF(COUNTIF(Rankings!$A:$A,Setup!$B$13&\"-\"&$G45)>0,VLOOKUP(Setup!$B$13&\"-\"&$G45,Rankings!$A:$E,5,FALSE),0)","v":0},{"$f":"IF(COUNTIF(Rankings!$A:$A,Setup!$B$13&\"-\"&$G45)>0,VLOOKUP(Setup!$B$13&\"-\"&$G45,Rankings!$A:$E,4,FALSE),0)","v":0},null,{"$f":"IF($L45=\"\",\"\",VLOOKUP(Setup!$B$13&\"-\"&$L45,Rankings!$A:$E,2,FALSE))","v":""},{"$f":"IF($L45=\"\",\"\",VLOOKUP(Setup!$B$13&\"-\"&$L45,Rankings!$A:$E,3,FALSE))","v":""},{"$f":"IF(COUNTIF(Rankings!$A:$A,Setup!$B$13&\"-\"&$L45)>0,VLOOKUP(Setup!$B$13&\"-\"&$L45,Rankings!$A:$E,5,FALSE),0)","v":0},{"$f":"IF(COUNTIF(Rankings!$A:$A,Setup!$B$13&\"-\"&$L45)>0,VLOOKUP(Setup!$B$13&\"-\"&$L45,Rankings!$A:$E,4,FALSE),0)","v":0},{"$f":"B45+W45","v":1.8028974920907746E-2},{"$f":"IF(J45>0,(B45+P45/1000+W45/1000),(B45+K45/1000+W45/1000))","v":1.8028974920907744E-5},{"$f":"C45+W45","v":1.8028974920907746E-2},{"$f":"C45+W45","v":1.8028974920907746E-2},{"$f":"W45","v":1.8028974920907746E-2},{"$f":"IF(G45=\"\",0,VLOOKUP(D45,D45:U45,13+D45,FALSE))","v":0},1.8028974920907746E-2]
[44,{"$f":"J46+O46","v":0},{"$f":"K46+P46","v":0},{"$f":"IF(E46=2,1,IF(E46=1,2,IF(F46=2,3,IF(F46=1,4,5))))","v":5},{"$f":"COUNTIF(J46,\">0\")+COUNTIF(O46,\">0\")","v":0},{"$f":"COUNTIF(K46,\">0\")+COUNTIF(P46,\">0\")","v":0},null,{"$f":"IF($G46=\"\",\"\",VLOOKUP(Setup!$B$13&\"-\"&$G46,Rankings!$A:$E,2,FALSE))","v":""},{"$f":"IF($G46=\"\",\"\",VLOOKUP(Setup!$B$13&\"-\"&$G46,Rankings!$A:$E,3,FALSE))","v":""},{"$f":"IF(COUNTIF(Rankings!$A:$A,Setup!$B$13&\"-\"&$G46)>0,VLOOKUP(Setup!$B$13&\"-\"&$G46,Rankings!$A:$E,5,FALSE),0)","v":0},{"$f":"IF(COUNTIF(Rankings!$A:$A,Setup!$B$13&\"-\"&$G46)>0,VLOOKUP(Setup!$B$13&\"-\"&$G46,Rankings!$A:$E,4,FALSE),0)","v":0},null,{"$f":"IF($L46=\"\",\"\",VLOOKUP(Setup!$B$13&\"-\"&$L46,Rankings!$A:$E,2,FALSE))","v":""},{"$f":"IF($L46=\"\",\"\",VLOOKUP(Setup!$B$13&\"-\"&$L46,Rankings!$A:$E,3,FALSE))","v":""},{"$f":"IF(COUNTIF(Rankings!$A:$A,Setup!$B$13&\"-\"&$L46)>0,VLOOKUP(Setup!$B$13&\"-\"&$L46,Rankings!$A:$E,5,FALSE),0)","v":0},{"$f":"IF(COUNTIF(Rankings!$A:$A,Setup!$B$13&\"-\"&$L46)>0,VLOOKUP(Setup!$B$13&\"-\"&$L46,Rankings!$A:$E,4,FALSE),0)","v":0},{"$f":"B46+W46","v":1.7833102273610901E-2},{"$f":"IF(J46>0,(B46+P46/1000+W46/1000),(B46+K46/1000+W46/1000))","v":1.7833102273610903E-5},{"$f":"C46+W46","v":1.7833102273610901E-2},{"$f":"C46+W46","v":1.7833102273610901E-2},{"$f":"W46","v":1.7833102273610901E-2},{"$f":"IF(G46=\"\",0,VLOOKUP(D46,D46:U46,13+D46,FALSE))","v":0},1.7833102273610901E-2]
[45,{"$f":"J47+O47","v":0},{"$f":"K47+P47","v":0},{"$f":"IF(E47=2,1,IF(E47=1,2,IF(F47=2,3,IF(F47=1,4,5))))","v":5},{"$f":"COUNTIF(J47,\">0\")+COUNTIF(O47,\">0\")","v":0},{"$f":"COUNTIF(K47,\">0\")+COUNTIF(P47,\">0\")","v":0},null,{"$f":"IF($G47=\"\",\"\",VLOOKUP(Setup!$B$13&\"-\"&$G47,Rankings!$A:$E,2,FALSE))","v":""},{"$f":"IF($G47=\"\",\"\",VLOOKUP(Setup!$B$13&\"-\"&$G47,Rankings!$A:$E,3,FALSE))","v":""},{"$f":"IF(COUNTIF(Rankings!$A:$A,Setup!$B$13&\"-\"&$G47)>0,VLOOKUP(Setup!$B$13&\"-\"&$G47,Rankings!$A:$E,5,FALSE),0)","v":0},{"$f":"IF(COUNTIF(Rankings!$A:$A,Setup!$B$13&\"-\"&$G47)>0,VLOOKUP(Setup!$B$13&\"-\"&$G47,Rankings!$A:$E,4,FALSE),0)","v":0},null,{"$f":"IF($L47=\"\",\"\",VLOOKUP(Setup!$B$13&\"-\"&$L47,Rankings!$A:$E,2,FALSE))","v":""},{"$f":"IF($L47=\"\",\"\",VLOOKUP(Setup!$B$13&\"-\"&$L47,Rankings!$A:$E,3,FALSE))","v":""},{"$f":"IF(COUNTIF(Rankings!$A:$A,Setup!$B$13&\"-\"&$L47)>0,VLOOKUP(Setup!$B$13&\"-\"&$L47,Rankings!$A:$E,5,FALSE),0)","v":0},{"$f":"IF(COUNTIF(Rankings!$A:$A,Setup!$B$13&\"-\"&$L47)>0,VLOOKUP(Setup!$B$13&\"-\"&$L47,Rankings!$A:$E,4,FALSE),0)","v":0},{"$f":"B47+W47","v":1.6513493341675976E-2},{"$f":"IF(J47>0,(B47+P47/1000+W47/1000),(B47+K47/1000+W47/1000))","v":1.6513493341675975E-5},{"$f":"C47+W47","v":1.6513493341675976E-2},{"$f":"C47+W47","v":1.6513493341675976E-2},{"$f":"W47","v":1.6513493341675976E-2},{"$f":"IF(G47=\"\",0,VLOOKUP(D47,D47:U47,13+D47,FALSE))","v":0},1.6513493341675976E-2]
[46,{"$f":"J48+O48","v":0},{"$f":"K48+P48","v":0},{"$f":"IF(E48=2,1,IF(E48=1,2,IF(F48=2,3,IF(F48=1,4,5))))","v":5},{"$f":"COUNTIF(J48,\">0\")+COUNTIF(O48,\">0\")","v":0},{"$f":"COUNTIF(K48,\">0\")+COUNTIF(P48,\">0\")","v":0},null,{"$f":"IF($G48=\"\",\"\",VLOOKUP(Setup!$B$13&\"-\"&$G48,Rankings!$A:$E,2,FALSE))","v":""},{"$f":"IF($G48=\"\",\"\",VLOOKUP(Setup!$B$13&\"-\"&$G48,Rankings!$A:$E,3,FALSE))","v":""},{"$f":"IF(COUNTIF(Rankings!$A:$A,Setup!$B$13&\"-\"&$G48)>0,VLOOKUP(Setup!$B$13&\"-\"&$G48,Rankings!$A:$E,5,FALSE),0)","v":0},{"$f":"IF(COUNTIF(Rankings!$A:$A,Setup!$B$13&\"-\"&$G48)>0,VLOOKUP(Setup!$B$13&\"-\"&$G48,Rankings!$A:$E,4,FALSE),0)","v":0},null,{"$f":"IF($L48=\"\",\"\",VLOOKUP(Setup!$B$13&\"-\"&$L48,Rankings!$A:$E,2,FALSE))","v":""},{"$f":"IF($L48=\"\",\"\",VLOOKUP(Setup!$B$13&\"-\"&$L48,Rankings!$A:$E,3,FALSE))","v":""},{"$f":"IF(COUNTIF(Rankings!$A:$A,Setup!$B$13&\"-\"&$L48)>0,VLOOKUP(Setup!$B$13&\"-\"&$L48,Rankings!$A:$E,5,FALSE),0)","v":0},{"$f":"IF(COUNTIF(Rankings!$A:$A,Setup!$B$13&\"-\"&$L48)>0,VLOOKUP(Setup!$B$13&\"-\"&$L48,Rankings!$A:$E,4,FALSE),0)","v":0},{"$f":"B48+W48","v":1.6362984056781313E-2},{"$f":"IF(J48>0,(B48+P48/1000+W48/1000),(B48+K48/1000+W48/1000))","v":1.6362984056781313E-5},{"$f":"C48+W48","v":1.6362984056781313E-2},{"$f":"C48+W48","v":1.6362984056781313E-2},{"$f":"W48","v":1.6362984056781313E-2},{"$f":"IF(G48=\"\",0,VLOOKUP(D48,D48:U48,13+D48,FALSE))","v":0},1.6362984056781313E-2]
[47,{"$f":"J49+O49","v":0},{"$f":"K49+P49","v":0},{"$f":"IF(E49=2,1,IF(E49=1,2,IF(F49=2,3,IF(F49=1,4,5))))","v":5},{"$f":"COUNTIF(J49,\">0\")+COUNTIF(O49,\">0\")","v":0},{"$f":"COUNTIF(K49,\">0\")+COUNTIF(P49,\">0\")","v":0},null,{"$f":"IF($G49=\"\",\"\",VLOOKUP(Setup!$B$13&\"-\"&$G49,Rankings!$A:$E,2,FALSE))","v":""},{"$f":"IF($G49=\"\",\"\",VLOOKUP(Setup!$B$13&\"-\"&$G49,Rankings!$A:$E,3,FALSE))","v":""},{"$f":"IF(COUNTIF(Rankings!$A:$A,Setup!$B$13&\"-\"&$G49)>0,VLOOKUP(Setup!$B$13&\"-\"&$G49,Rankings!$A:$E,5,FALSE),0)","v":0},{"$f":"IF(COUNTIF(Rankings!$A:$A,Setup!$B$13&\"-\"&$G49)>0,VLOOKUP(Setup!$B$13&\"-\"&$G49,Rankings!$A:$E,4,FALSE),0)","v":0},null,{"$f":"IF($L49=\"\",\"\",VLOOKUP(Setup!$B$13&\"-\"&$L49,Rankings!$A:$E,2,FALSE))","v":""},{"$f":"IF($L49=\"\",\"\",VLOOKUP(Setup!$B$13&\"-\"&$L49,Rankings!$A:$E,3,FALSE))","v":""},{"$f":"IF(COUNTIF(Rankings!$A:$A,Setup!$B$13&\"-\"&$L49)>0,VLOOKUP(Setup!$B$13&\"-\"&$L49,Rankings!$A:$E,5,FALSE),0)","v":0},{"$f":"IF(COUNTIF(Rankings!$A:$A,Setup!$B$13&\"-\"&$L49)>0,VLOOKUP(Setup!$B$13&\"-\"&$L49,Rankings!$A:$E,4,FALSE),0)","v":0},{"$f":"B49+W49","v":1.6305170620223863E-2},{"$f":"IF(J49>0,(B49+P49/1000+W49/1000),(B49+K49/1000+W49/1000))","v":1.6305170620223862E-5},{"$f":"C49+W49","v":1.6305170620223863E-2},{"$f":"C49+W49","v":1.6305170620223863E-2},{"$f":"W49","v":1.6305170620223863E-2},{"$f":"IF(G49=\"\",0,VLOOKUP(D49,D49:U49,13+D49,FALSE))","v":0},1.6305170620223863E-2]
[48,{"$f":"J50+O50","v":0},{"$f":"K50+P50","v":0},{"$f":"IF(E50=2,1,IF(E50=1,2,IF(F50=2,3,IF(F50=1,4,5))))","v":5},{"$f":"COUNTIF(J50,\">0\")+COUNTIF(O50,\">0\")","v":0},{"$f":"COUNTIF(K50,\">0\")+COUNTIF(P50,\">0\")","v":0},null,{"$f":"IF($G50=\"\",\"\",VLOOKUP(Setup!$B$13&\"-\"&$G50,Rankings!$A:$E,2,FALSE))","v":""},{"$f":"IF($G50=\"\",\"\",VLOOKUP(Setup!$B$13&\"-\"&$G50,Rankings!$A:$E,3,FALSE))","v":""},{"$f":"IF(COUNTIF(Rankings!$A:$A,Setup!$B$13&\"-\"&$G50)>0,VLOOKUP(Setup!$B$13&\"-\"&$G50,Rankings!$A:$E,5,FALSE),0)","v":0},{"$f":"IF(COUNTIF(Rankings!$A:$A,Setup!$B$13&\"-\"&$G50)>0,VLOOKUP(Setup!$B$13&\"-\"&$G50,Rankings!$A:$E,4,FALSE),0)","v":0},null,{"$f":"IF($L50=\"\",\"\",VLOOKUP(Setup!$B$13&\"-\"&$L50,Rankings!$A:$E,2,FALSE))","v":""},{"$f":"IF($L50=\"\",\"\",VLOOKUP(Setup!$B$13&\"-\"&$L50,Rankings!$A:$E,3,FALSE))","v":""},{"$f":"IF(COUNTIF(Rankings!$A:$A,Setup!$B$13&\"-\"&$L50)>0,VLOOKUP(Setup!$B$13&\"-\"&$L50,Rankings!$A:$E,5,FALSE),0)","v":0},{"$f":"IF(COUNTIF(Rankings!$A:$A,Setup!$B$13&\"-\"&$L50)>0,VLOOKUP(Setup!$B$13&\"-\"&$L50,Rankings!$A:$E,4,FALSE),0)","v":0},{"$f":"B50+W50","v":1.5928447461374864E-2},{"$f":"IF(J50>0,(B50+P50/1000+W50/1000),(B50+K50/1000+W50/1000))","v":1.5928447461374865E-5},{"$f":"C50+W50","v":1.5928447461374864E-2},{"$f":"C50+W50","v":1.5928447461374864E-2},{"$f":"W50","v":1.5928447461374864E-2},{"$f":"IF(G50=\"\",0,VLOOKUP(D50,D50:U50,13+D50,FALSE))","v":0},1.5928447461374864E-2]
[49,{"$f":"J51+O51","v":0},{"$f":"K51+P51","v":0},{"$f":"IF(E51=2,1,IF(E51=1,2,IF(F51=2,3,IF(F51=1,4,5))))","v":5},{"$f":"COUNTIF(J51,\">0\")+COUNTIF(O51,\">0\")","v":0},{"$f":"COUNTIF(K51,\">0\")+COUNTIF(P51,\">0\")","v":0},null,{"$f":"IF($G51=\"\",\"\",VLOOKUP(Setup!$B$13&\"-\"&$G51,Rankings!$A:$E,2,FALSE))","v":""},{"$f":"IF($G51=\"\",\"\",VLOOKUP(Setup!$B$13&\"-\"&$G51,Rankings!$A:$E,3,FALSE))","v":""},{"$f":"IF(COUNTIF(Rankings!$A:$A,Setup!$B$13&\"-\"&$G51)>0,VLOOKUP(Setup!$B$13&\"-\"&$G51,Rankings!$A:$E,5,FALSE),0)","v":0},{"$f":"IF(COUNTIF(Rankings!$A:$A,Setup!$B$13&\"-\"&$G51)>0,VLOOKUP(Setup!$B$13&\"-\"&$G51,Rankings!$A:$E,4,FALSE),0)","v":0},null,{"$f":"IF($L51=\"\",\"\",VLOOKUP(Setup!$B$13&\"-\"&$L51,Rankings!$A:$E,2,FALSE))","v":""},{"$f":"IF($L51=\"\",\"\",VLOOKUP(Setup!$B$13&\"-\"&$L51,Rankings!$A:$E,3,FALSE))","v":""},{"$f":"IF(COUNTIF(Rankings!$A:$A,Setup!$B$13&\"-\"&$L51)>0,VLOOKUP(Setup!$B$13&\"-\"&$L51,Rankings!$A:$E,5,FALSE),0)","v":0},{"$f":"IF(COUNTIF(Rankings!$A:$A,Setup!$B$13&\"-\"&$L51)>0,VLOOKUP(Setup!$B$13&\"-\"&$L51,Rankings!$A:$E,4,FALSE),0)","v":0},{"$f":"B51+W51","v":1.4350102491623657E-2},{"$f":"IF(J51>0,(B51+P51/1000+W51/1000),(B51+K51/1000+W51/1000))","v":1.4350102491623658E-5},{"$f":"C51+W51","v":1.4350102491623657E-2},{"$f":"C51+W51","v":1.4350102491623657E-2},{"$f":"W51","v":1.4350102491623657E-2},{"$f":"IF(G51=\"\",0,VLOOKUP(D51,D51:U51,13+D51,FALSE))","v":0},1.4350102491623657E-2]
[50,{"$f":"J52+O52","v":0},{"$f":"K52+P52","v":0},{"$f":"IF(E52=2,1,IF(E52=1,2,IF(F52=2,3,IF(F52=1,4,5))))","v":5},{"$f":"COUNTIF(J52,\">0\")+COUNTIF(O52,\">0\")","v":0},{"$f":"COUNTIF(K52,\">0\")+COUNTIF(P52,\">0\")","v":0},null,{"$f":"IF($G52=\"\",\"\",VLOOKUP(Setup!$B$13&\"-\"&$G52,Rankings!$A:$E,2,FALSE))","v":""},{"$f":"IF($G52=\"\",\"\",VLOOKUP(Setup!$B$13&\"-\"&$G52,Rankings!$A:$E,3,FALSE))","v":""},{"$f":"IF(COUNTIF(Rankings!$A:$A,Setup!$B$13&\"-\"&$G52)>0,VLOOKUP(Setup!$B$13&\"-\"&$G52,Rankings!$A:$E,5,FALSE),0)","v":0},{"$f":"IF(COUNTIF(Rankings!$A:$A,Setup!$B$13&\"-\"&$G52)>0,VLOOKUP(Setup!$B$13&\"-\"&$G52,Rankings!$A:$E,4,FALSE),0)","v":0},null,{"$f":"IF($L52=\"\",\"\",VLOOKUP(Setup!$B$13&\"-\"&$L52,Rankings!$A:$E,2,FALSE))","v":""},{"$f":"IF($L52=\"\",\"\",VLOOKUP(Setup!$B$13&\"-\"&$L52,Rankings!$A:$E,3,FALSE))","v":""},{"$f":"IF(COUNTIF(Rankings!$A:$A,Setup!$B$13&\"-\"&$L52)>0,VLOOKUP(Setup!$B$13&\"-\"&$L52,Rankings!$A:$E,5,FALSE),0)","v":0},{"$f":"IF(COUNTIF(Rankings!$A:$A,Setup!$B$13&\"-\"&$L52)>0,VLOOKUP(Setup!$B$13&\"-\"&$L52,Rankings!$A:$E,4,FALSE),0)","v":0},{"$f":"B52+W52","v":1.3846898521116485E-2},{"$f":"IF(J52>0,(B52+P52/1000+W52/1000),(B52+K52/1000+W52/1000))","v":1.3846898521116484E-5},{"$f":"C52+W52","v":1.3846898521116485E-2},{"$f":"C52+W52","v":1.3846898521116485E-2},{"$f":"W52","v":1.3846898521116485E-2},{"$f":"IF(G52=\"\",0,VLOOKUP(D52,D52:U52,13+D52,FALSE))","v":0},1.3846898521116485E-2]
[51,{"$f":"J53+O53","v":0},{"$f":"K53+P53","v":0},{"$f":"IF(E53=2,1,IF(E53=1,2,IF(F53=2,3,IF(F53=1,4,5))))","v":5},{"$f":"COUNTIF(J53,\">0\")+COUNTIF(O53,\">0\")","v":0},{"$f":"COUNTIF(K53,\">0\")+COUNTIF(P53,\">0\")","v":0},null,{"$f":"IF($G53=\"\",\"\",VLOOKUP(Setup!$B$13&\"-\"&$G53,Rankings!$A:$E,2,FALSE))","v":""},{"$f":"IF($G53=\"\",\"\",VLOOKUP(Setup!$B$13&\"-\"&$G53,Rankings!$A:$E,3,FALSE))","v":""},{"$f":"IF(COUNTIF(Rankings!$A:$A,Setup!$B$13&\"-\"&$G53)>0,VLOOKUP(Setup!$B$13&\"-\"&$G53,Rankings!$A:$E,5,FALSE),0)","v":0},{"$f":"IF(COUNTIF(Rankings!$A:$A,Setup!$B$13&\"-\"&$G53)>0,VLOOKUP(Setup!$B$13&\"-\"&$G53,Rankings!$A:$E,4,FALSE),0)","v":0},null,{"$f":"IF($L53=\"\",\"\",VLOOKUP(Setup!$B$13&\"-\"&$L53,Rankings!$A:$E,2,FALSE))","v":""},{"$f":"IF($L53=\"\",\"\",VLOOKUP(Setup!$B$13&\"-\"&$L53,Rankings!$A:$E,3,FALSE))","v":""},{"$f":"IF(COUNTIF(Rankings!$A:$A,Setup!$B$13&\"-\"&$L53)>0,VLOOKUP(Setup!$B$13&\"-\"&$L53,Rankings!$A:$E,5,FALSE),0)","v":0},{"$f":"IF(COUNTIF(Rankings!$A:$A,Setup!$B$13&\"-\"&$L53)>0,VLOOKUP(Setup!$B$13&\"-\"&$L53,Rankings!$A:$E,4,FALSE),0)","v":0},{"$f":"B53+W53","v":1.372744888606277E-2},{"$f":"IF(J53>0,(B53+P53/1000+W53/1000),(B53+K53/1000+W53/1000))","v":1.372744888606277E-5},{"$f":"C53+W53","v":1.372744888606277E-2},{"$f":"C53+W53","v":1.372744888606277E-2},{"$f":"W53","v":1.372744888606277E-2},{"$f":"IF(G53=\"\",0,VLOOKUP(D53,D53:U53,13+D53,FALSE))","v":0},1.372744888606277E-2]
[52,{"$f":"J54+O54","v":0},{"$f":"K54+P54","v":0},{"$f":"IF(E54=2,1,IF(E54=1,2,IF(F54=2,3,IF(F54=1,4,5))))","v":5},{"$f":"COUNTIF(J54,\">0\")+COUNTIF(O54,\">0\")","v":0},{"$f":"COUNTIF(K54,\">0\")+COUNTIF(P54,\">0\")","v":0},null,{"$f":"IF($G54=\"\",\"\",VLOOKUP(Setup!$B$13&\"-\"&$G54,Rankings!$A:$E,2,FALSE))","v":""},{"$f":"IF($G54=\"\",\"\",VLOOKUP(Setup!$B$13&\"-\"&$G54,Rankings!$A:$E,3,FALSE))","v":""},{"$f":"IF(COUNTIF(Rankings!$A:$A,Setup!$B$13&\"-\"&$G54)>0,VLOOKUP(Setup!$B$13&\"-\"&$G54,Rankings!$A:$E,5,FALSE),0)","v":0},{"$f":"IF(COUNTIF(Rankings!$A:$A,Setup!$B$13&\"-\"&$G54)>0,VLOOKUP(Setup!$B$13&\"-\"&$G54,Rankings!$A:$E,4,FALSE),0)","v":0},null,{"$f":"IF($L54=\"\",\"\",VLOOKUP(Setup!$B$13&\"-\"&$L54,Rankings!$A:$E,2,FALSE))","v":""},{"$f":"IF($L54=\"\",\"\",VLOOKUP(Setup!$B$13&\"-\"&$L54,Rankings!$A:$E,3,FALSE))","v":""},{"$f":"IF(COUNTIF(Rankings!$A:$A,Setup!$B$13&\"-\"&$L54)>0,VLOOKUP(Setup!$B$13&\"-\"&$L54,Rankings!$A:$E,5,FALSE),0)","v":0},{"$f":"IF(COUNTIF(Rankings!$A:$A,Setup!$B$13&\"-\"&$L54)>0,VLOOKUP(Setup!$B$13&\"-\"&$L54,Rankings!$A:$E,4,FALSE),0)","v":0},{"$f":"B54+W54","v":1.3060717574681363E-2},{"$f":"IF(J54>0,(B54+P54/1000+W54/1000),(B54+K54/1000+W54/1000))","v":1.3060717574681363E-5},{"$f":"C54+W54","v":1.3060717574681363E-2},{"$f":"C54+W54","v":1.3060717574681363E-2},{"$f":"W54","v":1.3060717574681363E-2},{"$f":"IF(G54=\"\",0,VLOOKUP(D54,D54:U54,13+D54,FALSE))","v":0},1.3060717574681363E-2]
[53,{"$f":"J55+O55","v":0},{"$f":"K55+P55","v":0},{"$f":"IF(E55=2,1,IF(E55=1,2,IF(F55=2,3,IF(F55=1,4,5))))","v":5},{"$f":"COUNTIF(J55,\">0\")+COUNTIF(O55,\">0\")","v":0},{"$f":"COUNTIF(K55,\">0\")+COUNTIF(P55,\">0\")","v":0},null,{"$f":"IF($G55=\"\",\"\",VLOOKUP(Setup!$B$13&\"-\"&$G55,Rankings!$A:$E,2,FALSE))","v":""},{"$f":"IF($G55=\"\",\"\",VLOOKUP(Setup!$B$13&\"-\"&$G55,Rankings!$A:$E,3,FALSE))","v":""},{"$f":"IF(COUNTIF(Rankings!$A:$A,Setup!$B$13&\"-\"&$G55)>0,VLOOKUP(Setup!$B$13&\"-\"&$G55,Rankings!$A:$E,5,FALSE),0)","v":0},{"$f":"IF(COUNTIF(Rankings!$A:$A,Setup!$B$13&\"-\"&$G55)>0,VLOOKUP(Setup!$B$13&\"-\"&$G55,Rankings!$A:$E,4,FALSE),0)","v":0},null,{"$f":"IF($L55=\"\",\"\",VLOOKUP(Setup!$B$13&\"-\"&$L55,Rankings!$A:$E,2,FALSE))","v":""},{"$f":"IF($L55=\"\",\"\",VLOOKUP(Setup!$B$13&\"-\"&$L55,Rankings!$A:$E,3,FALSE))","v":""},{"$f":"IF(COUNTIF(Rankings!$A:$A,Setup!$B$13&\"-\"&$L55)>0,VLOOKUP(Setup!$B$13&\"-\"&$L55,Rankings!$A:$E,5,FALSE),0)","v":0},{"$f":"IF(COUNTIF(Rankings!$A:$A,Setup!$B$13&\"-\"&$L55)>0,VLOOKUP(Setup!$B$13&\"-\"&$L55,Rankings!$A:$E,4,FALSE),0)","v":0},{"$f":"B55+W55","v":1.2335421602063901E-2},{"$f":"IF(J55>0,(B55+P55/1000+W55/1000),(B55+K55/1000+W55/1000))","v":1.2335421602063902E-5},{"$f":"C55+W55","v":1.2335421602063901E-2},{"$f":"C55+W55","v":1.2335421602063901E-2},{"$f":"W55","v":1.2335421602063901E-2},{"$f":"IF(G55=\"\",0,VLOOKUP(D55,D55:U55,13+D55,FALSE))","v":0},1.2335421602063901E-2]
[54,{"$f":"J56+O56","v":0},{"$f":"K56+P56","v":0},{"$f":"IF(E56=2,1,IF(E56=1,2,IF(F56=2,3,IF(F56=1,4,5))))","v":5},{"$f":"COUNTIF(J56,\">0\")+COUNTIF(O56,\">0\")","v":0},{"$f":"COUNTIF(K56,\">0\")+COUNTIF(P56,\">0\")","v":0},null,{"$f":"IF($G56=\"\",\"\",VLOOKUP(Setup!$B$13&\"-\"&$G56,Rankings!$A:$E,2,FALSE))","v":""},{"$f":"IF($G56=\"\",\"\",VLOOKUP(Setup!$B$13&\"-\"&$G56,Rankings!$A:$E,3,FALSE))","v":""},{"$f":"IF(COUNTIF(Rankings!$A:$A,Setup!$B$13&\"-\"&$G56)>0,VLOOKUP(Setup!$B$13&\"-\"&$G56,Rankings!$A:$E,5,FALSE),0)","v":0},{"$f":"IF(COUNTIF(Rankings!$A:$A,Setup!$B$13&\"-\"&$G56)>0,VLOOKUP(Setup!$B$13&\"-\"&$G56,Rankings!$A:$E,4,FALSE),0)","v":0},null,{"$f":"IF($L56=\"\",\"\",VLOOKUP(Setup!$B$13&\"-\"&$L56,Rankings!$A:$E,2,FALSE))","v":""},{"$f":"IF($L56=\"\",\"\",VLOOKUP(Setup!$B$13&\"-\"&$L56,Rankings!$A:$E,3,FALSE))","v":""},{"$f":"IF(COUNTIF(Rankings!$A:$A,Setup!$B$13&\"-\"&$L56)>0,VLOOKUP(Setup!$B$13&\"-\"&$L56,Rankings!$A:$E,5,FALSE),0)","v":0},{"$f":"IF(COUNTIF(Rankings!$A:$A,Setup!$B$13&\"-\"&$L56)>0,VLOOKUP(Setup!$B$13&\"-\"&$L56,Rankings!$A:$E,4,FALSE),0)","v":0},{"$f":"B56+W56","v":1.1578193483256333E-2},{"$f":"IF(J56>0,(B56+P56/1000+W56/1000),(B56+K56/1000+W56/1000))","v":1.1578193483256333E-5},{"$f":"C56+W56","v":1.1578193483256333E-2},{"$f":"C56+W56","v":1.1578193483256333E-2},{"$f":"W56","v":1.1578193483256333E-2},{"$f":"IF(G56=\"\",0,VLOOKUP(D56,D56:U56,13+D56,FALSE))","v":0},1.1578193483256333E-2]
[55,{"$f":"J57+O57","v":0},{"$f":"K57+P57","v":0},{"$f":"IF(E57=2,1,IF(E57=1,2,IF(F57=2,3,IF(F57=1,4,5))))","v":5},{"$f":"COUNTIF(J57,\">0\")+COUNTIF(O57,\">0\")","v":0},{"$f":"COUNTIF(K57,\">0\")+COUNTIF(P57,\">0\")","v":0},null,{"$f":"IF($G57=\"\",\"\",VLOOKUP(Setup!$B$13&\"-\"&$G57,Rankings!$A:$E,2,FALSE))","v":""},{"$f":"IF($G57=\"\",\"\",VLOOKUP(Setup!$B$13&\"-\"&$G57,Rankings!$A:$E,3,FALSE))","v":""},{"$f":"IF(COUNTIF(Rankings!$A:$A,Setup!$B$13&\"-\"&$G57)>0,VLOOKUP(Setup!$B$13&\"-\"&$G57,Rankings!$A:$E,5,FALSE),0)","v":0},{"$f":"IF(COUNTIF(Rankings!$A:$A,Setup!$B$13&\"-\"&$G57)>0,VLOOKUP(Setup!$B$13&\"-\"&$G57,Rankings!$A:$E,4,FALSE),0)","v":0},null,{"$f":"IF($L57=\"\",\"\",VLOOKUP(Setup!$B$13&\"-\"&$L57,Rankings!$A:$E,2,FALSE))","v":""},{"$f":"IF($L57=\"\",\"\",VLOOKUP(Setup!$B$13&\"-\"&$L57,Rankings!$A:$E,3,FALSE))","v":""},{"$f":"IF(COUNTIF(Rankings!$A:$A,Setup!$B$13&\"-\"&$L57)>0,VLOOKUP(Setup!$B$13&\"-\"&$L57,Rankings!$A:$E,5,FALSE),0)","v":0},{"$f":"IF(COUNTIF(Rankings!$A:$A,Setup!$B$13&\"-\"&$L57)>0,VLOOKUP(Setup!$B$13&\"-\"&$L57,Rankings!$A:$E,4,FALSE),0)","v":0},{"$f":"B57+W57","v":1.1534014262796271E-2},{"$f":"IF(J57>0,(B57+P57/1000+W57/1000),(B57+K57/1000+W57/1000))","v":1.1534014262796271E-5},{"$f":"C57+W57","v":1.1534014262796271E-2},{"$f":"C57+W57","v":1.1534014262796271E-2},{"$f":"W57","v":1.1534014262796271E-2},{"$f":"IF(G57=\"\",0,VLOOKUP(D57,D57:U57,13+D57,FALSE))","v":0},1.1534014262796271E-2]
[56,{"$f":"J58+O58","v":0},{"$f":"K58+P58","v":0},{"$f":"IF(E58=2,1,IF(E58=1,2,IF(F58=2,3,IF(F58=1,4,5))))","v":5},{"$f":"COUNTIF(J58,\">0\")+COUNTIF(O58,\">0\")","v":0},{"$f":"COUNTIF(K58,\">0\")+COUNTIF(P58,\">0\")","v":0},null,{"$f":"IF($G58=\"\",\"\",VLOOKUP(Setup!$B$13&\"-\"&$G58,Rankings!$A:$E,2,FALSE))","v":""},{"$f":"IF($G58=\"\",\"\",VLOOKUP(Setup!$B$13&\"-\"&$G58,Rankings!$A:$E,3,FALSE))","v":""},{"$f":"IF(COUNTIF(Rankings!$A:$A,Setup!$B$13&\"-\"&$G58)>0,VLOOKUP(Setup!$B$13&\"-\"&$G58,Rankings!$A:$E,5,FALSE),0)","v":0},{"$f":"IF(COUNTIF(Rankings!$A:$A,Setup!$B$13&\"-\"&$G58)>0,VLOOKUP(Setup!$B$13&\"-\"&$G58,Rankings!$A:$E,4,FALSE),0)","v":0},null,{"$f":"IF($L58=\"\",\"\",VLOOKUP(Setup!$B$13&\"-\"&$L58,Rankings!$A:$E,2,FALSE))","v":""},{"$f":"IF($L58=\"\",\"\",VLOOKUP(Setup!$B$13&\"-\"&$L58,Rankings!$A:$E,3,FALSE))","v":""},{"$f":"IF(COUNTIF(Rankings!$A:$A,Setup!$B$13&\"-\"&$L58)>0,VLOOKUP(Setup!$B$13&\"-\"&$L58,Rankings!$A:$E,5,FALSE),0)","v":0},{"$f":"IF(COUNTIF(Rankings!$A:$A,Setup!$B$13&\"-\"&$L58)>0,VLOOKUP(Setup!$B$13&\"-\"&$L58,Rankings!$A:$E,4,FALSE),0)","v":0},{"$f":"B58+W58","v":1.0265219650224401E-2},{"$f":"IF(J58>0,(B58+P58/1000+W58/1000),(B58+K58/1000+W58/1000))","v":1.0265219650224401E-5},{"$f":"C58+W58","v":1.0265219650224401E-2},{"$f":"C58+W58","v":1.0265219650224401E-2},{"$f":"W58","v":1.0265219650224401E-2},{"$f":"IF(G58=\"\",0,VLOOKUP(D58,D58:U58,13+D58,FALSE))","v":0},1.0265219650224401E-2]
[57,{"$f":"J59+O59","v":0},{"$f":"K59+P59","v":0},{"$f":"IF(E59=2,1,IF(E59=1,2,IF(F59=2,3,IF(F59=1,4,5))))","v":5},{"$f":"COUNTIF(J59,\">0\")+COUNTIF(O59,\">0\")","v":0},{"$f":"COUNTIF(K59,\">0\")+COUNTIF(P59,\">0\")","v":0},null,{"$f":"IF($G59=\"\",\"\",VLOOKUP(Setup!$B$13&\"-\"&$G59,Rankings!$A:$E,2,FALSE))","v":""},{"$f":"IF($G59=\"\",\"\",VLOOKUP(Setup!$B$13&\"-\"&$G59,Rankings!$A:$E,3,FALSE))","v":""},{"$f":"IF(COUNTIF(Rankings!$A:$A,Setup!$B$13&\"-\"&$G59)>0,VLOOKUP(Setup!$B$13&\"-\"&$G59,Rankings!$A:$E,5,FALSE),0)","v":0},{"$f":"IF(COUNTIF(Rankings!$A:$A,Setup!$B$13&\"-\"&$G59)>0,VLOOKUP(Setup!$B$13&\"-\"&$G59,Rankings!$A:$E,4,FALSE),0)","v":0},null,{"$f":"IF($L59=\"\",\"\",VLOOKUP(Setup!$B$13&\"-\"&$L59,Rankings!$A:$E,2,FALSE))","v":""},{"$f":"IF($L59=\"\",\"\",VLOOKUP(Setup!$B$13&\"-\"&$L59,Rankings!$A:$E,3,FALSE))","v":""},{"$f":"IF(COUNTIF(Rankings!$A:$A,Setup!$B$13&\"-\"&$L59)>0,VLOOKUP(Setup!$B$13&\"-\"&$L59,Rankings!$A:$E,5,FALSE),0)","v":0},{"$f":"IF(COUNTIF(Rankings!$A:$A,Setup!$B$13&\"-\"&$L59)>0,VLOOKUP(Setup!$B$13&\"-\"&$L59,Rankings!$A:$E,4,FALSE),0)","v":0},{"$f":"B59+W59","v":8.5377606832873661E-3},{"$f":"IF(J59>0,(B59+P59/1000+W59/1000),(B59+K59/1000+W59/1000))","v":8.5377606832873657E-6},{"$f":"C59+W59","v":8.5377606832873661E-3},{"$f":"C59+W59","v":8.5377606832873661E-3},{"$f":"W59","v":8.5377606832873661E-3},{"$f":"IF(G59=\"\",0,VLOOKUP(D59,D59:U59,13+D59,FALSE))","v":0},8.5377606832873661E-3]
[58,{"$f":"J60+O60","v":0},{"$f":"K60+P60","v":0},{"$f":"IF(E60=2,1,IF(E60=1,2,IF(F60=2,3,IF(F60=1,4,5))))","v":5},{"$f":"COUNTIF(J60,\">0\")+COUNTIF(O60,\">0\")","v":0},{"$f":"COUNTIF(K60,\">0\")+COUNTIF(P60,\">0\")","v":0},null,{"$f":"IF($G60=\"\",\"\",VLOOKUP(Setup!$B$13&\"-\"&$G60,Rankings!$A:$E,2,FALSE))","v":""},{"$f":"IF($G60=\"\",\"\",VLOOKUP(Setup!$B$13&\"-\"&$G60,Rankings!$A:$E,3,FALSE))","v":""},{"$f":"IF(COUNTIF(Rankings!$A:$A,Setup!$B$13&\"-\"&$G60)>0,VLOOKUP(Setup!$B$13&\"-\"&$G60,Rankings!$A:$E,5,FALSE),0)","v":0},{"$f":"IF(COUNTIF(Rankings!$A:$A,Setup!$B$13&\"-\"&$G60)>0,VLOOKUP(Setup!$B$13&\"-\"&$G60,Rankings!$A:$E,4,FALSE),0)","v":0},null,{"$f":"IF($L60=\"\",\"\",VLOOKUP(Setup!$B$13&\"-\"&$L60,Rankings!$A:$E,2,FALSE))","v":""},{"$f":"IF($L60=\"\",\"\",VLOOKUP(Setup!$B$13&\"-\"&$L60,Rankings!$A:$E,3,FALSE))","v":""},{"$f":"IF(COUNTIF(Rankings!$A:$A,Setup!$B$13&\"-\"&$L60)>0,VLOOKUP(Setup!$B$13&\"-\"&$L60,Rankings!$A:$E,5,FALSE),0)","v":0},{"$f":"IF(COUNTIF(Rankings!$A:$A,Setup!$B$13&\"-\"&$L60)>0,VLOOKUP(Setup!$B$13&\"-\"&$L60,Rankings!$A:$E,4,FALSE),0)","v":0},{"$f":"B60+W60","v":7.2694471692256587E-3},{"$f":"IF(J60>0,(B60+P60/1000+W60/1000),(B60+K60/1000+W60/1000))","v":7.2694471692256586E-6},{"$f":"C60+W60","v":7.2694471692256587E-3},{"$f":"C60+W60","v":7.2694471692256587E-3},{"$f":"W60","v":7.2694471692256587E-3},{"$f":"IF(G60=\"\",0,VLOOKUP(D60,D60:U60,13+D60,FALSE))","v":0},7.2694471692256587E-3]
[59,{"$f":"J61+O61","v":0},{"$f":"K61+P61","v":0},{"$f":"IF(E61=2,1,IF(E61=1,2,IF(F61=2,3,IF(F61=1,4,5))))","v":5},{"$f":"COUNTIF(J61,\">0\")+COUNTIF(O61,\">0\")","v":0},{"$f":"COUNTIF(K61,\">0\")+COUNTIF(P61,\">0\")","v":0},null,{"$f":"IF($G61=\"\",\"\",VLOOKUP(Setup!$B$13&\"-\"&$G61,Rankings!$A:$E,2,FALSE))","v":""},{"$f":"IF($G61=\"\",\"\",VLOOKUP(Setup!$B$13&\"-\"&$G61,Rankings!$A:$E,3,FALSE))","v":""},{"$f":"IF(COUNTIF(Rankings!$A:$A,Setup!$B$13&\"-\"&$G61)>0,VLOOKUP(Setup!$B$13&\"-\"&$G61,Rankings!$A:$E,5,FALSE),0)","v":0},{"$f":"IF(COUNTIF(Rankings!$A:$A,Setup!$B$13&\"-\"&$G61)>0,VLOOKUP(Setup!$B$13&\"-\"&$G61,Rankings!$A:$E,4,FALSE),0)","v":0},null,{"$f":"IF($L61=\"\",\"\",VLOOKUP(Setup!$B$13&\"-\"&$L61,Rankings!$A:$E,2,FALSE))","v":""},{"$f":"IF($L61=\"\",\"\",VLOOKUP(Setup!$B$13&\"-\"&$L61,Rankings!$A:$E,3,FALSE))","v":""},{"$f":"IF(COUNTIF(Rankings!$A:$A,Setup!$B$13&\"-\"&$L61)>0,VLOOKUP(Setup!$B$13&\"-\"&$L61,Rankings!$A:$E,5,FALSE),0)","v":0},{"$f":"IF(COUNTIF(Rankings!$A:$A,Setup!$B$13&\"-\"&$L61)>0,VLOOKUP(Setup!$B$13&\"-\"&$L61,Rankings!$A:$E,4,FALSE),0)","v":0},{"$f":"B61+W61","v":6.8680513858873082E-3},{"$f":"IF(J61>0,(B61+P61/1000+W61/1000),(B61+K61/1000+W61/1000))","v":6.8680513858873082E-6},{"$f":"C61+W61","v":6.8680513858873082E-3},{"$f":"C61+W61","v":6.8680513858873082E-3},{"$f":"W61","v":6.8680513858873082E-3},{"$f":"IF(G61=\"\",0,VLOOKUP(D61,D61:U61,13+D61,FALSE))","v":0},6.8680513858873082E-3]
[60,{"$f":"J62+O62","v":0},{"$f":"K62+P62","v":0},{"$f":"IF(E62=2,1,IF(E62=1,2,IF(F62=2,3,IF(F62=1,4,5))))","v":5},{"$f":"COUNTIF(J62,\">0\")+COUNTIF(O62,\">0\")","v":0},{"$f":"COUNTIF(K62,\">0\")+COUNTIF(P62,\">0\")","v":0},null,{"$f":"IF($G62=\"\",\"\",VLOOKUP(Setup!$B$13&\"-\"&$G62,Rankings!$A:$E,2,FALSE))","v":""},{"$f":"IF($G62=\"\",\"\",VLOOKUP(Setup!$B$13&\"-\"&$G62,Rankings!$A:$E,3,FALSE))","v":""},{"$f":"IF(COUNTIF(Rankings!$A:$A,Setup!$B$13&\"-\"&$G62)>0,VLOOKUP(Setup!$B$13&\"-\"&$G62,Rankings!$A:$E,5,FALSE),0)","v":0},{"$f":"IF(COUNTIF(Rankings!$A:$A,Setup!$B$13&\"-\"&$G62)>0,VLOOKUP(Setup!$B$13&\"-\"&$G62,Rankings!$A:$E,4,FALSE),0)","v":0},null,{"$f":"IF($L62=\"\",\"\",VLOOKUP(Setup!$B$13&\"-\"&$L62,Rankings!$A:$E,2,FALSE))","v":""},{"$f":"IF($L62=\"\",\"\",VLOOKUP(Setup!$B$13&\"-\"&$L62,Rankings!$A:$E,3,FALSE))","v":""},{"$f":"IF(COUNTIF(Rankings!$A:$A,Setup!$B$13&\"-\"&$L62)>0,VLOOKUP(Setup!$B$13&\"-\"&$L62,Rankings!$A:$E,5,FALSE),0)","v":0},{"$f":"IF(COUNTIF(Rankings!$A:$A,Setup!$B$13&\"-\"&$L62)>0,VLOOKUP(Setup!$B$13&\"-\"&$L62,Rankings!$A:$E,4,FALSE),0)","v":0},{"$f":"B62+W62","v":6.0902378980023575E-3},{"$f":"IF(J62>0,(B62+P62/1000+W62/1000),(B62+K62/1000+W62/1000))","v":6.0902378980023571E-6},{"$f":"C62+W62","v":6.0902378980023575E-3},{"$f":"C62+W62","v":6.0902378980023575E-3},{"$f":"W62","v":6.0902378980023575E-3},{"$f":"IF(G62=\"\",0,VLOOKUP(D62,D62:U62,13+D62,FALSE))","v":0},6.0902378980023575E-3]
[61,{"$f":"J63+O63","v":0},{"$f":"K63+P63","v":0},{"$f":"IF(E63=2,1,IF(E63=1,2,IF(F63=2,3,IF(F63=1,4,5))))","v":5},{"$f":"COUNTIF(J63,\">0\")+COUNTIF(O63,\">0\")","v":0},{"$f":"COUNTIF(K63,\">0\")+COUNTIF(P63,\">0\")","v":0},null,{"$f":"IF($G63=\"\",\"\",VLOOKUP(Setup!$B$13&\"-\"&$G63,Rankings!$A:$E,2,FALSE))","v":""},{"$f":"IF($G63=\"\",\"\",VLOOKUP(Setup!$B$13&\"-\"&$G63,Rankings!$A:$E,3,FALSE))","v":""},{"$f":"IF(COUNTIF(Rankings!$A:$A,Setup!$B$13&\"-\"&$G63)>0,VLOOKUP(Setup!$B$13&\"-\"&$G63,Rankings!$A:$E,5,FALSE),0)","v":0},{"$f":"IF(COUNTIF(Rankings!$A:$A,Setup!$B$13&\"-\"&$G63)>0,VLOOKUP(Setup!$B$13&\"-\"&$G63,Rankings!$A:$E,4,FALSE),0)","v":0},null,{"$f":"IF($L63=\"\",\"\",VLOOKUP(Setup!$B$13&\"-\"&$L63,Rankings!$A:$E,2,FALSE))","v":""},{"$f":"IF($L63=\"\",\"\",VLOOKUP(Setup!$B$13&\"-\"&$L63,Rankings!$A:$E,3,FALSE))","v":""},{"$f":"IF(COUNTIF(Rankings!$A:$A,Setup!$B$13&\"-\"&$L63)>0,VLOOKUP(Setup!$B$13&\"-\"&$L63,Rankings!$A:$E,5,FALSE),0)","v":0},{"$f":"IF(COUNTIF(Rankings!$A:$A,Setup!$B$13&\"-\"&$L63)>0,VLOOKUP(Setup!$B$13&\"-\"&$L63,Rankings!$A:$E,4,FALSE),0)","v":0},{"$f":"B63+W63","v":5.6456619147566426E-3},{"$f":"IF(J63>0,(B63+P63/1000+W63/1000),(B63+K63/1000+W63/1000))","v":5.6456619147566424E-6},{"$f":"C63+W63","v":5.6456619147566426E-3},{"$f":"C63+W63","v":5.6456619147566426E-3},{"$f":"W63","v":5.6456619147566426E-3},{"$f":"IF(G63=\"\",0,VLOOKUP(D63,D63:U63,13+D63,FALSE))","v":0},5.6456619147566426E-3]
[62,{"$f":"J64+O64","v":0},{"$f":"K64+P64","v":0},{"$f":"IF(E64=2,1,IF(E64=1,2,IF(F64=2,3,IF(F64=1,4,5))))","v":5},{"$f":"COUNTIF(J64,\">0\")+COUNTIF(O64,\">0\")","v":0},{"$f":"COUNTIF(K64,\">0\")+COUNTIF(P64,\">0\")","v":0},null,{"$f":"IF($G64=\"\",\"\",VLOOKUP(Setup!$B$13&\"-\"&$G64,Rankings!$A:$E,2,FALSE))","v":""},{"$f":"IF($G64=\"\",\"\",VLOOKUP(Setup!$B$13&\"-\"&$G64,Rankings!$A:$E,3,FALSE))","v":""},{"$f":"IF(COUNTIF(Rankings!$A:$A,Setup!$B$13&\"-\"&$G64)>0,VLOOKUP(Setup!$B$13&\"-\"&$G64,Rankings!$A:$E,5,FALSE),0)","v":0},{"$f":"IF(COUNTIF(Rankings!$A:$A,Setup!$B$13&\"-\"&$G64)>0,VLOOKUP(Setup!$B$13&\"-\"&$G64,Rankings!$A:$E,4,FALSE),0)","v":0},null,{"$f":"IF($L64=\"\",\"\",VLOOKUP(Setup!$B$13&\"-\"&$L64,Rankings!$A:$E,2,FALSE))","v":""},{"$f":"IF($L64=\"\",\"\",VLOOKUP(Setup!$B$13&\"-\"&$L64,Rankings!$A:$E,3,FALSE))","v":""},{"$f":"IF(COUNTIF(Rankings!$A:$A,Setup!$B$13&\"-\"&$L64)>0,VLOOKUP(Setup!$B$13&\"-\"&$L64,Rankings!$A:$E,5,FALSE),0)","v":0},{"$f":"IF(COUNTIF(Rankings!$A:$A,Setup!$B$13&\"-\"&$L64)>0,VLOOKUP(Setup!$B$13&\"-\"&$L64,Rankings!$A:$E,4,FALSE),0)","v":0},{"$f":"B64+W64","v":4.0208066913276297E-3},{"$f":"IF(J64>0,(B64+P64/1000+W64/1000),(B64+K64/1000+W64/1000))","v":4.0208066913276293E-6},{"$f":"C64+W64","v":4.0208066913276297E-3},{"$f":"C64+W64","v":4.0208066913276297E-3},{"$f":"W64","v":4.0208066913276297E-3},{"$f":"IF(G64=\"\",0,VLOOKUP(D64,D64:U64,13+D64,FALSE))","v":0},4.0208066913276297E-3]
[63,{"$f":"J65+O65","v":0},{"$f":"K65+P65","v":0},{"$f":"IF(E65=2,1,IF(E65=1,2,IF(F65=2,3,IF(F65=1,4,5))))","v":5},{"$f":"COUNTIF(J65,\">0\")+COUNTIF(O65,\">0\")","v":0},{"$f":"COUNTIF(K65,\">0\")+COUNTIF(P65,\">0\")","v":0},null,{"$f":"IF($G65=\"\",\"\",VLOOKUP(Setup!$B$13&\"-\"&$G65,Rankings!$A:$E,2,FALSE))","v":""},{"$f":"IF($G65=\"\",\"\",VLOOKUP(Setup!$B$13&\"-\"&$G65,Rankings!$A:$E,3,FALSE))","v":""},{"$f":"IF(COUNTIF(Rankings!$A:$A,Setup!$B$13&\"-\"&$G65)>0,VLOOKUP(Setup!$B$13&\"-\"&$G65,Rankings!$A:$E,5,FALSE),0)","v":0},{"$f":"IF(COUNTIF(Rankings!$A:$A,Setup!$B$13&\"-\"&$G65)>0,VLOOKUP(Setup!$B$13&\"-\"&$G65,Rankings!$A:$E,4,FALSE),0)","v":0},null,{"$f":"IF($L65=\"\",\"\",VLOOKUP(Setup!$B$13&\"-\"&$L65,Rankings!$A:$E,2,FALSE))","v":""},{"$f":"IF($L65=\"\",\"\",VLOOKUP(Setup!$B$13&\"-\"&$L65,Rankings!$A:$E,3,FALSE))","v":""},{"$f":"IF(COUNTIF(Rankings!$A:$A,Setup!$B$13&\"-\"&$L65)>0,VLOOKUP(Setup!$B$13&\"-\"&$L65,Rankings!$A:$E,5,FALSE),0)","v":0},{"$f":"IF(COUNTIF(Rankings!$A:$A,Setup!$B$13&\"-\"&$L65)>0,VLOOKUP(Setup!$B$13&\"-\"&$L65,Rankings!$A:$E,4,FALSE),0)","v":0},{"$f":"B65+W65","v":3.0788668425629977E-3},{"$f":"IF(J65>0,(B65+P65/1000+W65/1000),(B65+K65/1000+W65/1000))","v":3.0788668425629975E-6},{"$f":"C65+W65","v":3.0788668425629977E-3},{"$f":"C65+W65","v":3.0788668425629977E-3},{"$f":"W65","v":3.0788668425629977E-3},{"$f":"IF(G65=\"\",0,VLOOKUP(D65,D65:U65,13+D65,FALSE))","v":0},3.0788668425629977E-3]
[64,{"$f":"J66+O66","v":0},{"$f":"K66+P66","v":0},{"$f":"IF(E66=2,1,IF(E66=1,2,IF(F66=2,3,IF(F66=1,4,5))))","v":5},{"$f":"COUNTIF(J66,\">0\")+COUNTIF(O66,\">0\")","v":0},{"$f":"COUNTIF(K66,\">0\")+COUNTIF(P66,\">0\")","v":0},null,{"$f":"IF($G66=\"\",\"\",VLOOKUP(Setup!$B$13&\"-\"&$G66,Rankings!$A:$E,2,FALSE))","v":""},{"$f":"IF($G66=\"\",\"\",VLOOKUP(Setup!$B$13&\"-\"&$G66,Rankings!$A:$E,3,FALSE))","v":""},{"$f":"IF(COUNTIF(Rankings!$A:$A,Setup!$B$13&\"-\"&$G66)>0,VLOOKUP(Setup!$B$13&\"-\"&$G66,Rankings!$A:$E,5,FALSE),0)","v":0},{"$f":"IF(COUNTIF(Rankings!$A:$A,Setup!$B$13&\"-\"&$G66)>0,VLOOKUP(Setup!$B$13&\"-\"&$G66,Rankings!$A:$E,4,FALSE),0)","v":0},null,{"$f":"IF($L66=\"\",\"\",VLOOKUP(Setup!$B$13&\"-\"&$L66,Rankings!$A:$E,2,FALSE))","v":""},{"$f":"IF($L66=\"\",\"\",VLOOKUP(Setup!$B$13&\"-\"&$L66,Rankings!$A:$E,3,FALSE))","v":""},{"$f":"IF(COUNTIF(Rankings!$A:$A,Setup!$B$13&\"-\"&$L66)>0,VLOOKUP(Setup!$B$13&\"-\"&$L66,Rankings!$A:$E,5,FALSE),0)","v":0},{"$f":"IF(COUNTIF(Rankings!$A:$A,Setup!$B$13&\"-\"&$L66)>0,VLOOKUP(Setup!$B$13&\"-\"&$L66,Rankings!$A:$E,4,FALSE),0)","v":0},{"$f":"B66+W66","v":2.7329157024081189E-3},{"$f":"IF(J66>0,(B66+P66/1000+W66/1000),(B66+K66/1000+W66/1000))","v":2.7329157024081188E-6},{"$f":"C66+W66","v":2.7329157024081189E-3},{"$f":"C66+W66","v":2.7329157024081189E-3},{"$f":"W66","v":2.7329157024081189E-3},{"$f":"IF(G66=\"\",0,VLOOKUP(D66,D66:U66,13+D66,FALSE))","v":0},2.7329157024081189E-3]

{"sheet":"MD","index":2,"n_rows":67,"n_cols":29,"rows_kept":67,"cut":false,"hidden":false,"merged":[[41,7,41,9],[34,0,35,0],[40,7,40,9],[4,0,5,0],[6,0,7,0],[8,0,9,0],[10,0,11,0],[12,0,13,0],[14,0,15,0],[16,0,17,0],[32,0,33,0],[30,0,31,0],[18,0,19,0],[20,0,21,0],[22,0,23,0],[24,0,25,0],[10,5,11,5],[12,5,13,5],[26,0,27,0],[28,0,29,0],[26,5,27,5],[20,5,21,5],[0,0,0,13],[22,5,23,5],[24,5,25,5],[42,7,42,9],[43,7,43,9],[28,5,29,5],[30,5,31,5],[32,5,33,5],[34,5,35,5],[14,5,15,5],[16,5,17,5],[18,5,19,5],[2,7,2,9],[4,5,5,5],[6,5,7,5],[8,5,9,5]]}
[{"$f":"Setup!B3 & \", \" & Setup!B4 & \", \" & Setup!B6 & \", \" & Setup!B8 & \"-\" & Setup!B9","v":"Υπ.Παιδείας, Σχολικό Πρωτάθλημα 2014, ΑΕΤ ΝΙΚΗ ΠΑΤΡΩΝ, 5-11 Μαίου"},null,null,null,null,null,null,null,null,null,null,null,null,null,null,{"$f":"Setup!$B$7","v":"Αγόρια Δ"}]
[null,{"$f":"Setup!$B$18","v":1},null,null,null,null,{"$f":"\"p\"&VLOOKUP(Setup!$B$5,tmp!$K$23:$P$34,2,FALSE)","v":{"$error":"#N/A"}},null,null,null,null,{"$f":"\"p\"&VLOOKUP(Setup!$B$5,tmp!$K$23:$P$34,3,FALSE)","v":{"$error":"#N/A"}},null,{"$f":"\"p\"&VLOOKUP(Setup!$B$5,tmp!$K$23:$P$34,4,FALSE)","v":{"$error":"#N/A"}},null,{"$f":"\"p\"&VLOOKUP(Setup!$B$5,tmp!$K$28:$P$34,5,FALSE)&\"-\"&VLOOKUP(Setup!$B$5,tmp!$K$28:$P$34,6,FALSE)","v":{"$error":"#N/A"}}]
[null,null,null,null,null,null,null,16,null,null,null,8,null,4,null,"2 & w"]
["α/α",null,"ByeOrder","ByeSum","ByeCnt","seed","  Α.Μ.  ","Ονοματεπώνυμο","επώνυμο","Σύλλογος",null,null,null,null,null,null,null,null,null,null,null,null,null,null,null," "]
[1,1,null,null,0,{"$f":"VLOOKUP($B5,Setup!$G$12:$H$27,2,FALSE)","v":1},{"$f":"IF(Setup!$B$25=\"#\",0,IF(F5>0,VLOOKUP(F5,DrawPrep!$A$3:$N$18,7,FALSE),0))","v":23775},{"$f":"IF(G5>0,VLOOKUP(G5,DrawPrep!$G$3:$N$18,2,FALSE),\"bye\")","v":"ΑΝΤΩΝΟΠΟΥΛΟΣ ΧΡΗΣΤΟΣ"},{"$f":"IF(NOT(G5>0),\"\", IF(ISERROR(FIND(\"-\",H5)), LEFT(H5,FIND(\" \",H5)-1),  IF(FIND(\"-\",H5)>FIND(\" \",H5),LEFT(H5,FIND(\" \",H5)-1),   LEFT(H5,FIND(\"-\",H5)-1)    )))","v":"ΑΝΤΩΝΟΠΟΥΛΟΣ"},{"$f":"IF($G5>0,VLOOKUP($G5,DrawPrep!$G$3:$L$18,3,FALSE),\"\")","v":"1ο ΓΕΛ ΝΙΚΑΙΑΣ"},null,{"$f":"UPPER(IF($A$2=\"R\",IF(OR(K6=1,K6=\"a\"),G5,IF(OR(K6=2,K6=\"b\"),G7,\"\")),IF(OR(K6=1,K6=\"1\"),I5,IF(OR(K6=2,K6=\"b\"),I7,\"\"))))","v":"ΑΝΤΩΝΟΠΟΥΛΟΣ"},null,null,null,null,null,null,null,null,null,null,null,{"$f":"G5","v":23775},{"$f":"H5","v":"ΑΝΤΩΝΟΠΟΥΛΟΣ ΧΡΗΣΤΟΣ"},null,{"$f":"L5","v":"ΑΝΤΩΝΟΠΟΥΛΟΣ"}]
[null,null,null,null,null,null,{"$f":"IF(Setup!$B$25=\"#\",0,IF(F5>0,VLOOKUP(F5,DrawPrep!$A$3:$N$18,12,FALSE),0))","v":23234},{"$f":"IF(G6>0,VLOOKUP(G6,DrawPrep!$L$3:$N$18,2,FALSE),\" \")","v":"ΚΑΖΑΝΤΖΗΣ ΜΙΧΑΗΛ-ΤΟΥΒ"},{"$f":"IF(NOT(G6>0),\"\", IF(ISERROR(FIND(\"-\",H6)), LEFT(H6,FIND(\" \",H6)-1),  IF(FIND(\"-\",H6)>FIND(\" \",H6),LEFT(H6,FIND(\" \",H6)-1),   LEFT(H6,FIND(\"-\",H6)-1)    )))","v":"ΚΑΖΑΝΤΖΗΣ"},{"$f":"IF($G6>0,VLOOKUP($G6,DrawPrep!$L$3:$N$18,3,FALSE),\"\")","v":"ΚΟΛΛΕΓΙΟ ΑΘΗΝΩΝ"},1,{"$f":"UPPER(IF($A$2=\"R\",IF(OR(K6=1,K6=\"a\"),G6,IF(OR(K6=2,K6=\"b\"),G8,\"\")),IF(OR(K6=1,K6=\"1\"),I6,IF(OR(K6=2,K6=\"b\"),I8,\"\"))))","v":"ΚΑΖΑΝΤΖΗΣ"},null,null,null,null,null,null,null,null,null,null,null,{"$f":"G6","v":23234},"ΚΑΖΑΝΤΖΗΣ ΜΙΧΑΗΛ-ΤΟΥΒ",null,{"$f":"L6","v":"ΚΑΖΑΝΤΖΗΣ"}]
[2,{"$f":"1-D7+4","v":4},1,{"$f":"E7","v":1},{"$f":"IF($B$2>=C7,1,0)","v":1},{"$f":"IF($B$2>=C7,\"-\",VLOOKUP($B7,Setup!$G$12:$H$27,2,FALSE))","v":"-"},{"$f":"IF(Setup!$B$25=\"#\",0,IF(NOT(F7=\"-\"),VLOOKUP(F7,DrawPrep!$A$3:$N$18,7,FALSE),0))","v":0},{"$f":"IF(G7>0,VLOOKUP(G7,DrawPrep!$G$3:$L$18,2,FALSE),\"bye\")","v":"bye"},"",{"$f":"IF($G7>0,VLOOKUP($G7,DrawPrep!$G$3:$L$18,3,FALSE),\"\")","v":""},null,null,null,{"$f":"UPPER(IF($A$2=\"R\",IF(OR(M8=1,M8=\"a\"),L5,IF(OR(M8=2,M7=\"b\"),L9,\"\")),IF(OR(M8=1,M8=\"a\"),L5,IF(OR(M8=2,M8=\"b\"),L9,\"\"))))","v":""},null,null,null,null,null,null,null,null,null,0,"bye",null,0,{"$f":"N7","v":""}]
[null,null,null,null,null,null,{"$f":"IF(Setup!$B$25=\"#\",0,IF(NOT(F7=\"-\"),VLOOKUP(F7,DrawPrep!$A$3:$N$18,12,FALSE),0))","v":0},{"$f":"IF(G8>0,VLOOKUP(G8,DrawPrep!$L$3:$N$18,2,FALSE),\" \")","v":" "},"",{"$f":"IF($G8>0,VLOOKUP($G8,DrawPrep!$L$3:$N$18,3,FALSE),\"\")","v":""},null,null,null,{"$f":"UPPER(IF($A$2=\"R\",IF(OR(M8=1,M8=\"a\"),L6,IF(OR(M8=2,M8=\"b\"),L10,\"\")),IF(OR(M8=1,M8=\"a\"),L6,IF(OR(M8=2,M8=\"b\"),L10,\"\"))))","v":""},null,null,null,null,null,null,null,null,null,0," ",null,null,{"$f":"N8","v":""}]
[3,{"$f":"2-D9+4","v":5},null,{"$f":"D7+E9","v":1},0,{"$f":"VLOOKUP($B9,Setup!$G$12:$H$27,2,FALSE)","v":11},{"$f":"IF(Setup!$B$25=\"#\",0,IF(F9>0,VLOOKUP(F9,DrawPrep!$A$3:$N$18,7,FALSE),0))","v":25503},{"$f":"IF(G9>0,VLOOKUP(G9,DrawPrep!$G$3:$L$18,2,FALSE),\"bye\")","v":"ΠΑΡΑΣΧΑΚΗΣ ΝΙΚΟΛΑΟΣ"},"ΠΑΡΑΣΧΑΚΗΣ",{"$f":"IF($G9>0,VLOOKUP($G9,DrawPrep!$G$3:$L$18,3,FALSE),\"\")","v":"1ο ΓΕΛ Ν.ΙΩΝΙΑΣ"},null,{"$f":"UPPER(IF($A$2=\"R\",IF(OR(K10=1,K10=\"a\"),G9,IF(OR(K10=2,K10=\"b\"),G11,\"\")),IF(OR(K10=1,K10=\"1\"),I9,IF(OR(K10=2,K10=\"b\"),I11,\"\"))))","v":""},null,null,null,null,null,null,null,null,null,null,null,25503,"ΠΑΡΑΣΧΑΚΗΣ ΝΙΚΟΛΑΟΣ",null,"",0]
[null,null,null,null,null,null,{"$f":"IF(Setup!$B$25=\"#\",0,IF(F9>0,VLOOKUP(F9,DrawPrep!$A$3:$N$18,12,FALSE),0))","v":23093},{"$f":"IF(G10>0,VLOOKUP(G10,DrawPrep!$L$3:$N$18,2,FALSE),\" \")","v":"ΚΑΛΔΕΡΩΝ ΖΑΚ"},"ΚΑΛΔΕΡΩΝ",{"$f":"IF($G10>0,VLOOKUP($G10,DrawPrep!$L$3:$N$18,3,FALSE),\"\")","v":"ΓΕΛ ΛΑΡΙΣΑΣ"},null,{"$f":"UPPER(IF($A$2=\"R\",IF(OR(K10=1,K10=\"a\"),G10,IF(OR(K10=2,K10=\"b\"),G12,\"\")),IF(OR(K10=1,K10=\"1\"),I10,IF(OR(K10=2,K10=\"b\"),I12,\"\"))))","v":""},null,null,null,null,null,null,null,null,null,null,null,23093,"ΚΑΛΔΕΡΩΝ ΖΑΚ",null,""]
[4,{"$f":"3-D11+4","v":6},7,{"$f":"D9+E11","v":1},{"$f":"IF($B$2>=C11,1,0)","v":0},{"$f":"IF($B$2>=C11,\"-\",VLOOKUP($B11,Setup!$G$12:$H$27,2,FALSE))","v":5},{"$f":"IF(Setup!$B$25=\"#\",0,IF(NOT(F11=\"-\"),VLOOKUP(F11,DrawPrep!$A$3:$N$18,7,FALSE),0))","v":23662},{"$f":"IF(G11>0,VLOOKUP(G11,DrawPrep!$G$3:$L$18,2,FALSE),\"bye\")","v":"ΤΑΣΟΥΛΗΣ ΒΑΣΙΛΕΙΟΣ"},"ΤΑΣΟΥΛΗΣ",{"$f":"IF($G11>0,VLOOKUP($G11,DrawPrep!$G$3:$L$18,3,FALSE),\"\")","v":"3ο ΓΕΛ ΗΛΙΟΥΠΟΛΗΣ"},null,null,null,null,null,{"$f":"UPPER(IF($A$2=\"R\",IF(OR(O12=1,O12=\"a\"),N7,IF(OR(O12=2,O12=\"b\"),N15,\"\")),IF(OR(O12=1,O12=\"a\"),N7,IF(OR(O12=2,O12=\"b\"),N15,\"\"))))","v":""},null,null,null,null,null,null,null,23662,"ΤΑΣΟΥΛΗΣ ΒΑΣΙΛΕΙΟΣ",null,0,null,{"$f":"P11","v":""}]
[null,null,null,null,null,null,{"$f":"IF(Setup!$B$25=\"#\",0,IF(NOT(F11=\"-\"),VLOOKUP(F11,DrawPrep!$A$3:$N$18,12,FALSE),0))","v":22965},{"$f":"IF(G12>0,VLOOKUP(G12,DrawPrep!$L$3:$N$18,2,FALSE),\" \")","v":"ΚΟΡΔΟΣ ΙΩΑΝΝΗΣ"},"ΚΟΡΔΟΣ",{"$f":"IF($G12>0,VLOOKUP($G12,DrawPrep!$L$3:$N$18,3,FALSE),\"\")","v":"ΙΔΙΩΤ.ΓΕΝ. ΛΥΚΕΙΟ ΠΡΟΤΥΠΟ ΑΘΗΝΩΝ"},null,null,null,null,null,{"$f":"UPPER(IF($A$2=\"R\",IF(OR(O12=1,O12=\"a\"),N8,IF(OR(O12=2,O12=\"b\"),N16,\"\")),IF(OR(O12=1,O12=\"a\"),N8,IF(OR(O12=2,O12=\"b\"),N16,\"\"))))","v":""},null,null,null,null,null,null,null,22965,"ΚΟΡΔΟΣ ΙΩΑΝΝΗΣ",null,null,null,{"$f":"P12","v":""}]
[5,{"$f":"4-D13+4","v":7},null,{"$f":"D11+E13","v":1},0,{"$f":"VLOOKUP($B13,Setup!$G$12:$H$27,2,FALSE)","v":8},{"$f":"IF(Setup!$B$25=\"#\",0,IF(F13>0,VLOOKUP(F13,DrawPrep!$A$3:$N$18,7,FALSE),0))","v":26603},{"$f":"IF(G13>0,VLOOKUP(G13,DrawPrep!$G$3:$L$18,2,FALSE),\"bye\")","v":"ΔΕΛΛΗΣ ΑΝΔΡΕΑΣ-ΑΛΕΞΑΝΔΡΟΣ"},"ΔΕΛΛΗΣ",{"$f":"IF($G13>0,VLOOKUP($G13,DrawPrep!$G$3:$L$18,3,FALSE),\"\")","v":"2ο ΓΕΛ ΑΡΓΟΥΣ"},null,{"$f":"UPPER(IF($A$2=\"R\",IF(OR(K14=1,K14=\"a\"),G13,IF(OR(K14=2,K14=\"b\"),G15,\"\")),IF(OR(K14=1,K14=\"1\"),I13,IF(OR(K14=2,K14=\"b\"),I15,\"\"))))","v":""},null,null,null,null,null,null,null,null,null,null,null,26603,"ΔΕΛΛΗΣ ΑΝΔΡΕΑΣ-ΑΛΕΞΑΝΔΡΟΣ",null,"",null,0]
[null,null,null,null,null,null,{"$f":"IF(Setup!$B$25=\"#\",0,IF(F13>0,VLOOKUP(F13,DrawPrep!$A$3:$N$18,12,FALSE),0))","v":26604},{"$f":"IF(G14>0,VLOOKUP(G14,DrawPrep!$L$3:$N$18,2,FALSE),\" \")","v":"ΔΕΛΛΗΣ ΧΡΙΣΤΟΣ-ΕΡΡΙΚΟΣ"},"ΔΕΛΛΗΣ",{"$f":"IF($G14>0,VLOOKUP($G14,DrawPrep!$L$3:$N$18,3,FALSE),\"\")","v":"2ο ΓΕΛ ΑΡΓΟΥΣ"},null,{"$f":"UPPER(IF($A$2=\"R\",IF(OR(K14=1,K14=\"a\"),G14,IF(OR(K14=2,K14=\"b\"),G16,\"\")),IF(OR(K14=1,K14=\"1\"),I14,IF(OR(K14=2,K14=\"b\"),I16,\"\"))))","v":""},null,null,null,null,null,null,null,null,null,null,null,26604,"ΔΕΛΛΗΣ ΧΡΙΣΤΟΣ-ΕΡΡΙΚΟΣ",null,""]
[6,{"$f":"5-D15+4","v":8},5,{"$f":"D13+E15","v":1},{"$f":"IF($B$2>=C15,1,0)","v":0},{"$f":"IF($B$2>=C15,\"-\",VLOOKUP($B15,Setup!$G$12:$H$27,2,FALSE))","v":14},{"$f":"IF(Setup!$B$25=\"#\",0,IF(NOT(F15=\"-\"),VLOOKUP(F15,DrawPrep!$A$3:$N$18,7,FALSE),0))","v":25238},{"$f":"IF(G15>0,VLOOKUP(G15,DrawPrep!$G$3:$L$18,2,FALSE),\"bye\")","v":"ΤΖΕΛΑΤΗΣ ΣΤΕΦΑΝΟΣ"},"ΤΖΕΛΑΤΗΣ",{"$f":"IF($G15>0,VLOOKUP($G15,DrawPrep!$G$3:$L$18,3,FALSE),\"\")","v":"1ο ΓΕΛ ΡΑΦΗΝΑΣ"},null,null,null,{"$f":"UPPER(IF($A$2=\"R\",IF(OR(M16=1,M16=\"a\"),L13,IF(OR(M16=2,M15=\"b\"),L17,\"\")),IF(OR(M16=1,M16=\"a\"),L13,IF(OR(M16=2,M16=\"b\"),L17,\"\"))))","v":""},null,null,null,null,null,null,null,null,null,25238,"ΤΖΕΛΑΤΗΣ ΣΤΕΦΑΝΟΣ",null,0,""]
[null,null,null,null,null,null,{"$f":"IF(Setup!$B$25=\"#\",0,IF(NOT(F15=\"-\"),VLOOKUP(F15,DrawPrep!$A$3:$N$18,12,FALSE),0))","v":25273},{"$f":"IF(G16>0,VLOOKUP(G16,DrawPrep!$L$3:$N$18,2,FALSE),\" \")","v":"ΤΣΟΝΑΚΗΣ ΚΩΝΣΤΑΝΤΙΝΟΣ"},"ΤΣΟΝΑΚΗΣ",{"$f":"IF($G16>0,VLOOKUP($G16,DrawPrep!$L$3:$N$18,3,FALSE),\"\")","v":"1ο ΓΕΛ ΠΑΠΑΓΟΥ"},null,null,null,{"$f":"UPPER(IF($A$2=\"R\",IF(OR(M16=1,M16=\"a\"),L14,IF(OR(M16=2,M16=\"b\"),L18,\"\")),IF(OR(M16=1,M16=\"a\"),L14,IF(OR(M16=2,M16=\"b\"),L18,\"\"))))","v":""},null,null,null,null,null,null,null,null,null,25273,"ΤΣΟΝΑΚΗΣ ΚΩΝΣΤΑΝΤΙΝΟΣ",null,null,""]
[7,{"$f":"6-D17+4","v":9},{"$f":"VALUE(Setup!E2)","v":3},{"$f":"D15+E17","v":1},{"$f":"IF($B$2>=C17,1,0)","v":0},{"$f":"IF($B$2>=C17,\"-\",VLOOKUP($B17,Setup!$G$12:$H$27,2,FALSE))","v":10},{"$f":"IF(Setup!$B$25=\"#\",0,IF(NOT(F17=\"-\"),VLOOKUP(F17,DrawPrep!$A$3:$N$18,7,FALSE),0))","v":25351},{"$f":"IF(G17>0,VLOOKUP(G17,DrawPrep!$G$3:$L$18,2,FALSE),\"bye\")","v":"ΔΙΑΜΑΝΤΟΠΟΥΛΟΣ ΓΕΩΡΓΙΟΣ"},"ΔΙΑΜΑΝΤΟΠΟΥΛΟΣ",{"$f":"IF($G17>0,VLOOKUP($G17,DrawPrep!$G$3:$L$18,3,FALSE),\"\")","v":"ΚΟΛΛΕΓΙΟ ΨΥΧΙΚΟΥ"},null,{"$f":"UPPER(IF($A$2=\"R\",IF(OR(K18=1,K18=\"a\"),G17,IF(OR(K18=2,K18=\"b\"),G19,\"\")),IF(OR(K18=1,K18=\"1\"),I17,IF(OR(K18=2,K18=\"b\"),I19,\"\"))))","v":""},null,null,null,null,null,null,null,null,null,null,null,25351,"ΔΙΑΜΑΝΤΟΠΟΥΛΟΣ ΓΕΩΡΓΙΟΣ",null,"",0]
[null,null,null,null,null,null,{"$f":"IF(Setup!$B$25=\"#\",0,IF(NOT(F17=\"-\"),VLOOKUP(F17,DrawPrep!$A$3:$N$18,12,FALSE),0))","v":26210},{"$f":"IF(G18>0,VLOOKUP(G18,DrawPrep!$L$3:$N$18,2,FALSE),\" \")","v":"ΚΟΝΤΩΣΗΣ ΓΕΩΡΓΙΟΣ"},"ΚΟΝΤΩΣΗΣ",{"$f":"IF($G18>0,VLOOKUP($G18,DrawPrep!$L$3:$N$18,3,FALSE),\"\")","v":"ΛΕΟΝΤΕΙΟ ΛΥΚΕΙΟ ΠΑΤΗΣΙΩΝ"},null,{"$f":"UPPER(IF($A$2=\"R\",IF(OR(K18=1,K18=\"a\"),G18,IF(OR(K18=2,K18=\"b\"),G20,\"\")),IF(OR(K18=1,K18=\"1\"),I18,IF(OR(K18=2,K18=\"b\"),I20,\"\"))))","v":""},null,null,null,"winners",null,null,null,null,null,null,null,26210,"ΚΟΝΤΩΣΗΣ ΓΕΩΡΓΙΟΣ",null,""]
[8,{"$f":"VALUE(Setup!E2)","v":3},null,{"$f":"D17+E19","v":1},0,{"$f":"VLOOKUP($B19,Setup!$G$12:$H$27,2,FALSE)","v":3},{"$f":"IF(Setup!$B$25=\"#\",0,IF(F19>0,VLOOKUP(F19,DrawPrep!$A$3:$N$18,7,FALSE),0))","v":23661},{"$f":"IF(G19>0,VLOOKUP(G19,DrawPrep!$G$3:$L$18,2,FALSE),\"bye\")","v":"ΦΩΤΕΙΝΟΠΟΥΛΟΣ ΚΩΝΣΤΑΝΤΙΝΟΣ"},"ΦΩΤΕΙΝΟΠΟΥΛΟΣ",{"$f":"IF($G19>0,VLOOKUP($G19,DrawPrep!$G$3:$L$18,3,FALSE),\"\")","v":"ΙΔ.ΕΝ.ΛΥΚΕΙΟ ΘΕΟΜΗΤΩΡ"},null,null,null,null,null,{"$f":"UPPER(IF($A$2=\"R\",IF(OR(O20=1,O20=\"a\"),P11,IF(OR(O20=2,O20=\"b\"),P27,\"\")),IF(OR(O20=1,O20=\"a\"),P11,IF(OR(O20=2,O20=\"b\"),P27,\"\"))))","v":""},null,null,null,null,null,null,null,23661,"ΦΩΤΕΙΝΟΠΟΥΛΟΣ ΚΩΝΣΤΑΝΤΙΝΟΣ",null,0,null,""]
[null,null,null,null,null,null,{"$f":"IF(Setup!$B$25=\"#\",0,IF(F19>0,VLOOKUP(F19,DrawPrep!$A$3:$N$18,12,FALSE),0))","v":23192},{"$f":"IF(G20>0,VLOOKUP(G20,DrawPrep!$L$3:$N$18,2,FALSE),\" \")","v":"ΚΟΥΤΣΑΦΤΗΣ ΑΠΟΣΤΟΛΟΣ"},"ΚΟΥΤΣΑΦΤΗΣ",{"$f":"IF($G20>0,VLOOKUP($G20,DrawPrep!$L$3:$N$18,3,FALSE),\"\")","v":"2ο ΓΕΛ ΒΡΙΛΗΣΣΙΩΝ"},null,null,null,null,null,{"$f":"UPPER(IF($A$2=\"R\",IF(OR(O20=1,O20=\"a\"),P12,IF(OR(O20=2,O20=\"b\"),P28,\"\")),IF(OR(O20=1,O20=\"a\"),P12,IF(OR(O20=2,O20=\"b\"),P28,\"\"))))","v":""},null,null,null,null,null,null,null,23192,"ΚΟΥΤΣΑΦΤΗΣ ΑΠΟΣΤΟΛΟΣ",null,null,null,""]
[9,{"$f":"VALUE(Setup!E3)","v":4},null,{"$f":"D19+E21","v":1},0,{"$f":"VLOOKUP($B21,Setup!$G$12:$H$27,2,FALSE)","v":4},{"$f":"IF(Setup!$B$25=\"#\",0,IF(F21>0,VLOOKUP(F21,DrawPrep!$A$3:$N$18,7,FALSE),0))","v":29120},{"$f":"IF(G21>0,VLOOKUP(G21,DrawPrep!$G$3:$L$18,2,FALSE),\"bye\")","v":"ΜΑΝΤΟΠΟΥΛΟΣ ΑΝΔΡΕΑΣ"},"ΜΑΝΤΟΠΟΥΛΟΣ",{"$f":"IF($G21>0,VLOOKUP($G21,DrawPrep!$G$3:$L$18,3,FALSE),\"\")","v":"ΙΔ.ΓΕΛ ΕΛΛΗΝΙΚΟ ΚΟΛΛΕΓΙΟ"},null,{"$f":"UPPER(IF($A$2=\"R\",IF(OR(K22=1,K22=\"a\"),G21,IF(OR(K22=2,K22=\"b\"),G23,\"\")),IF(OR(K22=1,K22=\"1\"),I21,IF(OR(K22=2,K22=\"b\"),I23,\"\"))))","v":""},null,null,null,null,null,null,null,null,null,null,null,29120,"ΜΑΝΤΟΠΟΥΛΟΣ ΑΝΔΡΕΑΣ",null,"",null,0]
[null,null,null,null,null,null,{"$f":"IF(Setup!$B$25=\"#\",0,IF(F21>0,VLOOKUP(F21,DrawPrep!$A$3:$N$18,12,FALSE),0))","v":25875},{"$f":"IF(G22>0,VLOOKUP(G22,DrawPrep!$L$3:$N$18,2,FALSE),\" \")","v":"ΛΑΖΑΡΙΔΗΣ ΚΩΝΣΤΑΝΤΙΝΟΣ"},"ΛΑΖΑΡΙΔΗΣ",{"$f":"IF($G22>0,VLOOKUP($G22,DrawPrep!$L$3:$N$18,3,FALSE),\"\")","v":"ΙΔ.ΓΕΛ ΕΛΛΗΝΙΚΟ ΚΟΛΛΕΓΙΟ"},null,{"$f":"UPPER(IF($A$2=\"R\",IF(OR(K22=1,K22=\"a\"),G22,IF(OR(K22=2,K22=\"b\"),G24,\"\")),IF(OR(K22=1,K22=\"1\"),I22,IF(OR(K22=2,K22=\"b\"),I24,\"\"))))","v":""},null,null,null,null,null,null,null,null,null,null,null,25875,"ΛΑΖΑΡΙΔΗΣ ΚΩΝΣΤΑΝΤΙΝΟΣ",null,""]
[10,{"$f":"7-D23+4","v":10},{"$f":"VALUE(Setup!E3)","v":4},{"$f":"D21+E23","v":1},{"$f":"IF($B$2>=C23,1,0)","v":0},{"$f":"IF($B$2>=C23,\"-\",VLOOKUP($B23,Setup!$G$12:$H$27,2,FALSE))","v":15},{"$f":"IF(Setup!$B$25=\"#\",0,IF(NOT(F23=\"-\"),VLOOKUP(F23,DrawPrep!$A$3:$N$18,7,FALSE),0))","v":25243},{"$f":"IF(G23>0,VLOOKUP(G23,DrawPrep!$G$3:$L$18,2,FALSE),\"bye\")","v":"ΜΑΡΟΥΛΗΣ ΧΑΡΑΛΑΜΠΟΣ"},"ΜΑΡΟΥΛΗΣ",{"$f":"IF($G23>0,VLOOKUP($G23,DrawPrep!$G$3:$L$18,3,FALSE),\"\")","v":"ΑΡΣΑΚΕΙΟ ΠΑΤΡΩΝ"},null,null,null,{"$f":"UPPER(IF($A$2=\"R\",IF(OR(M24=1,M24=\"a\"),L21,IF(OR(M24=2,M23=\"b\"),L25,\"\")),IF(OR(M24=1,M24=\"a\"),L21,IF(OR(M24=2,M24=\"b\"),L25,\"\"))))","v":""},null,null,null,null,null,null,null,null,null,25243,"ΜΑΡΟΥΛΗΣ ΧΑΡΑΛΑΜΠΟΣ",null,0,""]
[null,null,null,null,null,null,{"$f":"IF(Setup!$B$25=\"#\",0,IF(NOT(F23=\"-\"),VLOOKUP(F23,DrawPrep!$A$3:$N$18,12,FALSE),0))","v":32290},{"$f":"IF(G24>0,VLOOKUP(G24,DrawPrep!$L$3:$N$18,2,FALSE),\" \")","v":"ΛΑYΡΑΝΟΣ ΓΡΗΓΟΡΗΣ"},"ΛΑYΡΑΝΟΣ",{"$f":"IF($G24>0,VLOOKUP($G24,DrawPrep!$L$3:$N$18,3,FALSE),\"\")","v":"ΓΕΛ ΡΙΟΥ"},null,null,null,{"$f":"UPPER(IF($A$2=\"R\",IF(OR(M24=1,M24=\"a\"),L22,IF(OR(M24=2,M24=\"b\"),L26,\"\")),IF(OR(M24=1,M24=\"a\"),L22,IF(OR(M24=2,M24=\"b\"),L26,\"\"))))","v":""},null,null,null,null,null,null,null,null,null,32290,"ΛΑYΡΑΝΟΣ ΓΡΗΓΟΡΗΣ",null,null,""]
[11,{"$f":"8-D25+4","v":11},null,{"$f":"D23+E25","v":1},0,{"$f":"VLOOKUP($B25,Setup!$G$12:$H$27,2,FALSE)","v":12},{"$f":"IF(Setup!$B$25=\"#\",0,IF(F25>0,VLOOKUP(F25,DrawPrep!$A$3:$N$18,7,FALSE),0))","v":24053},{"$f":"IF(G25>0,VLOOKUP(G25,DrawPrep!$G$3:$L$18,2,FALSE),\"bye\")","v":"ΙΩΑΝΝΙΔΗΣ ΙΩΑΝΝΗΣ"},"ΙΩΑΝΝΙΔΗΣ",{"$f":"IF($G25>0,VLOOKUP($G25,DrawPrep!$G$3:$L$18,3,FALSE),\"\")","v":"3ο ΓΕΛ ΑΓ. ΠΑΡΑΣΚΕΥΗΣ"},null,{"$f":"UPPER(IF($A$2=\"R\",IF(OR(K26=1,K26=\"a\"),G25,IF(OR(K26=2,K26=\"b\"),G27,\"\")),IF(OR(K26=1,K26=\"1\"),I25,IF(OR(K26=2,K26=\"b\"),I27,\"\"))))","v":""},null,null,null,null,null,null,null,null,null,null,null,24053,"ΙΩΑΝΝΙΔΗΣ ΙΩΑΝΝΗΣ",null,"",0]
[null,null,null,null,null,null,{"$f":"IF(Setup!$B$25=\"#\",0,IF(F25>0,VLOOKUP(F25,DrawPrep!$A$3:$N$18,12,FALSE),0))","v":24054},{"$f":"IF(G26>0,VLOOKUP(G26,DrawPrep!$L$3:$N$18,2,FALSE),\" \")","v":"ΙΩΑΝΝΙΔΗΣ ΠΑΝΤΕΛΕΗΜΩΝ"},"ΙΩΑΝΝΙΔΗΣ",{"$f":"IF($G26>0,VLOOKUP($G26,DrawPrep!$L$3:$N$18,3,FALSE),\"\")","v":"3ο ΓΕΛ ΑΓ. ΠΑΡΑΣΚΕΥΗΣ"},null,{"$f":"UPPER(IF($A$2=\"R\",IF(OR(K26=1,K26=\"a\"),G26,IF(OR(K26=2,K26=\"b\"),G28,\"\")),IF(OR(K26=1,K26=\"1\"),I26,IF(OR(K26=2,K26=\"b\"),I28,\"\"))))","v":""},null,null,null,null,null,null,null,null,null,null,null,24054,"ΙΩΑΝΝΙΔΗΣ ΠΑΝΤΕΛΕΗΜΩΝ",null,""]
[12,{"$f":"9-D27+4","v":12},6,{"$f":"D25+E27","v":1},{"$f":"IF($B$2>=C27,1,0)","v":0},{"$f":"IF($B$2>=C27,\"-\",VLOOKUP($B27,Setup!$G$12:$H$27,2,FALSE))","v":6},{"$f":"IF(Setup!$B$25=\"#\",0,IF(NOT(F27=\"-\"),VLOOKUP(F27,DrawPrep!$A$3:$N$18,7,FALSE),0))","v":27879},{"$f":"IF(G27>0,VLOOKUP(G27,DrawPrep!$G$3:$L$18,2,FALSE),\"bye\")","v":"ΚΙΣΣΑΣ ΧΡΗΣΤΟΣ-ΕΥΑΓΓΕΛΟΣ"},"ΚΙΣΣΑΣ",{"$f":"IF($G27>0,VLOOKUP($G27,DrawPrep!$G$3:$L$18,3,FALSE),\"\")","v":"1ο ΓΕΛ ΚΙΑΤΟΥ"},null,null,null,null,null,{"$f":"UPPER(IF($A$2=\"R\",IF(OR(O28=1,O28=\"a\"),N23,IF(OR(O28=2,O28=\"b\"),N31,\"\")),IF(OR(O28=1,O28=\"a\"),N23,IF(OR(O28=2,O28=\"b\"),N31,\"\"))))","v":""},null,null,null,null,null,null,null,27879,"ΚΙΣΣΑΣ ΧΡΗΣΤΟΣ-ΕΥΑΓΓΕΛΟΣ",null,0,null,""]
[null,null,null,null,null,null,{"$f":"IF(Setup!$B$25=\"#\",0,IF(NOT(F27=\"-\"),VLOOKUP(F27,DrawPrep!$A$3:$N$18,12,FALSE),0))","v":22866},{"$f":"IF(G28>0,VLOOKUP(G28,DrawPrep!$L$3:$N$18,2,FALSE),\" \")","v":"ΚΟΝΤΟΠΟΥΛΟΣ ΘΕΟΦΑΝΗΣ"},"ΚΟΝΤΟΠΟΥΛΟΣ",{"$f":"IF($G28>0,VLOOKUP($G28,DrawPrep!$L$3:$N$18,3,FALSE),\"\")","v":"2ο ΓΕΛ ΚΟΡΙΝΘΟΥ"},null,null,null,null,null,{"$f":"UPPER(IF($A$2=\"R\",IF(OR(O28=1,O28=\"a\"),N24,IF(OR(O28=2,O28=\"b\"),N32,\"\")),IF(OR(O28=1,O28=\"a\"),N24,IF(OR(O28=2,O28=\"b\"),N32,\"\"))))","v":""},null,null,null,null,null,null,null,22866,"ΚΟΝΤΟΠΟΥΛΟΣ ΘΕΟΦΑΝΗΣ",null,null,null,""]
[13,{"$f":"10-D29+4","v":13},null,{"$f":"D27+E29","v":1},0,{"$f":"VLOOKUP($B29,Setup!$G$12:$H$27,2,FALSE)","v":9},{"$f":"IF(Setup!$B$25=\"#\",0,IF(F29>0,VLOOKUP(F29,DrawPrep!$A$3:$N$18,7,FALSE),0))","v":25240},{"$f":"IF(G29>0,VLOOKUP(G29,DrawPrep!$G$3:$L$18,2,FALSE),\"bye\")","v":"ΔΗΜΟΠΟΥΛΟΣ ΠΛΑΤΩΝ ΜΑΡΙΟΣ"},"ΔΗΜΟΠΟΥΛΟΣ",{"$f":"IF($G29>0,VLOOKUP($G29,DrawPrep!$G$3:$L$18,3,FALSE),\"\")","v":"ΠΕΙΡΑΜΑΤΙΚΟ ΡΙΟΥ"},null,{"$f":"UPPER(IF($A$2=\"R\",IF(OR(K30=1,K30=\"a\"),G29,IF(OR(K30=2,K30=\"b\"),G31,\"\")),IF(OR(K30=1,K30=\"1\"),I29,IF(OR(K30=2,K30=\"b\"),I31,\"\"))))","v":""},null,null,null,null,null,null,null,null,null,null,null,25240,"ΔΗΜΟΠΟΥΛΟΣ ΠΛΑΤΩΝ ΜΑΡΙΟΣ",null,"",null,0]
[null,null,null,null,null,null,{"$f":"IF(Setup!$B$25=\"#\",0,IF(F29>0,VLOOKUP(F29,DrawPrep!$A$3:$N$18,12,FALSE),0))","v":23357},{"$f":"IF(G30>0,VLOOKUP(G30,DrawPrep!$L$3:$N$18,2,FALSE),\" \")","v":"ΑΝΔΡΟΥΤΣΕΛΗΣ ΑΛΕΞΙΟΣ"},"ΑΝΔΡΟΥΤΣΕΛΗΣ",{"$f":"IF($G30>0,VLOOKUP($G30,DrawPrep!$L$3:$N$18,3,FALSE),\"\")","v":"ΠΕΙΡΑΜΑΤΙΚΟ ΡΙΟΥ"},null,{"$f":"UPPER(IF($A$2=\"R\",IF(OR(K30=1,K30=\"a\"),G30,IF(OR(K30=2,K30=\"b\"),G32,\"\")),IF(OR(K30=1,K30=\"1\"),I30,IF(OR(K30=2,K30=\"b\"),I32,\"\"))))","v":""},null,null,null,null,null,null,null,null,null,null,null,23357,"ΑΝΔΡΟΥΤΣΕΛΗΣ ΑΛΕΞΙΟΣ",null,""]
[14,{"$f":"11-D31+4","v":14},8,{"$f":"D29+E31","v":1},{"$f":"IF($B$2>=C31,1,0)","v":0},{"$f":"IF($B$2>=C31,\"-\",VLOOKUP($B31,Setup!$G$12:$H$27,2,FALSE))","v":7},{"$f":"IF(Setup!$B$25=\"#\",0,IF(NOT(F31=\"-\"),VLOOKUP(F31,DrawPrep!$A$3:$N$18,7,FALSE),0))","v":22834},{"$f":"IF(G31>0,VLOOKUP(G31,DrawPrep!$G$3:$L$18,2,FALSE),\"bye\")","v":"ΑΔΑΛΟΓΛΟΥ ΛΑΖΑΡΟΣ"},"ΑΔΑΛΟΓΛΟΥ",{"$f":"IF($G31>0,VLOOKUP($G31,DrawPrep!$G$3:$L$18,3,FALSE),\"\")","v":"3ο ΓΕΛ ΒΕΡΟΙΑΣ"},null,null,null,{"$f":"UPPER(IF($A$2=\"R\",IF(OR(M32=1,M32=\"a\"),L29,IF(OR(M32=2,M31=\"b\"),L33,\"\")),IF(OR(M32=1,M32=\"a\"),L29,IF(OR(M32=2,M32=\"b\"),L33,\"\"))))","v":""},null,null,null,null,null,null,null,null,null,22834,"ΑΔΑΛΟΓΛΟΥ ΛΑΖΑΡΟΣ",null,0,""]
[null,null,null,null,null,null,{"$f":"IF(Setup!$B$25=\"#\",0,IF(NOT(F31=\"-\"),VLOOKUP(F31,DrawPrep!$A$3:$N$18,12,FALSE),0))","v":29652},{"$f":"IF(G32>0,VLOOKUP(G32,DrawPrep!$L$3:$N$18,2,FALSE),\" \")","v":"ΚΟΣΚΙΝΑΣ ΝΙΚΟΛΑΟΣ"},"ΚΟΣΚΙΝΑΣ",{"$f":"IF($G32>0,VLOOKUP($G32,DrawPrep!$L$3:$N$18,3,FALSE),\"\")","v":"3ο ΓΕΛ ΚΕΡΚΥΡΑΣ"},null,null,null,{"$f":"UPPER(IF($A$2=\"R\",IF(OR(M32=1,M32=\"a\"),L30,IF(OR(M32=2,M32=\"b\"),L34,\"\")),IF(OR(M32=1,M32=\"a\"),L30,IF(OR(M32=2,M32=\"b\"),L34,\"\"))))","v":""},null,null,null,null,null,null,null,null,null,29652,"ΚΟΣΚΙΝΑΣ ΝΙΚΟΛΑΟΣ",null,null,""]
[15,{"$f":"12-D33+4","v":15},2,{"$f":"D31+E33","v":1},{"$f":"IF($B$2>=C33,1,0)","v":0},{"$f":"IF($B$2>=C33,\"-\",VLOOKUP($B33,Setup!$G$12:$H$27,2,FALSE))","v":13},{"$f":"IF(Setup!$B$25=\"#\",0,IF(NOT(F33=\"-\"),VLOOKUP(F33,DrawPrep!$A$3:$N$18,7,FALSE),0))","v":24168},{"$f":"IF(G33>0,VLOOKUP(G33,DrawPrep!$G$3:$L$18,2,FALSE),\"bye\")","v":"ΜΙΧΑΗΛΟΣ ΣΤΕΦΑΝΟΣ"},"ΜΙΧΑΗΛΟΣ",{"$f":"IF($G33>0,VLOOKUP($G33,DrawPrep!$G$3:$L$18,3,FALSE),\"\")","v":"3ο ΓΕΛ ΗΡΑΚΛΕΙΟΥ"},null,{"$f":"UPPER(IF($A$2=\"R\",IF(OR(K34=1,K34=\"a\"),G33,IF(OR(K34=2,K34=\"b\"),G35,\"\")),IF(OR(K34=1,K34=\"1\"),I33,IF(OR(K34=2,K34=\"b\"),I35,\"\"))))","v":""},null,null,null,null,null,null,null,null,null,null,null,24168,"ΜΙΧΑΗΛΟΣ ΣΤΕΦΑΝΟΣ",null,"",0]
[null,null,null,null,null,null,{"$f":"IF(Setup!$B$25=\"#\",0,IF(NOT(F33=\"-\"),VLOOKUP(F33,DrawPrep!$A$3:$N$18,12,FALSE),0))","v":24165},{"$f":"IF(G34>0,VLOOKUP(G34,DrawPrep!$L$3:$N$18,2,FALSE),\" \")","v":"ΠΕΡΔΙΚΟΓΙΑΝΝΗΣ ΣΤΥΛΙΑΝΟΣ"},"ΠΕΡΔΙΚΟΓΙΑΝΝΗΣ",{"$f":"IF($G34>0,VLOOKUP($G34,DrawPrep!$L$3:$N$18,3,FALSE),\"\")","v":"8ο ΓΕΛ ΗΡΑΚΛΕΙΟΥ"},null,{"$f":"UPPER(IF($A$2=\"R\",IF(OR(K34=1,K34=\"a\"),G34,IF(OR(K34=2,K34=\"b\"),G36,\"\")),IF(OR(K34=1,K34=\"1\"),I34,IF(OR(K34=2,K34=\"b\"),I36,\"\"))))","v":""},null,null,null,null,null,null,null,null,null,null,null,24165,"ΠΕΡΔΙΚΟΓΙΑΝΝΗΣ ΣΤΥΛΙΑΝΟΣ",null,""]
[16,2,null,{"$f":"D33+E35","v":1},0,{"$f":"VLOOKUP($B35,Setup!$G$12:$H$27,2,FALSE)","v":2},{"$f":"IF(Setup!$B$25=\"#\",0,IF(F35>0,VLOOKUP(F35,DrawPrep!$A$3:$N$18,7,FALSE),0))","v":23517},{"$f":"IF(G35>0,VLOOKUP(G35,DrawPrep!$G$3:$L$18,2,FALSE),\"bye\")","v":"ΤΣΙΡΑΝΙΔΗΣ ΕΥΣΤΑΘΙΟΣ"},"ΤΣΙΡΑΝΙΔΗΣ",{"$f":"IF($G35>0,VLOOKUP($G35,DrawPrep!$G$3:$L$18,3,FALSE),\"\")","v":"2ο ΓΕΛ ΠΤΟΛΕΜΑΪΔΑΣ"},null,null,null,null,null,null,null,null,null,null,null,null,null,23517,"ΤΣΙΡΑΝΙΔΗΣ ΕΥΣΤΑΘΙΟΣ",null,0]
[null,null,null,null,null,null,{"$f":"IF(Setup!$B$25=\"#\",0,IF(F35>0,VLOOKUP(F35,DrawPrep!$A$3:$N$18,12,FALSE),0))","v":23645},{"$f":"IF(G36>0,VLOOKUP(G36,DrawPrep!$L$3:$N$18,2,FALSE),\" \")","v":"ΝΑΚΑΣ ΚΩΝΣΤΑΝΤΙΝΟΣ"},"ΝΑΚΑΣ",{"$f":"IF($G36>0,VLOOKUP($G36,DrawPrep!$L$3:$N$18,3,FALSE),\"\")","v":"1ο ΓΕΛ ΚΟΖΑΝΗΣ"},null,null,null,null,null,null,null,null,null,null,null,null,null,23645,"ΝΑΚΑΣ ΚΩΝΣΤΑΝΤΙΝΟΣ"]
[]
[]
[]
[null,null,null,null,null,null,null,"seeded players",null,null,null,null,null,null,null,"επιδιαιτητής"]
[null,null,null,null,null,null,null,{"$f":"\"1. \" & IF(Setup!$B$19>0,LEFT(DrawPrep!$H$3,FIND(\" \",DrawPrep!$H$3)+1)&\" - \"&LEFT(DrawPrep!$M$3,FIND(\" \",DrawPrep!$M$3)+1),\"\")","v":"1. ΑΝΤΩΝΟΠΟΥΛΟΣ Χ - ΚΑΖΑΝΤΖΗΣ Μ"},null,null,null,null,null,null,null,{"$f":"Setup!$B$10","v":"Γ.Καζάνης"}]
[null,null,null,null,null,null,null,{"$f":"\"2. \" & IF(Setup!$B$19>1,LEFT(DrawPrep!$H$4,FIND(\" \",DrawPrep!$H$4)+1)&\" - \"&LEFT(DrawPrep!$M$4,FIND(\" \",DrawPrep!$M$4)+1),\"\")","v":"2. ΤΣΙΡΑΝΙΔΗΣ Ε - ΝΑΚΑΣ Κ"}]
[null,null,null,null,null,null,null,{"$f":"\"3. \" & IF(Setup!$B$19>2,LEFT(DrawPrep!$H$5,FIND(\" \",DrawPrep!$H$5)+1)&\" - \"&LEFT(DrawPrep!$M$5,FIND(\" \",DrawPrep!$M$5)+1),\"\")","v":"3. ΦΩΤΕΙΝΟΠΟΥΛΟΣ Κ - ΚΟΥΤΣΑΦΤΗΣ Α"}]
[null,null,null,null,null,null,null,{"$f":"\"4. \" & IF(Setup!$B$19>3,LEFT(DrawPrep!$H$6,FIND(\" \",DrawPrep!$H$6)+1)&\" - \"&LEFT(DrawPrep!$M$6,FIND(\" \",DrawPrep!$M$6)+1),\"\")","v":"4. ΜΑΝΤΟΠΟΥΛΟΣ Α - ΛΑΖΑΡΙΔΗΣ Κ"}]
[]
[]
[]
[]
[]
[]
[]
[]
[]
[]
[]
[]
[]
[]
[null,null,null,null,null,null,null,"BoldPlayers"]
[null,null,null,null,null,null,null,{"$f":"IF(Setup!$B$19>0,LEFT(DrawPrep!$H$3,FIND(\" \",DrawPrep!$H$3)-1))","v":"ΑΝΤΩΝΟΠΟΥΛΟΣ"}]
[null,null,null,null,null,null,null,{"$f":"IF(Setup!$B$19>0,LEFT(DrawPrep!$M$3,FIND(\" \",DrawPrep!$M$3)-1),\"\")","v":"ΚΑΖΑΝΤΖΗΣ"}]
[null,null,null,null,null,null,null,{"$f":"IF(Setup!$B$19>0,LEFT(DrawPrep!$H$4,FIND(\" \",DrawPrep!$H$4)-1))","v":"ΤΣΙΡΑΝΙΔΗΣ"}]
[null,null,null,null,null,null,null,{"$f":"IF(Setup!$B$19>0,LEFT(DrawPrep!$M$4,FIND(\" \",DrawPrep!$M$4)-1),\"\")","v":"ΝΑΚΑΣ"}]
[null,null,null,null,null,null,null,{"$f":"IF(Setup!$B$19>0,LEFT(DrawPrep!$H$5,FIND(\" \",DrawPrep!$H$5)-1))","v":"ΦΩΤΕΙΝΟΠΟΥΛΟΣ"}]
[null,null,null,null,null,null,null,{"$f":"IF(Setup!$B$19>0,LEFT(DrawPrep!$M$5,FIND(\" \",DrawPrep!$M$5)-1),\"\")","v":"ΚΟΥΤΣΑΦΤΗΣ"}]
[null,null,null,null,null,null,null,{"$f":"IF(Setup!$B$19>0,LEFT(DrawPrep!$H$6,FIND(\" \",DrawPrep!$H$6)-1))","v":"ΜΑΝΤΟΠΟΥΛΟΣ"}]
[null,null,null,null,null,null,null,{"$f":"IF(Setup!$B$19>0,LEFT(DrawPrep!$M$6,FIND(\" \",DrawPrep!$M$6)-1),\"\")","v":"ΛΑΖΑΡΙΔΗΣ"}]

{"sheet":"Matches","index":3,"n_rows":18,"n_cols":6,"rows_kept":18,"cut":false,"hidden":false,"merged":[[2,5,3,5],[15,5,16,5],[0,0,0,5],[1,0,1,5]]}
[{"$f":"CONCATENATE(Setup!B3,\", \",Setup!B4,\", \",Setup!B6)","v":"Υπ.Παιδείας, Σχολικό Πρωτάθλημα 2014, ΑΕΤ ΝΙΚΗ ΠΑΤΡΩΝ"}]
[{"$f":"Setup!$B$10","v":"Γ.Καζάνης"}]
["Πρόγραμμα αγώνων",null,null,null,"Round 1","i"]
["ΩΡΑ","Κτγρ.","Αθλητές ζευγάρι α'",null,"Αθλητές ζευγάρι β'"]
["Έναρξη"]
[]
[]
[]
["όχι πριν"]
[]
[]
[]
[]
[]
[]
["Πρόγραμμα αγώνων",null,null,null,"Round 2","i"]
["ΩΡΑ","Κτγρ.","Αθλητές ζευγάρι α'",null,"Αθλητές ζευγάρι β'"]
["Έναρξη"]

{"sheet":"notes","index":4,"n_rows":0,"n_cols":0,"rows_kept":0,"cut":false,"hidden":false,"merged":[]}

{"sheet":"Rankings","index":5,"n_rows":4371,"n_cols":6,"rows_kept":4371,"cut":false,"hidden":false,"merged":[]}
["Α.Μ.","Ονοματεπώνυμο","Σύλλογος","Βαθμ","Διπλά","week 12"]
[]
[]
[]
[]
[]
[]
[]
[]
[]
[]
[]
[]
[]
[]
[]
[]
[]
[]
[]
[]
[]
[]
[]
[]
[]
[]
[]
[]
[]
[]
[]
[]
[]
[]
[]
[]
[]
[]
[]
[]
[]
[]
[]
[]
[]
[]
[]
[]
[]
[]
[]
[]
[]
[]
[]
[]
[]
[]
[]
[]
[]
[]
[]
[]
[]
[]
[]
[]
[]
[]
[]
[]
[]
[]
[]
[]
[]
[]
[]
[]
[]
[]
[]
[]
[]
[]
[]
[]
[]
[]
[]
[]
[]
[]
[]
[]
[]
[]
[]
[]
[]
[]
[]
[]
[]
[]
[]
[]
[]
[]
[]
[]
[]
[]
[]
[]
[]
[]
[]
[]
[]
[]
[]
[]
[]
[]
[]
[]
[]
[]
[]
[]
[]
[]
[]
[]
[]
[]
[]
[]
[]
[]
[]
[]
[]
[]
[]
[]
[]
[]
[]
[]
[]
[]
[]
[]
[]
[]
[]
[]
[]
[]
[]
[]
[]
[]
[]
[]
[]
[]
[]
[]
[]
[]
[]
[]
[]
[]
[]
[]
[]
[]
[]
[]
[]
[]
[]
[]
[]
[]
[]
[]
[]
[]
[]
[]
[]
[]
[]
[]
[]
[]
[]
[]
[]
[]
[]
[]
[]
[]
[]
[]
[]
[]
[]
[]
[]
[]
[]
[]
[]
[]
[]
[]
[]
[]
[]
[]
[]
[]
[]
[]
[]
[]
[]
[]
[]
[]
[]
[]
[]
[]
[]
[]
[]
[]
[]
[]
[]
[]
[]
[]
[]
[]
[]
[]
[]
[]
[]
[]
[]
[]
[]
[]
[]
[]
[]
[]
[]
[]
[]
[]
[]
[]
[]
[]
[]
[]
[]
[]
[]
[]
[]
[]
[]
[]
[]
[]
[]
[]
[]
[]
[]
[]
[]
[]
[]
[]
[]
[]
[]
[]
[]
[]
[]
[]
[]
[]
[]
[]
[]
[]
[]
[]
[]
[]
[]
[]
[]
[]
[]
[]
[]
[]
[]
[]
[]
[]
[]
[]
[]
[]
[]
[]
[]
[]
[]
[]
[]
[]
[]
[]
[]
[]
[]
[]
[]
[]
[]
[]
[]
[]
[]
[]
[]
[]
[]
[]
[]
[]
[]
[]
[]
[]
[]
[]
[]
[]
[]
[]
[]
[]
[]
[]
[]
[]
[]
[]
[]
[]
[]
[]
[]
[]
[]
[]
[]
[]
[]
[]
[]
[]
[]
[]
[]
[]
[]
[]
[]
[]
[]
[]
[]
[]
[]
[]
[]
[]
[]
[]
[]
[]
[]
[]
[]
[]
[]
[]
[]
[]
[]
[]
[]
[]
[]
[]
[]
[]
[]
[]
[]
[]
[]
[]
[]
[]
[]
[]
[]
[]
[]
[]
[]
[]
[]
[]
[]
[]
[]
[]
[]
[]
[]
[]
[]
[]
[]
[]
[]
[]
[]
[]
[]
[]
[]
[]
[]
[]
[]
[]
[]
[]
[]
[]
[]
[]
[]
[]
[]
[]
[]
[]
[]
[]
[]
[]
[]
[]
[]
[]
[]
[]
[]
[]
[]
[]
[]
[]
[]
[]
[]
[]
[]
[]
[]
[]
[]
[]
[]
[]
[]
[]
[]
[]
[]
[]
[]
[]
[]
[]
[]
[]
[]
[]
[]
[]
[]
[]
[]
[]
[]
[]
[]
[]
[]
[]
[]
[]
[]
[]
[]
[]
[]
[]
[]
[]
[]
[]
[]
[]
[]
[]
[]
[]
[]
[]
[]
[]
[]
[]
[]
[]
[]
[]
[]
[]
[]
[]
[]
[]
[]
[]
[]
[]
[]
[]
[]
[]
[]
[]
[]
[]
[]
[]
[]
[]
[]
[]
[]
[]
[]
[]
[]
[]
[]
[]
[]
[]
[]
[]
[]
[]
[]
[]
[]
[]
[]
[]
[]
[]
[]
[]
[]
[]
[]
[]
[]
[]
[]
[]
[]
[]
[]
[]
[]
[]
[]
[]
[]
[]
[]
[]
[]
[]
[]
[]
[]
[]
[]
[]
[]
[]
[]
[]
[]
[]
[]
[]
[]
[]
[]
[]
[]
[]
[]
[]
[]
[]
[]
[]
[]
[]
[]
[]
[]
[]
[]
[]
[]
[]
[]
[]
[]
[]
[]
[]
[]
[]
[]
[]
[]
[]
[]
[]
[]
[]
[]
[]
[]
[]
[]
[]
[]
[]
[]
[]
[]
[]
[]
[]
[]
[]
[]
[]
[]
[]
[]
[]
[]
[]
[]
[]
[]
[]
[]
[]
[]
[]
[]
[]
[]
[]
[]
[]
[]
[]
[]
[]
[]
[]
[]
[]
[]
[]
[]
[]
[]
[]
[]
[]
[]
[]
[]
[]
[]
[]
[]
[]
[]
[]
[]
[]
[]
[]
[]
[]
[]
[]
[]
[]
[]
[]
[]
[]
[]
[]
[]
[]
[]
[]
[]
[]
[]
[]
[]
[]
[]
[]
[]
[]
[]
[]
[]
[]
[]
[]
[]
[]
[]
[]
[]
[]
[]
[]
[]
[]
[]
[]
[]
[]
[]
[]
[]
[]
[]
[]
[]
[]
[]
[]
[]
[]
[]
[]
[]
[]
[]
[]
[]
[]
[]
[]
[]
[]
[]
[]
[]
[]
[]
[]
[]
[]
[]
[]
[]
[]
[]
[]
[]
[]
[]
[]
[]
[]
[]
[]
[]
[]
[]
[]
[]
[]
[]
[]
[]
[]
[]
[]
[]
[]
[]
[]
[]
[]
[]
[]
[]
[]
[]
[]
[]
[]
[]
[]
[]
[]
[]
[]
[]
[]
[]
[]
[]
[]
[]
[]
[]
[]
[]
[]
[]
[]
[]
[]
[]
[]
[]
[]
[]
[]
[]
[]
[]
[]
[]
[]
[]
[]
[]
[]
[]
[]
[]
[]
[]
[]
[]
[]
[]
[]
[]
[]
[]
[]
[]
[]
[]
[]
[]
[]
[]
[]
[]
[]
[]
[]
[]
[]
[]
[]
[]
[]
[]
[]
[]
[]
[]
[]
[]
[]
[]
[]
[]
[]
[]
[]
[]
[]
[]
[]
[]
[]
[]
[]
[]
[]
[]
[]
[]
[]
[]
[]
[]
[]
[]
[]
[]
[]
[]
[]
[]
[]
[]
[]
[]
[]
[]
[]
[]
[]
[]
[]
[]
[]
[]
[]
[]
[]
[]
[]
[]
[]
[]
[]
[]
[]
[]
[]
[]
[]
[]
[]
[]
[]
[]
[]
[]
[]
[]
[]
[]
[]
[]
[]
[]
[]
[]
[]
[]
[]
[]
[]
[]
[]
[]
[]
[]
[]
[]
[]
[]
[]
[]
[]
[]
[]
[]
[]
[]
[]
[]
[]
[]
[]
[]
[]
[]
[]
[]
[]
[]
[]
[]
[]
[]
[]
[]
[]
[]
[]
[]
[]
[]
[]
[]
[]
[]
[]
[]
[]
[]
[]
[]
[]
[]
[]
[]
[]
[]
[]
[]
[]
[]
[]
[]
[]
[]
[]
[]
[]
[]
[]
[]
[]
[]
[]
[]
[]
[]
[]
[]
[]
[]
[]
[]
[]
[]
[]
[]
[]
[]
[]
[]
[]
[]
[]
[]
[]
[]
[]
[]
[]
[]
[]
[]
[]
[]
[]
[]
[]
[]
[]
[]
[]
[]
[]
[]
[]
[]
[]
[]
[]
[]
[]
[]
[]
[]
[]
[]
[]
[]
[]
[]
[]
[]
[]
[]
[]
[]
[]
[]
[]
[]
[]
[]
[]
[]
[]
[]
[]
[]
[]
[]
[]
[]
[]
[]
[]
[]
[]
[]
[]
[]
[]
[]
[]
[]
[]
[]
[]
[]
[]
[]
[]
[]
[]
[]
[]
[]
[]
[]
[]
[]
[]
[]
[]
[]
[]
[]
[]
[]
[]
[]
[]
[]
[]
[]
[]
[]
[]
[]
[]
[]
[]
[]
[]
[]
[]
[]
[]
[]
[]
[]
[]
[]
[]
[]
[]
[]
[]
[]
[]
[]
[]
[]
[]
[]
[]
[]
[]
[]
[]
[]
[]
[]
[]
[]
[]
[]
[]
[]
[]
[]
[]
[]
[]
[]
[]
[]
[]
[]
[]
[]
[]
[]
[]
[]
[]
[]
[]
[]
[]
[]
[]
[]
[]
[]
[]
[]
[]
[]
[]
[]
[]
[]
[]
[]
[]
[]
[]
[]
[]
[]
[]
[]
[]
[]
[]
[]
[]
[]
[]
[]
[]
[]
[]
[]
[]
[]
[]
[]
[]
[]
[]
[]
[]
[]
[]
[]
[]
[]
[]
[]
[]
[]
[]
[]
[]
[]
[]
[]
[]
[]
[]
[]
[]
[]
[]
[]
[]
[]
[]
[]
[]
[]
[]
[]
[]
[]
[]
[]
[]
[]
[]
[]
[]
[]
[]
[]
[]
[]
[]
[]
[]
[]
[]
[]
[]
[]
[]
[]
[]
[]
[]
[]
[]
[]
[]
[]
[]
[]
[]
[]
[]
[]
[]
[]
[]
[]
[]
[]
[]
[]
[]
[]
[]
[]
[]
[]
[]
[]
[]
[]
[]
[]
[]
[]
[]
[]
[]
[]
[]
[]
[]
[]
[]
[]
[]
[]
[]
[]
[]
[]
[]
[]
[]
[]
[]
[]
[]
[]
[]
[]
[]
[]
[]
[]
[]
[]
[]
[]
[]
[]
[]
[]
[]
[]
[]
[]
[]
[]
[]
[]
[]
[]
[]
[]
[]
[]
[]
[]
[]
[]
[]
[]
[]
[]
[]
[]
[]
[]
[]
[]
[]
[]
[]
[]
[]
[]
[]
[]
[]
[]
[]
[]
[]
[]
[]
[]
[]
[]
[]
[]
[]
[]
[]
[]
[]
[]
[]
[]
[]
[]
[]
[]
[]
[]
[]
[]
[]
[]
[]
[]
[]
[]
[]
[]
[]
[]
[]
[]
[]
[]
[]
[]
[]
[]
[]
[]
[]
[]
[]
[]
[]
[]
[]
[]
[]
[]
[]
[]
[]
[]
[]
[]
[]
[]
[]
[]
[]
[]
[]
[]
[]
[]
[]
[]
[]
[]
[]
[]
[]
[]
[]
[]
[]
[]
[]
[]
[]
[]
[]
[]
[]
[]
[]
[]
[]
[]
[]
[]
[]
[]
[]
[]
[]
[]
[]
[]
[]
[]
[]
[]
[]
[]
[]
[]
[]
[]
[]
[]
[]
[]
[]
[]
[]
[]
[]
[]
[]
[]
[]
[]
[]
[]
[]
[]
[]
[]
[]
[]
[]
[]
[]
[]
[]
[]
[]
[]
[]
[]
[]
[]
[]
[]
[]
[]
[]
[]
[]
[]
[]
[]
[]
[]
[]
[]
[]
[]
[]
[]
[]
[]
[]
[]
[]
[]
[]
[]
[]
[]
[]
[]
[]
[]
[]
[]
[]
[]
[]
[]
[]
[]
[]
[]
[]
[]
[]
[]
[]
[]
[]
[]
[]
[]
[]
[]
[]
[]
[]
[]
[]
[]
[]
[]
[]
[]
[]
[]
[]
[]
[]
[]
[]
[]
[]
[]
[]
[]
[]
[]
[]
[]
[]
[]
[]
[]
[]
[]
[]
[]
[]
[]
[]
[]
[]
[]
[]
[]
[]
[]
[]
[]
[]
[]
[]
[]
[]
[]
[]
[]
[]
[]
[]
[]
[]
[]
[]
[]
[]
[]
[]
[]
[]
[]
[]
[]
[]
[]
[]
[]
[]
[]
[]
[]
[]
[]
[]
[]
[]
[]
[]
[]
[]
[]
[]
[]
[]
[]
[]
[]
[]
[]
[]
[]
[]
[]
[]
[]
[]
[]
[]
[]
[]
[]
[]
[]
[]
[]
[]
[]
[]
[]
[]
[]
[]
[]
[]
[]
[]
[]
[]
[]
[]
[]
[]
[]
[]
[]
[]
[]
[]
[]
[]
[]
[]
[]
[]
[]
[]
[]
[]
[]
[]
[]
[]
[]
[]
[]
[]
[]
[]
[]
[]
[]
[]
[]
[]
[]
[]
[]
[]
[]
[]
[]
[]
[]
[]
[]
[]
[]
[]
[]
[]
[]
[]
[]
[]
[]
[]
[]
[]
[]
[]
[]
[]
[]
[]
[]
[]
[]
[]
[]
[]
[]
[]
[]
[]
[]
[]
[]
[]
[]
[]
[]
[]
[]
[]
[]
[]
[]
[]
[]
[]
[]
[]
[]
[]
[]
[]
[]
[]
[]
[]
[]
[]
[]
[]
[]
[]
[]
[]
[]
[]
[]
[]
[]
[]
[]
[]
[]
[]
[]
[]
[]
[]
[]
[]
[]
[]
[]
[]
[]
[]
[]
[]
[]
[]
[]
[]
[]
[]
[]
[]
[]
[]
[]
[]
[]
[]
[]
[]
[]
[]
[]
[]
[]
[]
[]
[]
[]
[]
[]
[]
[]
[]
[]
[]
[]
[]
[]
[]
[]
[]
[]
[]
[]
[]
[]
[]
[]
[]
[]
[]
[]
[]
[]
[]
[]
[]
[]
[]
[]
[]
[]
[]
[]
[]
[]
[]
[]
[]
[]
[]
[]
[]
[]
[]
[]
[]
[]
[]
[]
[]
[]
[]
[]
[]
[]
[]
[]
[]
[]
[]
[]
[]
[]
[]
[]
[]
[]
[]
[]
[]
[]
[]
[]
[]
[]
[]
[]
[]
[]
[]
[]
[]
[]
[]
[]
[]
[]
[]
[]
[]
[]
[]
[]
[]
[]
[]
[]
[]
[]
[]
[]
[]
[]
[]
[]
[]
[]
[]
[]
[]
[]
[]
[]
[]
[]
[]
[]
[]
[]
[]
[]
[]
[]
[]
[]
[]
[]
[]
[]
[]
[]
[]
[]
[]
[]
[]
[]
[]
[]
[]
[]
[]
[]
[]
[]
[]
[]
[]
[]
[]
[]
[]
[]
[]
[]
[]
[]
[]
[]
[]
[]
[]
[]
[]
[]
[]
[]
[]
[]
[]
[]
[]
[]
[]
[]
[]
[]
[]
[]
[]
[]
[]
[]
[]
[]
[]
[]
[]
[]
[]
[]
[]
[]
[]
[]
[]
[]
[]
[]
[]
[]
[]
[]
[]
[]
[]
[]
[]
[]
[]
[]
[]
[]
[]
[]
[]
[]
[]
[]
[]
[]
[]
[]
[]
[]
[]
[]
[]
[]
[]
[]
[]
[]
[]
[]
[]
[]
[]
[]
[]
[]
[]
[]
[]
[]
[]
[]
[]
[]
[]
[]
[]
[]
[]
[]
[]
[]
[]
[]
[]
[]
[]
[]
[]
[]
[]
[]
[]
[]
[]
[]
[]
[]
[]
[]
[]
[]
[]
[]
[]
[]
[]
[]
[]
[]
[]
[]
[]
[]
[]
[]
[]
[]
[]
[]
[]
[]
[]
[]
[]
[]
[]
[]
[]
[]
[]
[]
[]
[]
[]
[]
[]
[]
[]
[]
[]
[]
[]
[]
[]
[]
[]
[]
[]
[]
[]
[]
[]
[]
[]
[]
[]
[]
[]
[]
[]
[]
[]
[]
[]
[]
[]
[]
[]
[]
[]
[]
[]
[]
[]
[]
[]
[]
[]
[]
[]
[]
[]
[]
[]
[]
[]
[]
[]
[]
[]
[]
[]
[]
[]
[]
[]
[]
[]
[]
[]
[]
[]
[]
[]
[]
[]
[]
[]
[]
[]
[]
[]
[]
[]
[]
[]
[]
[]
[]
[]
[]
[]
[]
[]
[]
[]
[]
[]
[]
[]
[]
[]
[]
[]
[]
[]
[]
[]
[]
[]
[]
[]
[]
[]
[]
[]
[]
[]
[]
[]
[]
[]
[]
[]
[]
[]
[]
[]
[]
[]
[]
[]
[]
[]
[]
[]
[]
[]
[]
[]
[]
[]
[]
[]
[]
[]
[]
[]
[]
[]
[]
[]
[]
[]
[]
[]
[]
[]
[]
[]
[]
[]
[]
[]
[]
[]
[]
[]
[]
[]
[]
[]
[]
[]
[]
[]
[]
[]
[]
[]
[]
[]
[]
[]
[]
[]
[]
[]
[]
[]
[]
[]
[]
[]
[]
[]
[]
[]
[]
[]
[]
[]
[]
[]
[]
[]
[]
[]
[]
[]
[]
[]
[]
[]
[]
[]
[]
[]
[]
[]
[]
[]
[]
[]
[]
[]
[]
[]
[]
[]
[]
[]
[]
[]
[]
[]
[]
[]
[]
[]
[]
[]
[]
[]
[]
[]
[]
[]
[]
[]
[]
[]
[]
[]
[]
[]
[]
[]
[]
[]
[]
[]
[]
[]
[]
[]
[]
[]
[]
[]
[]
[]
[]
[]
[]
[]
[]
[]
[]
[]
[]
[]
[]
[]
[]
[]
[]
[]
[]
[]
[]
[]
[]
[]
[]
[]
[]
[]
[]
[]
[]
[]
[]
[]
[]
[]
[]
[]
[]
[]
[]
[]
[]
[]
[]
[]
[]
[]
[]
[]
[]
[]
[]
[]
[]
[]
[]
[]
[]
[]
[]
[]
[]
[]
[]
[]
[]
[]
[]
[]
[]
[]
[]
[]
[]
[]
[]
[]
[]
[]
[]
[]
[]
[]
[]
[]
[]
[]
[]
[]
[]
[]
[]
[]
[]
[]
[]
[]
[]
[]
[]
[]
[]
[]
[]
[]
[]
[]
[]
[]
[]
[]
[]
[]
[]
[]
[]
[]
[]
[]
[]
[]
[]
[]
[]
[]
[]
[]
[]
[]
[]
[]
[]
[]
[]
[]
[]
[]
[]
[]
[]
[]
[]
[]
[]
[]
[]
[]
[]
[]
[]
[]
[]
[]
[]
[]
[]
[]
[]
[]
[]
[]
[]
[]
[]
[]
[]
[]
[]
[]
[]
[]
[]
[]
[]
[]
[]
[]
[]
[]
[]
[]
[]
[]
[]
[]
[]
[]
[]
[]
[]
[]
[]
[]
[]
[]
[]
[]
[]
[]
[]
[]
[]
[]
[]
[]
[]
[]
[]
[]
[]
[]
[]
[]
[]
[]
[]
[]
[]
[]
[]
[]
[]
[]
[]
[]
[]
[]
[]
[]
[]
[]
[]
[]
[]
[]
[]
[]
[]
[]
[]
[]
[]
[]
[]
[]
[]
[]
[]
[]
[]
[]
[]
[]
[]
[]
[]
[]
[]
[]
[]
[]
[]
[]
[]
[]
[]
[]
[]
[]
[]
[]
[]
[]
[]
[]
[]
[]
[]
[]
[]
[]
[]
[]
[]
[]
[]
[]
[]
[]
[]
[]
[]
[]
[]
[]
[]
[]
[]
[]
[]
[]
[]
[]
[]
[]
[]
[]
[]
[]
[]
[]
[]
[]
[]
[]
[]
[]
[]
[]
[]
[]
[]
[]
[]
[]
[]
[]
[]
[]
[]
[]
[]
[]
[]
[]
[]
[]
[]
[]
[]
[]
[]
[]
[]
[]
[]
[]
[]
[]
[]
[]
[]
[]
[]
[]
[]
[]
[]
[]
[]
[]
[]
[]
[]
[]
[]
[]
[]
[]
[]
[]
[]
[]
[]
[]
[]
[]
[]
[]
[]
[]
[]
[]
[]
[]
[]
[]
[]
[]
[]
[]
[]
[]
[]
[]
[]
[]
[]
[]
[]
[]
[]
[]
[]
[]
[]
[]
[]
[]
[]
[]
[]
[]
[]
[]
[]
[]
[]
[]
[]
[]
[]
[]
[]
[]
[]
[]
[]
[]
[]
[]
[]
[]
[]
[]
[]
[]
[]
[]
[]
[]
[]
[]
[]
[]
[]
[]
[]
[]
[]
[]
[]
[]
[]
[]
[]
[]
[]
[]
[]
[]
[]
[]
[]
[]
[]
[]
[]
[]
[]
[]
[]
[]
[]
[]
[]
[]
[]
[]
[]
[]
[]
[]
[]
[]
[]
[]
[]
[]
[]
[]
[]
[]
[]
[]
[]
[]
[]
[]
[]
[]
[]
[]
[]
[]
[]
[]
[]
[]
[]
[]
[]
[]
[]
[]
[]
[]
[]
[]
[]
[]
[]
[]
[]
[]
[]
[]
[]
[]
[]
[]
[]
[]
[]
[]
[]
[]
[]
[]
[]
[]
[]
[]
[]
[]
[]
[]
[]
[]
[]
[]
[]
[]
[]
[]
[]
[]
[]
[]
[]
[]
[]
[]
[]
[]
[]
[]
[]
[]
[]
[]
[]
[]
[]
[]
[]
[]
[]
[]
[]
[]
[]
[]
[]
[]
[]
[]
[]
[]
[]
[]
[]
[]
[]
[]
[]
[]
[]
[]
[]
[]
[]
[]
[]
[]
[]
[]
[]
[]
[]
[]
[]
[]
[]
[]
[]
[]
[]
[]
[]
[]
[]
[]
[]
[]
[]
[]
[]
[]
[]
[]
[]
[]
[]
[]
[]
[]
[]
[]
[]
[]
[]
[]
[]
[]
[]
[]
[]
[]
[]
[]
[]
[]
[]
[]
[]
[]
[]
[]
[]
[]
[]
[]
[]
[]
[]
[]
[]
[]
[]
[]
[]
[]
[]
[]
[]
[]
[]
[]
[]
[]
[]
[]
[]
[]
[]
[]
[]
[]
[]
[]
[]
[]
[]
[]
[]
[]
[]
[]
[]
[]
[]
[]
[]
[]
[]
[]
[]
[]
[]
[]
[]
[]
[]
[]
[]
[]
[]
[]
[]
[]
[]
[]
[]
[]
[]
[]
[]
[]
[]
[]
[]
[]
[]
[]
[]
[]
[]
[]
[]
[]
[]
[]
[]
[]
[]
[]
[]
[]
[]
[]
[]
[]
[]
[]
[]
[]
[]
[]
[]
[]
[]
[]
[]
[]
[]
[]
[]
[]
[]
[]
[]
[]
[]
[]
[]
[]
[]
[]
[]
[]
[]
[]
[]
[]
[]
[]
[]
[]
[]
[]
[]
[]
[]
[]
[]
[]
[]
[]
[]
[]
[]
[]
[]
[]
[]
[]
[]
[]
[]
[]
[]
[]
[]
[]
[]
[]
[]
[]
[]
[]
[]
[]
[]
[]
[]
[]
[]
[]
[]
[]
[]
[]
[]
[]
[]
[]
[]
[]
[]
[]
[]
[]
[]
[]
[]
[]
[]
[]
[]
[]
[]
[]
[]
[]
[]
[]
[]
[]
[]
[]
[]
[]
[]
[]
[]
[]
[]
[]
[]
[]
[]
[]
[]
[]
[]
[]
[]
[]
[]
[]
[]
[]
[]
[]
[]
[]
[]
[]
[]
[]
[]
[]
[]
[]
[]
[]
[]
[]
[]
[]
[]
[]
[]
[]
[]
[]
[]
[]
[]
[]
[]
[]
[]
[]
[]
[]
[]
[]
[]
[]
[]
[]
[]
[]
[]
[]
[]
[]
[]
[]
[]
[]
[]
[]
[]
[]
[]
[]
[]
[]
[]
[]
[]
[]
[]
[]
[]
[]
[]
[]
[]
[]
[]
[]
[]
[]
[]
[]
[]
[]
[]
[]
[]
[]
[]
[]
[]
[]
[]
[]
[]
[]
[]
[]
[]
[]
[]
[]
[]
[]
[]
[]
[]
[]
[]
[]
[]
[]
[]
[]
[]
[]
[]
[]
[]
[]
[]
[]
[]
[]
[]
[]
[]
[]
[]
[]
[]
[]
[]
[]
[]
[]
[]
[]
[]
[]
[]
[]
[]
[]
[]
[]
[]
[]
[]
[]
[]
[]
[]
[]
[]
[]
[]
[]
[]
[]
[]
[]
[]
[]
[]
[]
[]
[]
[]
[]
[]
[]
[]
[]
[]
[]
[]
[]
[]
[]
[]
[]
[]
[]
[]
[]
[]
[]
[]
[]
[]
[]
[]
[]
[]
[]
[]
[]
[]
[]
[]
[]
[]
[]
[]
[]
[]
[]
[]
[]
[]
[]
[]
[]
[]
[]
[]
[]
[]
[]
[]
[]
[]
[]
[]
[]
[]
[]
[]
[]
[]
[]
[]
[]
[]
[]
[]
[]
[]
[]
[]
[]
[]
[]
[]
[]
[]
[]
[]
[]
[]
[]
[]
[]
[]
[]
[]
[]
[]
[]
[]
[]
[]
[]
[]
[]
[]
[]
[]
[]
[]
[]
[]
[]
[]
[]
[]
[]
[]
[]
[]
[]
[]
[]
[]
[]
[]
[]
[]
[]
[]
[]
[]
[]
[]
[]
[]
[]
[]
[]
[]
[]
[]
[]
[]
[]
[]
[]
[]
[]
[]
[]
[]
[]
[]
[]
[]
[]
[]
[]
[]
[]
[]
[]
[]
[]
[]
[]
[]
[]
[]
[]
[]
[]
[]
[]
[]
[]
[]
[]
[]
[]
[]
[]
[]
[]
[]
[]
[]
[]
[]
[]
[]
[]
[]
[]
[]
[]
[]
[]
[]
[]
[]
[]
[]
[]
[]
[]
[]
[]
[]
[]
[]
[]
[]
[]
[]
[]
[]
[]
[]
[]
[]
[]
[]
[]
[]
[]
[]
[]
[]
[]
[]
[]
[]
[]
[]
[]
[]
[]
[]
[]
[]
[]
[]
[]
[]
[]
[]
[]
[]
[]
[]
[]
[]
[]
[]
[]
[]
[]
[]
[]
[]
[]
[]
[]
[]
[]
[]
[]
[]
[]
[]
[]
[]
[]
[]
[]
[]
[]
[]
[]
[]
[]
[]
[]
[]
[]
[]
[]
[]
[]
[]
[]
[]
[]
[]
[]
[]
[]
[]
[]
[]
[]
[]
[]
[]
[]
[]
[]
[]
[]
[]
[]
[]
[]
[]
[]
[]
[]
[]
[]
[]
[]
[]
[]
[]
[]
[]
[]
[]
[]
[]
[]
[]
[]
[]
[]
[]
[]
[]
[]
[]
[]
[]
[]
[]
[]
[]
[]
[]
[]
[]
[]
[]
[]
[]
[]
[]
[]
[]
[]
[]
[]
[]
[]
[]
[]
[]
[]
[]
[]
[]
[]
[]
[]
[]
[]
[]
[]
[]
[]
[]
[]
[]
[]
[]
[]
[]
[]
[]
[]
[]
[]
[]
[]
[]
[]
[]
[]
[]
[]
[]
[]
[]
[]
[]
[]
[]
[]
[]
[]
[]
[]
[]
[]
[]
[]
[]
[]
[]
[]
[]
[]
[]
[]
[]
[]
[]
[]
[]
[]
[]
[]
[]
[]
[]
[]
[]
[]
[]
[]
[]
[]
[]
[]
[]
[]
[]
[]
[]
[]
[]
[]
[]
[]
[]
[]
[]
[]
[]
[]
[]
[]
[]
[]
[]
[]
[]
[]
[]
[]
[]
[]
[]
[]
[]
[]
[]
[]
[]
[]
[]
[]
[]
[]
[]
[]
[]
[]
[]
[]
[]
[]
[]
[]
[]
[]
[]
[]
[]
[]
[]
[]
[]
[]
[]
[]
[]
[]
[]
[]
[]
[]
[]
[]
[]
[]
[]
[]
[]
[]
[]
[]
[]
[]
[]
[]
[]
[]
[]
[]
[]
[]
[]
[]
[]
[]
[]
[]
[]
[]
[]
[]
[]
[]
[]
[]
[]
[]
[]
[]
[]
[]
[]
[]
[]
[]
[]
[]
[]
[]
[]
[]
[]
[]
[]
[]
[]
[]
[]
[]
[]
[]
[]
[]
[]
[]
[]
[]
[]
[]
[]
[]
[]
[]
[]
[]
[]
[]
[]
[]
[]
[]
[]
[]
[]
[]
[]
[]
[]
[]
[]
[]
[]
[]
[]
[]
[]
[]
[]
[]
[]
[]
[]
[]
[]
[]
[]
[]
[]
[]
[]
[]
[]
[]
[]
[]
[]
[]
[]
[]
[]
[]
[]
[]
[]
[]
[]
[]
[]
[]
[]
[]
[]
[]
[]
[]
[]
[]
[]
[]
[]
[]
[]
[]
[]
[]
[]
[]
[]
[]
[]
[]
[]
[]
[]
[]
[]
[]
[]
[]
[]
[]
[]
[]
[]
[]
[]
[]
[]
[]
[]
[]
[]
[]
[]
[]
[]
[]
[]
[]
[]
[]
[]
[]
[]
[]
[]
[]
[]
[]
[]
[]
[]
[]
[]
[]
[]
[]
[]
[]
[]
[]
[]
[]
[]
[]
[]
[]
[]
[]
[]
[]
[]
[]
[]
[]
[]
[]
[]
["12-23775","ΑΝΤΩΝΟΠΟΥΛΟΣ ΧΡΗΣΤΟΣ","1ο ΓΕΛ ΝΙΚΑΙΑΣ",940]
["12-23517","ΤΣΙΡΑΝΙΔΗΣ ΕΥΣΤΑΘΙΟΣ","2ο ΓΕΛ ΠΤΟΛΕΜΑΪΔΑΣ",690]
["12-25875","ΛΑΖΑΡΙΔΗΣ ΚΩΝΣΤΑΝΤΙΝΟΣ","ΙΔ.ΓΕΛ ΕΛΛΗΝΙΚΟ ΚΟΛΛΕΓΙΟ",504]
["12-23661","ΦΩΤΕΙΝΟΠΟΥΛΟΣ ΚΩΝΣΤΑΝΤΙΝΟΣ","ΙΔ.ΕΝ.ΛΥΚΕΙΟ ΘΕΟΜΗΤΩΡ",368.5]
["12-23234","ΚΑΖΑΝΤΖΗΣ ΜΙΧΑΗΛ-ΤΟΥΒ","ΚΟΛΛΕΓΙΟ ΑΘΗΝΩΝ",303.5]
["12-26603","ΔΕΛΛΗΣ ΑΝΔΡΕΑΣ-ΑΛΕΞΑΝΔΡΟΣ","2ο ΓΕΛ ΑΡΓΟΥΣ",293]
["12-22866","ΚΟΝΤΟΠΟΥΛΟΣ ΘΕΟΦΑΝΗΣ","2ο ΓΕΛ ΚΟΡΙΝΘΟΥ",286]
["12-22965","ΚΟΡΔΟΣ ΙΩΑΝΝΗΣ","ΙΔΙΩΤ.ΓΕΝ. ΛΥΚΕΙΟ ΠΡΟΤΥΠΟ ΑΘΗΝΩΝ",276]
["12-25240","ΔΗΜΟΠΟΥΛΟΣ ΠΛΑΤΩΝ ΜΑΡΙΟΣ","ΠΕΙΡΑΜΑΤΙΚΟ ΡΙΟΥ",265.5]
["12-29652","ΚΟΣΚΙΝΑΣ ΝΙΚΟΛΑΟΣ","3ο ΓΕΛ ΚΕΡΚΥΡΑΣ",252]
["12-23192","ΚΟΥΤΣΑΦΤΗΣ ΑΠΟΣΤΟΛΟΣ","2ο ΓΕΛ ΒΡΙΛΗΣΣΙΩΝ",250.5]
["12-23662","ΤΑΣΟΥΛΗΣ ΒΑΣΙΛΕΙΟΣ","3ο ΓΕΛ ΗΛΙΟΥΠΟΛΗΣ",219.5]
["12-22834","ΑΔΑΛΟΓΛΟΥ ΛΑΖΑΡΟΣ","3ο ΓΕΛ ΒΕΡΟΙΑΣ",210.5]
["12-25503","ΠΑΡΑΣΧΑΚΗΣ ΝΙΚΟΛΑΟΣ","1ο ΓΕΛ Ν.ΙΩΝΙΑΣ",206]
["12-26210","ΚΟΝΤΩΣΗΣ ΓΕΩΡΓΙΟΣ","ΛΕΟΝΤΕΙΟ ΛΥΚΕΙΟ ΠΑΤΗΣΙΩΝ",197.5]
["12-24168","ΜΙΧΑΗΛΟΣ ΣΤΕΦΑΝΟΣ","3ο ΓΕΛ ΗΡΑΚΛΕΙΟΥ",190]
["12-24053","ΙΩΑΝΝΙΔΗΣ ΙΩΑΝΝΗΣ","3ο ΓΕΛ ΑΓ. ΠΑΡΑΣΚΕΥΗΣ",183]
["12-27879","ΚΙΣΣΑΣ ΧΡΗΣΤΟΣ-ΕΥΑΓΓΕΛΟΣ","1ο ΓΕΛ ΚΙΑΤΟΥ",180]
["12-25273","ΤΣΟΝΑΚΗΣ ΚΩΝΣΤΑΝΤΙΝΟΣ","1ο ΓΕΛ ΠΑΠΑΓΟΥ",169]
["12-25351","ΔΙΑΜΑΝΤΟΠΟΥΛΟΣ ΓΕΩΡΓΙΟΣ","ΚΟΛΛΕΓΙΟ ΨΥΧΙΚΟΥ",158]
["12-23357","ΑΝΔΡΟΥΤΣΕΛΗΣ ΑΛΕΞΙΟΣ","ΠΕΙΡΑΜΑΤΙΚΟ ΡΙΟΥ",157.5]
["12-24054","ΙΩΑΝΝΙΔΗΣ ΠΑΝΤΕΛΕΗΜΩΝ","3ο ΓΕΛ ΑΓ. ΠΑΡΑΣΚΕΥΗΣ",155]
["12-25238","ΤΖΕΛΑΤΗΣ ΣΤΕΦΑΝΟΣ","1ο ΓΕΛ ΡΑΦΗΝΑΣ",152]
["12-26604","ΔΕΛΛΗΣ ΧΡΙΣΤΟΣ-ΕΡΡΙΚΟΣ","2ο ΓΕΛ ΑΡΓΟΥΣ",151]
["12-25243","ΜΑΡΟΥΛΗΣ ΧΑΡΑΛΑΜΠΟΣ","ΑΡΣΑΚΕΙΟ ΠΑΤΡΩΝ",149]
["12-23093","ΚΑΛΔΕΡΩΝ ΖΑΚ","ΓΕΛ ΛΑΡΙΣΑΣ",141.5]
["12-24165","ΠΕΡΔΙΚΟΓΙΑΝΝΗΣ ΣΤΥΛΙΑΝΟΣ","8ο ΓΕΛ ΗΡΑΚΛΕΙΟΥ",140]
["12-32290","ΛΑYΡΑΝΟΣ ΓΡΗΓΟΡΗΣ","ΓΕΛ ΡΙΟΥ",66]
["12-23645","ΝΑΚΑΣ ΚΩΝΣΤΑΝΤΙΝΟΣ","1ο ΓΕΛ ΚΟΖΑΝΗΣ",47.5]
["12-34974","ΣΚΑΡΠΟΣ ΧΡΗΣΤΟΣ","1ο ΓΕΛ ΗΓΟΥΜΕΝΙΤΣΑΣ",0]
["12-29120","ΜΑΝΤΟΠΟΥΛΟΣ ΑΝΔΡΕΑΣ","ΙΔ.ΓΕΛ ΕΛΛΗΝΙΚΟ ΚΟΛΛΕΓΙΟ",0]

{"sheet":"CalcPrg","index":6,"n_rows":25,"n_cols":7,"rows_kept":25,"cut":false,"hidden":false,"merged":[[0,0,0,5],[2,0,2,2],[15,0,15,2],[2,5,3,5],[15,5,16,5],[1,0,1,5]]}
[{"$f":"CONCATENATE(Setup!B3,\", \",Setup!B4,\", \",Setup!B6)","v":"Υπ.Παιδείας, Σχολικό Πρωτάθλημα 2014, ΑΕΤ ΝΙΚΗ ΠΑΤΡΩΝ"},null,null,null,null,null," Don't Change this Worksheet !"]
[{"$f":"Setup!$B$10","v":"Γ.Καζάνης"}]
["Πρόγραμμα αγώνων",null,null,null,"Round 1","i"]
["ΩΡΑ","Κτγρ.","Αθλητές ζευγάρι α'",null,"Αθλητές ζευγάρι β'"]
["Έναρξη",{"$f":"Setup!$B$7","v":"Αγόρια Δ"},{"$f":"IF(MD!H5=\"bye\",\"\", LEFT(MD!H5,FIND(\" \",MD!H5)+1) & \" - \" & LEFT(MD!H6,FIND(\" \",MD!H6)+1))","v":"ΑΝΤΩΝΟΠΟΥΛΟΣ Χ - ΚΑΖΑΝΤΖΗΣ Μ"},{"$f":"IF(OR(C5=\"\",E5=\"\"),\" \",\"-\")","v":" "},{"$f":"IF(MD!H7=\"bye\",\"\", LEFT(MD!H7,FIND(\" \",MD!H7)+1) & \" - \" & LEFT(MD!H8,FIND(\" \",MD!H8)+1))","v":""}]
[null,{"$f":"Setup!$B$7","v":"Αγόρια Δ"},{"$f":"IF(MD!H9=\"bye\",\"\", LEFT(MD!H9,FIND(\" \",MD!H9)+1) & \" - \" & LEFT(MD!H10,FIND(\" \",MD!H10)+1))","v":"ΠΑΡΑΣΧΑΚΗΣ Ν - ΚΑΛΔΕΡΩΝ Ζ"},"-",{"$f":"IF(MD!H11=\"bye\",\"\", LEFT(MD!H11,FIND(\" \",MD!H11)+1) & \" - \" & LEFT(MD!H12,FIND(\" \",MD!H12)+1))","v":"ΤΑΣΟΥΛΗΣ Β - ΚΟΡΔΟΣ Ι"}]
[null,{"$f":"Setup!$B$7","v":"Αγόρια Δ"},{"$f":"IF(MD!H13=\"bye\",\"\", LEFT(MD!H13,FIND(\" \",MD!H13)+1) & \" - \" & LEFT(MD!H14,FIND(\" \",MD!H14)+1))","v":"ΔΕΛΛΗΣ Α - ΔΕΛΛΗΣ Χ"},"-",{"$f":"IF(MD!H15=\"bye\",\"\", LEFT(MD!H15,FIND(\" \",MD!H15)+1) & \" - \" & LEFT(MD!H16,FIND(\" \",MD!H16)+1))","v":"ΤΖΕΛΑΤΗΣ Σ - ΤΣΟΝΑΚΗΣ Κ"}]
[null,{"$f":"Setup!$B$7","v":"Αγόρια Δ"},{"$f":"IF(MD!H17=\"bye\",\"\", LEFT(MD!H17,FIND(\" \",MD!H17)+1) & \" - \" & LEFT(MD!H18,FIND(\" \",MD!H18)+1))","v":"ΔΙΑΜΑΝΤΟΠΟΥΛΟΣ Γ - ΚΟΝΤΩΣΗΣ Γ"},"-",{"$f":"IF(MD!H19=\"bye\",\"\", LEFT(MD!H19,FIND(\" \",MD!H19)+1) & \" - \" & LEFT(MD!H20,FIND(\" \",MD!H20)+1))","v":"ΦΩΤΕΙΝΟΠΟΥΛΟΣ Κ - ΚΟΥΤΣΑΦΤΗΣ Α"}]
["όχι πριν",{"$f":"Setup!$B$7","v":"Αγόρια Δ"},{"$f":"IF(MD!H21=\"bye\",\"\", LEFT(MD!H21,FIND(\" \",MD!H21)+1) & \" - \" & LEFT(MD!H22,FIND(\" \",MD!H22)+1))","v":"ΜΑΝΤΟΠΟΥΛΟΣ Α - ΛΑΖΑΡΙΔΗΣ Κ"},"-",{"$f":"IF(MD!H23=\"bye\",\"\", LEFT(MD!H23,FIND(\" \",MD!H23)+1) & \" - \" & LEFT(MD!H24,FIND(\" \",MD!H24)+1))","v":"ΜΑΡΟΥΛΗΣ Χ - ΛΑYΡΑΝΟΣ Γ"}]
[null,{"$f":"Setup!$B$7","v":"Αγόρια Δ"},{"$f":"IF(MD!H25=\"bye\",\"\", LEFT(MD!H25,FIND(\" \",MD!H25)+1) & \" - \" & LEFT(MD!H26,FIND(\" \",MD!H26)+1))","v":"ΙΩΑΝΝΙΔΗΣ Ι - ΙΩΑΝΝΙΔΗΣ Π"},"-",{"$f":"IF(MD!H27=\"bye\",\"\", LEFT(MD!H27,FIND(\" \",MD!H27)+1) & \" - \" & LEFT(MD!H28,FIND(\" \",MD!H28)+1))","v":"ΚΙΣΣΑΣ Χ - ΚΟΝΤΟΠΟΥΛΟΣ Θ"}]
[null,{"$f":"Setup!$B$7","v":"Αγόρια Δ"},{"$f":"IF(MD!H29=\"bye\",\"\", LEFT(MD!H29,FIND(\" \",MD!H29)+1) & \" - \" & LEFT(MD!H30,FIND(\" \",MD!H30)+1))","v":"ΔΗΜΟΠΟΥΛΟΣ Π - ΑΝΔΡΟΥΤΣΕΛΗΣ Α"},"-",{"$f":"IF(MD!H31=\"bye\",\"\", LEFT(MD!H31,FIND(\" \",MD!H31)+1) & \" - \" & LEFT(MD!H32,FIND(\" \",MD!H32)+1))","v":"ΑΔΑΛΟΓΛΟΥ Λ - ΚΟΣΚΙΝΑΣ Ν"}]
[null,{"$f":"Setup!$B$7","v":"Αγόρια Δ"},{"$f":"IF(MD!H33=\"bye\",\"\", LEFT(MD!H33,FIND(\" \",MD!H33)+1) & \" - \" & LEFT(MD!H34,FIND(\" \",MD!H34)+1))","v":"ΜΙΧΑΗΛΟΣ Σ - ΠΕΡΔΙΚΟΓΙΑΝΝΗΣ Σ"},"-",{"$f":"IF(MD!H35=\"bye\",\"\", LEFT(MD!H35,FIND(\" \",MD!H35)+1) & \" - \" & LEFT(MD!H36,FIND(\" \",MD!H36)+1))","v":"ΤΣΙΡΑΝΙΔΗΣ Ε - ΝΑΚΑΣ Κ"}]
[]
[]
[]
["Πρόγραμμα αγώνων",null,null,null,"Round 2","i"]
["ΩΡΑ","Κτγρ.","Αθλητές ζευγάρι α'",null,"Αθλητές ζευγάρι β'"]
["Έναρξη",{"$f":"Setup!$B$7","v":"Αγόρια Δ"},{"$f":"MD!L5 & \" - \" & MD!L6","v":"ΑΝΤΩΝΟΠΟΥΛΟΣ - ΚΑΖΑΝΤΖΗΣ"},{"$f":"IF(OR(C18=\"\",E18=\"\"),\" \",\"-\")","v":"-"},{"$f":"MD!L9 & \" - \" & MD!L10","v":" - "}]
[null,{"$f":"Setup!$B$7","v":"Αγόρια Δ"},{"$f":"MD!L13 & \" - \" & MD!L14","v":" - "},{"$f":"IF(OR(C19=\"\",E19=\"\"),\" \",\"-\")","v":"-"},{"$f":"MD!L17 & \" - \" & MD!L18","v":" - "}]
[null,{"$f":"Setup!$B$7","v":"Αγόρια Δ"},{"$f":"MD!L21 & \" - \" & MD!L22","v":" - "},{"$f":"IF(OR(C20=\"\",E20=\"\"),\" \",\"-\")","v":"-"},{"$f":"MD!L25 & \" - \" & MD!L26","v":" - "}]
[null,{"$f":"Setup!$B$7","v":"Αγόρια Δ"},{"$f":"MD!L29 & \" - \" & MD!L30","v":" - "},{"$f":"IF(OR(C21=\"\",E21=\"\"),\" \",\"-\")","v":"-"},{"$f":"MD!L33 & \" - \" & MD!L34","v":" - "}]
[]
[]
[]
[" Don't Change this Worksheet !"]

{"sheet":"tmp","index":7,"n_rows":65,"n_cols":24,"rows_kept":65,"cut":false,"hidden":false,"merged":[[31,9,33,9],[31,16,33,16],[20,8,22,8],[20,16,22,16],[25,9,25,22],[26,9,26,10],[26,16,26,17],[27,9,30,9],[27,16,30,16],[11,8,11,23],[12,16,12,17],[13,8,16,8],[13,16,16,16],[17,8,19,8],[17,16,19,16],[0,8,0,23],[1,16,1,17],[2,8,5,8],[2,16,5,16],[6,8,8,8],[6,16,8,16]]}
["RndIndx","random","FixRandom",null,null,null,null,null,"ΠΡΟΚΡΙΜΑΤΙΚΑ E1, E2 (32 για 8)"]
[1,{"$f":"RAND()/22","v":2.8407327288257213E-2},4.3046994674434763E-2,null,null,null,null,null,null,null,"17-32","9-16","5-8","3-4","2ος","1ος",null,null,"17-32","9-16","5-8","3-4","2ος","1ος"]
[2,{"$f":"RAND()/22","v":2.7357710071823294E-2},3.8442504627631345E-2,null,null,null,null,null,"E1","E1-12",1.5,2,2,0,0,0,"E1","E1-12",1.5,0.5,0,0,0,0]
[3,{"$f":"RAND()/22","v":2.1876104400835115E-2},2.737359674750417E-2,null,null,null,null,null,null,"E1-14",3,4,4,0,0,0,null,"E1-14",3,1,0,0,0,0]
[4,{"$f":"RAND()/22","v":1.612948892825555E-2},2.9524581948367944E-2,null,null,null,null,null,null,"E1-16",6,8,8,0,0,0,null,"E1-16",6,2,0,0,0,0]
[5,2.7425361005921998E-2,1.6222924282678958E-3,null,null,null,null,null,null,"E1-18",7.5,10,10,0,0,0,null,"E1-18",7.5,2.5,0,0,0,0]
[6,3.3100849208501273E-2,4.0696027380390423E-2,null,null,null,null,null,"E2","E2-12",0.5,1,1,0,0,0,"E2","E2-12",0.5,0.5,0,0,0,0]
[7,4.3693460723209607E-2,1.8883382916195936E-2,null,null,null,null,null,null,"E2-14",1,2,2,0,0,0,null,"E2-14",1,1,0,0,0,0]
[8,4.489917119443596E-3,3.2043364800093073E-2,null,null,null,null,null,null,"E2-16",2,4,4,0,0,0,null,"E2-16",2,2,0,0,0,0]
[9,2.6184031017887546E-2,2.2323415892039181E-2]
[10,1.3056513664590557E-2,2.2875343804069918E-2]
[11,2.6671368415721094E-2,4.4180843317665024E-2,null,null,null,null,null,"ΚΥΡΙΩΣ ΤΑΜΠΛΟ E1, E2 & E3"]
[12,2.7746901634208919E-2,1.5451203545017035E-2,null,null,null,null,null,null,null,"17-32","9-16","5-8","3-4","2ος","1ος",null,null,"17-32","9-16","5-8","3-4","2ος","1ος"]
[13,9.9630092168294252E-4,2.3870636546600862E-2,null,null,null,null,null,"E1","E1-12",5,7.5,10,15,25,30,"E1","E1-12",5,2.5,2.5,5,10,5]
[14,2.218825303715595E-2,2.7540076643545772E-2,null,null,null,null,null,null,"E1-14",10,15,20,30,50,60,null,"E1-14",10,5,5,10,20,10]
[15,1.7200392547664648E-2,4.8960349210016981E-3,null,null,null,null,null,null,"E1-16",20,30,40,60,100,120,null,"E1-16",20,10,10,20,40,20]
[16,4.164377888175233E-2,2.3684350295179256E-2,null,null,null,null,null,null,"E1-18",25,37.5,50,75,125,150,null,"E1-18",25,12.5,12.5,25,50,25]
[17,3.7562072898791724E-3,2.350668911581557E-2,null,null,null,null,null,"E2","E2-12",2.5,4,5,7.5,12.5,15,"E2","E2-12",2.5,1.5,1,2.5,5,2.5]
[18,3.1140204505866187E-3,2.5025714865064611E-2,null,null,null,null,null,null,"E2-14",5,8,10,15,25,30,null,"E2-14",5,3,2,5,10,5]
[19,3.9752995411214666E-2,1.1534014262796271E-2,null,null,null,null,null,null,"E2-16",10,16,20,30,50,60,null,"E2-16",10,6,4,10,20,10]
[20,2.083123201536359E-2,4.1536414400533524E-2,null,null,null,null,null,"E3","E3-12",1,1.5,2,3,5,6,"E3","E3-12",1,0.5,0.5,1,2,1]
[21,7.3880431192592045E-3,4.5018844128656733E-2,null,null,null,null,null,null,"E3-14",2,3,4,6,10,12,null,"E3-14",2,1,1,2,4,2]
[22,3.0822311653637125E-2,6.0902378980023575E-3,null,null,null,null,null,null,"E3-16",4,6,8,12,20,24,null,"E3-16",4,2,2,4,8,4]
[23,4.1771554441300367E-2,3.0231680078730339E-2]
[24,4.7645840910430582E-3,2.0770348360372778E-2]
[25,1.7825027815131976E-2,1.4350102491623657E-2,null,null,null,null,null,null,"ΔΙΠΛΑ E1, E2"]
[26,2.7821326515133471E-2,4.5204183025610578E-2,null,null,null,null,null,null,null,null,"9-16","5-8","3-4","2ος","1ος",null,null,"9-16","5-8","3-4","2ος","1ος"]
[27,3.9794015001251376E-2,2.9726979444727079E-2,null,null,null,null,null,null,"E1","E1-12",2,2.5,4,6.5,7.5,"E1","E1-12",2,0.5,1.5,2.5,1]
[28,4.4417388839678745E-2,1.8028974920907746E-2,null,null,null,null,null,null,null,"E1-14",4,5,8,13,15,null,"E1-14",4,1,3,5,2]
[29,4.3976409283716822E-2,1.2335421602063901E-2,null,null,null,null,null,null,null,"E1-16",8,10,16,26,30,null,"E1-16",8,2,6,10,4]
[30,7.3348652082021867E-3,3.7369964887333885E-2,null,null,null,null,null,null,null,"E1-18",10,12.5,20,32.5,37.5,null,"E1-18",10,2.5,7.5,13,4.5]
[31,2.9875339509805022E-2,1.7833102273610901E-2,null,null,null,null,null,null,"E2","E2-12",1,1.5,2,3,4,"E2","E2-12",1,0.5,0.5,1,1]
[32,1.1066849322094664E-2,1.3060717574681363E-2,null,null,null,null,null,null,null,"E2-14",2,3,4,6,8,null,"E2-14",2,1,1,2,2]
[33,2.9400574674537203E-2,4.0208066913276297E-3,null,null,null,null,null,null,null,"E2-16",4,6,8,12,16,null,"E2-16",4,2,2,4,4]
[34,4.4395659940141073E-2,2.1022684789879988E-2]
[35,7.355643812181345E-4,2.582258453289428E-2]
[36,1.0997367708919943E-2,5.6456619147566426E-3]
[37,3.4301063950094527E-3,2.4676337176553344E-2]
[38,1.2377970777740581E-2,1.372744888606277E-2]
[39,4.2790833471103906E-2,4.034316701487594E-2]
[40,2.0491690436710772E-2,3.0788668425629977E-3]
[41,1.7628075954048604E-2,1.9136643974335756E-2]
[42,1.6171211310378887E-2,1.1578193483256333E-2]
[43,1.0178189600826433E-2,2.8481875116145142E-2]
[44,1.9286538095502777E-3,1.6305170620223863E-2]
[45,3.4726228251107265E-2,1.5928447461374864E-2]
[46,3.7921618112065928E-3,3.329370880670874E-2]
[47,2.6146438657880557E-2,7.2694471692256587E-3]
[48,1.1543782597893116E-2,4.4294951849488486E-2]
[49,1.1484859482327026E-2,2.6055571552962432E-2]
[50,1.4788111771943946E-3,3.2754986314108218E-2]
[51,9.5523454110684591E-3,1.6362984056781313E-2]
[52,1.5129077006449893E-3,4.0850174876528401E-2]
[53,3.7981885660674973E-2,2.2502996454758908E-2]
[54,2.5201328115740183E-2,1.6513493341675976E-2]
[55,1.5985709420093475E-2,2.7329157024081189E-3]
[56,4.2834507739121057E-2,2.908420074184984E-2]
[57,5.4558269602532732E-3,3.232444921562707E-2]
[58,3.6869463532691077E-2,6.8680513858873082E-3]
[59,2.4944666567090046E-2,3.3765820716472626E-2]
[60,1.8143513274508239E-2,2.5137572336648484E-2]
[61,4.1944230596430376E-2,3.7374031055920721E-2]
[62,1.471514900083435E-2,8.5377606832873661E-3]
[63,3.8903569533803382E-2,1.3846898521116485E-2]
[64,3.9893838013946088E-2,1.0265219650224401E-2]