{"text_format":"1","workbook":"xlsx","n_sheets":2,"sheets":["Setup","DB"],"not_rendered":{"charts":0,"images":0,"macros":0,"external_links":1,"defined_names":3,"comments":0,"pivot_tables":0},"unopened":[],"bounds":{"document_bytes":16777216,"sheet_cells":100000,"rows_first":2000,"rows_last":500,"rows_between":2000,"halvings":0,"cell_chars":16384,"cell_head_chars":4096},"cells_cut":0,"cells_raw":0,"read":"whole","date_system":"1900"}

{"sheet":"Setup","index":0,"n_rows":15,"n_cols":3,"rows_kept":15,"cut":false,"hidden":false,"merged":[[0,0,0,2],[6,0,6,2]]}
["ΦΟΡΜΑ ΔΗΛΩΣΗΣ ΣΥΜΜΕΤΟΧΗΣ"]
["ΕΤΟΣ: ",2016]
["ΤΟΥΡΝΟΥΑ: ","1ο Ε1"]
["ΠΕΡΙΟΔΟΣ: ","26/2-2/3/2016"]
[]
[]
["ΣΥΝΤΟΜΕΥΣΕΙΣ"]
["ΠΑΠ","ΑΟΑ ΠΑΠΑΓΟΥ","b12, g12"]
["ΓΛΥ","ΟΑ ΓΛΥΦΑΔΑΣ","b14, g14, b18, g18"]
["ΗΛΙ","ΑΟΑ ΗΛΙΟΥΠΟΛΗΣ","b16, g16"]
[]
[]
[]
[]
["Καταχωρείτε μόνο στις κίτρινες στήλες, στο Φύλλο που ακολουθεί (DB)"]

{"sheet":"DB","index":1,"n_rows":607,"n_cols":13,"rows_kept":607,"cut":false,"hidden":false,"merged":[[0,3,0,12]]}
[null,null,null,"ΦΟΡΜΑ ΔΗΛΩΣΗΣ ΣΥΜΜΕΤΟΧΗΣ ΣΤΟ1ο Ε1"]
[null,null,null,"ΗΜΕΡΟΜΗΝΙΑ","26 /2 - 2/3/2016"]
[null,null,null,"ΣΥΝΤΟΜΕΥΣΕΙΣ","ΠΑΠ b12 - g12  (ΑΟΑ ΠΑΠΑΓΟΥ)"]
[null,null,null,null,"ΓΛΥ b14 - g14 - b18 - g18 (ΟΑ ΓΛΥΦΑΔΑΣ)"]
[null,null,null,null,"ΗΛΙ b16 - g16 (ΑΟΑ ΗΛΙΟΥΠΟΛΗΣ)"]
[]
["#","α/α","Α.Μ.","Ονοματεπώνυμο","Σύλλογος","Βαθμοί","Έτος","Πόλη1","Κτγ1","Πόλη2","Κτγ2","Πόλη3","Κτγ3"]
[1,{"$f":"IF(H8&I8=H7&I7,B7+1,1)","v":1},null,{"$f":"IF($C8>0,VLOOKUP($C8,[1]Μητρώο!$A:$F,3,FALSE),\"\")","v":""},{"$f":"IF($C8>0,VLOOKUP($C8,[1]Μητρώο!$A:$F,5,FALSE),\"\")","v":""},{"$f":"IF(COUNTIF([1]Rankings!$B:$B,RIGHT($I8,2)&\"-\"&$C8)>0,IF($C8>0,VLOOKUP(RIGHT($I8,2)&\"-\"&$C8,[1]Rankings!$B:$H,7,FALSE),\"\"),0)","v":0},{"$f":"IF($C8>0,VLOOKUP($C8,[1]Μητρώο!$A:$F,4,FALSE),\"\")","v":""}]
[2,2,null,{"$f":"IF($C9>0,VLOOKUP($C9,[1]Μητρώο!$A:$F,3,FALSE),\"\")","v":""},{"$f":"IF($C9>0,VLOOKUP($C9,[1]Μητρώο!$A:$F,5,FALSE),\"\")","v":""},{"$f":"IF(COUNTIF([1]Rankings!$B:$B,RIGHT($I9,2)&\"-\"&$C9)>0,IF($C9>0,VLOOKUP(RIGHT($I9,2)&\"-\"&$C9,[1]Rankings!$B:$H,7,FALSE),\"\"),0)","v":0},{"$f":"IF($C9>0,VLOOKUP($C9,[1]Μητρώο!$A:$F,4,FALSE),\"\")","v":""}]
[3,3,null,{"$f":"IF($C10>0,VLOOKUP($C10,[1]Μητρώο!$A:$F,3,FALSE),\"\")","v":""},{"$f":"IF($C10>0,VLOOKUP($C10,[1]Μητρώο!$A:$F,5,FALSE),\"\")","v":""},{"$f":"IF(COUNTIF([1]Rankings!$B:$B,RIGHT($I10,2)&\"-\"&$C10)>0,IF($C10>0,VLOOKUP(RIGHT($I10,2)&\"-\"&$C10,[1]Rankings!$B:$H,7,FALSE),\"\"),0)","v":0},{"$f":"IF($C10>0,VLOOKUP($C10,[1]Μητρώο!$A:$F,4,FALSE),\"\")","v":""}]
[4,4,null,{"$f":"IF($C11>0,VLOOKUP($C11,[1]Μητρώο!$A:$F,3,FALSE),\"\")","v":""},{"$f":"IF($C11>0,VLOOKUP($C11,[1]Μητρώο!$A:$F,5,FALSE),\"\")","v":""},{"$f":"IF(COUNTIF([1]Rankings!$B:$B,RIGHT($I11,2)&\"-\"&$C11)>0,IF($C11>0,VLOOKUP(RIGHT($I11,2)&\"-\"&$C11,[1]Rankings!$B:$H,7,FALSE),\"\"),0)","v":0},{"$f":"IF($C11>0,VLOOKUP($C11,[1]Μητρώο!$A:$F,4,FALSE),\"\")","v":""}]
[5,5,null,{"$f":"IF($C12>0,VLOOKUP($C12,[1]Μητρώο!$A:$F,3,FALSE),\"\")","v":""},{"$f":"IF($C12>0,VLOOKUP($C12,[1]Μητρώο!$A:$F,5,FALSE),\"\")","v":""},{"$f":"IF(COUNTIF([1]Rankings!$B:$B,RIGHT($I12,2)&\"-\"&$C12)>0,IF($C12>0,VLOOKUP(RIGHT($I12,2)&\"-\"&$C12,[1]Rankings!$B:$H,7,FALSE),\"\"),0)","v":0},{"$f":"IF($C12>0,VLOOKUP($C12,[1]Μητρώο!$A:$F,4,FALSE),\"\")","v":""}]
[6,6,null,{"$f":"IF($C13>0,VLOOKUP($C13,[1]Μητρώο!$A:$F,3,FALSE),\"\")","v":""},{"$f":"IF($C13>0,VLOOKUP($C13,[1]Μητρώο!$A:$F,5,FALSE),\"\")","v":""},{"$f":"IF(COUNTIF([1]Rankings!$B:$B,RIGHT($I13,2)&\"-\"&$C13)>0,IF($C13>0,VLOOKUP(RIGHT($I13,2)&\"-\"&$C13,[1]Rankings!$B:$H,7,FALSE),\"\"),0)","v":0},{"$f":"IF($C13>0,VLOOKUP($C13,[1]Μητρώο!$A:$F,4,FALSE),\"\")","v":""}]
[7,7,null,{"$f":"IF($C14>0,VLOOKUP($C14,[1]Μητρώο!$A:$F,3,FALSE),\"\")","v":""},{"$f":"IF($C14>0,VLOOKUP($C14,[1]Μητρώο!$A:$F,5,FALSE),\"\")","v":""},{"$f":"IF(COUNTIF([1]Rankings!$B:$B,RIGHT($I14,2)&\"-\"&$C14)>0,IF($C14>0,VLOOKUP(RIGHT($I14,2)&\"-\"&$C14,[1]Rankings!$B:$H,7,FALSE),\"\"),0)","v":0},{"$f":"IF($C14>0,VLOOKUP($C14,[1]Μητρώο!$A:$F,4,FALSE),\"\")","v":""}]
[8,8,null,{"$f":"IF($C15>0,VLOOKUP($C15,[1]Μητρώο!$A:$F,3,FALSE),\"\")","v":""},{"$f":"IF($C15>0,VLOOKUP($C15,[1]Μητρώο!$A:$F,5,FALSE),\"\")","v":""},{"$f":"IF(COUNTIF([1]Rankings!$B:$B,RIGHT($I15,2)&\"-\"&$C15)>0,IF($C15>0,VLOOKUP(RIGHT($I15,2)&\"-\"&$C15,[1]Rankings!$B:$H,7,FALSE),\"\"),0)","v":0},{"$f":"IF($C15>0,VLOOKUP($C15,[1]Μητρώο!$A:$F,4,FALSE),\"\")","v":""}]
[9,9,null,{"$f":"IF($C16>0,VLOOKUP($C16,[1]Μητρώο!$A:$F,3,FALSE),\"\")","v":""},{"$f":"IF($C16>0,VLOOKUP($C16,[1]Μητρώο!$A:$F,5,FALSE),\"\")","v":""},{"$f":"IF(COUNTIF([1]Rankings!$B:$B,RIGHT($I16,2)&\"-\"&$C16)>0,IF($C16>0,VLOOKUP(RIGHT($I16,2)&\"-\"&$C16,[1]Rankings!$B:$H,7,FALSE),\"\"),0)","v":0},{"$f":"IF($C16>0,VLOOKUP($C16,[1]Μητρώο!$A:$F,4,FALSE),\"\")","v":""}]
[10,10,null,{"$f":"IF($C17>0,VLOOKUP($C17,[1]Μητρώο!$A:$F,3,FALSE),\"\")","v":""},{"$f":"IF($C17>0,VLOOKUP($C17,[1]Μητρώο!$A:$F,5,FALSE),\"\")","v":""},{"$f":"IF(COUNTIF([1]Rankings!$B:$B,RIGHT($I17,2)&\"-\"&$C17)>0,IF($C17>0,VLOOKUP(RIGHT($I17,2)&\"-\"&$C17,[1]Rankings!$B:$H,7,FALSE),\"\"),0)","v":0},{"$f":"IF($C17>0,VLOOKUP($C17,[1]Μητρώο!$A:$F,4,FALSE),\"\")","v":""}]
[11,11,null,{"$f":"IF($C18>0,VLOOKUP($C18,[1]Μητρώο!$A:$F,3,FALSE),\"\")","v":""},{"$f":"IF($C18>0,VLOOKUP($C18,[1]Μητρώο!$A:$F,5,FALSE),\"\")","v":""},{"$f":"IF(COUNTIF([1]Rankings!$B:$B,RIGHT($I18,2)&\"-\"&$C18)>0,IF($C18>0,VLOOKUP(RIGHT($I18,2)&\"-\"&$C18,[1]Rankings!$B:$H,7,FALSE),\"\"),0)","v":0},{"$f":"IF($C18>0,VLOOKUP($C18,[1]Μητρώο!$A:$F,4,FALSE),\"\")","v":""}]
[12,12,null,{"$f":"IF($C19>0,VLOOKUP($C19,[1]Μητρώο!$A:$F,3,FALSE),\"\")","v":""},{"$f":"IF($C19>0,VLOOKUP($C19,[1]Μητρώο!$A:$F,5,FALSE),\"\")","v":""},{"$f":"IF(COUNTIF([1]Rankings!$B:$B,RIGHT($I19,2)&\"-\"&$C19)>0,IF($C19>0,VLOOKUP(RIGHT($I19,2)&\"-\"&$C19,[1]Rankings!$B:$H,7,FALSE),\"\"),0)","v":0},{"$f":"IF($C19>0,VLOOKUP($C19,[1]Μητρώο!$A:$F,4,FALSE),\"\")","v":""}]
[13,13,null,{"$f":"IF($C20>0,VLOOKUP($C20,[1]Μητρώο!$A:$F,3,FALSE),\"\")","v":""},{"$f":"IF($C20>0,VLOOKUP($C20,[1]Μητρώο!$A:$F,5,FALSE),\"\")","v":""},{"$f":"IF(COUNTIF([1]Rankings!$B:$B,RIGHT($I20,2)&\"-\"&$C20)>0,IF($C20>0,VLOOKUP(RIGHT($I20,2)&\"-\"&$C20,[1]Rankings!$B:$H,7,FALSE),\"\"),0)","v":0},{"$f":"IF($C20>0,VLOOKUP($C20,[1]Μητρώο!$A:$F,4,FALSE),\"\")","v":""}]
[14,14,null,{"$f":"IF($C21>0,VLOOKUP($C21,[1]Μητρώο!$A:$F,3,FALSE),\"\")","v":""},{"$f":"IF($C21>0,VLOOKUP($C21,[1]Μητρώο!$A:$F,5,FALSE),\"\")","v":""},{"$f":"IF(COUNTIF([1]Rankings!$B:$B,RIGHT($I21,2)&\"-\"&$C21)>0,IF($C21>0,VLOOKUP(RIGHT($I21,2)&\"-\"&$C21,[1]Rankings!$B:$H,7,FALSE),\"\"),0)","v":0},{"$f":"IF($C21>0,VLOOKUP($C21,[1]Μητρώο!$A:$F,4,FALSE),\"\")","v":""}]
[15,15,null,{"$f":"IF($C22>0,VLOOKUP($C22,[1]Μητρώο!$A:$F,3,FALSE),\"\")","v":""},{"$f":"IF($C22>0,VLOOKUP($C22,[1]Μητρώο!$A:$F,5,FALSE),\"\")","v":""},{"$f":"IF(COUNTIF([1]Rankings!$B:$B,RIGHT($I22,2)&\"-\"&$C22)>0,IF($C22>0,VLOOKUP(RIGHT($I22,2)&\"-\"&$C22,[1]Rankings!$B:$H,7,FALSE),\"\"),0)","v":0},{"$f":"IF($C22>0,VLOOKUP($C22,[1]Μητρώο!$A:$F,4,FALSE),\"\")","v":""}]
[16,16,null,{"$f":"IF($C23>0,VLOOKUP($C23,[1]Μητρώο!$A:$F,3,FALSE),\"\")","v":""},{"$f":"IF($C23>0,VLOOKUP($C23,[1]Μητρώο!$A:$F,5,FALSE),\"\")","v":""},{"$f":"IF(COUNTIF([1]Rankings!$B:$B,RIGHT($I23,2)&\"-\"&$C23)>0,IF($C23>0,VLOOKUP(RIGHT($I23,2)&\"-\"&$C23,[1]Rankings!$B:$H,7,FALSE),\"\"),0)","v":0},{"$f":"IF($C23>0,VLOOKUP($C23,[1]Μητρώο!$A:$F,4,FALSE),\"\")","v":""}]
[17,17,null,{"$f":"IF($C24>0,VLOOKUP($C24,[1]Μητρώο!$A:$F,3,FALSE),\"\")","v":""},{"$f":"IF($C24>0,VLOOKUP($C24,[1]Μητρώο!$A:$F,5,FALSE),\"\")","v":""},{"$f":"IF(COUNTIF([1]Rankings!$B:$B,RIGHT($I24,2)&\"-\"&$C24)>0,IF($C24>0,VLOOKUP(RIGHT($I24,2)&\"-\"&$C24,[1]Rankings!$B:$H,7,FALSE),\"\"),0)","v":0},{"$f":"IF($C24>0,VLOOKUP($C24,[1]Μητρώο!$A:$F,4,FALSE),\"\")","v":""}]
[18,18,null,{"$f":"IF($C25>0,VLOOKUP($C25,[1]Μητρώο!$A:$F,3,FALSE),\"\")","v":""},{"$f":"IF($C25>0,VLOOKUP($C25,[1]Μητρώο!$A:$F,5,FALSE),\"\")","v":""},{"$f":"IF(COUNTIF([1]Rankings!$B:$B,RIGHT($I25,2)&\"-\"&$C25)>0,IF($C25>0,VLOOKUP(RIGHT($I25,2)&\"-\"&$C25,[1]Rankings!$B:$H,7,FALSE),\"\"),0)","v":0},{"$f":"IF($C25>0,VLOOKUP($C25,[1]Μητρώο!$A:$F,4,FALSE),\"\")","v":""}]
[19,19,null,{"$f":"IF($C26>0,VLOOKUP($C26,[1]Μητρώο!$A:$F,3,FALSE),\"\")","v":""},{"$f":"IF($C26>0,VLOOKUP($C26,[1]Μητρώο!$A:$F,5,FALSE),\"\")","v":""},{"$f":"IF(COUNTIF([1]Rankings!$B:$B,RIGHT($I26,2)&\"-\"&$C26)>0,IF($C26>0,VLOOKUP(RIGHT($I26,2)&\"-\"&$C26,[1]Rankings!$B:$H,7,FALSE),\"\"),0)","v":0},{"$f":"IF($C26>0,VLOOKUP($C26,[1]Μητρώο!$A:$F,4,FALSE),\"\")","v":""}]
[20,20,null,{"$f":"IF($C27>0,VLOOKUP($C27,[1]Μητρώο!$A:$F,3,FALSE),\"\")","v":""},{"$f":"IF($C27>0,VLOOKUP($C27,[1]Μητρώο!$A:$F,5,FALSE),\"\")","v":""},{"$f":"IF(COUNTIF([1]Rankings!$B:$B,RIGHT($I27,2)&\"-\"&$C27)>0,IF($C27>0,VLOOKUP(RIGHT($I27,2)&\"-\"&$C27,[1]Rankings!$B:$H,7,FALSE),\"\"),0)","v":0},{"$f":"IF($C27>0,VLOOKUP($C27,[1]Μητρώο!$A:$F,4,FALSE),\"\")","v":""}]
[21,21,null,{"$f":"IF($C28>0,VLOOKUP($C28,[1]Μητρώο!$A:$F,3,FALSE),\"\")","v":""},{"$f":"IF($C28>0,VLOOKUP($C28,[1]Μητρώο!$A:$F,5,FALSE),\"\")","v":""},{"$f":"IF(COUNTIF([1]Rankings!$B:$B,RIGHT($I28,2)&\"-\"&$C28)>0,IF($C28>0,VLOOKUP(RIGHT($I28,2)&\"-\"&$C28,[1]Rankings!$B:$H,7,FALSE),\"\"),0)","v":0},{"$f":"IF($C28>0,VLOOKUP($C28,[1]Μητρώο!$A:$F,4,FALSE),\"\")","v":""}]
[22,22,null,{"$f":"IF($C29>0,VLOOKUP($C29,[1]Μητρώο!$A:$F,3,FALSE),\"\")","v":""},{"$f":"IF($C29>0,VLOOKUP($C29,[1]Μητρώο!$A:$F,5,FALSE),\"\")","v":""},{"$f":"IF(COUNTIF([1]Rankings!$B:$B,RIGHT($I29,2)&\"-\"&$C29)>0,IF($C29>0,VLOOKUP(RIGHT($I29,2)&\"-\"&$C29,[1]Rankings!$B:$H,7,FALSE),\"\"),0)","v":0},{"$f":"IF($C29>0,VLOOKUP($C29,[1]Μητρώο!$A:$F,4,FALSE),\"\")","v":""}]
[23,23,null,{"$f":"IF($C30>0,VLOOKUP($C30,[1]Μητρώο!$A:$F,3,FALSE),\"\")","v":""},{"$f":"IF($C30>0,VLOOKUP($C30,[1]Μητρώο!$A:$F,5,FALSE),\"\")","v":""},{"$f":"IF(COUNTIF([1]Rankings!$B:$B,RIGHT($I30,2)&\"-\"&$C30)>0,IF($C30>0,VLOOKUP(RIGHT($I30,2)&\"-\"&$C30,[1]Rankings!$B:$H,7,FALSE),\"\"),0)","v":0},{"$f":"IF($C30>0,VLOOKUP($C30,[1]Μητρώο!$A:$F,4,FALSE),\"\")","v":""}]
[24,24,null,{"$f":"IF($C31>0,VLOOKUP($C31,[1]Μητρώο!$A:$F,3,FALSE),\"\")","v":""},{"$f":"IF($C31>0,VLOOKUP($C31,[1]Μητρώο!$A:$F,5,FALSE),\"\")","v":""},{"$f":"IF(COUNTIF([1]Rankings!$B:$B,RIGHT($I31,2)&\"-\"&$C31)>0,IF($C31>0,VLOOKUP(RIGHT($I31,2)&\"-\"&$C31,[1]Rankings!$B:$H,7,FALSE),\"\"),0)","v":0},{"$f":"IF($C31>0,VLOOKUP($C31,[1]Μητρώο!$A:$F,4,FALSE),\"\")","v":""}]
[25,25,null,{"$f":"IF($C32>0,VLOOKUP($C32,[1]Μητρώο!$A:$F,3,FALSE),\"\")","v":""},{"$f":"IF($C32>0,VLOOKUP($C32,[1]Μητρώο!$A:$F,5,FALSE),\"\")","v":""},{"$f":"IF(COUNTIF([1]Rankings!$B:$B,RIGHT($I32,2)&\"-\"&$C32)>0,IF($C32>0,VLOOKUP(RIGHT($I32,2)&\"-\"&$C32,[1]Rankings!$B:$H,7,FALSE),\"\"),0)","v":0},{"$f":"IF($C32>0,VLOOKUP($C32,[1]Μητρώο!$A:$F,4,FALSE),\"\")","v":""}]
[26,26,null,{"$f":"IF($C33>0,VLOOKUP($C33,[1]Μητρώο!$A:$F,3,FALSE),\"\")","v":""},{"$f":"IF($C33>0,VLOOKUP($C33,[1]Μητρώο!$A:$F,5,FALSE),\"\")","v":""},{"$f":"IF(COUNTIF([1]Rankings!$B:$B,RIGHT($I33,2)&\"-\"&$C33)>0,IF($C33>0,VLOOKUP(RIGHT($I33,2)&\"-\"&$C33,[1]Rankings!$B:$H,7,FALSE),\"\"),0)","v":0},{"$f":"IF($C33>0,VLOOKUP($C33,[1]Μητρώο!$A:$F,4,FALSE),\"\")","v":""}]
[27,27,null,{"$f":"IF($C34>0,VLOOKUP($C34,[1]Μητρώο!$A:$F,3,FALSE),\"\")","v":""},{"$f":"IF($C34>0,VLOOKUP($C34,[1]Μητρώο!$A:$F,5,FALSE),\"\")","v":""},{"$f":"IF(COUNTIF([1]Rankings!$B:$B,RIGHT($I34,2)&\"-\"&$C34)>0,IF($C34>0,VLOOKUP(RIGHT($I34,2)&\"-\"&$C34,[1]Rankings!$B:$H,7,FALSE),\"\"),0)","v":0},{"$f":"IF($C34>0,VLOOKUP($C34,[1]Μητρώο!$A:$F,4,FALSE),\"\")","v":""}]
[28,28,null,{"$f":"IF($C35>0,VLOOKUP($C35,[1]Μητρώο!$A:$F,3,FALSE),\"\")","v":""},{"$f":"IF($C35>0,VLOOKUP($C35,[1]Μητρώο!$A:$F,5,FALSE),\"\")","v":""},{"$f":"IF(COUNTIF([1]Rankings!$B:$B,RIGHT($I35,2)&\"-\"&$C35)>0,IF($C35>0,VLOOKUP(RIGHT($I35,2)&\"-\"&$C35,[1]Rankings!$B:$H,7,FALSE),\"\"),0)","v":0},{"$f":"IF($C35>0,VLOOKUP($C35,[1]Μητρώο!$A:$F,4,FALSE),\"\")","v":""}]
[29,29,null,{"$f":"IF($C36>0,VLOOKUP($C36,[1]Μητρώο!$A:$F,3,FALSE),\"\")","v":""},{"$f":"IF($C36>0,VLOOKUP($C36,[1]Μητρώο!$A:$F,5,FALSE),\"\")","v":""},{"$f":"IF(COUNTIF([1]Rankings!$B:$B,RIGHT($I36,2)&\"-\"&$C36)>0,IF($C36>0,VLOOKUP(RIGHT($I36,2)&\"-\"&$C36,[1]Rankings!$B:$H,7,FALSE),\"\"),0)","v":0},{"$f":"IF($C36>0,VLOOKUP($C36,[1]Μητρώο!$A:$F,4,FALSE),\"\")","v":""}]
[30,30,null,{"$f":"IF($C37>0,VLOOKUP($C37,[1]Μητρώο!$A:$F,3,FALSE),\"\")","v":""},{"$f":"IF($C37>0,VLOOKUP($C37,[1]Μητρώο!$A:$F,5,FALSE),\"\")","v":""},{"$f":"IF(COUNTIF([1]Rankings!$B:$B,RIGHT($I37,2)&\"-\"&$C37)>0,IF($C37>0,VLOOKUP(RIGHT($I37,2)&\"-\"&$C37,[1]Rankings!$B:$H,7,FALSE),\"\"),0)","v":0},{"$f":"IF($C37>0,VLOOKUP($C37,[1]Μητρώο!$A:$F,4,FALSE),\"\")","v":""}]
[31,31,null,{"$f":"IF($C38>0,VLOOKUP($C38,[1]Μητρώο!$A:$F,3,FALSE),\"\")","v":""},{"$f":"IF($C38>0,VLOOKUP($C38,[1]Μητρώο!$A:$F,5,FALSE),\"\")","v":""},{"$f":"IF(COUNTIF([1]Rankings!$B:$B,RIGHT($I38,2)&\"-\"&$C38)>0,IF($C38>0,VLOOKUP(RIGHT($I38,2)&\"-\"&$C38,[1]Rankings!$B:$H,7,FALSE),\"\"),0)","v":0},{"$f":"IF($C38>0,VLOOKUP($C38,[1]Μητρώο!$A:$F,4,FALSE),\"\")","v":""}]
[32,32,null,{"$f":"IF($C39>0,VLOOKUP($C39,[1]Μητρώο!$A:$F,3,FALSE),\"\")","v":""},{"$f":"IF($C39>0,VLOOKUP($C39,[1]Μητρώο!$A:$F,5,FALSE),\"\")","v":""},{"$f":"IF(COUNTIF([1]Rankings!$B:$B,RIGHT($I39,2)&\"-\"&$C39)>0,IF($C39>0,VLOOKUP(RIGHT($I39,2)&\"-\"&$C39,[1]Rankings!$B:$H,7,FALSE),\"\"),0)","v":0},{"$f":"IF($C39>0,VLOOKUP($C39,[1]Μητρώο!$A:$F,4,FALSE),\"\")","v":""}]
[33,33,null,{"$f":"IF($C40>0,VLOOKUP($C40,[1]Μητρώο!$A:$F,3,FALSE),\"\")","v":""},{"$f":"IF($C40>0,VLOOKUP($C40,[1]Μητρώο!$A:$F,5,FALSE),\"\")","v":""},{"$f":"IF(COUNTIF([1]Rankings!$B:$B,RIGHT($I40,2)&\"-\"&$C40)>0,IF($C40>0,VLOOKUP(RIGHT($I40,2)&\"-\"&$C40,[1]Rankings!$B:$H,7,FALSE),\"\"),0)","v":0},{"$f":"IF($C40>0,VLOOKUP($C40,[1]Μητρώο!$A:$F,4,FALSE),\"\")","v":""}]
[34,34,null,{"$f":"IF($C41>0,VLOOKUP($C41,[1]Μητρώο!$A:$F,3,FALSE),\"\")","v":""},{"$f":"IF($C41>0,VLOOKUP($C41,[1]Μητρώο!$A:$F,5,FALSE),\"\")","v":""},{"$f":"IF(COUNTIF([1]Rankings!$B:$B,RIGHT($I41,2)&\"-\"&$C41)>0,IF($C41>0,VLOOKUP(RIGHT($I41,2)&\"-\"&$C41,[1]Rankings!$B:$H,7,FALSE),\"\"),0)","v":0},{"$f":"IF($C41>0,VLOOKUP($C41,[1]Μητρώο!$A:$F,4,FALSE),\"\")","v":""}]
[35,35,null,{"$f":"IF($C42>0,VLOOKUP($C42,[1]Μητρώο!$A:$F,3,FALSE),\"\")","v":""},{"$f":"IF($C42>0,VLOOKUP($C42,[1]Μητρώο!$A:$F,5,FALSE),\"\")","v":""},{"$f":"IF(COUNTIF([1]Rankings!$B:$B,RIGHT($I42,2)&\"-\"&$C42)>0,IF($C42>0,VLOOKUP(RIGHT($I42,2)&\"-\"&$C42,[1]Rankings!$B:$H,7,FALSE),\"\"),0)","v":0},{"$f":"IF($C42>0,VLOOKUP($C42,[1]Μητρώο!$A:$F,4,FALSE),\"\")","v":""}]
[36,36,null,{"$f":"IF($C43>0,VLOOKUP($C43,[1]Μητρώο!$A:$F,3,FALSE),\"\")","v":""},{"$f":"IF($C43>0,VLOOKUP($C43,[1]Μητρώο!$A:$F,5,FALSE),\"\")","v":""},{"$f":"IF(COUNTIF([1]Rankings!$B:$B,RIGHT($I43,2)&\"-\"&$C43)>0,IF($C43>0,VLOOKUP(RIGHT($I43,2)&\"-\"&$C43,[1]Rankings!$B:$H,7,FALSE),\"\"),0)","v":0},{"$f":"IF($C43>0,VLOOKUP($C43,[1]Μητρώο!$A:$F,4,FALSE),\"\")","v":""}]
[37,37,null,{"$f":"IF($C44>0,VLOOKUP($C44,[1]Μητρώο!$A:$F,3,FALSE),\"\")","v":""},{"$f":"IF($C44>0,VLOOKUP($C44,[1]Μητρώο!$A:$F,5,FALSE),\"\")","v":""},{"$f":"IF(COUNTIF([1]Rankings!$B:$B,RIGHT($I44,2)&\"-\"&$C44)>0,IF($C44>0,VLOOKUP(RIGHT($I44,2)&\"-\"&$C44,[1]Rankings!$B:$H,7,FALSE),\"\"),0)","v":0},{"$f":"IF($C44>0,VLOOKUP($C44,[1]Μητρώο!$A:$F,4,FALSE),\"\")","v":""}]
[38,38,null,{"$f":"IF($C45>0,VLOOKUP($C45,[1]Μητρώο!$A:$F,3,FALSE),\"\")","v":""},{"$f":"IF($C45>0,VLOOKUP($C45,[1]Μητρώο!$A:$F,5,FALSE),\"\")","v":""},{"$f":"IF(COUNTIF([1]Rankings!$B:$B,RIGHT($I45,2)&\"-\"&$C45)>0,IF($C45>0,VLOOKUP(RIGHT($I45,2)&\"-\"&$C45,[1]Rankings!$B:$H,7,FALSE),\"\"),0)","v":0},{"$f":"IF($C45>0,VLOOKUP($C45,[1]Μητρώο!$A:$F,4,FALSE),\"\")","v":""}]
[39,39,null,{"$f":"IF($C46>0,VLOOKUP($C46,[1]Μητρώο!$A:$F,3,FALSE),\"\")","v":""},{"$f":"IF($C46>0,VLOOKUP($C46,[1]Μητρώο!$A:$F,5,FALSE),\"\")","v":""},{"$f":"IF(COUNTIF([1]Rankings!$B:$B,RIGHT($I46,2)&\"-\"&$C46)>0,IF($C46>0,VLOOKUP(RIGHT($I46,2)&\"-\"&$C46,[1]Rankings!$B:$H,7,FALSE),\"\"),0)","v":0},{"$f":"IF($C46>0,VLOOKUP($C46,[1]Μητρώο!$A:$F,4,FALSE),\"\")","v":""}]
[40,40,null,{"$f":"IF($C47>0,VLOOKUP($C47,[1]Μητρώο!$A:$F,3,FALSE),\"\")","v":""},{"$f":"IF($C47>0,VLOOKUP($C47,[1]Μητρώο!$A:$F,5,FALSE),\"\")","v":""},{"$f":"IF(COUNTIF([1]Rankings!$B:$B,RIGHT($I47,2)&\"-\"&$C47)>0,IF($C47>0,VLOOKUP(RIGHT($I47,2)&\"-\"&$C47,[1]Rankings!$B:$H,7,FALSE),\"\"),0)","v":0},{"$f":"IF($C47>0,VLOOKUP($C47,[1]Μητρώο!$A:$F,4,FALSE),\"\")","v":""}]
[41,41,null,{"$f":"IF($C48>0,VLOOKUP($C48,[1]Μητρώο!$A:$F,3,FALSE),\"\")","v":""},{"$f":"IF($C48>0,VLOOKUP($C48,[1]Μητρώο!$A:$F,5,FALSE),\"\")","v":""},{"$f":"IF(COUNTIF([1]Rankings!$B:$B,RIGHT($I48,2)&\"-\"&$C48)>0,IF($C48>0,VLOOKUP(RIGHT($I48,2)&\"-\"&$C48,[1]Rankings!$B:$H,7,FALSE),\"\"),0)","v":0},{"$f":"IF($C48>0,VLOOKUP($C48,[1]Μητρώο!$A:$F,4,FALSE),\"\")","v":""}]
[42,42,null,{"$f":"IF($C49>0,VLOOKUP($C49,[1]Μητρώο!$A:$F,3,FALSE),\"\")","v":""},{"$f":"IF($C49>0,VLOOKUP($C49,[1]Μητρώο!$A:$F,5,FALSE),\"\")","v":""},{"$f":"IF(COUNTIF([1]Rankings!$B:$B,RIGHT($I49,2)&\"-\"&$C49)>0,IF($C49>0,VLOOKUP(RIGHT($I49,2)&\"-\"&$C49,[1]Rankings!$B:$H,7,FALSE),\"\"),0)","v":0},{"$f":"IF($C49>0,VLOOKUP($C49,[1]Μητρώο!$A:$F,4,FALSE),\"\")","v":""}]
[43,43,null,{"$f":"IF($C50>0,VLOOKUP($C50,[1]Μητρώο!$A:$F,3,FALSE),\"\")","v":""},{"$f":"IF($C50>0,VLOOKUP($C50,[1]Μητρώο!$A:$F,5,FALSE),\"\")","v":""},{"$f":"IF(COUNTIF([1]Rankings!$B:$B,RIGHT($I50,2)&\"-\"&$C50)>0,IF($C50>0,VLOOKUP(RIGHT($I50,2)&\"-\"&$C50,[1]Rankings!$B:$H,7,FALSE),\"\"),0)","v":0},{"$f":"IF($C50>0,VLOOKUP($C50,[1]Μητρώο!$A:$F,4,FALSE),\"\")","v":""}]
[44,44,null,{"$f":"IF($C51>0,VLOOKUP($C51,[1]Μητρώο!$A:$F,3,FALSE),\"\")","v":""},{"$f":"IF($C51>0,VLOOKUP($C51,[1]Μητρώο!$A:$F,5,FALSE),\"\")","v":""},{"$f":"IF(COUNTIF([1]Rankings!$B:$B,RIGHT($I51,2)&\"-\"&$C51)>0,IF($C51>0,VLOOKUP(RIGHT($I51,2)&\"-\"&$C51,[1]Rankings!$B:$H,7,FALSE),\"\"),0)","v":0},{"$f":"IF($C51>0,VLOOKUP($C51,[1]Μητρώο!$A:$F,4,FALSE),\"\")","v":""}]
[45,45,null,{"$f":"IF($C52>0,VLOOKUP($C52,[1]Μητρώο!$A:$F,3,FALSE),\"\")","v":""},{"$f":"IF($C52>0,VLOOKUP($C52,[1]Μητρώο!$A:$F,5,FALSE),\"\")","v":""},{"$f":"IF(COUNTIF([1]Rankings!$B:$B,RIGHT($I52,2)&\"-\"&$C52)>0,IF($C52>0,VLOOKUP(RIGHT($I52,2)&\"-\"&$C52,[1]Rankings!$B:$H,7,FALSE),\"\"),0)","v":0},{"$f":"IF($C52>0,VLOOKUP($C52,[1]Μητρώο!$A:$F,4,FALSE),\"\")","v":""}]
[46,46,null,{"$f":"IF($C53>0,VLOOKUP($C53,[1]Μητρώο!$A:$F,3,FALSE),\"\")","v":""},{"$f":"IF($C53>0,VLOOKUP($C53,[1]Μητρώο!$A:$F,5,FALSE),\"\")","v":""},{"$f":"IF(COUNTIF([1]Rankings!$B:$B,RIGHT($I53,2)&\"-\"&$C53)>0,IF($C53>0,VLOOKUP(RIGHT($I53,2)&\"-\"&$C53,[1]Rankings!$B:$H,7,FALSE),\"\"),0)","v":0},{"$f":"IF($C53>0,VLOOKUP($C53,[1]Μητρώο!$A:$F,4,FALSE),\"\")","v":""}]
[47,47,null,{"$f":"IF($C54>0,VLOOKUP($C54,[1]Μητρώο!$A:$F,3,FALSE),\"\")","v":""},{"$f":"IF($C54>0,VLOOKUP($C54,[1]Μητρώο!$A:$F,5,FALSE),\"\")","v":""},{"$f":"IF(COUNTIF([1]Rankings!$B:$B,RIGHT($I54,2)&\"-\"&$C54)>0,IF($C54>0,VLOOKUP(RIGHT($I54,2)&\"-\"&$C54,[1]Rankings!$B:$H,7,FALSE),\"\"),0)","v":0},{"$f":"IF($C54>0,VLOOKUP($C54,[1]Μητρώο!$A:$F,4,FALSE),\"\")","v":""}]
[48,48,null,{"$f":"IF($C55>0,VLOOKUP($C55,[1]Μητρώο!$A:$F,3,FALSE),\"\")","v":""},{"$f":"IF($C55>0,VLOOKUP($C55,[1]Μητρώο!$A:$F,5,FALSE),\"\")","v":""},{"$f":"IF(COUNTIF([1]Rankings!$B:$B,RIGHT($I55,2)&\"-\"&$C55)>0,IF($C55>0,VLOOKUP(RIGHT($I55,2)&\"-\"&$C55,[1]Rankings!$B:$H,7,FALSE),\"\"),0)","v":0},{"$f":"IF($C55>0,VLOOKUP($C55,[1]Μητρώο!$A:$F,4,FALSE),\"\")","v":""}]
[49,49,null,{"$f":"IF($C56>0,VLOOKUP($C56,[1]Μητρώο!$A:$F,3,FALSE),\"\")","v":""},{"$f":"IF($C56>0,VLOOKUP($C56,[1]Μητρώο!$A:$F,5,FALSE),\"\")","v":""},{"$f":"IF(COUNTIF([1]Rankings!$B:$B,RIGHT($I56,2)&\"-\"&$C56)>0,IF($C56>0,VLOOKUP(RIGHT($I56,2)&\"-\"&$C56,[1]Rankings!$B:$H,7,FALSE),\"\"),0)","v":0},{"$f":"IF($C56>0,VLOOKUP($C56,[1]Μητρώο!$A:$F,4,FALSE),\"\")","v":""}]
[50,50,null,{"$f":"IF($C57>0,VLOOKUP($C57,[1]Μητρώο!$A:$F,3,FALSE),\"\")","v":""},{"$f":"IF($C57>0,VLOOKUP($C57,[1]Μητρώο!$A:$F,5,FALSE),\"\")","v":""},{"$f":"IF(COUNTIF([1]Rankings!$B:$B,RIGHT($I57,2)&\"-\"&$C57)>0,IF($C57>0,VLOOKUP(RIGHT($I57,2)&\"-\"&$C57,[1]Rankings!$B:$H,7,FALSE),\"\"),0)","v":0},{"$f":"IF($C57>0,VLOOKUP($C57,[1]Μητρώο!$A:$F,4,FALSE),\"\")","v":""}]
[51,51,null,{"$f":"IF($C58>0,VLOOKUP($C58,[1]Μητρώο!$A:$F,3,FALSE),\"\")","v":""},{"$f":"IF($C58>0,VLOOKUP($C58,[1]Μητρώο!$A:$F,5,FALSE),\"\")","v":""},{"$f":"IF(COUNTIF([1]Rankings!$B:$B,RIGHT($I58,2)&\"-\"&$C58)>0,IF($C58>0,VLOOKUP(RIGHT($I58,2)&\"-\"&$C58,[1]Rankings!$B:$H,7,FALSE),\"\"),0)","v":0},{"$f":"IF($C58>0,VLOOKUP($C58,[1]Μητρώο!$A:$F,4,FALSE),\"\")","v":""}]
[52,52,null,{"$f":"IF($C59>0,VLOOKUP($C59,[1]Μητρώο!$A:$F,3,FALSE),\"\")","v":""},{"$f":"IF($C59>0,VLOOKUP($C59,[1]Μητρώο!$A:$F,5,FALSE),\"\")","v":""},{"$f":"IF(COUNTIF([1]Rankings!$B:$B,RIGHT($I59,2)&\"-\"&$C59)>0,IF($C59>0,VLOOKUP(RIGHT($I59,2)&\"-\"&$C59,[1]Rankings!$B:$H,7,FALSE),\"\"),0)","v":0},{"$f":"IF($C59>0,VLOOKUP($C59,[1]Μητρώο!$A:$F,4,FALSE),\"\")","v":""}]
[53,53,null,{"$f":"IF($C60>0,VLOOKUP($C60,[1]Μητρώο!$A:$F,3,FALSE),\"\")","v":""},{"$f":"IF($C60>0,VLOOKUP($C60,[1]Μητρώο!$A:$F,5,FALSE),\"\")","v":""},{"$f":"IF(COUNTIF([1]Rankings!$B:$B,RIGHT($I60,2)&\"-\"&$C60)>0,IF($C60>0,VLOOKUP(RIGHT($I60,2)&\"-\"&$C60,[1]Rankings!$B:$H,7,FALSE),\"\"),0)","v":0},{"$f":"IF($C60>0,VLOOKUP($C60,[1]Μητρώο!$A:$F,4,FALSE),\"\")","v":""}]
[54,54,null,{"$f":"IF($C61>0,VLOOKUP($C61,[1]Μητρώο!$A:$F,3,FALSE),\"\")","v":""},{"$f":"IF($C61>0,VLOOKUP($C61,[1]Μητρώο!$A:$F,5,FALSE),\"\")","v":""},{"$f":"IF(COUNTIF([1]Rankings!$B:$B,RIGHT($I61,2)&\"-\"&$C61)>0,IF($C61>0,VLOOKUP(RIGHT($I61,2)&\"-\"&$C61,[1]Rankings!$B:$H,7,FALSE),\"\"),0)","v":0},{"$f":"IF($C61>0,VLOOKUP($C61,[1]Μητρώο!$A:$F,4,FALSE),\"\")","v":""}]
[55,55,null,{"$f":"IF($C62>0,VLOOKUP($C62,[1]Μητρώο!$A:$F,3,FALSE),\"\")","v":""},{"$f":"IF($C62>0,VLOOKUP($C62,[1]Μητρώο!$A:$F,5,FALSE),\"\")","v":""},{"$f":"IF(COUNTIF([1]Rankings!$B:$B,RIGHT($I62,2)&\"-\"&$C62)>0,IF($C62>0,VLOOKUP(RIGHT($I62,2)&\"-\"&$C62,[1]Rankings!$B:$H,7,FALSE),\"\"),0)","v":0},{"$f":"IF($C62>0,VLOOKUP($C62,[1]Μητρώο!$A:$F,4,FALSE),\"\")","v":""}]
[56,56,null,{"$f":"IF($C63>0,VLOOKUP($C63,[1]Μητρώο!$A:$F,3,FALSE),\"\")","v":""},{"$f":"IF($C63>0,VLOOKUP($C63,[1]Μητρώο!$A:$F,5,FALSE),\"\")","v":""},{"$f":"IF(COUNTIF([1]Rankings!$B:$B,RIGHT($I63,2)&\"-\"&$C63)>0,IF($C63>0,VLOOKUP(RIGHT($I63,2)&\"-\"&$C63,[1]Rankings!$B:$H,7,FALSE),\"\"),0)","v":0},{"$f":"IF($C63>0,VLOOKUP($C63,[1]Μητρώο!$A:$F,4,FALSE),\"\")","v":""}]
[57,57,null,{"$f":"IF($C64>0,VLOOKUP($C64,[1]Μητρώο!$A:$F,3,FALSE),\"\")","v":""},{"$f":"IF($C64>0,VLOOKUP($C64,[1]Μητρώο!$A:$F,5,FALSE),\"\")","v":""},{"$f":"IF(COUNTIF([1]Rankings!$B:$B,RIGHT($I64,2)&\"-\"&$C64)>0,IF($C64>0,VLOOKUP(RIGHT($I64,2)&\"-\"&$C64,[1]Rankings!$B:$H,7,FALSE),\"\"),0)","v":0},{"$f":"IF($C64>0,VLOOKUP($C64,[1]Μητρώο!$A:$F,4,FALSE),\"\")","v":""}]
[58,58,null,{"$f":"IF($C65>0,VLOOKUP($C65,[1]Μητρώο!$A:$F,3,FALSE),\"\")","v":""},{"$f":"IF($C65>0,VLOOKUP($C65,[1]Μητρώο!$A:$F,5,FALSE),\"\")","v":""},{"$f":"IF(COUNTIF([1]Rankings!$B:$B,RIGHT($I65,2)&\"-\"&$C65)>0,IF($C65>0,VLOOKUP(RIGHT($I65,2)&\"-\"&$C65,[1]Rankings!$B:$H,7,FALSE),\"\"),0)","v":0},{"$f":"IF($C65>0,VLOOKUP($C65,[1]Μητρώο!$A:$F,4,FALSE),\"\")","v":""}]
[59,59,null,{"$f":"IF($C66>0,VLOOKUP($C66,[1]Μητρώο!$A:$F,3,FALSE),\"\")","v":""},{"$f":"IF($C66>0,VLOOKUP($C66,[1]Μητρώο!$A:$F,5,FALSE),\"\")","v":""},{"$f":"IF(COUNTIF([1]Rankings!$B:$B,RIGHT($I66,2)&\"-\"&$C66)>0,IF($C66>0,VLOOKUP(RIGHT($I66,2)&\"-\"&$C66,[1]Rankings!$B:$H,7,FALSE),\"\"),0)","v":0},{"$f":"IF($C66>0,VLOOKUP($C66,[1]Μητρώο!$A:$F,4,FALSE),\"\")","v":""}]
[60,60,null,{"$f":"IF($C67>0,VLOOKUP($C67,[1]Μητρώο!$A:$F,3,FALSE),\"\")","v":""},{"$f":"IF($C67>0,VLOOKUP($C67,[1]Μητρώο!$A:$F,5,FALSE),\"\")","v":""},{"$f":"IF(COUNTIF([1]Rankings!$B:$B,RIGHT($I67,2)&\"-\"&$C67)>0,IF($C67>0,VLOOKUP(RIGHT($I67,2)&\"-\"&$C67,[1]Rankings!$B:$H,7,FALSE),\"\"),0)","v":0},{"$f":"IF($C67>0,VLOOKUP($C67,[1]Μητρώο!$A:$F,4,FALSE),\"\")","v":""}]
[61,61,null,{"$f":"IF($C68>0,VLOOKUP($C68,[1]Μητρώο!$A:$F,3,FALSE),\"\")","v":""},{"$f":"IF($C68>0,VLOOKUP($C68,[1]Μητρώο!$A:$F,5,FALSE),\"\")","v":""},{"$f":"IF(COUNTIF([1]Rankings!$B:$B,RIGHT($I68,2)&\"-\"&$C68)>0,IF($C68>0,VLOOKUP(RIGHT($I68,2)&\"-\"&$C68,[1]Rankings!$B:$H,7,FALSE),\"\"),0)","v":0},{"$f":"IF($C68>0,VLOOKUP($C68,[1]Μητρώο!$A:$F,4,FALSE),\"\")","v":""}]
[62,62,null,{"$f":"IF($C69>0,VLOOKUP($C69,[1]Μητρώο!$A:$F,3,FALSE),\"\")","v":""},{"$f":"IF($C69>0,VLOOKUP($C69,[1]Μητρώο!$A:$F,5,FALSE),\"\")","v":""},{"$f":"IF(COUNTIF([1]Rankings!$B:$B,RIGHT($I69,2)&\"-\"&$C69)>0,IF($C69>0,VLOOKUP(RIGHT($I69,2)&\"-\"&$C69,[1]Rankings!$B:$H,7,FALSE),\"\"),0)","v":0},{"$f":"IF($C69>0,VLOOKUP($C69,[1]Μητρώο!$A:$F,4,FALSE),\"\")","v":""}]
[63,63,null,{"$f":"IF($C70>0,VLOOKUP($C70,[1]Μητρώο!$A:$F,3,FALSE),\"\")","v":""},{"$f":"IF($C70>0,VLOOKUP($C70,[1]Μητρώο!$A:$F,5,FALSE),\"\")","v":""},{"$f":"IF(COUNTIF([1]Rankings!$B:$B,RIGHT($I70,2)&\"-\"&$C70)>0,IF($C70>0,VLOOKUP(RIGHT($I70,2)&\"-\"&$C70,[1]Rankings!$B:$H,7,FALSE),\"\"),0)","v":0},{"$f":"IF($C70>0,VLOOKUP($C70,[1]Μητρώο!$A:$F,4,FALSE),\"\")","v":""}]
[64,64,null,{"$f":"IF($C71>0,VLOOKUP($C71,[1]Μητρώο!$A:$F,3,FALSE),\"\")","v":""},{"$f":"IF($C71>0,VLOOKUP($C71,[1]Μητρώο!$A:$F,5,FALSE),\"\")","v":""},{"$f":"IF(COUNTIF([1]Rankings!$B:$B,RIGHT($I71,2)&\"-\"&$C71)>0,IF($C71>0,VLOOKUP(RIGHT($I71,2)&\"-\"&$C71,[1]Rankings!$B:$H,7,FALSE),\"\"),0)","v":0},{"$f":"IF($C71>0,VLOOKUP($C71,[1]Μητρώο!$A:$F,4,FALSE),\"\")","v":""}]
[65,{"$f":"IF(H72&I72=H71&I71,B71+1,1)","v":65},null,{"$f":"IF($C72>0,VLOOKUP($C72,[1]Μητρώο!$A:$F,3,FALSE),\"\")","v":""},{"$f":"IF($C72>0,VLOOKUP($C72,[1]Μητρώο!$A:$F,5,FALSE),\"\")","v":""},{"$f":"IF(COUNTIF([1]Rankings!$B:$B,RIGHT($I72,2)&\"-\"&$C72)>0,IF($C72>0,VLOOKUP(RIGHT($I72,2)&\"-\"&$C72,[1]Rankings!$B:$H,7,FALSE),\"\"),0)","v":0},{"$f":"IF($C72>0,VLOOKUP($C72,[1]Μητρώο!$A:$F,4,FALSE),\"\")","v":""}]
[66,66,null,{"$f":"IF($C73>0,VLOOKUP($C73,[1]Μητρώο!$A:$F,3,FALSE),\"\")","v":""},{"$f":"IF($C73>0,VLOOKUP($C73,[1]Μητρώο!$A:$F,5,FALSE),\"\")","v":""},{"$f":"IF(COUNTIF([1]Rankings!$B:$B,RIGHT($I73,2)&\"-\"&$C73)>0,IF($C73>0,VLOOKUP(RIGHT($I73,2)&\"-\"&$C73,[1]Rankings!$B:$H,7,FALSE),\"\"),0)","v":0},{"$f":"IF($C73>0,VLOOKUP($C73,[1]Μητρώο!$A:$F,4,FALSE),\"\")","v":""}]
[67,67,null,{"$f":"IF($C74>0,VLOOKUP($C74,[1]Μητρώο!$A:$F,3,FALSE),\"\")","v":""},{"$f":"IF($C74>0,VLOOKUP($C74,[1]Μητρώο!$A:$F,5,FALSE),\"\")","v":""},{"$f":"IF(COUNTIF([1]Rankings!$B:$B,RIGHT($I74,2)&\"-\"&$C74)>0,IF($C74>0,VLOOKUP(RIGHT($I74,2)&\"-\"&$C74,[1]Rankings!$B:$H,7,FALSE),\"\"),0)","v":0},{"$f":"IF($C74>0,VLOOKUP($C74,[1]Μητρώο!$A:$F,4,FALSE),\"\")","v":""}]
[68,68,null,{"$f":"IF($C75>0,VLOOKUP($C75,[1]Μητρώο!$A:$F,3,FALSE),\"\")","v":""},{"$f":"IF($C75>0,VLOOKUP($C75,[1]Μητρώο!$A:$F,5,FALSE),\"\")","v":""},{"$f":"IF(COUNTIF([1]Rankings!$B:$B,RIGHT($I75,2)&\"-\"&$C75)>0,IF($C75>0,VLOOKUP(RIGHT($I75,2)&\"-\"&$C75,[1]Rankings!$B:$H,7,FALSE),\"\"),0)","v":0},{"$f":"IF($C75>0,VLOOKUP($C75,[1]Μητρώο!$A:$F,4,FALSE),\"\")","v":""}]
[69,69,null,{"$f":"IF($C76>0,VLOOKUP($C76,[1]Μητρώο!$A:$F,3,FALSE),\"\")","v":""},{"$f":"IF($C76>0,VLOOKUP($C76,[1]Μητρώο!$A:$F,5,FALSE),\"\")","v":""},{"$f":"IF(COUNTIF([1]Rankings!$B:$B,RIGHT($I76,2)&\"-\"&$C76)>0,IF($C76>0,VLOOKUP(RIGHT($I76,2)&\"-\"&$C76,[1]Rankings!$B:$H,7,FALSE),\"\"),0)","v":0},{"$f":"IF($C76>0,VLOOKUP($C76,[1]Μητρώο!$A:$F,4,FALSE),\"\")","v":""}]
[70,70,null,{"$f":"IF($C77>0,VLOOKUP($C77,[1]Μητρώο!$A:$F,3,FALSE),\"\")","v":""},{"$f":"IF($C77>0,VLOOKUP($C77,[1]Μητρώο!$A:$F,5,FALSE),\"\")","v":""},{"$f":"IF(COUNTIF([1]Rankings!$B:$B,RIGHT($I77,2)&\"-\"&$C77)>0,IF($C77>0,VLOOKUP(RIGHT($I77,2)&\"-\"&$C77,[1]Rankings!$B:$H,7,FALSE),\"\"),0)","v":0},{"$f":"IF($C77>0,VLOOKUP($C77,[1]Μητρώο!$A:$F,4,FALSE),\"\")","v":""}]
[71,71,null,{"$f":"IF($C78>0,VLOOKUP($C78,[1]Μητρώο!$A:$F,3,FALSE),\"\")","v":""},{"$f":"IF($C78>0,VLOOKUP($C78,[1]Μητρώο!$A:$F,5,FALSE),\"\")","v":""},{"$f":"IF(COUNTIF([1]Rankings!$B:$B,RIGHT($I78,2)&\"-\"&$C78)>0,IF($C78>0,VLOOKUP(RIGHT($I78,2)&\"-\"&$C78,[1]Rankings!$B:$H,7,FALSE),\"\"),0)","v":0},{"$f":"IF($C78>0,VLOOKUP($C78,[1]Μητρώο!$A:$F,4,FALSE),\"\")","v":""}]
[72,72,null,{"$f":"IF($C79>0,VLOOKUP($C79,[1]Μητρώο!$A:$F,3,FALSE),\"\")","v":""},{"$f":"IF($C79>0,VLOOKUP($C79,[1]Μητρώο!$A:$F,5,FALSE),\"\")","v":""},{"$f":"IF(COUNTIF([1]Rankings!$B:$B,RIGHT($I79,2)&\"-\"&$C79)>0,IF($C79>0,VLOOKUP(RIGHT($I79,2)&\"-\"&$C79,[1]Rankings!$B:$H,7,FALSE),\"\"),0)","v":0},{"$f":"IF($C79>0,VLOOKUP($C79,[1]Μητρώο!$A:$F,4,FALSE),\"\")","v":""}]
[73,73,null,{"$f":"IF($C80>0,VLOOKUP($C80,[1]Μητρώο!$A:$F,3,FALSE),\"\")","v":""},{"$f":"IF($C80>0,VLOOKUP($C80,[1]Μητρώο!$A:$F,5,FALSE),\"\")","v":""},{"$f":"IF(COUNTIF([1]Rankings!$B:$B,RIGHT($I80,2)&\"-\"&$C80)>0,IF($C80>0,VLOOKUP(RIGHT($I80,2)&\"-\"&$C80,[1]Rankings!$B:$H,7,FALSE),\"\"),0)","v":0},{"$f":"IF($C80>0,VLOOKUP($C80,[1]Μητρώο!$A:$F,4,FALSE),\"\")","v":""}]
[74,74,null,{"$f":"IF($C81>0,VLOOKUP($C81,[1]Μητρώο!$A:$F,3,FALSE),\"\")","v":""},{"$f":"IF($C81>0,VLOOKUP($C81,[1]Μητρώο!$A:$F,5,FALSE),\"\")","v":""},{"$f":"IF(COUNTIF([1]Rankings!$B:$B,RIGHT($I81,2)&\"-\"&$C81)>0,IF($C81>0,VLOOKUP(RIGHT($I81,2)&\"-\"&$C81,[1]Rankings!$B:$H,7,FALSE),\"\"),0)","v":0},{"$f":"IF($C81>0,VLOOKUP($C81,[1]Μητρώο!$A:$F,4,FALSE),\"\")","v":""}]
[75,75,null,{"$f":"IF($C82>0,VLOOKUP($C82,[1]Μητρώο!$A:$F,3,FALSE),\"\")","v":""},{"$f":"IF($C82>0,VLOOKUP($C82,[1]Μητρώο!$A:$F,5,FALSE),\"\")","v":""},{"$f":"IF(COUNTIF([1]Rankings!$B:$B,RIGHT($I82,2)&\"-\"&$C82)>0,IF($C82>0,VLOOKUP(RIGHT($I82,2)&\"-\"&$C82,[1]Rankings!$B:$H,7,FALSE),\"\"),0)","v":0},{"$f":"IF($C82>0,VLOOKUP($C82,[1]Μητρώο!$A:$F,4,FALSE),\"\")","v":""}]
[76,76,null,{"$f":"IF($C83>0,VLOOKUP($C83,[1]Μητρώο!$A:$F,3,FALSE),\"\")","v":""},{"$f":"IF($C83>0,VLOOKUP($C83,[1]Μητρώο!$A:$F,5,FALSE),\"\")","v":""},{"$f":"IF(COUNTIF([1]Rankings!$B:$B,RIGHT($I83,2)&\"-\"&$C83)>0,IF($C83>0,VLOOKUP(RIGHT($I83,2)&\"-\"&$C83,[1]Rankings!$B:$H,7,FALSE),\"\"),0)","v":0},{"$f":"IF($C83>0,VLOOKUP($C83,[1]Μητρώο!$A:$F,4,FALSE),\"\")","v":""}]
[77,77,null,{"$f":"IF($C84>0,VLOOKUP($C84,[1]Μητρώο!$A:$F,3,FALSE),\"\")","v":""},{"$f":"IF($C84>0,VLOOKUP($C84,[1]Μητρώο!$A:$F,5,FALSE),\"\")","v":""},{"$f":"IF(COUNTIF([1]Rankings!$B:$B,RIGHT($I84,2)&\"-\"&$C84)>0,IF($C84>0,VLOOKUP(RIGHT($I84,2)&\"-\"&$C84,[1]Rankings!$B:$H,7,FALSE),\"\"),0)","v":0},{"$f":"IF($C84>0,VLOOKUP($C84,[1]Μητρώο!$A:$F,4,FALSE),\"\")","v":""}]
[78,78,null,{"$f":"IF($C85>0,VLOOKUP($C85,[1]Μητρώο!$A:$F,3,FALSE),\"\")","v":""},{"$f":"IF($C85>0,VLOOKUP($C85,[1]Μητρώο!$A:$F,5,FALSE),\"\")","v":""},{"$f":"IF(COUNTIF([1]Rankings!$B:$B,RIGHT($I85,2)&\"-\"&$C85)>0,IF($C85>0,VLOOKUP(RIGHT($I85,2)&\"-\"&$C85,[1]Rankings!$B:$H,7,FALSE),\"\"),0)","v":0},{"$f":"IF($C85>0,VLOOKUP($C85,[1]Μητρώο!$A:$F,4,FALSE),\"\")","v":""}]
[79,79,null,{"$f":"IF($C86>0,VLOOKUP($C86,[1]Μητρώο!$A:$F,3,FALSE),\"\")","v":""},{"$f":"IF($C86>0,VLOOKUP($C86,[1]Μητρώο!$A:$F,5,FALSE),\"\")","v":""},{"$f":"IF(COUNTIF([1]Rankings!$B:$B,RIGHT($I86,2)&\"-\"&$C86)>0,IF($C86>0,VLOOKUP(RIGHT($I86,2)&\"-\"&$C86,[1]Rankings!$B:$H,7,FALSE),\"\"),0)","v":0},{"$f":"IF($C86>0,VLOOKUP($C86,[1]Μητρώο!$A:$F,4,FALSE),\"\")","v":""}]
[80,80,null,{"$f":"IF($C87>0,VLOOKUP($C87,[1]Μητρώο!$A:$F,3,FALSE),\"\")","v":""},{"$f":"IF($C87>0,VLOOKUP($C87,[1]Μητρώο!$A:$F,5,FALSE),\"\")","v":""},{"$f":"IF(COUNTIF([1]Rankings!$B:$B,RIGHT($I87,2)&\"-\"&$C87)>0,IF($C87>0,VLOOKUP(RIGHT($I87,2)&\"-\"&$C87,[1]Rankings!$B:$H,7,FALSE),\"\"),0)","v":0},{"$f":"IF($C87>0,VLOOKUP($C87,[1]Μητρώο!$A:$F,4,FALSE),\"\")","v":""}]
[81,81,null,{"$f":"IF($C88>0,VLOOKUP($C88,[1]Μητρώο!$A:$F,3,FALSE),\"\")","v":""},{"$f":"IF($C88>0,VLOOKUP($C88,[1]Μητρώο!$A:$F,5,FALSE),\"\")","v":""},{"$f":"IF(COUNTIF([1]Rankings!$B:$B,RIGHT($I88,2)&\"-\"&$C88)>0,IF($C88>0,VLOOKUP(RIGHT($I88,2)&\"-\"&$C88,[1]Rankings!$B:$H,7,FALSE),\"\"),0)","v":0},{"$f":"IF($C88>0,VLOOKUP($C88,[1]Μητρώο!$A:$F,4,FALSE),\"\")","v":""}]
[82,82,null,{"$f":"IF($C89>0,VLOOKUP($C89,[1]Μητρώο!$A:$F,3,FALSE),\"\")","v":""},{"$f":"IF($C89>0,VLOOKUP($C89,[1]Μητρώο!$A:$F,5,FALSE),\"\")","v":""},{"$f":"IF(COUNTIF([1]Rankings!$B:$B,RIGHT($I89,2)&\"-\"&$C89)>0,IF($C89>0,VLOOKUP(RIGHT($I89,2)&\"-\"&$C89,[1]Rankings!$B:$H,7,FALSE),\"\"),0)","v":0},{"$f":"IF($C89>0,VLOOKUP($C89,[1]Μητρώο!$A:$F,4,FALSE),\"\")","v":""}]
[83,83,null,{"$f":"IF($C90>0,VLOOKUP($C90,[1]Μητρώο!$A:$F,3,FALSE),\"\")","v":""},{"$f":"IF($C90>0,VLOOKUP($C90,[1]Μητρώο!$A:$F,5,FALSE),\"\")","v":""},{"$f":"IF(COUNTIF([1]Rankings!$B:$B,RIGHT($I90,2)&\"-\"&$C90)>0,IF($C90>0,VLOOKUP(RIGHT($I90,2)&\"-\"&$C90,[1]Rankings!$B:$H,7,FALSE),\"\"),0)","v":0},{"$f":"IF($C90>0,VLOOKUP($C90,[1]Μητρώο!$A:$F,4,FALSE),\"\")","v":""}]
[84,84,null,{"$f":"IF($C91>0,VLOOKUP($C91,[1]Μητρώο!$A:$F,3,FALSE),\"\")","v":""},{"$f":"IF($C91>0,VLOOKUP($C91,[1]Μητρώο!$A:$F,5,FALSE),\"\")","v":""},{"$f":"IF(COUNTIF([1]Rankings!$B:$B,RIGHT($I91,2)&\"-\"&$C91)>0,IF($C91>0,VLOOKUP(RIGHT($I91,2)&\"-\"&$C91,[1]Rankings!$B:$H,7,FALSE),\"\"),0)","v":0},{"$f":"IF($C91>0,VLOOKUP($C91,[1]Μητρώο!$A:$F,4,FALSE),\"\")","v":""}]
[85,85,null,{"$f":"IF($C92>0,VLOOKUP($C92,[1]Μητρώο!$A:$F,3,FALSE),\"\")","v":""},{"$f":"IF($C92>0,VLOOKUP($C92,[1]Μητρώο!$A:$F,5,FALSE),\"\")","v":""},{"$f":"IF(COUNTIF([1]Rankings!$B:$B,RIGHT($I92,2)&\"-\"&$C92)>0,IF($C92>0,VLOOKUP(RIGHT($I92,2)&\"-\"&$C92,[1]Rankings!$B:$H,7,FALSE),\"\"),0)","v":0},{"$f":"IF($C92>0,VLOOKUP($C92,[1]Μητρώο!$A:$F,4,FALSE),\"\")","v":""}]
[86,86,null,{"$f":"IF($C93>0,VLOOKUP($C93,[1]Μητρώο!$A:$F,3,FALSE),\"\")","v":""},{"$f":"IF($C93>0,VLOOKUP($C93,[1]Μητρώο!$A:$F,5,FALSE),\"\")","v":""},{"$f":"IF(COUNTIF([1]Rankings!$B:$B,RIGHT($I93,2)&\"-\"&$C93)>0,IF($C93>0,VLOOKUP(RIGHT($I93,2)&\"-\"&$C93,[1]Rankings!$B:$H,7,FALSE),\"\"),0)","v":0},{"$f":"IF($C93>0,VLOOKUP($C93,[1]Μητρώο!$A:$F,4,FALSE),\"\")","v":""}]
[87,87,null,{"$f":"IF($C94>0,VLOOKUP($C94,[1]Μητρώο!$A:$F,3,FALSE),\"\")","v":""},{"$f":"IF($C94>0,VLOOKUP($C94,[1]Μητρώο!$A:$F,5,FALSE),\"\")","v":""},{"$f":"IF(COUNTIF([1]Rankings!$B:$B,RIGHT($I94,2)&\"-\"&$C94)>0,IF($C94>0,VLOOKUP(RIGHT($I94,2)&\"-\"&$C94,[1]Rankings!$B:$H,7,FALSE),\"\"),0)","v":0},{"$f":"IF($C94>0,VLOOKUP($C94,[1]Μητρώο!$A:$F,4,FALSE),\"\")","v":""}]
[88,88,null,{"$f":"IF($C95>0,VLOOKUP($C95,[1]Μητρώο!$A:$F,3,FALSE),\"\")","v":""},{"$f":"IF($C95>0,VLOOKUP($C95,[1]Μητρώο!$A:$F,5,FALSE),\"\")","v":""},{"$f":"IF(COUNTIF([1]Rankings!$B:$B,RIGHT($I95,2)&\"-\"&$C95)>0,IF($C95>0,VLOOKUP(RIGHT($I95,2)&\"-\"&$C95,[1]Rankings!$B:$H,7,FALSE),\"\"),0)","v":0},{"$f":"IF($C95>0,VLOOKUP($C95,[1]Μητρώο!$A:$F,4,FALSE),\"\")","v":""}]
[89,89,null,{"$f":"IF($C96>0,VLOOKUP($C96,[1]Μητρώο!$A:$F,3,FALSE),\"\")","v":""},{"$f":"IF($C96>0,VLOOKUP($C96,[1]Μητρώο!$A:$F,5,FALSE),\"\")","v":""},{"$f":"IF(COUNTIF([1]Rankings!$B:$B,RIGHT($I96,2)&\"-\"&$C96)>0,IF($C96>0,VLOOKUP(RIGHT($I96,2)&\"-\"&$C96,[1]Rankings!$B:$H,7,FALSE),\"\"),0)","v":0},{"$f":"IF($C96>0,VLOOKUP($C96,[1]Μητρώο!$A:$F,4,FALSE),\"\")","v":""}]
[90,90,null,{"$f":"IF($C97>0,VLOOKUP($C97,[1]Μητρώο!$A:$F,3,FALSE),\"\")","v":""},{"$f":"IF($C97>0,VLOOKUP($C97,[1]Μητρώο!$A:$F,5,FALSE),\"\")","v":""},{"$f":"IF(COUNTIF([1]Rankings!$B:$B,RIGHT($I97,2)&\"-\"&$C97)>0,IF($C97>0,VLOOKUP(RIGHT($I97,2)&\"-\"&$C97,[1]Rankings!$B:$H,7,FALSE),\"\"),0)","v":0},{"$f":"IF($C97>0,VLOOKUP($C97,[1]Μητρώο!$A:$F,4,FALSE),\"\")","v":""}]
[91,91,null,{"$f":"IF($C98>0,VLOOKUP($C98,[1]Μητρώο!$A:$F,3,FALSE),\"\")","v":""},{"$f":"IF($C98>0,VLOOKUP($C98,[1]Μητρώο!$A:$F,5,FALSE),\"\")","v":""},{"$f":"IF(COUNTIF([1]Rankings!$B:$B,RIGHT($I98,2)&\"-\"&$C98)>0,IF($C98>0,VLOOKUP(RIGHT($I98,2)&\"-\"&$C98,[1]Rankings!$B:$H,7,FALSE),\"\"),0)","v":0},{"$f":"IF($C98>0,VLOOKUP($C98,[1]Μητρώο!$A:$F,4,FALSE),\"\")","v":""}]
[92,92,null,{"$f":"IF($C99>0,VLOOKUP($C99,[1]Μητρώο!$A:$F,3,FALSE),\"\")","v":""},{"$f":"IF($C99>0,VLOOKUP($C99,[1]Μητρώο!$A:$F,5,FALSE),\"\")","v":""},{"$f":"IF(COUNTIF([1]Rankings!$B:$B,RIGHT($I99,2)&\"-\"&$C99)>0,IF($C99>0,VLOOKUP(RIGHT($I99,2)&\"-\"&$C99,[1]Rankings!$B:$H,7,FALSE),\"\"),0)","v":0},{"$f":"IF($C99>0,VLOOKUP($C99,[1]Μητρώο!$A:$F,4,FALSE),\"\")","v":""}]
[93,93,null,{"$f":"IF($C100>0,VLOOKUP($C100,[1]Μητρώο!$A:$F,3,FALSE),\"\")","v":""},{"$f":"IF($C100>0,VLOOKUP($C100,[1]Μητρώο!$A:$F,5,FALSE),\"\")","v":""},{"$f":"IF(COUNTIF([1]Rankings!$B:$B,RIGHT($I100,2)&\"-\"&$C100)>0,IF($C100>0,VLOOKUP(RIGHT($I100,2)&\"-\"&$C100,[1]Rankings!$B:$H,7,FALSE),\"\"),0)","v":0},{"$f":"IF($C100>0,VLOOKUP($C100,[1]Μητρώο!$A:$F,4,FALSE),\"\")","v":""}]
[94,94,null,{"$f":"IF($C101>0,VLOOKUP($C101,[1]Μητρώο!$A:$F,3,FALSE),\"\")","v":""},{"$f":"IF($C101>0,VLOOKUP($C101,[1]Μητρώο!$A:$F,5,FALSE),\"\")","v":""},{"$f":"IF(COUNTIF([1]Rankings!$B:$B,RIGHT($I101,2)&\"-\"&$C101)>0,IF($C101>0,VLOOKUP(RIGHT($I101,2)&\"-\"&$C101,[1]Rankings!$B:$H,7,FALSE),\"\"),0)","v":0},{"$f":"IF($C101>0,VLOOKUP($C101,[1]Μητρώο!$A:$F,4,FALSE),\"\")","v":""}]
[95,95,null,{"$f":"IF($C102>0,VLOOKUP($C102,[1]Μητρώο!$A:$F,3,FALSE),\"\")","v":""},{"$f":"IF($C102>0,VLOOKUP($C102,[1]Μητρώο!$A:$F,5,FALSE),\"\")","v":""},{"$f":"IF(COUNTIF([1]Rankings!$B:$B,RIGHT($I102,2)&\"-\"&$C102)>0,IF($C102>0,VLOOKUP(RIGHT($I102,2)&\"-\"&$C102,[1]Rankings!$B:$H,7,FALSE),\"\"),0)","v":0},{"$f":"IF($C102>0,VLOOKUP($C102,[1]Μητρώο!$A:$F,4,FALSE),\"\")","v":""}]
[96,96,null,{"$f":"IF($C103>0,VLOOKUP($C103,[1]Μητρώο!$A:$F,3,FALSE),\"\")","v":""},{"$f":"IF($C103>0,VLOOKUP($C103,[1]Μητρώο!$A:$F,5,FALSE),\"\")","v":""},{"$f":"IF(COUNTIF([1]Rankings!$B:$B,RIGHT($I103,2)&\"-\"&$C103)>0,IF($C103>0,VLOOKUP(RIGHT($I103,2)&\"-\"&$C103,[1]Rankings!$B:$H,7,FALSE),\"\"),0)","v":0},{"$f":"IF($C103>0,VLOOKUP($C103,[1]Μητρώο!$A:$F,4,FALSE),\"\")","v":""}]
[97,97,null,{"$f":"IF($C104>0,VLOOKUP($C104,[1]Μητρώο!$A:$F,3,FALSE),\"\")","v":""},{"$f":"IF($C104>0,VLOOKUP($C104,[1]Μητρώο!$A:$F,5,FALSE),\"\")","v":""},{"$f":"IF(COUNTIF([1]Rankings!$B:$B,RIGHT($I104,2)&\"-\"&$C104)>0,IF($C104>0,VLOOKUP(RIGHT($I104,2)&\"-\"&$C104,[1]Rankings!$B:$H,7,FALSE),\"\"),0)","v":0},{"$f":"IF($C104>0,VLOOKUP($C104,[1]Μητρώο!$A:$F,4,FALSE),\"\")","v":""}]
[98,98,null,{"$f":"IF($C105>0,VLOOKUP($C105,[1]Μητρώο!$A:$F,3,FALSE),\"\")","v":""},{"$f":"IF($C105>0,VLOOKUP($C105,[1]Μητρώο!$A:$F,5,FALSE),\"\")","v":""},{"$f":"IF(COUNTIF([1]Rankings!$B:$B,RIGHT($I105,2)&\"-\"&$C105)>0,IF($C105>0,VLOOKUP(RIGHT($I105,2)&\"-\"&$C105,[1]Rankings!$B:$H,7,FALSE),\"\"),0)","v":0},{"$f":"IF($C105>0,VLOOKUP($C105,[1]Μητρώο!$A:$F,4,FALSE),\"\")","v":""}]
[99,99,null,{"$f":"IF($C106>0,VLOOKUP($C106,[1]Μητρώο!$A:$F,3,FALSE),\"\")","v":""},{"$f":"IF($C106>0,VLOOKUP($C106,[1]Μητρώο!$A:$F,5,FALSE),\"\")","v":""},{"$f":"IF(COUNTIF([1]Rankings!$B:$B,RIGHT($I106,2)&\"-\"&$C106)>0,IF($C106>0,VLOOKUP(RIGHT($I106,2)&\"-\"&$C106,[1]Rankings!$B:$H,7,FALSE),\"\"),0)","v":0},{"$f":"IF($C106>0,VLOOKUP($C106,[1]Μητρώο!$A:$F,4,FALSE),\"\")","v":""}]
[100,100,null,{"$f":"IF($C107>0,VLOOKUP($C107,[1]Μητρώο!$A:$F,3,FALSE),\"\")","v":""},{"$f":"IF($C107>0,VLOOKUP($C107,[1]Μητρώο!$A:$F,5,FALSE),\"\")","v":""},{"$f":"IF(COUNTIF([1]Rankings!$B:$B,RIGHT($I107,2)&\"-\"&$C107)>0,IF($C107>0,VLOOKUP(RIGHT($I107,2)&\"-\"&$C107,[1]Rankings!$B:$H,7,FALSE),\"\"),0)","v":0},{"$f":"IF($C107>0,VLOOKUP($C107,[1]Μητρώο!$A:$F,4,FALSE),\"\")","v":""}]
[101,101,null,{"$f":"IF($C108>0,VLOOKUP($C108,[1]Μητρώο!$A:$F,3,FALSE),\"\")","v":""},{"$f":"IF($C108>0,VLOOKUP($C108,[1]Μητρώο!$A:$F,5,FALSE),\"\")","v":""},{"$f":"IF(COUNTIF([1]Rankings!$B:$B,RIGHT($I108,2)&\"-\"&$C108)>0,IF($C108>0,VLOOKUP(RIGHT($I108,2)&\"-\"&$C108,[1]Rankings!$B:$H,7,FALSE),\"\"),0)","v":0},{"$f":"IF($C108>0,VLOOKUP($C108,[1]Μητρώο!$A:$F,4,FALSE),\"\")","v":""}]
[102,102,null,{"$f":"IF($C109>0,VLOOKUP($C109,[1]Μητρώο!$A:$F,3,FALSE),\"\")","v":""},{"$f":"IF($C109>0,VLOOKUP($C109,[1]Μητρώο!$A:$F,5,FALSE),\"\")","v":""},{"$f":"IF(COUNTIF([1]Rankings!$B:$B,RIGHT($I109,2)&\"-\"&$C109)>0,IF($C109>0,VLOOKUP(RIGHT($I109,2)&\"-\"&$C109,[1]Rankings!$B:$H,7,FALSE),\"\"),0)","v":0},{"$f":"IF($C109>0,VLOOKUP($C109,[1]Μητρώο!$A:$F,4,FALSE),\"\")","v":""}]
[103,103,null,{"$f":"IF($C110>0,VLOOKUP($C110,[1]Μητρώο!$A:$F,3,FALSE),\"\")","v":""},{"$f":"IF($C110>0,VLOOKUP($C110,[1]Μητρώο!$A:$F,5,FALSE),\"\")","v":""},{"$f":"IF(COUNTIF([1]Rankings!$B:$B,RIGHT($I110,2)&\"-\"&$C110)>0,IF($C110>0,VLOOKUP(RIGHT($I110,2)&\"-\"&$C110,[1]Rankings!$B:$H,7,FALSE),\"\"),0)","v":0},{"$f":"IF($C110>0,VLOOKUP($C110,[1]Μητρώο!$A:$F,4,FALSE),\"\")","v":""}]
[104,104,null,{"$f":"IF($C111>0,VLOOKUP($C111,[1]Μητρώο!$A:$F,3,FALSE),\"\")","v":""},{"$f":"IF($C111>0,VLOOKUP($C111,[1]Μητρώο!$A:$F,5,FALSE),\"\")","v":""},{"$f":"IF(COUNTIF([1]Rankings!$B:$B,RIGHT($I111,2)&\"-\"&$C111)>0,IF($C111>0,VLOOKUP(RIGHT($I111,2)&\"-\"&$C111,[1]Rankings!$B:$H,7,FALSE),\"\"),0)","v":0},{"$f":"IF($C111>0,VLOOKUP($C111,[1]Μητρώο!$A:$F,4,FALSE),\"\")","v":""}]
[105,105,null,{"$f":"IF($C112>0,VLOOKUP($C112,[1]Μητρώο!$A:$F,3,FALSE),\"\")","v":""},{"$f":"IF($C112>0,VLOOKUP($C112,[1]Μητρώο!$A:$F,5,FALSE),\"\")","v":""},{"$f":"IF(COUNTIF([1]Rankings!$B:$B,RIGHT($I112,2)&\"-\"&$C112)>0,IF($C112>0,VLOOKUP(RIGHT($I112,2)&\"-\"&$C112,[1]Rankings!$B:$H,7,FALSE),\"\"),0)","v":0},{"$f":"IF($C112>0,VLOOKUP($C112,[1]Μητρώο!$A:$F,4,FALSE),\"\")","v":""}]
[106,106,null,{"$f":"IF($C113>0,VLOOKUP($C113,[1]Μητρώο!$A:$F,3,FALSE),\"\")","v":""},{"$f":"IF($C113>0,VLOOKUP($C113,[1]Μητρώο!$A:$F,5,FALSE),\"\")","v":""},{"$f":"IF(COUNTIF([1]Rankings!$B:$B,RIGHT($I113,2)&\"-\"&$C113)>0,IF($C113>0,VLOOKUP(RIGHT($I113,2)&\"-\"&$C113,[1]Rankings!$B:$H,7,FALSE),\"\"),0)","v":0},{"$f":"IF($C113>0,VLOOKUP($C113,[1]Μητρώο!$A:$F,4,FALSE),\"\")","v":""}]
[107,107,null,{"$f":"IF($C114>0,VLOOKUP($C114,[1]Μητρώο!$A:$F,3,FALSE),\"\")","v":""},{"$f":"IF($C114>0,VLOOKUP($C114,[1]Μητρώο!$A:$F,5,FALSE),\"\")","v":""},{"$f":"IF(COUNTIF([1]Rankings!$B:$B,RIGHT($I114,2)&\"-\"&$C114)>0,IF($C114>0,VLOOKUP(RIGHT($I114,2)&\"-\"&$C114,[1]Rankings!$B:$H,7,FALSE),\"\"),0)","v":0},{"$f":"IF($C114>0,VLOOKUP($C114,[1]Μητρώο!$A:$F,4,FALSE),\"\")","v":""}]
[108,108,null,{"$f":"IF($C115>0,VLOOKUP($C115,[1]Μητρώο!$A:$F,3,FALSE),\"\")","v":""},{"$f":"IF($C115>0,VLOOKUP($C115,[1]Μητρώο!$A:$F,5,FALSE),\"\")","v":""},{"$f":"IF(COUNTIF([1]Rankings!$B:$B,RIGHT($I115,2)&\"-\"&$C115)>0,IF($C115>0,VLOOKUP(RIGHT($I115,2)&\"-\"&$C115,[1]Rankings!$B:$H,7,FALSE),\"\"),0)","v":0},{"$f":"IF($C115>0,VLOOKUP($C115,[1]Μητρώο!$A:$F,4,FALSE),\"\")","v":""}]
[109,109,null,{"$f":"IF($C116>0,VLOOKUP($C116,[1]Μητρώο!$A:$F,3,FALSE),\"\")","v":""},{"$f":"IF($C116>0,VLOOKUP($C116,[1]Μητρώο!$A:$F,5,FALSE),\"\")","v":""},{"$f":"IF(COUNTIF([1]Rankings!$B:$B,RIGHT($I116,2)&\"-\"&$C116)>0,IF($C116>0,VLOOKUP(RIGHT($I116,2)&\"-\"&$C116,[1]Rankings!$B:$H,7,FALSE),\"\"),0)","v":0},{"$f":"IF($C116>0,VLOOKUP($C116,[1]Μητρώο!$A:$F,4,FALSE),\"\")","v":""}]
[110,110,null,{"$f":"IF($C117>0,VLOOKUP($C117,[1]Μητρώο!$A:$F,3,FALSE),\"\")","v":""},{"$f":"IF($C117>0,VLOOKUP($C117,[1]Μητρώο!$A:$F,5,FALSE),\"\")","v":""},{"$f":"IF(COUNTIF([1]Rankings!$B:$B,RIGHT($I117,2)&\"-\"&$C117)>0,IF($C117>0,VLOOKUP(RIGHT($I117,2)&\"-\"&$C117,[1]Rankings!$B:$H,7,FALSE),\"\"),0)","v":0},{"$f":"IF($C117>0,VLOOKUP($C117,[1]Μητρώο!$A:$F,4,FALSE),\"\")","v":""}]
[111,111,null,{"$f":"IF($C118>0,VLOOKUP($C118,[1]Μητρώο!$A:$F,3,FALSE),\"\")","v":""},{"$f":"IF($C118>0,VLOOKUP($C118,[1]Μητρώο!$A:$F,5,FALSE),\"\")","v":""},{"$f":"IF(COUNTIF([1]Rankings!$B:$B,RIGHT($I118,2)&\"-\"&$C118)>0,IF($C118>0,VLOOKUP(RIGHT($I118,2)&\"-\"&$C118,[1]Rankings!$B:$H,7,FALSE),\"\"),0)","v":0},{"$f":"IF($C118>0,VLOOKUP($C118,[1]Μητρώο!$A:$F,4,FALSE),\"\")","v":""}]
[112,112,null,{"$f":"IF($C119>0,VLOOKUP($C119,[1]Μητρώο!$A:$F,3,FALSE),\"\")","v":""},{"$f":"IF($C119>0,VLOOKUP($C119,[1]Μητρώο!$A:$F,5,FALSE),\"\")","v":""},{"$f":"IF(COUNTIF([1]Rankings!$B:$B,RIGHT($I119,2)&\"-\"&$C119)>0,IF($C119>0,VLOOKUP(RIGHT($I119,2)&\"-\"&$C119,[1]Rankings!$B:$H,7,FALSE),\"\"),0)","v":0},{"$f":"IF($C119>0,VLOOKUP($C119,[1]Μητρώο!$A:$F,4,FALSE),\"\")","v":""}]
[113,113,null,{"$f":"IF($C120>0,VLOOKUP($C120,[1]Μητρώο!$A:$F,3,FALSE),\"\")","v":""},{"$f":"IF($C120>0,VLOOKUP($C120,[1]Μητρώο!$A:$F,5,FALSE),\"\")","v":""},{"$f":"IF(COUNTIF([1]Rankings!$B:$B,RIGHT($I120,2)&\"-\"&$C120)>0,IF($C120>0,VLOOKUP(RIGHT($I120,2)&\"-\"&$C120,[1]Rankings!$B:$H,7,FALSE),\"\"),0)","v":0},{"$f":"IF($C120>0,VLOOKUP($C120,[1]Μητρώο!$A:$F,4,FALSE),\"\")","v":""}]
[114,114,null,{"$f":"IF($C121>0,VLOOKUP($C121,[1]Μητρώο!$A:$F,3,FALSE),\"\")","v":""},{"$f":"IF($C121>0,VLOOKUP($C121,[1]Μητρώο!$A:$F,5,FALSE),\"\")","v":""},{"$f":"IF(COUNTIF([1]Rankings!$B:$B,RIGHT($I121,2)&\"-\"&$C121)>0,IF($C121>0,VLOOKUP(RIGHT($I121,2)&\"-\"&$C121,[1]Rankings!$B:$H,7,FALSE),\"\"),0)","v":0},{"$f":"IF($C121>0,VLOOKUP($C121,[1]Μητρώο!$A:$F,4,FALSE),\"\")","v":""}]
[115,115,null,{"$f":"IF($C122>0,VLOOKUP($C122,[1]Μητρώο!$A:$F,3,FALSE),\"\")","v":""},{"$f":"IF($C122>0,VLOOKUP($C122,[1]Μητρώο!$A:$F,5,FALSE),\"\")","v":""},{"$f":"IF(COUNTIF([1]Rankings!$B:$B,RIGHT($I122,2)&\"-\"&$C122)>0,IF($C122>0,VLOOKUP(RIGHT($I122,2)&\"-\"&$C122,[1]Rankings!$B:$H,7,FALSE),\"\"),0)","v":0},{"$f":"IF($C122>0,VLOOKUP($C122,[1]Μητρώο!$A:$F,4,FALSE),\"\")","v":""}]
[116,116,null,{"$f":"IF($C123>0,VLOOKUP($C123,[1]Μητρώο!$A:$F,3,FALSE),\"\")","v":""},{"$f":"IF($C123>0,VLOOKUP($C123,[1]Μητρώο!$A:$F,5,FALSE),\"\")","v":""},{"$f":"IF(COUNTIF([1]Rankings!$B:$B,RIGHT($I123,2)&\"-\"&$C123)>0,IF($C123>0,VLOOKUP(RIGHT($I123,2)&\"-\"&$C123,[1]Rankings!$B:$H,7,FALSE),\"\"),0)","v":0},{"$f":"IF($C123>0,VLOOKUP($C123,[1]Μητρώο!$A:$F,4,FALSE),\"\")","v":""}]
[117,117,null,{"$f":"IF($C124>0,VLOOKUP($C124,[1]Μητρώο!$A:$F,3,FALSE),\"\")","v":""},{"$f":"IF($C124>0,VLOOKUP($C124,[1]Μητρώο!$A:$F,5,FALSE),\"\")","v":""},{"$f":"IF(COUNTIF([1]Rankings!$B:$B,RIGHT($I124,2)&\"-\"&$C124)>0,IF($C124>0,VLOOKUP(RIGHT($I124,2)&\"-\"&$C124,[1]Rankings!$B:$H,7,FALSE),\"\"),0)","v":0},{"$f":"IF($C124>0,VLOOKUP($C124,[1]Μητρώο!$A:$F,4,FALSE),\"\")","v":""}]
[118,118,null,{"$f":"IF($C125>0,VLOOKUP($C125,[1]Μητρώο!$A:$F,3,FALSE),\"\")","v":""},{"$f":"IF($C125>0,VLOOKUP($C125,[1]Μητρώο!$A:$F,5,FALSE),\"\")","v":""},{"$f":"IF(COUNTIF([1]Rankings!$B:$B,RIGHT($I125,2)&\"-\"&$C125)>0,IF($C125>0,VLOOKUP(RIGHT($I125,2)&\"-\"&$C125,[1]Rankings!$B:$H,7,FALSE),\"\"),0)","v":0},{"$f":"IF($C125>0,VLOOKUP($C125,[1]Μητρώο!$A:$F,4,FALSE),\"\")","v":""}]
[119,119,null,{"$f":"IF($C126>0,VLOOKUP($C126,[1]Μητρώο!$A:$F,3,FALSE),\"\")","v":""},{"$f":"IF($C126>0,VLOOKUP($C126,[1]Μητρώο!$A:$F,5,FALSE),\"\")","v":""},{"$f":"IF(COUNTIF([1]Rankings!$B:$B,RIGHT($I126,2)&\"-\"&$C126)>0,IF($C126>0,VLOOKUP(RIGHT($I126,2)&\"-\"&$C126,[1]Rankings!$B:$H,7,FALSE),\"\"),0)","v":0},{"$f":"IF($C126>0,VLOOKUP($C126,[1]Μητρώο!$A:$F,4,FALSE),\"\")","v":""}]
[120,120,null,{"$f":"IF($C127>0,VLOOKUP($C127,[1]Μητρώο!$A:$F,3,FALSE),\"\")","v":""},{"$f":"IF($C127>0,VLOOKUP($C127,[1]Μητρώο!$A:$F,5,FALSE),\"\")","v":""},{"$f":"IF(COUNTIF([1]Rankings!$B:$B,RIGHT($I127,2)&\"-\"&$C127)>0,IF($C127>0,VLOOKUP(RIGHT($I127,2)&\"-\"&$C127,[1]Rankings!$B:$H,7,FALSE),\"\"),0)","v":0},{"$f":"IF($C127>0,VLOOKUP($C127,[1]Μητρώο!$A:$F,4,FALSE),\"\")","v":""}]
[121,121,null,{"$f":"IF($C128>0,VLOOKUP($C128,[1]Μητρώο!$A:$F,3,FALSE),\"\")","v":""},{"$f":"IF($C128>0,VLOOKUP($C128,[1]Μητρώο!$A:$F,5,FALSE),\"\")","v":""},{"$f":"IF(COUNTIF([1]Rankings!$B:$B,RIGHT($I128,2)&\"-\"&$C128)>0,IF($C128>0,VLOOKUP(RIGHT($I128,2)&\"-\"&$C128,[1]Rankings!$B:$H,7,FALSE),\"\"),0)","v":0},{"$f":"IF($C128>0,VLOOKUP($C128,[1]Μητρώο!$A:$F,4,FALSE),\"\")","v":""}]
[122,122,null,{"$f":"IF($C129>0,VLOOKUP($C129,[1]Μητρώο!$A:$F,3,FALSE),\"\")","v":""},{"$f":"IF($C129>0,VLOOKUP($C129,[1]Μητρώο!$A:$F,5,FALSE),\"\")","v":""},{"$f":"IF(COUNTIF([1]Rankings!$B:$B,RIGHT($I129,2)&\"-\"&$C129)>0,IF($C129>0,VLOOKUP(RIGHT($I129,2)&\"-\"&$C129,[1]Rankings!$B:$H,7,FALSE),\"\"),0)","v":0},{"$f":"IF($C129>0,VLOOKUP($C129,[1]Μητρώο!$A:$F,4,FALSE),\"\")","v":""}]
[123,123,null,{"$f":"IF($C130>0,VLOOKUP($C130,[1]Μητρώο!$A:$F,3,FALSE),\"\")","v":""},{"$f":"IF($C130>0,VLOOKUP($C130,[1]Μητρώο!$A:$F,5,FALSE),\"\")","v":""},{"$f":"IF(COUNTIF([1]Rankings!$B:$B,RIGHT($I130,2)&\"-\"&$C130)>0,IF($C130>0,VLOOKUP(RIGHT($I130,2)&\"-\"&$C130,[1]Rankings!$B:$H,7,FALSE),\"\"),0)","v":0},{"$f":"IF($C130>0,VLOOKUP($C130,[1]Μητρώο!$A:$F,4,FALSE),\"\")","v":""}]
[124,124,null,{"$f":"IF($C131>0,VLOOKUP($C131,[1]Μητρώο!$A:$F,3,FALSE),\"\")","v":""},{"$f":"IF($C131>0,VLOOKUP($C131,[1]Μητρώο!$A:$F,5,FALSE),\"\")","v":""},{"$f":"IF(COUNTIF([1]Rankings!$B:$B,RIGHT($I131,2)&\"-\"&$C131)>0,IF($C131>0,VLOOKUP(RIGHT($I131,2)&\"-\"&$C131,[1]Rankings!$B:$H,7,FALSE),\"\"),0)","v":0},{"$f":"IF($C131>0,VLOOKUP($C131,[1]Μητρώο!$A:$F,4,FALSE),\"\")","v":""}]
[125,125,null,{"$f":"IF($C132>0,VLOOKUP($C132,[1]Μητρώο!$A:$F,3,FALSE),\"\")","v":""},{"$f":"IF($C132>0,VLOOKUP($C132,[1]Μητρώο!$A:$F,5,FALSE),\"\")","v":""},{"$f":"IF(COUNTIF([1]Rankings!$B:$B,RIGHT($I132,2)&\"-\"&$C132)>0,IF($C132>0,VLOOKUP(RIGHT($I132,2)&\"-\"&$C132,[1]Rankings!$B:$H,7,FALSE),\"\"),0)","v":0},{"$f":"IF($C132>0,VLOOKUP($C132,[1]Μητρώο!$A:$F,4,FALSE),\"\")","v":""}]
[126,126,null,{"$f":"IF($C133>0,VLOOKUP($C133,[1]Μητρώο!$A:$F,3,FALSE),\"\")","v":""},{"$f":"IF($C133>0,VLOOKUP($C133,[1]Μητρώο!$A:$F,5,FALSE),\"\")","v":""},{"$f":"IF(COUNTIF([1]Rankings!$B:$B,RIGHT($I133,2)&\"-\"&$C133)>0,IF($C133>0,VLOOKUP(RIGHT($I133,2)&\"-\"&$C133,[1]Rankings!$B:$H,7,FALSE),\"\"),0)","v":0},{"$f":"IF($C133>0,VLOOKUP($C133,[1]Μητρώο!$A:$F,4,FALSE),\"\")","v":""}]
[127,127,null,{"$f":"IF($C134>0,VLOOKUP($C134,[1]Μητρώο!$A:$F,3,FALSE),\"\")","v":""},{"$f":"IF($C134>0,VLOOKUP($C134,[1]Μητρώο!$A:$F,5,FALSE),\"\")","v":""},{"$f":"IF(COUNTIF([1]Rankings!$B:$B,RIGHT($I134,2)&\"-\"&$C134)>0,IF($C134>0,VLOOKUP(RIGHT($I134,2)&\"-\"&$C134,[1]Rankings!$B:$H,7,FALSE),\"\"),0)","v":0},{"$f":"IF($C134>0,VLOOKUP($C134,[1]Μητρώο!$A:$F,4,FALSE),\"\")","v":""}]
[128,128,null,{"$f":"IF($C135>0,VLOOKUP($C135,[1]Μητρώο!$A:$F,3,FALSE),\"\")","v":""},{"$f":"IF($C135>0,VLOOKUP($C135,[1]Μητρώο!$A:$F,5,FALSE),\"\")","v":""},{"$f":"IF(COUNTIF([1]Rankings!$B:$B,RIGHT($I135,2)&\"-\"&$C135)>0,IF($C135>0,VLOOKUP(RIGHT($I135,2)&\"-\"&$C135,[1]Rankings!$B:$H,7,FALSE),\"\"),0)","v":0},{"$f":"IF($C135>0,VLOOKUP($C135,[1]Μητρώο!$A:$F,4,FALSE),\"\")","v":""}]
[129,{"$f":"IF(H136&I136=H135&I135,B135+1,1)","v":129},null,{"$f":"IF($C136>0,VLOOKUP($C136,[1]Μητρώο!$A:$F,3,FALSE),\"\")","v":""},{"$f":"IF($C136>0,VLOOKUP($C136,[1]Μητρώο!$A:$F,5,FALSE),\"\")","v":""},{"$f":"IF(COUNTIF([1]Rankings!$B:$B,RIGHT($I136,2)&\"-\"&$C136)>0,IF($C136>0,VLOOKUP(RIGHT($I136,2)&\"-\"&$C136,[1]Rankings!$B:$H,7,FALSE),\"\"),0)","v":0},{"$f":"IF($C136>0,VLOOKUP($C136,[1]Μητρώο!$A:$F,4,FALSE),\"\")","v":""}]
[130,130,null,{"$f":"IF($C137>0,VLOOKUP($C137,[1]Μητρώο!$A:$F,3,FALSE),\"\")","v":""},{"$f":"IF($C137>0,VLOOKUP($C137,[1]Μητρώο!$A:$F,5,FALSE),\"\")","v":""},{"$f":"IF(COUNTIF([1]Rankings!$B:$B,RIGHT($I137,2)&\"-\"&$C137)>0,IF($C137>0,VLOOKUP(RIGHT($I137,2)&\"-\"&$C137,[1]Rankings!$B:$H,7,FALSE),\"\"),0)","v":0},{"$f":"IF($C137>0,VLOOKUP($C137,[1]Μητρώο!$A:$F,4,FALSE),\"\")","v":""}]
[131,131,null,{"$f":"IF($C138>0,VLOOKUP($C138,[1]Μητρώο!$A:$F,3,FALSE),\"\")","v":""},{"$f":"IF($C138>0,VLOOKUP($C138,[1]Μητρώο!$A:$F,5,FALSE),\"\")","v":""},{"$f":"IF(COUNTIF([1]Rankings!$B:$B,RIGHT($I138,2)&\"-\"&$C138)>0,IF($C138>0,VLOOKUP(RIGHT($I138,2)&\"-\"&$C138,[1]Rankings!$B:$H,7,FALSE),\"\"),0)","v":0},{"$f":"IF($C138>0,VLOOKUP($C138,[1]Μητρώο!$A:$F,4,FALSE),\"\")","v":""}]
[132,132,null,{"$f":"IF($C139>0,VLOOKUP($C139,[1]Μητρώο!$A:$F,3,FALSE),\"\")","v":""},{"$f":"IF($C139>0,VLOOKUP($C139,[1]Μητρώο!$A:$F,5,FALSE),\"\")","v":""},{"$f":"IF(COUNTIF([1]Rankings!$B:$B,RIGHT($I139,2)&\"-\"&$C139)>0,IF($C139>0,VLOOKUP(RIGHT($I139,2)&\"-\"&$C139,[1]Rankings!$B:$H,7,FALSE),\"\"),0)","v":0},{"$f":"IF($C139>0,VLOOKUP($C139,[1]Μητρώο!$A:$F,4,FALSE),\"\")","v":""}]
[133,133,null,{"$f":"IF($C140>0,VLOOKUP($C140,[1]Μητρώο!$A:$F,3,FALSE),\"\")","v":""},{"$f":"IF($C140>0,VLOOKUP($C140,[1]Μητρώο!$A:$F,5,FALSE),\"\")","v":""},{"$f":"IF(COUNTIF([1]Rankings!$B:$B,RIGHT($I140,2)&\"-\"&$C140)>0,IF($C140>0,VLOOKUP(RIGHT($I140,2)&\"-\"&$C140,[1]Rankings!$B:$H,7,FALSE),\"\"),0)","v":0},{"$f":"IF($C140>0,VLOOKUP($C140,[1]Μητρώο!$A:$F,4,FALSE),\"\")","v":""}]
[134,134,null,{"$f":"IF($C141>0,VLOOKUP($C141,[1]Μητρώο!$A:$F,3,FALSE),\"\")","v":""},{"$f":"IF($C141>0,VLOOKUP($C141,[1]Μητρώο!$A:$F,5,FALSE),\"\")","v":""},{"$f":"IF(COUNTIF([1]Rankings!$B:$B,RIGHT($I141,2)&\"-\"&$C141)>0,IF($C141>0,VLOOKUP(RIGHT($I141,2)&\"-\"&$C141,[1]Rankings!$B:$H,7,FALSE),\"\"),0)","v":0},{"$f":"IF($C141>0,VLOOKUP($C141,[1]Μητρώο!$A:$F,4,FALSE),\"\")","v":""}]
[135,135,null,{"$f":"IF($C142>0,VLOOKUP($C142,[1]Μητρώο!$A:$F,3,FALSE),\"\")","v":""},{"$f":"IF($C142>0,VLOOKUP($C142,[1]Μητρώο!$A:$F,5,FALSE),\"\")","v":""},{"$f":"IF(COUNTIF([1]Rankings!$B:$B,RIGHT($I142,2)&\"-\"&$C142)>0,IF($C142>0,VLOOKUP(RIGHT($I142,2)&\"-\"&$C142,[1]Rankings!$B:$H,7,FALSE),\"\"),0)","v":0},{"$f":"IF($C142>0,VLOOKUP($C142,[1]Μητρώο!$A:$F,4,FALSE),\"\")","v":""}]
[136,136,null,{"$f":"IF($C143>0,VLOOKUP($C143,[1]Μητρώο!$A:$F,3,FALSE),\"\")","v":""},{"$f":"IF($C143>0,VLOOKUP($C143,[1]Μητρώο!$A:$F,5,FALSE),\"\")","v":""},{"$f":"IF(COUNTIF([1]Rankings!$B:$B,RIGHT($I143,2)&\"-\"&$C143)>0,IF($C143>0,VLOOKUP(RIGHT($I143,2)&\"-\"&$C143,[1]Rankings!$B:$H,7,FALSE),\"\"),0)","v":0},{"$f":"IF($C143>0,VLOOKUP($C143,[1]Μητρώο!$A:$F,4,FALSE),\"\")","v":""}]
[137,137,null,{"$f":"IF($C144>0,VLOOKUP($C144,[1]Μητρώο!$A:$F,3,FALSE),\"\")","v":""},{"$f":"IF($C144>0,VLOOKUP($C144,[1]Μητρώο!$A:$F,5,FALSE),\"\")","v":""},{"$f":"IF(COUNTIF([1]Rankings!$B:$B,RIGHT($I144,2)&\"-\"&$C144)>0,IF($C144>0,VLOOKUP(RIGHT($I144,2)&\"-\"&$C144,[1]Rankings!$B:$H,7,FALSE),\"\"),0)","v":0},{"$f":"IF($C144>0,VLOOKUP($C144,[1]Μητρώο!$A:$F,4,FALSE),\"\")","v":""}]
[138,138,null,{"$f":"IF($C145>0,VLOOKUP($C145,[1]Μητρώο!$A:$F,3,FALSE),\"\")","v":""},{"$f":"IF($C145>0,VLOOKUP($C145,[1]Μητρώο!$A:$F,5,FALSE),\"\")","v":""},{"$f":"IF(COUNTIF([1]Rankings!$B:$B,RIGHT($I145,2)&\"-\"&$C145)>0,IF($C145>0,VLOOKUP(RIGHT($I145,2)&\"-\"&$C145,[1]Rankings!$B:$H,7,FALSE),\"\"),0)","v":0},{"$f":"IF($C145>0,VLOOKUP($C145,[1]Μητρώο!$A:$F,4,FALSE),\"\")","v":""}]
[139,139,null,{"$f":"IF($C146>0,VLOOKUP($C146,[1]Μητρώο!$A:$F,3,FALSE),\"\")","v":""},{"$f":"IF($C146>0,VLOOKUP($C146,[1]Μητρώο!$A:$F,5,FALSE),\"\")","v":""},{"$f":"IF(COUNTIF([1]Rankings!$B:$B,RIGHT($I146,2)&\"-\"&$C146)>0,IF($C146>0,VLOOKUP(RIGHT($I146,2)&\"-\"&$C146,[1]Rankings!$B:$H,7,FALSE),\"\"),0)","v":0},{"$f":"IF($C146>0,VLOOKUP($C146,[1]Μητρώο!$A:$F,4,FALSE),\"\")","v":""}]
[140,140,null,{"$f":"IF($C147>0,VLOOKUP($C147,[1]Μητρώο!$A:$F,3,FALSE),\"\")","v":""},{"$f":"IF($C147>0,VLOOKUP($C147,[1]Μητρώο!$A:$F,5,FALSE),\"\")","v":""},{"$f":"IF(COUNTIF([1]Rankings!$B:$B,RIGHT($I147,2)&\"-\"&$C147)>0,IF($C147>0,VLOOKUP(RIGHT($I147,2)&\"-\"&$C147,[1]Rankings!$B:$H,7,FALSE),\"\"),0)","v":0},{"$f":"IF($C147>0,VLOOKUP($C147,[1]Μητρώο!$A:$F,4,FALSE),\"\")","v":""}]
[141,141,null,{"$f":"IF($C148>0,VLOOKUP($C148,[1]Μητρώο!$A:$F,3,FALSE),\"\")","v":""},{"$f":"IF($C148>0,VLOOKUP($C148,[1]Μητρώο!$A:$F,5,FALSE),\"\")","v":""},{"$f":"IF(COUNTIF([1]Rankings!$B:$B,RIGHT($I148,2)&\"-\"&$C148)>0,IF($C148>0,VLOOKUP(RIGHT($I148,2)&\"-\"&$C148,[1]Rankings!$B:$H,7,FALSE),\"\"),0)","v":0},{"$f":"IF($C148>0,VLOOKUP($C148,[1]Μητρώο!$A:$F,4,FALSE),\"\")","v":""}]
[142,142,null,{"$f":"IF($C149>0,VLOOKUP($C149,[1]Μητρώο!$A:$F,3,FALSE),\"\")","v":""},{"$f":"IF($C149>0,VLOOKUP($C149,[1]Μητρώο!$A:$F,5,FALSE),\"\")","v":""},{"$f":"IF(COUNTIF([1]Rankings!$B:$B,RIGHT($I149,2)&\"-\"&$C149)>0,IF($C149>0,VLOOKUP(RIGHT($I149,2)&\"-\"&$C149,[1]Rankings!$B:$H,7,FALSE),\"\"),0)","v":0},{"$f":"IF($C149>0,VLOOKUP($C149,[1]Μητρώο!$A:$F,4,FALSE),\"\")","v":""}]
[143,143,null,{"$f":"IF($C150>0,VLOOKUP($C150,[1]Μητρώο!$A:$F,3,FALSE),\"\")","v":""},{"$f":"IF($C150>0,VLOOKUP($C150,[1]Μητρώο!$A:$F,5,FALSE),\"\")","v":""},{"$f":"IF(COUNTIF([1]Rankings!$B:$B,RIGHT($I150,2)&\"-\"&$C150)>0,IF($C150>0,VLOOKUP(RIGHT($I150,2)&\"-\"&$C150,[1]Rankings!$B:$H,7,FALSE),\"\"),0)","v":0},{"$f":"IF($C150>0,VLOOKUP($C150,[1]Μητρώο!$A:$F,4,FALSE),\"\")","v":""}]
[144,144,null,{"$f":"IF($C151>0,VLOOKUP($C151,[1]Μητρώο!$A:$F,3,FALSE),\"\")","v":""},{"$f":"IF($C151>0,VLOOKUP($C151,[1]Μητρώο!$A:$F,5,FALSE),\"\")","v":""},{"$f":"IF(COUNTIF([1]Rankings!$B:$B,RIGHT($I151,2)&\"-\"&$C151)>0,IF($C151>0,VLOOKUP(RIGHT($I151,2)&\"-\"&$C151,[1]Rankings!$B:$H,7,FALSE),\"\"),0)","v":0},{"$f":"IF($C151>0,VLOOKUP($C151,[1]Μητρώο!$A:$F,4,FALSE),\"\")","v":""}]
[145,145,null,{"$f":"IF($C152>0,VLOOKUP($C152,[1]Μητρώο!$A:$F,3,FALSE),\"\")","v":""},{"$f":"IF($C152>0,VLOOKUP($C152,[1]Μητρώο!$A:$F,5,FALSE),\"\")","v":""},{"$f":"IF(COUNTIF([1]Rankings!$B:$B,RIGHT($I152,2)&\"-\"&$C152)>0,IF($C152>0,VLOOKUP(RIGHT($I152,2)&\"-\"&$C152,[1]Rankings!$B:$H,7,FALSE),\"\"),0)","v":0},{"$f":"IF($C152>0,VLOOKUP($C152,[1]Μητρώο!$A:$F,4,FALSE),\"\")","v":""}]
[146,146,null,{"$f":"IF($C153>0,VLOOKUP($C153,[1]Μητρώο!$A:$F,3,FALSE),\"\")","v":""},{"$f":"IF($C153>0,VLOOKUP($C153,[1]Μητρώο!$A:$F,5,FALSE),\"\")","v":""},{"$f":"IF(COUNTIF([1]Rankings!$B:$B,RIGHT($I153,2)&\"-\"&$C153)>0,IF($C153>0,VLOOKUP(RIGHT($I153,2)&\"-\"&$C153,[1]Rankings!$B:$H,7,FALSE),\"\"),0)","v":0},{"$f":"IF($C153>0,VLOOKUP($C153,[1]Μητρώο!$A:$F,4,FALSE),\"\")","v":""}]
[147,147,null,{"$f":"IF($C154>0,VLOOKUP($C154,[1]Μητρώο!$A:$F,3,FALSE),\"\")","v":""},{"$f":"IF($C154>0,VLOOKUP($C154,[1]Μητρώο!$A:$F,5,FALSE),\"\")","v":""},{"$f":"IF(COUNTIF([1]Rankings!$B:$B,RIGHT($I154,2)&\"-\"&$C154)>0,IF($C154>0,VLOOKUP(RIGHT($I154,2)&\"-\"&$C154,[1]Rankings!$B:$H,7,FALSE),\"\"),0)","v":0},{"$f":"IF($C154>0,VLOOKUP($C154,[1]Μητρώο!$A:$F,4,FALSE),\"\")","v":""}]
[148,148,null,{"$f":"IF($C155>0,VLOOKUP($C155,[1]Μητρώο!$A:$F,3,FALSE),\"\")","v":""},{"$f":"IF($C155>0,VLOOKUP($C155,[1]Μητρώο!$A:$F,5,FALSE),\"\")","v":""},{"$f":"IF(COUNTIF([1]Rankings!$B:$B,RIGHT($I155,2)&\"-\"&$C155)>0,IF($C155>0,VLOOKUP(RIGHT($I155,2)&\"-\"&$C155,[1]Rankings!$B:$H,7,FALSE),\"\"),0)","v":0},{"$f":"IF($C155>0,VLOOKUP($C155,[1]Μητρώο!$A:$F,4,FALSE),\"\")","v":""}]
[149,149,null,{"$f":"IF($C156>0,VLOOKUP($C156,[1]Μητρώο!$A:$F,3,FALSE),\"\")","v":""},{"$f":"IF($C156>0,VLOOKUP($C156,[1]Μητρώο!$A:$F,5,FALSE),\"\")","v":""},{"$f":"IF(COUNTIF([1]Rankings!$B:$B,RIGHT($I156,2)&\"-\"&$C156)>0,IF($C156>0,VLOOKUP(RIGHT($I156,2)&\"-\"&$C156,[1]Rankings!$B:$H,7,FALSE),\"\"),0)","v":0},{"$f":"IF($C156>0,VLOOKUP($C156,[1]Μητρώο!$A:$F,4,FALSE),\"\")","v":""}]
[150,150,null,{"$f":"IF($C157>0,VLOOKUP($C157,[1]Μητρώο!$A:$F,3,FALSE),\"\")","v":""},{"$f":"IF($C157>0,VLOOKUP($C157,[1]Μητρώο!$A:$F,5,FALSE),\"\")","v":""},{"$f":"IF(COUNTIF([1]Rankings!$B:$B,RIGHT($I157,2)&\"-\"&$C157)>0,IF($C157>0,VLOOKUP(RIGHT($I157,2)&\"-\"&$C157,[1]Rankings!$B:$H,7,FALSE),\"\"),0)","v":0},{"$f":"IF($C157>0,VLOOKUP($C157,[1]Μητρώο!$A:$F,4,FALSE),\"\")","v":""}]
[151,151,null,{"$f":"IF($C158>0,VLOOKUP($C158,[1]Μητρώο!$A:$F,3,FALSE),\"\")","v":""},{"$f":"IF($C158>0,VLOOKUP($C158,[1]Μητρώο!$A:$F,5,FALSE),\"\")","v":""},{"$f":"IF(COUNTIF([1]Rankings!$B:$B,RIGHT($I158,2)&\"-\"&$C158)>0,IF($C158>0,VLOOKUP(RIGHT($I158,2)&\"-\"&$C158,[1]Rankings!$B:$H,7,FALSE),\"\"),0)","v":0},{"$f":"IF($C158>0,VLOOKUP($C158,[1]Μητρώο!$A:$F,4,FALSE),\"\")","v":""}]
[152,152,null,{"$f":"IF($C159>0,VLOOKUP($C159,[1]Μητρώο!$A:$F,3,FALSE),\"\")","v":""},{"$f":"IF($C159>0,VLOOKUP($C159,[1]Μητρώο!$A:$F,5,FALSE),\"\")","v":""},{"$f":"IF(COUNTIF([1]Rankings!$B:$B,RIGHT($I159,2)&\"-\"&$C159)>0,IF($C159>0,VLOOKUP(RIGHT($I159,2)&\"-\"&$C159,[1]Rankings!$B:$H,7,FALSE),\"\"),0)","v":0},{"$f":"IF($C159>0,VLOOKUP($C159,[1]Μητρώο!$A:$F,4,FALSE),\"\")","v":""}]
[153,153,null,{"$f":"IF($C160>0,VLOOKUP($C160,[1]Μητρώο!$A:$F,3,FALSE),\"\")","v":""},{"$f":"IF($C160>0,VLOOKUP($C160,[1]Μητρώο!$A:$F,5,FALSE),\"\")","v":""},{"$f":"IF(COUNTIF([1]Rankings!$B:$B,RIGHT($I160,2)&\"-\"&$C160)>0,IF($C160>0,VLOOKUP(RIGHT($I160,2)&\"-\"&$C160,[1]Rankings!$B:$H,7,FALSE),\"\"),0)","v":0},{"$f":"IF($C160>0,VLOOKUP($C160,[1]Μητρώο!$A:$F,4,FALSE),\"\")","v":""}]
[154,154,null,{"$f":"IF($C161>0,VLOOKUP($C161,[1]Μητρώο!$A:$F,3,FALSE),\"\")","v":""},{"$f":"IF($C161>0,VLOOKUP($C161,[1]Μητρώο!$A:$F,5,FALSE),\"\")","v":""},{"$f":"IF(COUNTIF([1]Rankings!$B:$B,RIGHT($I161,2)&\"-\"&$C161)>0,IF($C161>0,VLOOKUP(RIGHT($I161,2)&\"-\"&$C161,[1]Rankings!$B:$H,7,FALSE),\"\"),0)","v":0},{"$f":"IF($C161>0,VLOOKUP($C161,[1]Μητρώο!$A:$F,4,FALSE),\"\")","v":""}]
[155,155,null,{"$f":"IF($C162>0,VLOOKUP($C162,[1]Μητρώο!$A:$F,3,FALSE),\"\")","v":""},{"$f":"IF($C162>0,VLOOKUP($C162,[1]Μητρώο!$A:$F,5,FALSE),\"\")","v":""},{"$f":"IF(COUNTIF([1]Rankings!$B:$B,RIGHT($I162,2)&\"-\"&$C162)>0,IF($C162>0,VLOOKUP(RIGHT($I162,2)&\"-\"&$C162,[1]Rankings!$B:$H,7,FALSE),\"\"),0)","v":0},{"$f":"IF($C162>0,VLOOKUP($C162,[1]Μητρώο!$A:$F,4,FALSE),\"\")","v":""}]
[156,156,null,{"$f":"IF($C163>0,VLOOKUP($C163,[1]Μητρώο!$A:$F,3,FALSE),\"\")","v":""},{"$f":"IF($C163>0,VLOOKUP($C163,[1]Μητρώο!$A:$F,5,FALSE),\"\")","v":""},{"$f":"IF(COUNTIF([1]Rankings!$B:$B,RIGHT($I163,2)&\"-\"&$C163)>0,IF($C163>0,VLOOKUP(RIGHT($I163,2)&\"-\"&$C163,[1]Rankings!$B:$H,7,FALSE),\"\"),0)","v":0},{"$f":"IF($C163>0,VLOOKUP($C163,[1]Μητρώο!$A:$F,4,FALSE),\"\")","v":""}]
[157,157,null,{"$f":"IF($C164>0,VLOOKUP($C164,[1]Μητρώο!$A:$F,3,FALSE),\"\")","v":""},{"$f":"IF($C164>0,VLOOKUP($C164,[1]Μητρώο!$A:$F,5,FALSE),\"\")","v":""},{"$f":"IF(COUNTIF([1]Rankings!$B:$B,RIGHT($I164,2)&\"-\"&$C164)>0,IF($C164>0,VLOOKUP(RIGHT($I164,2)&\"-\"&$C164,[1]Rankings!$B:$H,7,FALSE),\"\"),0)","v":0},{"$f":"IF($C164>0,VLOOKUP($C164,[1]Μητρώο!$A:$F,4,FALSE),\"\")","v":""}]
[158,158,null,{"$f":"IF($C165>0,VLOOKUP($C165,[1]Μητρώο!$A:$F,3,FALSE),\"\")","v":""},{"$f":"IF($C165>0,VLOOKUP($C165,[1]Μητρώο!$A:$F,5,FALSE),\"\")","v":""},{"$f":"IF(COUNTIF([1]Rankings!$B:$B,RIGHT($I165,2)&\"-\"&$C165)>0,IF($C165>0,VLOOKUP(RIGHT($I165,2)&\"-\"&$C165,[1]Rankings!$B:$H,7,FALSE),\"\"),0)","v":0},{"$f":"IF($C165>0,VLOOKUP($C165,[1]Μητρώο!$A:$F,4,FALSE),\"\")","v":""}]
[159,159,null,{"$f":"IF($C166>0,VLOOKUP($C166,[1]Μητρώο!$A:$F,3,FALSE),\"\")","v":""},{"$f":"IF($C166>0,VLOOKUP($C166,[1]Μητρώο!$A:$F,5,FALSE),\"\")","v":""},{"$f":"IF(COUNTIF([1]Rankings!$B:$B,RIGHT($I166,2)&\"-\"&$C166)>0,IF($C166>0,VLOOKUP(RIGHT($I166,2)&\"-\"&$C166,[1]Rankings!$B:$H,7,FALSE),\"\"),0)","v":0},{"$f":"IF($C166>0,VLOOKUP($C166,[1]Μητρώο!$A:$F,4,FALSE),\"\")","v":""}]
[160,160,null,{"$f":"IF($C167>0,VLOOKUP($C167,[1]Μητρώο!$A:$F,3,FALSE),\"\")","v":""},{"$f":"IF($C167>0,VLOOKUP($C167,[1]Μητρώο!$A:$F,5,FALSE),\"\")","v":""},{"$f":"IF(COUNTIF([1]Rankings!$B:$B,RIGHT($I167,2)&\"-\"&$C167)>0,IF($C167>0,VLOOKUP(RIGHT($I167,2)&\"-\"&$C167,[1]Rankings!$B:$H,7,FALSE),\"\"),0)","v":0},{"$f":"IF($C167>0,VLOOKUP($C167,[1]Μητρώο!$A:$F,4,FALSE),\"\")","v":""}]
[161,161,null,{"$f":"IF($C168>0,VLOOKUP($C168,[1]Μητρώο!$A:$F,3,FALSE),\"\")","v":""},{"$f":"IF($C168>0,VLOOKUP($C168,[1]Μητρώο!$A:$F,5,FALSE),\"\")","v":""},{"$f":"IF(COUNTIF([1]Rankings!$B:$B,RIGHT($I168,2)&\"-\"&$C168)>0,IF($C168>0,VLOOKUP(RIGHT($I168,2)&\"-\"&$C168,[1]Rankings!$B:$H,7,FALSE),\"\"),0)","v":0},{"$f":"IF($C168>0,VLOOKUP($C168,[1]Μητρώο!$A:$F,4,FALSE),\"\")","v":""}]
[162,162,null,{"$f":"IF($C169>0,VLOOKUP($C169,[1]Μητρώο!$A:$F,3,FALSE),\"\")","v":""},{"$f":"IF($C169>0,VLOOKUP($C169,[1]Μητρώο!$A:$F,5,FALSE),\"\")","v":""},{"$f":"IF(COUNTIF([1]Rankings!$B:$B,RIGHT($I169,2)&\"-\"&$C169)>0,IF($C169>0,VLOOKUP(RIGHT($I169,2)&\"-\"&$C169,[1]Rankings!$B:$H,7,FALSE),\"\"),0)","v":0},{"$f":"IF($C169>0,VLOOKUP($C169,[1]Μητρώο!$A:$F,4,FALSE),\"\")","v":""}]
[163,163,null,{"$f":"IF($C170>0,VLOOKUP($C170,[1]Μητρώο!$A:$F,3,FALSE),\"\")","v":""},{"$f":"IF($C170>0,VLOOKUP($C170,[1]Μητρώο!$A:$F,5,FALSE),\"\")","v":""},{"$f":"IF(COUNTIF([1]Rankings!$B:$B,RIGHT($I170,2)&\"-\"&$C170)>0,IF($C170>0,VLOOKUP(RIGHT($I170,2)&\"-\"&$C170,[1]Rankings!$B:$H,7,FALSE),\"\"),0)","v":0},{"$f":"IF($C170>0,VLOOKUP($C170,[1]Μητρώο!$A:$F,4,FALSE),\"\")","v":""}]
[164,164,null,{"$f":"IF($C171>0,VLOOKUP($C171,[1]Μητρώο!$A:$F,3,FALSE),\"\")","v":""},{"$f":"IF($C171>0,VLOOKUP($C171,[1]Μητρώο!$A:$F,5,FALSE),\"\")","v":""},{"$f":"IF(COUNTIF([1]Rankings!$B:$B,RIGHT($I171,2)&\"-\"&$C171)>0,IF($C171>0,VLOOKUP(RIGHT($I171,2)&\"-\"&$C171,[1]Rankings!$B:$H,7,FALSE),\"\"),0)","v":0},{"$f":"IF($C171>0,VLOOKUP($C171,[1]Μητρώο!$A:$F,4,FALSE),\"\")","v":""}]
[165,165,null,{"$f":"IF($C172>0,VLOOKUP($C172,[1]Μητρώο!$A:$F,3,FALSE),\"\")","v":""},{"$f":"IF($C172>0,VLOOKUP($C172,[1]Μητρώο!$A:$F,5,FALSE),\"\")","v":""},{"$f":"IF(COUNTIF([1]Rankings!$B:$B,RIGHT($I172,2)&\"-\"&$C172)>0,IF($C172>0,VLOOKUP(RIGHT($I172,2)&\"-\"&$C172,[1]Rankings!$B:$H,7,FALSE),\"\"),0)","v":0},{"$f":"IF($C172>0,VLOOKUP($C172,[1]Μητρώο!$A:$F,4,FALSE),\"\")","v":""}]
[166,166,null,{"$f":"IF($C173>0,VLOOKUP($C173,[1]Μητρώο!$A:$F,3,FALSE),\"\")","v":""},{"$f":"IF($C173>0,VLOOKUP($C173,[1]Μητρώο!$A:$F,5,FALSE),\"\")","v":""},{"$f":"IF(COUNTIF([1]Rankings!$B:$B,RIGHT($I173,2)&\"-\"&$C173)>0,IF($C173>0,VLOOKUP(RIGHT($I173,2)&\"-\"&$C173,[1]Rankings!$B:$H,7,FALSE),\"\"),0)","v":0},{"$f":"IF($C173>0,VLOOKUP($C173,[1]Μητρώο!$A:$F,4,FALSE),\"\")","v":""}]
[167,167,null,{"$f":"IF($C174>0,VLOOKUP($C174,[1]Μητρώο!$A:$F,3,FALSE),\"\")","v":""},{"$f":"IF($C174>0,VLOOKUP($C174,[1]Μητρώο!$A:$F,5,FALSE),\"\")","v":""},{"$f":"IF(COUNTIF([1]Rankings!$B:$B,RIGHT($I174,2)&\"-\"&$C174)>0,IF($C174>0,VLOOKUP(RIGHT($I174,2)&\"-\"&$C174,[1]Rankings!$B:$H,7,FALSE),\"\"),0)","v":0},{"$f":"IF($C174>0,VLOOKUP($C174,[1]Μητρώο!$A:$F,4,FALSE),\"\")","v":""}]
[168,168,null,{"$f":"IF($C175>0,VLOOKUP($C175,[1]Μητρώο!$A:$F,3,FALSE),\"\")","v":""},{"$f":"IF($C175>0,VLOOKUP($C175,[1]Μητρώο!$A:$F,5,FALSE),\"\")","v":""},{"$f":"IF(COUNTIF([1]Rankings!$B:$B,RIGHT($I175,2)&\"-\"&$C175)>0,IF($C175>0,VLOOKUP(RIGHT($I175,2)&\"-\"&$C175,[1]Rankings!$B:$H,7,FALSE),\"\"),0)","v":0},{"$f":"IF($C175>0,VLOOKUP($C175,[1]Μητρώο!$A:$F,4,FALSE),\"\")","v":""}]
[169,169,null,{"$f":"IF($C176>0,VLOOKUP($C176,[1]Μητρώο!$A:$F,3,FALSE),\"\")","v":""},{"$f":"IF($C176>0,VLOOKUP($C176,[1]Μητρώο!$A:$F,5,FALSE),\"\")","v":""},{"$f":"IF(COUNTIF([1]Rankings!$B:$B,RIGHT($I176,2)&\"-\"&$C176)>0,IF($C176>0,VLOOKUP(RIGHT($I176,2)&\"-\"&$C176,[1]Rankings!$B:$H,7,FALSE),\"\"),0)","v":0},{"$f":"IF($C176>0,VLOOKUP($C176,[1]Μητρώο!$A:$F,4,FALSE),\"\")","v":""}]
[170,170,null,{"$f":"IF($C177>0,VLOOKUP($C177,[1]Μητρώο!$A:$F,3,FALSE),\"\")","v":""},{"$f":"IF($C177>0,VLOOKUP($C177,[1]Μητρώο!$A:$F,5,FALSE),\"\")","v":""},{"$f":"IF(COUNTIF([1]Rankings!$B:$B,RIGHT($I177,2)&\"-\"&$C177)>0,IF($C177>0,VLOOKUP(RIGHT($I177,2)&\"-\"&$C177,[1]Rankings!$B:$H,7,FALSE),\"\"),0)","v":0},{"$f":"IF($C177>0,VLOOKUP($C177,[1]Μητρώο!$A:$F,4,FALSE),\"\")","v":""}]
[171,171,null,{"$f":"IF($C178>0,VLOOKUP($C178,[1]Μητρώο!$A:$F,3,FALSE),\"\")","v":""},{"$f":"IF($C178>0,VLOOKUP($C178,[1]Μητρώο!$A:$F,5,FALSE),\"\")","v":""},{"$f":"IF(COUNTIF([1]Rankings!$B:$B,RIGHT($I178,2)&\"-\"&$C178)>0,IF($C178>0,VLOOKUP(RIGHT($I178,2)&\"-\"&$C178,[1]Rankings!$B:$H,7,FALSE),\"\"),0)","v":0},{"$f":"IF($C178>0,VLOOKUP($C178,[1]Μητρώο!$A:$F,4,FALSE),\"\")","v":""}]
[172,172,null,{"$f":"IF($C179>0,VLOOKUP($C179,[1]Μητρώο!$A:$F,3,FALSE),\"\")","v":""},{"$f":"IF($C179>0,VLOOKUP($C179,[1]Μητρώο!$A:$F,5,FALSE),\"\")","v":""},{"$f":"IF(COUNTIF([1]Rankings!$B:$B,RIGHT($I179,2)&\"-\"&$C179)>0,IF($C179>0,VLOOKUP(RIGHT($I179,2)&\"-\"&$C179,[1]Rankings!$B:$H,7,FALSE),\"\"),0)","v":0},{"$f":"IF($C179>0,VLOOKUP($C179,[1]Μητρώο!$A:$F,4,FALSE),\"\")","v":""}]
[173,173,null,{"$f":"IF($C180>0,VLOOKUP($C180,[1]Μητρώο!$A:$F,3,FALSE),\"\")","v":""},{"$f":"IF($C180>0,VLOOKUP($C180,[1]Μητρώο!$A:$F,5,FALSE),\"\")","v":""},{"$f":"IF(COUNTIF([1]Rankings!$B:$B,RIGHT($I180,2)&\"-\"&$C180)>0,IF($C180>0,VLOOKUP(RIGHT($I180,2)&\"-\"&$C180,[1]Rankings!$B:$H,7,FALSE),\"\"),0)","v":0},{"$f":"IF($C180>0,VLOOKUP($C180,[1]Μητρώο!$A:$F,4,FALSE),\"\")","v":""}]
[174,174,null,{"$f":"IF($C181>0,VLOOKUP($C181,[1]Μητρώο!$A:$F,3,FALSE),\"\")","v":""},{"$f":"IF($C181>0,VLOOKUP($C181,[1]Μητρώο!$A:$F,5,FALSE),\"\")","v":""},{"$f":"IF(COUNTIF([1]Rankings!$B:$B,RIGHT($I181,2)&\"-\"&$C181)>0,IF($C181>0,VLOOKUP(RIGHT($I181,2)&\"-\"&$C181,[1]Rankings!$B:$H,7,FALSE),\"\"),0)","v":0},{"$f":"IF($C181>0,VLOOKUP($C181,[1]Μητρώο!$A:$F,4,FALSE),\"\")","v":""}]
[175,175,null,{"$f":"IF($C182>0,VLOOKUP($C182,[1]Μητρώο!$A:$F,3,FALSE),\"\")","v":""},{"$f":"IF($C182>0,VLOOKUP($C182,[1]Μητρώο!$A:$F,5,FALSE),\"\")","v":""},{"$f":"IF(COUNTIF([1]Rankings!$B:$B,RIGHT($I182,2)&\"-\"&$C182)>0,IF($C182>0,VLOOKUP(RIGHT($I182,2)&\"-\"&$C182,[1]Rankings!$B:$H,7,FALSE),\"\"),0)","v":0},{"$f":"IF($C182>0,VLOOKUP($C182,[1]Μητρώο!$A:$F,4,FALSE),\"\")","v":""}]
[176,176,null,{"$f":"IF($C183>0,VLOOKUP($C183,[1]Μητρώο!$A:$F,3,FALSE),\"\")","v":""},{"$f":"IF($C183>0,VLOOKUP($C183,[1]Μητρώο!$A:$F,5,FALSE),\"\")","v":""},{"$f":"IF(COUNTIF([1]Rankings!$B:$B,RIGHT($I183,2)&\"-\"&$C183)>0,IF($C183>0,VLOOKUP(RIGHT($I183,2)&\"-\"&$C183,[1]Rankings!$B:$H,7,FALSE),\"\"),0)","v":0},{"$f":"IF($C183>0,VLOOKUP($C183,[1]Μητρώο!$A:$F,4,FALSE),\"\")","v":""}]
[177,177,null,{"$f":"IF($C184>0,VLOOKUP($C184,[1]Μητρώο!$A:$F,3,FALSE),\"\")","v":""},{"$f":"IF($C184>0,VLOOKUP($C184,[1]Μητρώο!$A:$F,5,FALSE),\"\")","v":""},{"$f":"IF(COUNTIF([1]Rankings!$B:$B,RIGHT($I184,2)&\"-\"&$C184)>0,IF($C184>0,VLOOKUP(RIGHT($I184,2)&\"-\"&$C184,[1]Rankings!$B:$H,7,FALSE),\"\"),0)","v":0},{"$f":"IF($C184>0,VLOOKUP($C184,[1]Μητρώο!$A:$F,4,FALSE),\"\")","v":""}]
[178,178,null,{"$f":"IF($C185>0,VLOOKUP($C185,[1]Μητρώο!$A:$F,3,FALSE),\"\")","v":""},{"$f":"IF($C185>0,VLOOKUP($C185,[1]Μητρώο!$A:$F,5,FALSE),\"\")","v":""},{"$f":"IF(COUNTIF([1]Rankings!$B:$B,RIGHT($I185,2)&\"-\"&$C185)>0,IF($C185>0,VLOOKUP(RIGHT($I185,2)&\"-\"&$C185,[1]Rankings!$B:$H,7,FALSE),\"\"),0)","v":0},{"$f":"IF($C185>0,VLOOKUP($C185,[1]Μητρώο!$A:$F,4,FALSE),\"\")","v":""}]
[179,179,null,{"$f":"IF($C186>0,VLOOKUP($C186,[1]Μητρώο!$A:$F,3,FALSE),\"\")","v":""},{"$f":"IF($C186>0,VLOOKUP($C186,[1]Μητρώο!$A:$F,5,FALSE),\"\")","v":""},{"$f":"IF(COUNTIF([1]Rankings!$B:$B,RIGHT($I186,2)&\"-\"&$C186)>0,IF($C186>0,VLOOKUP(RIGHT($I186,2)&\"-\"&$C186,[1]Rankings!$B:$H,7,FALSE),\"\"),0)","v":0},{"$f":"IF($C186>0,VLOOKUP($C186,[1]Μητρώο!$A:$F,4,FALSE),\"\")","v":""}]
[180,180,null,{"$f":"IF($C187>0,VLOOKUP($C187,[1]Μητρώο!$A:$F,3,FALSE),\"\")","v":""},{"$f":"IF($C187>0,VLOOKUP($C187,[1]Μητρώο!$A:$F,5,FALSE),\"\")","v":""},{"$f":"IF(COUNTIF([1]Rankings!$B:$B,RIGHT($I187,2)&\"-\"&$C187)>0,IF($C187>0,VLOOKUP(RIGHT($I187,2)&\"-\"&$C187,[1]Rankings!$B:$H,7,FALSE),\"\"),0)","v":0},{"$f":"IF($C187>0,VLOOKUP($C187,[1]Μητρώο!$A:$F,4,FALSE),\"\")","v":""}]
[181,181,null,{"$f":"IF($C188>0,VLOOKUP($C188,[1]Μητρώο!$A:$F,3,FALSE),\"\")","v":""},{"$f":"IF($C188>0,VLOOKUP($C188,[1]Μητρώο!$A:$F,5,FALSE),\"\")","v":""},{"$f":"IF(COUNTIF([1]Rankings!$B:$B,RIGHT($I188,2)&\"-\"&$C188)>0,IF($C188>0,VLOOKUP(RIGHT($I188,2)&\"-\"&$C188,[1]Rankings!$B:$H,7,FALSE),\"\"),0)","v":0},{"$f":"IF($C188>0,VLOOKUP($C188,[1]Μητρώο!$A:$F,4,FALSE),\"\")","v":""}]
[182,182,null,{"$f":"IF($C189>0,VLOOKUP($C189,[1]Μητρώο!$A:$F,3,FALSE),\"\")","v":""},{"$f":"IF($C189>0,VLOOKUP($C189,[1]Μητρώο!$A:$F,5,FALSE),\"\")","v":""},{"$f":"IF(COUNTIF([1]Rankings!$B:$B,RIGHT($I189,2)&\"-\"&$C189)>0,IF($C189>0,VLOOKUP(RIGHT($I189,2)&\"-\"&$C189,[1]Rankings!$B:$H,7,FALSE),\"\"),0)","v":0},{"$f":"IF($C189>0,VLOOKUP($C189,[1]Μητρώο!$A:$F,4,FALSE),\"\")","v":""}]
[183,183,null,{"$f":"IF($C190>0,VLOOKUP($C190,[1]Μητρώο!$A:$F,3,FALSE),\"\")","v":""},{"$f":"IF($C190>0,VLOOKUP($C190,[1]Μητρώο!$A:$F,5,FALSE),\"\")","v":""},{"$f":"IF(COUNTIF([1]Rankings!$B:$B,RIGHT($I190,2)&\"-\"&$C190)>0,IF($C190>0,VLOOKUP(RIGHT($I190,2)&\"-\"&$C190,[1]Rankings!$B:$H,7,FALSE),\"\"),0)","v":0},{"$f":"IF($C190>0,VLOOKUP($C190,[1]Μητρώο!$A:$F,4,FALSE),\"\")","v":""}]
[184,184,null,{"$f":"IF($C191>0,VLOOKUP($C191,[1]Μητρώο!$A:$F,3,FALSE),\"\")","v":""},{"$f":"IF($C191>0,VLOOKUP($C191,[1]Μητρώο!$A:$F,5,FALSE),\"\")","v":""},{"$f":"IF(COUNTIF([1]Rankings!$B:$B,RIGHT($I191,2)&\"-\"&$C191)>0,IF($C191>0,VLOOKUP(RIGHT($I191,2)&\"-\"&$C191,[1]Rankings!$B:$H,7,FALSE),\"\"),0)","v":0},{"$f":"IF($C191>0,VLOOKUP($C191,[1]Μητρώο!$A:$F,4,FALSE),\"\")","v":""}]
[185,185,null,{"$f":"IF($C192>0,VLOOKUP($C192,[1]Μητρώο!$A:$F,3,FALSE),\"\")","v":""},{"$f":"IF($C192>0,VLOOKUP($C192,[1]Μητρώο!$A:$F,5,FALSE),\"\")","v":""},{"$f":"IF(COUNTIF([1]Rankings!$B:$B,RIGHT($I192,2)&\"-\"&$C192)>0,IF($C192>0,VLOOKUP(RIGHT($I192,2)&\"-\"&$C192,[1]Rankings!$B:$H,7,FALSE),\"\"),0)","v":0},{"$f":"IF($C192>0,VLOOKUP($C192,[1]Μητρώο!$A:$F,4,FALSE),\"\")","v":""}]
[186,186,null,{"$f":"IF($C193>0,VLOOKUP($C193,[1]Μητρώο!$A:$F,3,FALSE),\"\")","v":""},{"$f":"IF($C193>0,VLOOKUP($C193,[1]Μητρώο!$A:$F,5,FALSE),\"\")","v":""},{"$f":"IF(COUNTIF([1]Rankings!$B:$B,RIGHT($I193,2)&\"-\"&$C193)>0,IF($C193>0,VLOOKUP(RIGHT($I193,2)&\"-\"&$C193,[1]Rankings!$B:$H,7,FALSE),\"\"),0)","v":0},{"$f":"IF($C193>0,VLOOKUP($C193,[1]Μητρώο!$A:$F,4,FALSE),\"\")","v":""}]
[187,187,null,{"$f":"IF($C194>0,VLOOKUP($C194,[1]Μητρώο!$A:$F,3,FALSE),\"\")","v":""},{"$f":"IF($C194>0,VLOOKUP($C194,[1]Μητρώο!$A:$F,5,FALSE),\"\")","v":""},{"$f":"IF(COUNTIF([1]Rankings!$B:$B,RIGHT($I194,2)&\"-\"&$C194)>0,IF($C194>0,VLOOKUP(RIGHT($I194,2)&\"-\"&$C194,[1]Rankings!$B:$H,7,FALSE),\"\"),0)","v":0},{"$f":"IF($C194>0,VLOOKUP($C194,[1]Μητρώο!$A:$F,4,FALSE),\"\")","v":""}]
[188,188,null,{"$f":"IF($C195>0,VLOOKUP($C195,[1]Μητρώο!$A:$F,3,FALSE),\"\")","v":""},{"$f":"IF($C195>0,VLOOKUP($C195,[1]Μητρώο!$A:$F,5,FALSE),\"\")","v":""},{"$f":"IF(COUNTIF([1]Rankings!$B:$B,RIGHT($I195,2)&\"-\"&$C195)>0,IF($C195>0,VLOOKUP(RIGHT($I195,2)&\"-\"&$C195,[1]Rankings!$B:$H,7,FALSE),\"\"),0)","v":0},{"$f":"IF($C195>0,VLOOKUP($C195,[1]Μητρώο!$A:$F,4,FALSE),\"\")","v":""}]
[189,189,null,{"$f":"IF($C196>0,VLOOKUP($C196,[1]Μητρώο!$A:$F,3,FALSE),\"\")","v":""},{"$f":"IF($C196>0,VLOOKUP($C196,[1]Μητρώο!$A:$F,5,FALSE),\"\")","v":""},{"$f":"IF(COUNTIF([1]Rankings!$B:$B,RIGHT($I196,2)&\"-\"&$C196)>0,IF($C196>0,VLOOKUP(RIGHT($I196,2)&\"-\"&$C196,[1]Rankings!$B:$H,7,FALSE),\"\"),0)","v":0},{"$f":"IF($C196>0,VLOOKUP($C196,[1]Μητρώο!$A:$F,4,FALSE),\"\")","v":""}]
[190,190,null,{"$f":"IF($C197>0,VLOOKUP($C197,[1]Μητρώο!$A:$F,3,FALSE),\"\")","v":""},{"$f":"IF($C197>0,VLOOKUP($C197,[1]Μητρώο!$A:$F,5,FALSE),\"\")","v":""},{"$f":"IF(COUNTIF([1]Rankings!$B:$B,RIGHT($I197,2)&\"-\"&$C197)>0,IF($C197>0,VLOOKUP(RIGHT($I197,2)&\"-\"&$C197,[1]Rankings!$B:$H,7,FALSE),\"\"),0)","v":0},{"$f":"IF($C197>0,VLOOKUP($C197,[1]Μητρώο!$A:$F,4,FALSE),\"\")","v":""}]
[191,191,null,{"$f":"IF($C198>0,VLOOKUP($C198,[1]Μητρώο!$A:$F,3,FALSE),\"\")","v":""},{"$f":"IF($C198>0,VLOOKUP($C198,[1]Μητρώο!$A:$F,5,FALSE),\"\")","v":""},{"$f":"IF(COUNTIF([1]Rankings!$B:$B,RIGHT($I198,2)&\"-\"&$C198)>0,IF($C198>0,VLOOKUP(RIGHT($I198,2)&\"-\"&$C198,[1]Rankings!$B:$H,7,FALSE),\"\"),0)","v":0},{"$f":"IF($C198>0,VLOOKUP($C198,[1]Μητρώο!$A:$F,4,FALSE),\"\")","v":""}]
[192,192,null,{"$f":"IF($C199>0,VLOOKUP($C199,[1]Μητρώο!$A:$F,3,FALSE),\"\")","v":""},{"$f":"IF($C199>0,VLOOKUP($C199,[1]Μητρώο!$A:$F,5,FALSE),\"\")","v":""},{"$f":"IF(COUNTIF([1]Rankings!$B:$B,RIGHT($I199,2)&\"-\"&$C199)>0,IF($C199>0,VLOOKUP(RIGHT($I199,2)&\"-\"&$C199,[1]Rankings!$B:$H,7,FALSE),\"\"),0)","v":0},{"$f":"IF($C199>0,VLOOKUP($C199,[1]Μητρώο!$A:$F,4,FALSE),\"\")","v":""}]
[193,{"$f":"IF(H200&I200=H199&I199,B199+1,1)","v":193},null,{"$f":"IF($C200>0,VLOOKUP($C200,[1]Μητρώο!$A:$F,3,FALSE),\"\")","v":""},{"$f":"IF($C200>0,VLOOKUP($C200,[1]Μητρώο!$A:$F,5,FALSE),\"\")","v":""},{"$f":"IF(COUNTIF([1]Rankings!$B:$B,RIGHT($I200,2)&\"-\"&$C200)>0,IF($C200>0,VLOOKUP(RIGHT($I200,2)&\"-\"&$C200,[1]Rankings!$B:$H,7,FALSE),\"\"),0)","v":0},{"$f":"IF($C200>0,VLOOKUP($C200,[1]Μητρώο!$A:$F,4,FALSE),\"\")","v":""}]
[194,194,null,{"$f":"IF($C201>0,VLOOKUP($C201,[1]Μητρώο!$A:$F,3,FALSE),\"\")","v":""},{"$f":"IF($C201>0,VLOOKUP($C201,[1]Μητρώο!$A:$F,5,FALSE),\"\")","v":""},{"$f":"IF(COUNTIF([1]Rankings!$B:$B,RIGHT($I201,2)&\"-\"&$C201)>0,IF($C201>0,VLOOKUP(RIGHT($I201,2)&\"-\"&$C201,[1]Rankings!$B:$H,7,FALSE),\"\"),0)","v":0},{"$f":"IF($C201>0,VLOOKUP($C201,[1]Μητρώο!$A:$F,4,FALSE),\"\")","v":""}]
[195,195,null,{"$f":"IF($C202>0,VLOOKUP($C202,[1]Μητρώο!$A:$F,3,FALSE),\"\")","v":""},{"$f":"IF($C202>0,VLOOKUP($C202,[1]Μητρώο!$A:$F,5,FALSE),\"\")","v":""},{"$f":"IF(COUNTIF([1]Rankings!$B:$B,RIGHT($I202,2)&\"-\"&$C202)>0,IF($C202>0,VLOOKUP(RIGHT($I202,2)&\"-\"&$C202,[1]Rankings!$B:$H,7,FALSE),\"\"),0)","v":0},{"$f":"IF($C202>0,VLOOKUP($C202,[1]Μητρώο!$A:$F,4,FALSE),\"\")","v":""}]
[196,196,null,{"$f":"IF($C203>0,VLOOKUP($C203,[1]Μητρώο!$A:$F,3,FALSE),\"\")","v":""},{"$f":"IF($C203>0,VLOOKUP($C203,[1]Μητρώο!$A:$F,5,FALSE),\"\")","v":""},{"$f":"IF(COUNTIF([1]Rankings!$B:$B,RIGHT($I203,2)&\"-\"&$C203)>0,IF($C203>0,VLOOKUP(RIGHT($I203,2)&\"-\"&$C203,[1]Rankings!$B:$H,7,FALSE),\"\"),0)","v":0},{"$f":"IF($C203>0,VLOOKUP($C203,[1]Μητρώο!$A:$F,4,FALSE),\"\")","v":""}]
[197,197,null,{"$f":"IF($C204>0,VLOOKUP($C204,[1]Μητρώο!$A:$F,3,FALSE),\"\")","v":""},{"$f":"IF($C204>0,VLOOKUP($C204,[1]Μητρώο!$A:$F,5,FALSE),\"\")","v":""},{"$f":"IF(COUNTIF([1]Rankings!$B:$B,RIGHT($I204,2)&\"-\"&$C204)>0,IF($C204>0,VLOOKUP(RIGHT($I204,2)&\"-\"&$C204,[1]Rankings!$B:$H,7,FALSE),\"\"),0)","v":0},{"$f":"IF($C204>0,VLOOKUP($C204,[1]Μητρώο!$A:$F,4,FALSE),\"\")","v":""}]
[198,198,null,{"$f":"IF($C205>0,VLOOKUP($C205,[1]Μητρώο!$A:$F,3,FALSE),\"\")","v":""},{"$f":"IF($C205>0,VLOOKUP($C205,[1]Μητρώο!$A:$F,5,FALSE),\"\")","v":""},{"$f":"IF(COUNTIF([1]Rankings!$B:$B,RIGHT($I205,2)&\"-\"&$C205)>0,IF($C205>0,VLOOKUP(RIGHT($I205,2)&\"-\"&$C205,[1]Rankings!$B:$H,7,FALSE),\"\"),0)","v":0},{"$f":"IF($C205>0,VLOOKUP($C205,[1]Μητρώο!$A:$F,4,FALSE),\"\")","v":""}]
[199,199,null,{"$f":"IF($C206>0,VLOOKUP($C206,[1]Μητρώο!$A:$F,3,FALSE),\"\")","v":""},{"$f":"IF($C206>0,VLOOKUP($C206,[1]Μητρώο!$A:$F,5,FALSE),\"\")","v":""},{"$f":"IF(COUNTIF([1]Rankings!$B:$B,RIGHT($I206,2)&\"-\"&$C206)>0,IF($C206>0,VLOOKUP(RIGHT($I206,2)&\"-\"&$C206,[1]Rankings!$B:$H,7,FALSE),\"\"),0)","v":0},{"$f":"IF($C206>0,VLOOKUP($C206,[1]Μητρώο!$A:$F,4,FALSE),\"\")","v":""}]
[200,200,null,{"$f":"IF($C207>0,VLOOKUP($C207,[1]Μητρώο!$A:$F,3,FALSE),\"\")","v":""},{"$f":"IF($C207>0,VLOOKUP($C207,[1]Μητρώο!$A:$F,5,FALSE),\"\")","v":""},{"$f":"IF(COUNTIF([1]Rankings!$B:$B,RIGHT($I207,2)&\"-\"&$C207)>0,IF($C207>0,VLOOKUP(RIGHT($I207,2)&\"-\"&$C207,[1]Rankings!$B:$H,7,FALSE),\"\"),0)","v":0},{"$f":"IF($C207>0,VLOOKUP($C207,[1]Μητρώο!$A:$F,4,FALSE),\"\")","v":""}]
[201,201,null,{"$f":"IF($C208>0,VLOOKUP($C208,[1]Μητρώο!$A:$F,3,FALSE),\"\")","v":""},{"$f":"IF($C208>0,VLOOKUP($C208,[1]Μητρώο!$A:$F,5,FALSE),\"\")","v":""},{"$f":"IF(COUNTIF([1]Rankings!$B:$B,RIGHT($I208,2)&\"-\"&$C208)>0,IF($C208>0,VLOOKUP(RIGHT($I208,2)&\"-\"&$C208,[1]Rankings!$B:$H,7,FALSE),\"\"),0)","v":0},{"$f":"IF($C208>0,VLOOKUP($C208,[1]Μητρώο!$A:$F,4,FALSE),\"\")","v":""}]
[202,202,null,{"$f":"IF($C209>0,VLOOKUP($C209,[1]Μητρώο!$A:$F,3,FALSE),\"\")","v":""},{"$f":"IF($C209>0,VLOOKUP($C209,[1]Μητρώο!$A:$F,5,FALSE),\"\")","v":""},{"$f":"IF(COUNTIF([1]Rankings!$B:$B,RIGHT($I209,2)&\"-\"&$C209)>0,IF($C209>0,VLOOKUP(RIGHT($I209,2)&\"-\"&$C209,[1]Rankings!$B:$H,7,FALSE),\"\"),0)","v":0},{"$f":"IF($C209>0,VLOOKUP($C209,[1]Μητρώο!$A:$F,4,FALSE),\"\")","v":""}]
[203,203,null,{"$f":"IF($C210>0,VLOOKUP($C210,[1]Μητρώο!$A:$F,3,FALSE),\"\")","v":""},{"$f":"IF($C210>0,VLOOKUP($C210,[1]Μητρώο!$A:$F,5,FALSE),\"\")","v":""},{"$f":"IF(COUNTIF([1]Rankings!$B:$B,RIGHT($I210,2)&\"-\"&$C210)>0,IF($C210>0,VLOOKUP(RIGHT($I210,2)&\"-\"&$C210,[1]Rankings!$B:$H,7,FALSE),\"\"),0)","v":0},{"$f":"IF($C210>0,VLOOKUP($C210,[1]Μητρώο!$A:$F,4,FALSE),\"\")","v":""}]
[204,204,null,{"$f":"IF($C211>0,VLOOKUP($C211,[1]Μητρώο!$A:$F,3,FALSE),\"\")","v":""},{"$f":"IF($C211>0,VLOOKUP($C211,[1]Μητρώο!$A:$F,5,FALSE),\"\")","v":""},{"$f":"IF(COUNTIF([1]Rankings!$B:$B,RIGHT($I211,2)&\"-\"&$C211)>0,IF($C211>0,VLOOKUP(RIGHT($I211,2)&\"-\"&$C211,[1]Rankings!$B:$H,7,FALSE),\"\"),0)","v":0},{"$f":"IF($C211>0,VLOOKUP($C211,[1]Μητρώο!$A:$F,4,FALSE),\"\")","v":""}]
[205,205,null,{"$f":"IF($C212>0,VLOOKUP($C212,[1]Μητρώο!$A:$F,3,FALSE),\"\")","v":""},{"$f":"IF($C212>0,VLOOKUP($C212,[1]Μητρώο!$A:$F,5,FALSE),\"\")","v":""},{"$f":"IF(COUNTIF([1]Rankings!$B:$B,RIGHT($I212,2)&\"-\"&$C212)>0,IF($C212>0,VLOOKUP(RIGHT($I212,2)&\"-\"&$C212,[1]Rankings!$B:$H,7,FALSE),\"\"),0)","v":0},{"$f":"IF($C212>0,VLOOKUP($C212,[1]Μητρώο!$A:$F,4,FALSE),\"\")","v":""}]
[206,206,null,{"$f":"IF($C213>0,VLOOKUP($C213,[1]Μητρώο!$A:$F,3,FALSE),\"\")","v":""},{"$f":"IF($C213>0,VLOOKUP($C213,[1]Μητρώο!$A:$F,5,FALSE),\"\")","v":""},{"$f":"IF(COUNTIF([1]Rankings!$B:$B,RIGHT($I213,2)&\"-\"&$C213)>0,IF($C213>0,VLOOKUP(RIGHT($I213,2)&\"-\"&$C213,[1]Rankings!$B:$H,7,FALSE),\"\"),0)","v":0},{"$f":"IF($C213>0,VLOOKUP($C213,[1]Μητρώο!$A:$F,4,FALSE),\"\")","v":""}]
[207,207,null,{"$f":"IF($C214>0,VLOOKUP($C214,[1]Μητρώο!$A:$F,3,FALSE),\"\")","v":""},{"$f":"IF($C214>0,VLOOKUP($C214,[1]Μητρώο!$A:$F,5,FALSE),\"\")","v":""},{"$f":"IF(COUNTIF([1]Rankings!$B:$B,RIGHT($I214,2)&\"-\"&$C214)>0,IF($C214>0,VLOOKUP(RIGHT($I214,2)&\"-\"&$C214,[1]Rankings!$B:$H,7,FALSE),\"\"),0)","v":0},{"$f":"IF($C214>0,VLOOKUP($C214,[1]Μητρώο!$A:$F,4,FALSE),\"\")","v":""}]
[208,208,null,{"$f":"IF($C215>0,VLOOKUP($C215,[1]Μητρώο!$A:$F,3,FALSE),\"\")","v":""},{"$f":"IF($C215>0,VLOOKUP($C215,[1]Μητρώο!$A:$F,5,FALSE),\"\")","v":""},{"$f":"IF(COUNTIF([1]Rankings!$B:$B,RIGHT($I215,2)&\"-\"&$C215)>0,IF($C215>0,VLOOKUP(RIGHT($I215,2)&\"-\"&$C215,[1]Rankings!$B:$H,7,FALSE),\"\"),0)","v":0},{"$f":"IF($C215>0,VLOOKUP($C215,[1]Μητρώο!$A:$F,4,FALSE),\"\")","v":""}]
[209,209,null,{"$f":"IF($C216>0,VLOOKUP($C216,[1]Μητρώο!$A:$F,3,FALSE),\"\")","v":""},{"$f":"IF($C216>0,VLOOKUP($C216,[1]Μητρώο!$A:$F,5,FALSE),\"\")","v":""},{"$f":"IF(COUNTIF([1]Rankings!$B:$B,RIGHT($I216,2)&\"-\"&$C216)>0,IF($C216>0,VLOOKUP(RIGHT($I216,2)&\"-\"&$C216,[1]Rankings!$B:$H,7,FALSE),\"\"),0)","v":0},{"$f":"IF($C216>0,VLOOKUP($C216,[1]Μητρώο!$A:$F,4,FALSE),\"\")","v":""}]
[210,210,null,{"$f":"IF($C217>0,VLOOKUP($C217,[1]Μητρώο!$A:$F,3,FALSE),\"\")","v":""},{"$f":"IF($C217>0,VLOOKUP($C217,[1]Μητρώο!$A:$F,5,FALSE),\"\")","v":""},{"$f":"IF(COUNTIF([1]Rankings!$B:$B,RIGHT($I217,2)&\"-\"&$C217)>0,IF($C217>0,VLOOKUP(RIGHT($I217,2)&\"-\"&$C217,[1]Rankings!$B:$H,7,FALSE),\"\"),0)","v":0},{"$f":"IF($C217>0,VLOOKUP($C217,[1]Μητρώο!$A:$F,4,FALSE),\"\")","v":""}]
[211,211,null,{"$f":"IF($C218>0,VLOOKUP($C218,[1]Μητρώο!$A:$F,3,FALSE),\"\")","v":""},{"$f":"IF($C218>0,VLOOKUP($C218,[1]Μητρώο!$A:$F,5,FALSE),\"\")","v":""},{"$f":"IF(COUNTIF([1]Rankings!$B:$B,RIGHT($I218,2)&\"-\"&$C218)>0,IF($C218>0,VLOOKUP(RIGHT($I218,2)&\"-\"&$C218,[1]Rankings!$B:$H,7,FALSE),\"\"),0)","v":0},{"$f":"IF($C218>0,VLOOKUP($C218,[1]Μητρώο!$A:$F,4,FALSE),\"\")","v":""}]
[212,212,null,{"$f":"IF($C219>0,VLOOKUP($C219,[1]Μητρώο!$A:$F,3,FALSE),\"\")","v":""},{"$f":"IF($C219>0,VLOOKUP($C219,[1]Μητρώο!$A:$F,5,FALSE),\"\")","v":""},{"$f":"IF(COUNTIF([1]Rankings!$B:$B,RIGHT($I219,2)&\"-\"&$C219)>0,IF($C219>0,VLOOKUP(RIGHT($I219,2)&\"-\"&$C219,[1]Rankings!$B:$H,7,FALSE),\"\"),0)","v":0},{"$f":"IF($C219>0,VLOOKUP($C219,[1]Μητρώο!$A:$F,4,FALSE),\"\")","v":""}]
[213,213,null,{"$f":"IF($C220>0,VLOOKUP($C220,[1]Μητρώο!$A:$F,3,FALSE),\"\")","v":""},{"$f":"IF($C220>0,VLOOKUP($C220,[1]Μητρώο!$A:$F,5,FALSE),\"\")","v":""},{"$f":"IF(COUNTIF([1]Rankings!$B:$B,RIGHT($I220,2)&\"-\"&$C220)>0,IF($C220>0,VLOOKUP(RIGHT($I220,2)&\"-\"&$C220,[1]Rankings!$B:$H,7,FALSE),\"\"),0)","v":0},{"$f":"IF($C220>0,VLOOKUP($C220,[1]Μητρώο!$A:$F,4,FALSE),\"\")","v":""}]
[214,214,null,{"$f":"IF($C221>0,VLOOKUP($C221,[1]Μητρώο!$A:$F,3,FALSE),\"\")","v":""},{"$f":"IF($C221>0,VLOOKUP($C221,[1]Μητρώο!$A:$F,5,FALSE),\"\")","v":""},{"$f":"IF(COUNTIF([1]Rankings!$B:$B,RIGHT($I221,2)&\"-\"&$C221)>0,IF($C221>0,VLOOKUP(RIGHT($I221,2)&\"-\"&$C221,[1]Rankings!$B:$H,7,FALSE),\"\"),0)","v":0},{"$f":"IF($C221>0,VLOOKUP($C221,[1]Μητρώο!$A:$F,4,FALSE),\"\")","v":""}]
[215,215,null,{"$f":"IF($C222>0,VLOOKUP($C222,[1]Μητρώο!$A:$F,3,FALSE),\"\")","v":""},{"$f":"IF($C222>0,VLOOKUP($C222,[1]Μητρώο!$A:$F,5,FALSE),\"\")","v":""},{"$f":"IF(COUNTIF([1]Rankings!$B:$B,RIGHT($I222,2)&\"-\"&$C222)>0,IF($C222>0,VLOOKUP(RIGHT($I222,2)&\"-\"&$C222,[1]Rankings!$B:$H,7,FALSE),\"\"),0)","v":0},{"$f":"IF($C222>0,VLOOKUP($C222,[1]Μητρώο!$A:$F,4,FALSE),\"\")","v":""}]
[216,216,null,{"$f":"IF($C223>0,VLOOKUP($C223,[1]Μητρώο!$A:$F,3,FALSE),\"\")","v":""},{"$f":"IF($C223>0,VLOOKUP($C223,[1]Μητρώο!$A:$F,5,FALSE),\"\")","v":""},{"$f":"IF(COUNTIF([1]Rankings!$B:$B,RIGHT($I223,2)&\"-\"&$C223)>0,IF($C223>0,VLOOKUP(RIGHT($I223,2)&\"-\"&$C223,[1]Rankings!$B:$H,7,FALSE),\"\"),0)","v":0},{"$f":"IF($C223>0,VLOOKUP($C223,[1]Μητρώο!$A:$F,4,FALSE),\"\")","v":""}]
[217,217,null,{"$f":"IF($C224>0,VLOOKUP($C224,[1]Μητρώο!$A:$F,3,FALSE),\"\")","v":""},{"$f":"IF($C224>0,VLOOKUP($C224,[1]Μητρώο!$A:$F,5,FALSE),\"\")","v":""},{"$f":"IF(COUNTIF([1]Rankings!$B:$B,RIGHT($I224,2)&\"-\"&$C224)>0,IF($C224>0,VLOOKUP(RIGHT($I224,2)&\"-\"&$C224,[1]Rankings!$B:$H,7,FALSE),\"\"),0)","v":0},{"$f":"IF($C224>0,VLOOKUP($C224,[1]Μητρώο!$A:$F,4,FALSE),\"\")","v":""}]
[218,218,null,{"$f":"IF($C225>0,VLOOKUP($C225,[1]Μητρώο!$A:$F,3,FALSE),\"\")","v":""},{"$f":"IF($C225>0,VLOOKUP($C225,[1]Μητρώο!$A:$F,5,FALSE),\"\")","v":""},{"$f":"IF(COUNTIF([1]Rankings!$B:$B,RIGHT($I225,2)&\"-\"&$C225)>0,IF($C225>0,VLOOKUP(RIGHT($I225,2)&\"-\"&$C225,[1]Rankings!$B:$H,7,FALSE),\"\"),0)","v":0},{"$f":"IF($C225>0,VLOOKUP($C225,[1]Μητρώο!$A:$F,4,FALSE),\"\")","v":""}]
[219,219,null,{"$f":"IF($C226>0,VLOOKUP($C226,[1]Μητρώο!$A:$F,3,FALSE),\"\")","v":""},{"$f":"IF($C226>0,VLOOKUP($C226,[1]Μητρώο!$A:$F,5,FALSE),\"\")","v":""},{"$f":"IF(COUNTIF([1]Rankings!$B:$B,RIGHT($I226,2)&\"-\"&$C226)>0,IF($C226>0,VLOOKUP(RIGHT($I226,2)&\"-\"&$C226,[1]Rankings!$B:$H,7,FALSE),\"\"),0)","v":0},{"$f":"IF($C226>0,VLOOKUP($C226,[1]Μητρώο!$A:$F,4,FALSE),\"\")","v":""}]
[220,220,null,{"$f":"IF($C227>0,VLOOKUP($C227,[1]Μητρώο!$A:$F,3,FALSE),\"\")","v":""},{"$f":"IF($C227>0,VLOOKUP($C227,[1]Μητρώο!$A:$F,5,FALSE),\"\")","v":""},{"$f":"IF(COUNTIF([1]Rankings!$B:$B,RIGHT($I227,2)&\"-\"&$C227)>0,IF($C227>0,VLOOKUP(RIGHT($I227,2)&\"-\"&$C227,[1]Rankings!$B:$H,7,FALSE),\"\"),0)","v":0},{"$f":"IF($C227>0,VLOOKUP($C227,[1]Μητρώο!$A:$F,4,FALSE),\"\")","v":""}]
[221,221,null,{"$f":"IF($C228>0,VLOOKUP($C228,[1]Μητρώο!$A:$F,3,FALSE),\"\")","v":""},{"$f":"IF($C228>0,VLOOKUP($C228,[1]Μητρώο!$A:$F,5,FALSE),\"\")","v":""},{"$f":"IF(COUNTIF([1]Rankings!$B:$B,RIGHT($I228,2)&\"-\"&$C228)>0,IF($C228>0,VLOOKUP(RIGHT($I228,2)&\"-\"&$C228,[1]Rankings!$B:$H,7,FALSE),\"\"),0)","v":0},{"$f":"IF($C228>0,VLOOKUP($C228,[1]Μητρώο!$A:$F,4,FALSE),\"\")","v":""}]
[222,222,null,{"$f":"IF($C229>0,VLOOKUP($C229,[1]Μητρώο!$A:$F,3,FALSE),\"\")","v":""},{"$f":"IF($C229>0,VLOOKUP($C229,[1]Μητρώο!$A:$F,5,FALSE),\"\")","v":""},{"$f":"IF(COUNTIF([1]Rankings!$B:$B,RIGHT($I229,2)&\"-\"&$C229)>0,IF($C229>0,VLOOKUP(RIGHT($I229,2)&\"-\"&$C229,[1]Rankings!$B:$H,7,FALSE),\"\"),0)","v":0},{"$f":"IF($C229>0,VLOOKUP($C229,[1]Μητρώο!$A:$F,4,FALSE),\"\")","v":""}]
[223,223,null,{"$f":"IF($C230>0,VLOOKUP($C230,[1]Μητρώο!$A:$F,3,FALSE),\"\")","v":""},{"$f":"IF($C230>0,VLOOKUP($C230,[1]Μητρώο!$A:$F,5,FALSE),\"\")","v":""},{"$f":"IF(COUNTIF([1]Rankings!$B:$B,RIGHT($I230,2)&\"-\"&$C230)>0,IF($C230>0,VLOOKUP(RIGHT($I230,2)&\"-\"&$C230,[1]Rankings!$B:$H,7,FALSE),\"\"),0)","v":0},{"$f":"IF($C230>0,VLOOKUP($C230,[1]Μητρώο!$A:$F,4,FALSE),\"\")","v":""}]
[224,224,null,{"$f":"IF($C231>0,VLOOKUP($C231,[1]Μητρώο!$A:$F,3,FALSE),\"\")","v":""},{"$f":"IF($C231>0,VLOOKUP($C231,[1]Μητρώο!$A:$F,5,FALSE),\"\")","v":""},{"$f":"IF(COUNTIF([1]Rankings!$B:$B,RIGHT($I231,2)&\"-\"&$C231)>0,IF($C231>0,VLOOKUP(RIGHT($I231,2)&\"-\"&$C231,[1]Rankings!$B:$H,7,FALSE),\"\"),0)","v":0},{"$f":"IF($C231>0,VLOOKUP($C231,[1]Μητρώο!$A:$F,4,FALSE),\"\")","v":""}]
[225,225,null,{"$f":"IF($C232>0,VLOOKUP($C232,[1]Μητρώο!$A:$F,3,FALSE),\"\")","v":""},{"$f":"IF($C232>0,VLOOKUP($C232,[1]Μητρώο!$A:$F,5,FALSE),\"\")","v":""},{"$f":"IF(COUNTIF([1]Rankings!$B:$B,RIGHT($I232,2)&\"-\"&$C232)>0,IF($C232>0,VLOOKUP(RIGHT($I232,2)&\"-\"&$C232,[1]Rankings!$B:$H,7,FALSE),\"\"),0)","v":0},{"$f":"IF($C232>0,VLOOKUP($C232,[1]Μητρώο!$A:$F,4,FALSE),\"\")","v":""}]
[226,226,null,{"$f":"IF($C233>0,VLOOKUP($C233,[1]Μητρώο!$A:$F,3,FALSE),\"\")","v":""},{"$f":"IF($C233>0,VLOOKUP($C233,[1]Μητρώο!$A:$F,5,FALSE),\"\")","v":""},{"$f":"IF(COUNTIF([1]Rankings!$B:$B,RIGHT($I233,2)&\"-\"&$C233)>0,IF($C233>0,VLOOKUP(RIGHT($I233,2)&\"-\"&$C233,[1]Rankings!$B:$H,7,FALSE),\"\"),0)","v":0},{"$f":"IF($C233>0,VLOOKUP($C233,[1]Μητρώο!$A:$F,4,FALSE),\"\")","v":""}]
[227,227,null,{"$f":"IF($C234>0,VLOOKUP($C234,[1]Μητρώο!$A:$F,3,FALSE),\"\")","v":""},{"$f":"IF($C234>0,VLOOKUP($C234,[1]Μητρώο!$A:$F,5,FALSE),\"\")","v":""},{"$f":"IF(COUNTIF([1]Rankings!$B:$B,RIGHT($I234,2)&\"-\"&$C234)>0,IF($C234>0,VLOOKUP(RIGHT($I234,2)&\"-\"&$C234,[1]Rankings!$B:$H,7,FALSE),\"\"),0)","v":0},{"$f":"IF($C234>0,VLOOKUP($C234,[1]Μητρώο!$A:$F,4,FALSE),\"\")","v":""}]
[228,228,null,{"$f":"IF($C235>0,VLOOKUP($C235,[1]Μητρώο!$A:$F,3,FALSE),\"\")","v":""},{"$f":"IF($C235>0,VLOOKUP($C235,[1]Μητρώο!$A:$F,5,FALSE),\"\")","v":""},{"$f":"IF(COUNTIF([1]Rankings!$B:$B,RIGHT($I235,2)&\"-\"&$C235)>0,IF($C235>0,VLOOKUP(RIGHT($I235,2)&\"-\"&$C235,[1]Rankings!$B:$H,7,FALSE),\"\"),0)","v":0},{"$f":"IF($C235>0,VLOOKUP($C235,[1]Μητρώο!$A:$F,4,FALSE),\"\")","v":""}]
[229,229,null,{"$f":"IF($C236>0,VLOOKUP($C236,[1]Μητρώο!$A:$F,3,FALSE),\"\")","v":""},{"$f":"IF($C236>0,VLOOKUP($C236,[1]Μητρώο!$A:$F,5,FALSE),\"\")","v":""},{"$f":"IF(COUNTIF([1]Rankings!$B:$B,RIGHT($I236,2)&\"-\"&$C236)>0,IF($C236>0,VLOOKUP(RIGHT($I236,2)&\"-\"&$C236,[1]Rankings!$B:$H,7,FALSE),\"\"),0)","v":0},{"$f":"IF($C236>0,VLOOKUP($C236,[1]Μητρώο!$A:$F,4,FALSE),\"\")","v":""}]
[230,230,null,{"$f":"IF($C237>0,VLOOKUP($C237,[1]Μητρώο!$A:$F,3,FALSE),\"\")","v":""},{"$f":"IF($C237>0,VLOOKUP($C237,[1]Μητρώο!$A:$F,5,FALSE),\"\")","v":""},{"$f":"IF(COUNTIF([1]Rankings!$B:$B,RIGHT($I237,2)&\"-\"&$C237)>0,IF($C237>0,VLOOKUP(RIGHT($I237,2)&\"-\"&$C237,[1]Rankings!$B:$H,7,FALSE),\"\"),0)","v":0},{"$f":"IF($C237>0,VLOOKUP($C237,[1]Μητρώο!$A:$F,4,FALSE),\"\")","v":""}]
[231,231,null,{"$f":"IF($C238>0,VLOOKUP($C238,[1]Μητρώο!$A:$F,3,FALSE),\"\")","v":""},{"$f":"IF($C238>0,VLOOKUP($C238,[1]Μητρώο!$A:$F,5,FALSE),\"\")","v":""},{"$f":"IF(COUNTIF([1]Rankings!$B:$B,RIGHT($I238,2)&\"-\"&$C238)>0,IF($C238>0,VLOOKUP(RIGHT($I238,2)&\"-\"&$C238,[1]Rankings!$B:$H,7,FALSE),\"\"),0)","v":0},{"$f":"IF($C238>0,VLOOKUP($C238,[1]Μητρώο!$A:$F,4,FALSE),\"\")","v":""}]
[232,232,null,{"$f":"IF($C239>0,VLOOKUP($C239,[1]Μητρώο!$A:$F,3,FALSE),\"\")","v":""},{"$f":"IF($C239>0,VLOOKUP($C239,[1]Μητρώο!$A:$F,5,FALSE),\"\")","v":""},{"$f":"IF(COUNTIF([1]Rankings!$B:$B,RIGHT($I239,2)&\"-\"&$C239)>0,IF($C239>0,VLOOKUP(RIGHT($I239,2)&\"-\"&$C239,[1]Rankings!$B:$H,7,FALSE),\"\"),0)","v":0},{"$f":"IF($C239>0,VLOOKUP($C239,[1]Μητρώο!$A:$F,4,FALSE),\"\")","v":""}]
[233,233,null,{"$f":"IF($C240>0,VLOOKUP($C240,[1]Μητρώο!$A:$F,3,FALSE),\"\")","v":""},{"$f":"IF($C240>0,VLOOKUP($C240,[1]Μητρώο!$A:$F,5,FALSE),\"\")","v":""},{"$f":"IF(COUNTIF([1]Rankings!$B:$B,RIGHT($I240,2)&\"-\"&$C240)>0,IF($C240>0,VLOOKUP(RIGHT($I240,2)&\"-\"&$C240,[1]Rankings!$B:$H,7,FALSE),\"\"),0)","v":0},{"$f":"IF($C240>0,VLOOKUP($C240,[1]Μητρώο!$A:$F,4,FALSE),\"\")","v":""}]
[234,234,null,{"$f":"IF($C241>0,VLOOKUP($C241,[1]Μητρώο!$A:$F,3,FALSE),\"\")","v":""},{"$f":"IF($C241>0,VLOOKUP($C241,[1]Μητρώο!$A:$F,5,FALSE),\"\")","v":""},{"$f":"IF(COUNTIF([1]Rankings!$B:$B,RIGHT($I241,2)&\"-\"&$C241)>0,IF($C241>0,VLOOKUP(RIGHT($I241,2)&\"-\"&$C241,[1]Rankings!$B:$H,7,FALSE),\"\"),0)","v":0},{"$f":"IF($C241>0,VLOOKUP($C241,[1]Μητρώο!$A:$F,4,FALSE),\"\")","v":""}]
[235,235,null,{"$f":"IF($C242>0,VLOOKUP($C242,[1]Μητρώο!$A:$F,3,FALSE),\"\")","v":""},{"$f":"IF($C242>0,VLOOKUP($C242,[1]Μητρώο!$A:$F,5,FALSE),\"\")","v":""},{"$f":"IF(COUNTIF([1]Rankings!$B:$B,RIGHT($I242,2)&\"-\"&$C242)>0,IF($C242>0,VLOOKUP(RIGHT($I242,2)&\"-\"&$C242,[1]Rankings!$B:$H,7,FALSE),\"\"),0)","v":0},{"$f":"IF($C242>0,VLOOKUP($C242,[1]Μητρώο!$A:$F,4,FALSE),\"\")","v":""}]
[236,236,null,{"$f":"IF($C243>0,VLOOKUP($C243,[1]Μητρώο!$A:$F,3,FALSE),\"\")","v":""},{"$f":"IF($C243>0,VLOOKUP($C243,[1]Μητρώο!$A:$F,5,FALSE),\"\")","v":""},{"$f":"IF(COUNTIF([1]Rankings!$B:$B,RIGHT($I243,2)&\"-\"&$C243)>0,IF($C243>0,VLOOKUP(RIGHT($I243,2)&\"-\"&$C243,[1]Rankings!$B:$H,7,FALSE),\"\"),0)","v":0},{"$f":"IF($C243>0,VLOOKUP($C243,[1]Μητρώο!$A:$F,4,FALSE),\"\")","v":""}]
[237,237,null,{"$f":"IF($C244>0,VLOOKUP($C244,[1]Μητρώο!$A:$F,3,FALSE),\"\")","v":""},{"$f":"IF($C244>0,VLOOKUP($C244,[1]Μητρώο!$A:$F,5,FALSE),\"\")","v":""},{"$f":"IF(COUNTIF([1]Rankings!$B:$B,RIGHT($I244,2)&\"-\"&$C244)>0,IF($C244>0,VLOOKUP(RIGHT($I244,2)&\"-\"&$C244,[1]Rankings!$B:$H,7,FALSE),\"\"),0)","v":0},{"$f":"IF($C244>0,VLOOKUP($C244,[1]Μητρώο!$A:$F,4,FALSE),\"\")","v":""}]
[238,238,null,{"$f":"IF($C245>0,VLOOKUP($C245,[1]Μητρώο!$A:$F,3,FALSE),\"\")","v":""},{"$f":"IF($C245>0,VLOOKUP($C245,[1]Μητρώο!$A:$F,5,FALSE),\"\")","v":""},{"$f":"IF(COUNTIF([1]Rankings!$B:$B,RIGHT($I245,2)&\"-\"&$C245)>0,IF($C245>0,VLOOKUP(RIGHT($I245,2)&\"-\"&$C245,[1]Rankings!$B:$H,7,FALSE),\"\"),0)","v":0},{"$f":"IF($C245>0,VLOOKUP($C245,[1]Μητρώο!$A:$F,4,FALSE),\"\")","v":""}]
[239,239,null,{"$f":"IF($C246>0,VLOOKUP($C246,[1]Μητρώο!$A:$F,3,FALSE),\"\")","v":""},{"$f":"IF($C246>0,VLOOKUP($C246,[1]Μητρώο!$A:$F,5,FALSE),\"\")","v":""},{"$f":"IF(COUNTIF([1]Rankings!$B:$B,RIGHT($I246,2)&\"-\"&$C246)>0,IF($C246>0,VLOOKUP(RIGHT($I246,2)&\"-\"&$C246,[1]Rankings!$B:$H,7,FALSE),\"\"),0)","v":0},{"$f":"IF($C246>0,VLOOKUP($C246,[1]Μητρώο!$A:$F,4,FALSE),\"\")","v":""}]
[240,240,null,{"$f":"IF($C247>0,VLOOKUP($C247,[1]Μητρώο!$A:$F,3,FALSE),\"\")","v":""},{"$f":"IF($C247>0,VLOOKUP($C247,[1]Μητρώο!$A:$F,5,FALSE),\"\")","v":""},{"$f":"IF(COUNTIF([1]Rankings!$B:$B,RIGHT($I247,2)&\"-\"&$C247)>0,IF($C247>0,VLOOKUP(RIGHT($I247,2)&\"-\"&$C247,[1]Rankings!$B:$H,7,FALSE),\"\"),0)","v":0},{"$f":"IF($C247>0,VLOOKUP($C247,[1]Μητρώο!$A:$F,4,FALSE),\"\")","v":""}]
[241,241,null,{"$f":"IF($C248>0,VLOOKUP($C248,[1]Μητρώο!$A:$F,3,FALSE),\"\")","v":""},{"$f":"IF($C248>0,VLOOKUP($C248,[1]Μητρώο!$A:$F,5,FALSE),\"\")","v":""},{"$f":"IF(COUNTIF([1]Rankings!$B:$B,RIGHT($I248,2)&\"-\"&$C248)>0,IF($C248>0,VLOOKUP(RIGHT($I248,2)&\"-\"&$C248,[1]Rankings!$B:$H,7,FALSE),\"\"),0)","v":0},{"$f":"IF($C248>0,VLOOKUP($C248,[1]Μητρώο!$A:$F,4,FALSE),\"\")","v":""}]
[242,242,null,{"$f":"IF($C249>0,VLOOKUP($C249,[1]Μητρώο!$A:$F,3,FALSE),\"\")","v":""},{"$f":"IF($C249>0,VLOOKUP($C249,[1]Μητρώο!$A:$F,5,FALSE),\"\")","v":""},{"$f":"IF(COUNTIF([1]Rankings!$B:$B,RIGHT($I249,2)&\"-\"&$C249)>0,IF($C249>0,VLOOKUP(RIGHT($I249,2)&\"-\"&$C249,[1]Rankings!$B:$H,7,FALSE),\"\"),0)","v":0},{"$f":"IF($C249>0,VLOOKUP($C249,[1]Μητρώο!$A:$F,4,FALSE),\"\")","v":""}]
[243,243,null,{"$f":"IF($C250>0,VLOOKUP($C250,[1]Μητρώο!$A:$F,3,FALSE),\"\")","v":""},{"$f":"IF($C250>0,VLOOKUP($C250,[1]Μητρώο!$A:$F,5,FALSE),\"\")","v":""},{"$f":"IF(COUNTIF([1]Rankings!$B:$B,RIGHT($I250,2)&\"-\"&$C250)>0,IF($C250>0,VLOOKUP(RIGHT($I250,2)&\"-\"&$C250,[1]Rankings!$B:$H,7,FALSE),\"\"),0)","v":0},{"$f":"IF($C250>0,VLOOKUP($C250,[1]Μητρώο!$A:$F,4,FALSE),\"\")","v":""}]
[244,244,null,{"$f":"IF($C251>0,VLOOKUP($C251,[1]Μητρώο!$A:$F,3,FALSE),\"\")","v":""},{"$f":"IF($C251>0,VLOOKUP($C251,[1]Μητρώο!$A:$F,5,FALSE),\"\")","v":""},{"$f":"IF(COUNTIF([1]Rankings!$B:$B,RIGHT($I251,2)&\"-\"&$C251)>0,IF($C251>0,VLOOKUP(RIGHT($I251,2)&\"-\"&$C251,[1]Rankings!$B:$H,7,FALSE),\"\"),0)","v":0},{"$f":"IF($C251>0,VLOOKUP($C251,[1]Μητρώο!$A:$F,4,FALSE),\"\")","v":""}]
[245,245,null,{"$f":"IF($C252>0,VLOOKUP($C252,[1]Μητρώο!$A:$F,3,FALSE),\"\")","v":""},{"$f":"IF($C252>0,VLOOKUP($C252,[1]Μητρώο!$A:$F,5,FALSE),\"\")","v":""},{"$f":"IF(COUNTIF([1]Rankings!$B:$B,RIGHT($I252,2)&\"-\"&$C252)>0,IF($C252>0,VLOOKUP(RIGHT($I252,2)&\"-\"&$C252,[1]Rankings!$B:$H,7,FALSE),\"\"),0)","v":0},{"$f":"IF($C252>0,VLOOKUP($C252,[1]Μητρώο!$A:$F,4,FALSE),\"\")","v":""}]
[246,246,null,{"$f":"IF($C253>0,VLOOKUP($C253,[1]Μητρώο!$A:$F,3,FALSE),\"\")","v":""},{"$f":"IF($C253>0,VLOOKUP($C253,[1]Μητρώο!$A:$F,5,FALSE),\"\")","v":""},{"$f":"IF(COUNTIF([1]Rankings!$B:$B,RIGHT($I253,2)&\"-\"&$C253)>0,IF($C253>0,VLOOKUP(RIGHT($I253,2)&\"-\"&$C253,[1]Rankings!$B:$H,7,FALSE),\"\"),0)","v":0},{"$f":"IF($C253>0,VLOOKUP($C253,[1]Μητρώο!$A:$F,4,FALSE),\"\")","v":""}]
[247,247,null,{"$f":"IF($C254>0,VLOOKUP($C254,[1]Μητρώο!$A:$F,3,FALSE),\"\")","v":""},{"$f":"IF($C254>0,VLOOKUP($C254,[1]Μητρώο!$A:$F,5,FALSE),\"\")","v":""},{"$f":"IF(COUNTIF([1]Rankings!$B:$B,RIGHT($I254,2)&\"-\"&$C254)>0,IF($C254>0,VLOOKUP(RIGHT($I254,2)&\"-\"&$C254,[1]Rankings!$B:$H,7,FALSE),\"\"),0)","v":0},{"$f":"IF($C254>0,VLOOKUP($C254,[1]Μητρώο!$A:$F,4,FALSE),\"\")","v":""}]
[248,248,null,{"$f":"IF($C255>0,VLOOKUP($C255,[1]Μητρώο!$A:$F,3,FALSE),\"\")","v":""},{"$f":"IF($C255>0,VLOOKUP($C255,[1]Μητρώο!$A:$F,5,FALSE),\"\")","v":""},{"$f":"IF(COUNTIF([1]Rankings!$B:$B,RIGHT($I255,2)&\"-\"&$C255)>0,IF($C255>0,VLOOKUP(RIGHT($I255,2)&\"-\"&$C255,[1]Rankings!$B:$H,7,FALSE),\"\"),0)","v":0},{"$f":"IF($C255>0,VLOOKUP($C255,[1]Μητρώο!$A:$F,4,FALSE),\"\")","v":""}]
[249,249,null,{"$f":"IF($C256>0,VLOOKUP($C256,[1]Μητρώο!$A:$F,3,FALSE),\"\")","v":""},{"$f":"IF($C256>0,VLOOKUP($C256,[1]Μητρώο!$A:$F,5,FALSE),\"\")","v":""},{"$f":"IF(COUNTIF([1]Rankings!$B:$B,RIGHT($I256,2)&\"-\"&$C256)>0,IF($C256>0,VLOOKUP(RIGHT($I256,2)&\"-\"&$C256,[1]Rankings!$B:$H,7,FALSE),\"\"),0)","v":0},{"$f":"IF($C256>0,VLOOKUP($C256,[1]Μητρώο!$A:$F,4,FALSE),\"\")","v":""}]
[250,250,null,{"$f":"IF($C257>0,VLOOKUP($C257,[1]Μητρώο!$A:$F,3,FALSE),\"\")","v":""},{"$f":"IF($C257>0,VLOOKUP($C257,[1]Μητρώο!$A:$F,5,FALSE),\"\")","v":""},{"$f":"IF(COUNTIF([1]Rankings!$B:$B,RIGHT($I257,2)&\"-\"&$C257)>0,IF($C257>0,VLOOKUP(RIGHT($I257,2)&\"-\"&$C257,[1]Rankings!$B:$H,7,FALSE),\"\"),0)","v":0},{"$f":"IF($C257>0,VLOOKUP($C257,[1]Μητρώο!$A:$F,4,FALSE),\"\")","v":""}]
[251,251,null,{"$f":"IF($C258>0,VLOOKUP($C258,[1]Μητρώο!$A:$F,3,FALSE),\"\")","v":""},{"$f":"IF($C258>0,VLOOKUP($C258,[1]Μητρώο!$A:$F,5,FALSE),\"\")","v":""},{"$f":"IF(COUNTIF([1]Rankings!$B:$B,RIGHT($I258,2)&\"-\"&$C258)>0,IF($C258>0,VLOOKUP(RIGHT($I258,2)&\"-\"&$C258,[1]Rankings!$B:$H,7,FALSE),\"\"),0)","v":0},{"$f":"IF($C258>0,VLOOKUP($C258,[1]Μητρώο!$A:$F,4,FALSE),\"\")","v":""}]
[252,252,null,{"$f":"IF($C259>0,VLOOKUP($C259,[1]Μητρώο!$A:$F,3,FALSE),\"\")","v":""},{"$f":"IF($C259>0,VLOOKUP($C259,[1]Μητρώο!$A:$F,5,FALSE),\"\")","v":""},{"$f":"IF(COUNTIF([1]Rankings!$B:$B,RIGHT($I259,2)&\"-\"&$C259)>0,IF($C259>0,VLOOKUP(RIGHT($I259,2)&\"-\"&$C259,[1]Rankings!$B:$H,7,FALSE),\"\"),0)","v":0},{"$f":"IF($C259>0,VLOOKUP($C259,[1]Μητρώο!$A:$F,4,FALSE),\"\")","v":""}]
[253,253,null,{"$f":"IF($C260>0,VLOOKUP($C260,[1]Μητρώο!$A:$F,3,FALSE),\"\")","v":""},{"$f":"IF($C260>0,VLOOKUP($C260,[1]Μητρώο!$A:$F,5,FALSE),\"\")","v":""},{"$f":"IF(COUNTIF([1]Rankings!$B:$B,RIGHT($I260,2)&\"-\"&$C260)>0,IF($C260>0,VLOOKUP(RIGHT($I260,2)&\"-\"&$C260,[1]Rankings!$B:$H,7,FALSE),\"\"),0)","v":0},{"$f":"IF($C260>0,VLOOKUP($C260,[1]Μητρώο!$A:$F,4,FALSE),\"\")","v":""}]
[254,254,null,{"$f":"IF($C261>0,VLOOKUP($C261,[1]Μητρώο!$A:$F,3,FALSE),\"\")","v":""},{"$f":"IF($C261>0,VLOOKUP($C261,[1]Μητρώο!$A:$F,5,FALSE),\"\")","v":""},{"$f":"IF(COUNTIF([1]Rankings!$B:$B,RIGHT($I261,2)&\"-\"&$C261)>0,IF($C261>0,VLOOKUP(RIGHT($I261,2)&\"-\"&$C261,[1]Rankings!$B:$H,7,FALSE),\"\"),0)","v":0},{"$f":"IF($C261>0,VLOOKUP($C261,[1]Μητρώο!$A:$F,4,FALSE),\"\")","v":""}]
[255,255,null,{"$f":"IF($C262>0,VLOOKUP($C262,[1]Μητρώο!$A:$F,3,FALSE),\"\")","v":""},{"$f":"IF($C262>0,VLOOKUP($C262,[1]Μητρώο!$A:$F,5,FALSE),\"\")","v":""},{"$f":"IF(COUNTIF([1]Rankings!$B:$B,RIGHT($I262,2)&\"-\"&$C262)>0,IF($C262>0,VLOOKUP(RIGHT($I262,2)&\"-\"&$C262,[1]Rankings!$B:$H,7,FALSE),\"\"),0)","v":0},{"$f":"IF($C262>0,VLOOKUP($C262,[1]Μητρώο!$A:$F,4,FALSE),\"\")","v":""}]
[256,256,null,{"$f":"IF($C263>0,VLOOKUP($C263,[1]Μητρώο!$A:$F,3,FALSE),\"\")","v":""},{"$f":"IF($C263>0,VLOOKUP($C263,[1]Μητρώο!$A:$F,5,FALSE),\"\")","v":""},{"$f":"IF(COUNTIF([1]Rankings!$B:$B,RIGHT($I263,2)&\"-\"&$C263)>0,IF($C263>0,VLOOKUP(RIGHT($I263,2)&\"-\"&$C263,[1]Rankings!$B:$H,7,FALSE),\"\"),0)","v":0},{"$f":"IF($C263>0,VLOOKUP($C263,[1]Μητρώο!$A:$F,4,FALSE),\"\")","v":""}]
[257,{"$f":"IF(H264&I264=H263&I263,B263+1,1)","v":257},null,{"$f":"IF($C264>0,VLOOKUP($C264,[1]Μητρώο!$A:$F,3,FALSE),\"\")","v":""},{"$f":"IF($C264>0,VLOOKUP($C264,[1]Μητρώο!$A:$F,5,FALSE),\"\")","v":""},{"$f":"IF(COUNTIF([1]Rankings!$B:$B,RIGHT($I264,2)&\"-\"&$C264)>0,IF($C264>0,VLOOKUP(RIGHT($I264,2)&\"-\"&$C264,[1]Rankings!$B:$H,7,FALSE),\"\"),0)","v":0},{"$f":"IF($C264>0,VLOOKUP($C264,[1]Μητρώο!$A:$F,4,FALSE),\"\")","v":""}]
[258,258,null,{"$f":"IF($C265>0,VLOOKUP($C265,[1]Μητρώο!$A:$F,3,FALSE),\"\")","v":""},{"$f":"IF($C265>0,VLOOKUP($C265,[1]Μητρώο!$A:$F,5,FALSE),\"\")","v":""},{"$f":"IF(COUNTIF([1]Rankings!$B:$B,RIGHT($I265,2)&\"-\"&$C265)>0,IF($C265>0,VLOOKUP(RIGHT($I265,2)&\"-\"&$C265,[1]Rankings!$B:$H,7,FALSE),\"\"),0)","v":0},{"$f":"IF($C265>0,VLOOKUP($C265,[1]Μητρώο!$A:$F,4,FALSE),\"\")","v":""}]
[259,259,null,{"$f":"IF($C266>0,VLOOKUP($C266,[1]Μητρώο!$A:$F,3,FALSE),\"\")","v":""},{"$f":"IF($C266>0,VLOOKUP($C266,[1]Μητρώο!$A:$F,5,FALSE),\"\")","v":""},{"$f":"IF(COUNTIF([1]Rankings!$B:$B,RIGHT($I266,2)&\"-\"&$C266)>0,IF($C266>0,VLOOKUP(RIGHT($I266,2)&\"-\"&$C266,[1]Rankings!$B:$H,7,FALSE),\"\"),0)","v":0},{"$f":"IF($C266>0,VLOOKUP($C266,[1]Μητρώο!$A:$F,4,FALSE),\"\")","v":""}]
[260,260,null,{"$f":"IF($C267>0,VLOOKUP($C267,[1]Μητρώο!$A:$F,3,FALSE),\"\")","v":""},{"$f":"IF($C267>0,VLOOKUP($C267,[1]Μητρώο!$A:$F,5,FALSE),\"\")","v":""},{"$f":"IF(COUNTIF([1]Rankings!$B:$B,RIGHT($I267,2)&\"-\"&$C267)>0,IF($C267>0,VLOOKUP(RIGHT($I267,2)&\"-\"&$C267,[1]Rankings!$B:$H,7,FALSE),\"\"),0)","v":0},{"$f":"IF($C267>0,VLOOKUP($C267,[1]Μητρώο!$A:$F,4,FALSE),\"\")","v":""}]
[261,261,null,{"$f":"IF($C268>0,VLOOKUP($C268,[1]Μητρώο!$A:$F,3,FALSE),\"\")","v":""},{"$f":"IF($C268>0,VLOOKUP($C268,[1]Μητρώο!$A:$F,5,FALSE),\"\")","v":""},{"$f":"IF(COUNTIF([1]Rankings!$B:$B,RIGHT($I268,2)&\"-\"&$C268)>0,IF($C268>0,VLOOKUP(RIGHT($I268,2)&\"-\"&$C268,[1]Rankings!$B:$H,7,FALSE),\"\"),0)","v":0},{"$f":"IF($C268>0,VLOOKUP($C268,[1]Μητρώο!$A:$F,4,FALSE),\"\")","v":""}]
[262,262,null,{"$f":"IF($C269>0,VLOOKUP($C269,[1]Μητρώο!$A:$F,3,FALSE),\"\")","v":""},{"$f":"IF($C269>0,VLOOKUP($C269,[1]Μητρώο!$A:$F,5,FALSE),\"\")","v":""},{"$f":"IF(COUNTIF([1]Rankings!$B:$B,RIGHT($I269,2)&\"-\"&$C269)>0,IF($C269>0,VLOOKUP(RIGHT($I269,2)&\"-\"&$C269,[1]Rankings!$B:$H,7,FALSE),\"\"),0)","v":0},{"$f":"IF($C269>0,VLOOKUP($C269,[1]Μητρώο!$A:$F,4,FALSE),\"\")","v":""}]
[263,263,null,{"$f":"IF($C270>0,VLOOKUP($C270,[1]Μητρώο!$A:$F,3,FALSE),\"\")","v":""},{"$f":"IF($C270>0,VLOOKUP($C270,[1]Μητρώο!$A:$F,5,FALSE),\"\")","v":""},{"$f":"IF(COUNTIF([1]Rankings!$B:$B,RIGHT($I270,2)&\"-\"&$C270)>0,IF($C270>0,VLOOKUP(RIGHT($I270,2)&\"-\"&$C270,[1]Rankings!$B:$H,7,FALSE),\"\"),0)","v":0},{"$f":"IF($C270>0,VLOOKUP($C270,[1]Μητρώο!$A:$F,4,FALSE),\"\")","v":""}]
[264,264,null,{"$f":"IF($C271>0,VLOOKUP($C271,[1]Μητρώο!$A:$F,3,FALSE),\"\")","v":""},{"$f":"IF($C271>0,VLOOKUP($C271,[1]Μητρώο!$A:$F,5,FALSE),\"\")","v":""},{"$f":"IF(COUNTIF([1]Rankings!$B:$B,RIGHT($I271,2)&\"-\"&$C271)>0,IF($C271>0,VLOOKUP(RIGHT($I271,2)&\"-\"&$C271,[1]Rankings!$B:$H,7,FALSE),\"\"),0)","v":0},{"$f":"IF($C271>0,VLOOKUP($C271,[1]Μητρώο!$A:$F,4,FALSE),\"\")","v":""}]
[265,265,null,{"$f":"IF($C272>0,VLOOKUP($C272,[1]Μητρώο!$A:$F,3,FALSE),\"\")","v":""},{"$f":"IF($C272>0,VLOOKUP($C272,[1]Μητρώο!$A:$F,5,FALSE),\"\")","v":""},{"$f":"IF(COUNTIF([1]Rankings!$B:$B,RIGHT($I272,2)&\"-\"&$C272)>0,IF($C272>0,VLOOKUP(RIGHT($I272,2)&\"-\"&$C272,[1]Rankings!$B:$H,7,FALSE),\"\"),0)","v":0},{"$f":"IF($C272>0,VLOOKUP($C272,[1]Μητρώο!$A:$F,4,FALSE),\"\")","v":""}]
[266,266,null,{"$f":"IF($C273>0,VLOOKUP($C273,[1]Μητρώο!$A:$F,3,FALSE),\"\")","v":""},{"$f":"IF($C273>0,VLOOKUP($C273,[1]Μητρώο!$A:$F,5,FALSE),\"\")","v":""},{"$f":"IF(COUNTIF([1]Rankings!$B:$B,RIGHT($I273,2)&\"-\"&$C273)>0,IF($C273>0,VLOOKUP(RIGHT($I273,2)&\"-\"&$C273,[1]Rankings!$B:$H,7,FALSE),\"\"),0)","v":0},{"$f":"IF($C273>0,VLOOKUP($C273,[1]Μητρώο!$A:$F,4,FALSE),\"\")","v":""}]
[267,267,null,{"$f":"IF($C274>0,VLOOKUP($C274,[1]Μητρώο!$A:$F,3,FALSE),\"\")","v":""},{"$f":"IF($C274>0,VLOOKUP($C274,[1]Μητρώο!$A:$F,5,FALSE),\"\")","v":""},{"$f":"IF(COUNTIF([1]Rankings!$B:$B,RIGHT($I274,2)&\"-\"&$C274)>0,IF($C274>0,VLOOKUP(RIGHT($I274,2)&\"-\"&$C274,[1]Rankings!$B:$H,7,FALSE),\"\"),0)","v":0},{"$f":"IF($C274>0,VLOOKUP($C274,[1]Μητρώο!$A:$F,4,FALSE),\"\")","v":""}]
[268,268,null,{"$f":"IF($C275>0,VLOOKUP($C275,[1]Μητρώο!$A:$F,3,FALSE),\"\")","v":""},{"$f":"IF($C275>0,VLOOKUP($C275,[1]Μητρώο!$A:$F,5,FALSE),\"\")","v":""},{"$f":"IF(COUNTIF([1]Rankings!$B:$B,RIGHT($I275,2)&\"-\"&$C275)>0,IF($C275>0,VLOOKUP(RIGHT($I275,2)&\"-\"&$C275,[1]Rankings!$B:$H,7,FALSE),\"\"),0)","v":0},{"$f":"IF($C275>0,VLOOKUP($C275,[1]Μητρώο!$A:$F,4,FALSE),\"\")","v":""}]
[269,269,null,{"$f":"IF($C276>0,VLOOKUP($C276,[1]Μητρώο!$A:$F,3,FALSE),\"\")","v":""},{"$f":"IF($C276>0,VLOOKUP($C276,[1]Μητρώο!$A:$F,5,FALSE),\"\")","v":""},{"$f":"IF(COUNTIF([1]Rankings!$B:$B,RIGHT($I276,2)&\"-\"&$C276)>0,IF($C276>0,VLOOKUP(RIGHT($I276,2)&\"-\"&$C276,[1]Rankings!$B:$H,7,FALSE),\"\"),0)","v":0},{"$f":"IF($C276>0,VLOOKUP($C276,[1]Μητρώο!$A:$F,4,FALSE),\"\")","v":""}]
[270,270,null,{"$f":"IF($C277>0,VLOOKUP($C277,[1]Μητρώο!$A:$F,3,FALSE),\"\")","v":""},{"$f":"IF($C277>0,VLOOKUP($C277,[1]Μητρώο!$A:$F,5,FALSE),\"\")","v":""},{"$f":"IF(COUNTIF([1]Rankings!$B:$B,RIGHT($I277,2)&\"-\"&$C277)>0,IF($C277>0,VLOOKUP(RIGHT($I277,2)&\"-\"&$C277,[1]Rankings!$B:$H,7,FALSE),\"\"),0)","v":0},{"$f":"IF($C277>0,VLOOKUP($C277,[1]Μητρώο!$A:$F,4,FALSE),\"\")","v":""}]
[271,271,null,{"$f":"IF($C278>0,VLOOKUP($C278,[1]Μητρώο!$A:$F,3,FALSE),\"\")","v":""},{"$f":"IF($C278>0,VLOOKUP($C278,[1]Μητρώο!$A:$F,5,FALSE),\"\")","v":""},{"$f":"IF(COUNTIF([1]Rankings!$B:$B,RIGHT($I278,2)&\"-\"&$C278)>0,IF($C278>0,VLOOKUP(RIGHT($I278,2)&\"-\"&$C278,[1]Rankings!$B:$H,7,FALSE),\"\"),0)","v":0},{"$f":"IF($C278>0,VLOOKUP($C278,[1]Μητρώο!$A:$F,4,FALSE),\"\")","v":""}]
[272,272,null,{"$f":"IF($C279>0,VLOOKUP($C279,[1]Μητρώο!$A:$F,3,FALSE),\"\")","v":""},{"$f":"IF($C279>0,VLOOKUP($C279,[1]Μητρώο!$A:$F,5,FALSE),\"\")","v":""},{"$f":"IF(COUNTIF([1]Rankings!$B:$B,RIGHT($I279,2)&\"-\"&$C279)>0,IF($C279>0,VLOOKUP(RIGHT($I279,2)&\"-\"&$C279,[1]Rankings!$B:$H,7,FALSE),\"\"),0)","v":0},{"$f":"IF($C279>0,VLOOKUP($C279,[1]Μητρώο!$A:$F,4,FALSE),\"\")","v":""}]
[273,273,null,{"$f":"IF($C280>0,VLOOKUP($C280,[1]Μητρώο!$A:$F,3,FALSE),\"\")","v":""},{"$f":"IF($C280>0,VLOOKUP($C280,[1]Μητρώο!$A:$F,5,FALSE),\"\")","v":""},{"$f":"IF(COUNTIF([1]Rankings!$B:$B,RIGHT($I280,2)&\"-\"&$C280)>0,IF($C280>0,VLOOKUP(RIGHT($I280,2)&\"-\"&$C280,[1]Rankings!$B:$H,7,FALSE),\"\"),0)","v":0},{"$f":"IF($C280>0,VLOOKUP($C280,[1]Μητρώο!$A:$F,4,FALSE),\"\")","v":""}]
[274,274,null,{"$f":"IF($C281>0,VLOOKUP($C281,[1]Μητρώο!$A:$F,3,FALSE),\"\")","v":""},{"$f":"IF($C281>0,VLOOKUP($C281,[1]Μητρώο!$A:$F,5,FALSE),\"\")","v":""},{"$f":"IF(COUNTIF([1]Rankings!$B:$B,RIGHT($I281,2)&\"-\"&$C281)>0,IF($C281>0,VLOOKUP(RIGHT($I281,2)&\"-\"&$C281,[1]Rankings!$B:$H,7,FALSE),\"\"),0)","v":0},{"$f":"IF($C281>0,VLOOKUP($C281,[1]Μητρώο!$A:$F,4,FALSE),\"\")","v":""}]
[275,275,null,{"$f":"IF($C282>0,VLOOKUP($C282,[1]Μητρώο!$A:$F,3,FALSE),\"\")","v":""},{"$f":"IF($C282>0,VLOOKUP($C282,[1]Μητρώο!$A:$F,5,FALSE),\"\")","v":""},{"$f":"IF(COUNTIF([1]Rankings!$B:$B,RIGHT($I282,2)&\"-\"&$C282)>0,IF($C282>0,VLOOKUP(RIGHT($I282,2)&\"-\"&$C282,[1]Rankings!$B:$H,7,FALSE),\"\"),0)","v":0},{"$f":"IF($C282>0,VLOOKUP($C282,[1]Μητρώο!$A:$F,4,FALSE),\"\")","v":""}]
[276,276,null,{"$f":"IF($C283>0,VLOOKUP($C283,[1]Μητρώο!$A:$F,3,FALSE),\"\")","v":""},{"$f":"IF($C283>0,VLOOKUP($C283,[1]Μητρώο!$A:$F,5,FALSE),\"\")","v":""},{"$f":"IF(COUNTIF([1]Rankings!$B:$B,RIGHT($I283,2)&\"-\"&$C283)>0,IF($C283>0,VLOOKUP(RIGHT($I283,2)&\"-\"&$C283,[1]Rankings!$B:$H,7,FALSE),\"\"),0)","v":0},{"$f":"IF($C283>0,VLOOKUP($C283,[1]Μητρώο!$A:$F,4,FALSE),\"\")","v":""}]
[277,277,null,{"$f":"IF($C284>0,VLOOKUP($C284,[1]Μητρώο!$A:$F,3,FALSE),\"\")","v":""},{"$f":"IF($C284>0,VLOOKUP($C284,[1]Μητρώο!$A:$F,5,FALSE),\"\")","v":""},{"$f":"IF(COUNTIF([1]Rankings!$B:$B,RIGHT($I284,2)&\"-\"&$C284)>0,IF($C284>0,VLOOKUP(RIGHT($I284,2)&\"-\"&$C284,[1]Rankings!$B:$H,7,FALSE),\"\"),0)","v":0},{"$f":"IF($C284>0,VLOOKUP($C284,[1]Μητρώο!$A:$F,4,FALSE),\"\")","v":""}]
[278,278,null,{"$f":"IF($C285>0,VLOOKUP($C285,[1]Μητρώο!$A:$F,3,FALSE),\"\")","v":""},{"$f":"IF($C285>0,VLOOKUP($C285,[1]Μητρώο!$A:$F,5,FALSE),\"\")","v":""},{"$f":"IF(COUNTIF([1]Rankings!$B:$B,RIGHT($I285,2)&\"-\"&$C285)>0,IF($C285>0,VLOOKUP(RIGHT($I285,2)&\"-\"&$C285,[1]Rankings!$B:$H,7,FALSE),\"\"),0)","v":0},{"$f":"IF($C285>0,VLOOKUP($C285,[1]Μητρώο!$A:$F,4,FALSE),\"\")","v":""}]
[279,279,null,{"$f":"IF($C286>0,VLOOKUP($C286,[1]Μητρώο!$A:$F,3,FALSE),\"\")","v":""},{"$f":"IF($C286>0,VLOOKUP($C286,[1]Μητρώο!$A:$F,5,FALSE),\"\")","v":""},{"$f":"IF(COUNTIF([1]Rankings!$B:$B,RIGHT($I286,2)&\"-\"&$C286)>0,IF($C286>0,VLOOKUP(RIGHT($I286,2)&\"-\"&$C286,[1]Rankings!$B:$H,7,FALSE),\"\"),0)","v":0},{"$f":"IF($C286>0,VLOOKUP($C286,[1]Μητρώο!$A:$F,4,FALSE),\"\")","v":""}]
[280,280,null,{"$f":"IF($C287>0,VLOOKUP($C287,[1]Μητρώο!$A:$F,3,FALSE),\"\")","v":""},{"$f":"IF($C287>0,VLOOKUP($C287,[1]Μητρώο!$A:$F,5,FALSE),\"\")","v":""},{"$f":"IF(COUNTIF([1]Rankings!$B:$B,RIGHT($I287,2)&\"-\"&$C287)>0,IF($C287>0,VLOOKUP(RIGHT($I287,2)&\"-\"&$C287,[1]Rankings!$B:$H,7,FALSE),\"\"),0)","v":0},{"$f":"IF($C287>0,VLOOKUP($C287,[1]Μητρώο!$A:$F,4,FALSE),\"\")","v":""}]
[281,281,null,{"$f":"IF($C288>0,VLOOKUP($C288,[1]Μητρώο!$A:$F,3,FALSE),\"\")","v":""},{"$f":"IF($C288>0,VLOOKUP($C288,[1]Μητρώο!$A:$F,5,FALSE),\"\")","v":""},{"$f":"IF(COUNTIF([1]Rankings!$B:$B,RIGHT($I288,2)&\"-\"&$C288)>0,IF($C288>0,VLOOKUP(RIGHT($I288,2)&\"-\"&$C288,[1]Rankings!$B:$H,7,FALSE),\"\"),0)","v":0},{"$f":"IF($C288>0,VLOOKUP($C288,[1]Μητρώο!$A:$F,4,FALSE),\"\")","v":""}]
[282,282,null,{"$f":"IF($C289>0,VLOOKUP($C289,[1]Μητρώο!$A:$F,3,FALSE),\"\")","v":""},{"$f":"IF($C289>0,VLOOKUP($C289,[1]Μητρώο!$A:$F,5,FALSE),\"\")","v":""},{"$f":"IF(COUNTIF([1]Rankings!$B:$B,RIGHT($I289,2)&\"-\"&$C289)>0,IF($C289>0,VLOOKUP(RIGHT($I289,2)&\"-\"&$C289,[1]Rankings!$B:$H,7,FALSE),\"\"),0)","v":0},{"$f":"IF($C289>0,VLOOKUP($C289,[1]Μητρώο!$A:$F,4,FALSE),\"\")","v":""}]
[283,283,null,{"$f":"IF($C290>0,VLOOKUP($C290,[1]Μητρώο!$A:$F,3,FALSE),\"\")","v":""},{"$f":"IF($C290>0,VLOOKUP($C290,[1]Μητρώο!$A:$F,5,FALSE),\"\")","v":""},{"$f":"IF(COUNTIF([1]Rankings!$B:$B,RIGHT($I290,2)&\"-\"&$C290)>0,IF($C290>0,VLOOKUP(RIGHT($I290,2)&\"-\"&$C290,[1]Rankings!$B:$H,7,FALSE),\"\"),0)","v":0},{"$f":"IF($C290>0,VLOOKUP($C290,[1]Μητρώο!$A:$F,4,FALSE),\"\")","v":""}]
[284,284,null,{"$f":"IF($C291>0,VLOOKUP($C291,[1]Μητρώο!$A:$F,3,FALSE),\"\")","v":""},{"$f":"IF($C291>0,VLOOKUP($C291,[1]Μητρώο!$A:$F,5,FALSE),\"\")","v":""},{"$f":"IF(COUNTIF([1]Rankings!$B:$B,RIGHT($I291,2)&\"-\"&$C291)>0,IF($C291>0,VLOOKUP(RIGHT($I291,2)&\"-\"&$C291,[1]Rankings!$B:$H,7,FALSE),\"\"),0)","v":0},{"$f":"IF($C291>0,VLOOKUP($C291,[1]Μητρώο!$A:$F,4,FALSE),\"\")","v":""}]
[285,285,null,{"$f":"IF($C292>0,VLOOKUP($C292,[1]Μητρώο!$A:$F,3,FALSE),\"\")","v":""},{"$f":"IF($C292>0,VLOOKUP($C292,[1]Μητρώο!$A:$F,5,FALSE),\"\")","v":""},{"$f":"IF(COUNTIF([1]Rankings!$B:$B,RIGHT($I292,2)&\"-\"&$C292)>0,IF($C292>0,VLOOKUP(RIGHT($I292,2)&\"-\"&$C292,[1]Rankings!$B:$H,7,FALSE),\"\"),0)","v":0},{"$f":"IF($C292>0,VLOOKUP($C292,[1]Μητρώο!$A:$F,4,FALSE),\"\")","v":""}]
[286,286,null,{"$f":"IF($C293>0,VLOOKUP($C293,[1]Μητρώο!$A:$F,3,FALSE),\"\")","v":""},{"$f":"IF($C293>0,VLOOKUP($C293,[1]Μητρώο!$A:$F,5,FALSE),\"\")","v":""},{"$f":"IF(COUNTIF([1]Rankings!$B:$B,RIGHT($I293,2)&\"-\"&$C293)>0,IF($C293>0,VLOOKUP(RIGHT($I293,2)&\"-\"&$C293,[1]Rankings!$B:$H,7,FALSE),\"\"),0)","v":0},{"$f":"IF($C293>0,VLOOKUP($C293,[1]Μητρώο!$A:$F,4,FALSE),\"\")","v":""}]
[287,287,null,{"$f":"IF($C294>0,VLOOKUP($C294,[1]Μητρώο!$A:$F,3,FALSE),\"\")","v":""},{"$f":"IF($C294>0,VLOOKUP($C294,[1]Μητρώο!$A:$F,5,FALSE),\"\")","v":""},{"$f":"IF(COUNTIF([1]Rankings!$B:$B,RIGHT($I294,2)&\"-\"&$C294)>0,IF($C294>0,VLOOKUP(RIGHT($I294,2)&\"-\"&$C294,[1]Rankings!$B:$H,7,FALSE),\"\"),0)","v":0},{"$f":"IF($C294>0,VLOOKUP($C294,[1]Μητρώο!$A:$F,4,FALSE),\"\")","v":""}]
[288,288,null,{"$f":"IF($C295>0,VLOOKUP($C295,[1]Μητρώο!$A:$F,3,FALSE),\"\")","v":""},{"$f":"IF($C295>0,VLOOKUP($C295,[1]Μητρώο!$A:$F,5,FALSE),\"\")","v":""},{"$f":"IF(COUNTIF([1]Rankings!$B:$B,RIGHT($I295,2)&\"-\"&$C295)>0,IF($C295>0,VLOOKUP(RIGHT($I295,2)&\"-\"&$C295,[1]Rankings!$B:$H,7,FALSE),\"\"),0)","v":0},{"$f":"IF($C295>0,VLOOKUP($C295,[1]Μητρώο!$A:$F,4,FALSE),\"\")","v":""}]
[289,289,null,{"$f":"IF($C296>0,VLOOKUP($C296,[1]Μητρώο!$A:$F,3,FALSE),\"\")","v":""},{"$f":"IF($C296>0,VLOOKUP($C296,[1]Μητρώο!$A:$F,5,FALSE),\"\")","v":""},{"$f":"IF(COUNTIF([1]Rankings!$B:$B,RIGHT($I296,2)&\"-\"&$C296)>0,IF($C296>0,VLOOKUP(RIGHT($I296,2)&\"-\"&$C296,[1]Rankings!$B:$H,7,FALSE),\"\"),0)","v":0},{"$f":"IF($C296>0,VLOOKUP($C296,[1]Μητρώο!$A:$F,4,FALSE),\"\")","v":""}]
[290,290,null,{"$f":"IF($C297>0,VLOOKUP($C297,[1]Μητρώο!$A:$F,3,FALSE),\"\")","v":""},{"$f":"IF($C297>0,VLOOKUP($C297,[1]Μητρώο!$A:$F,5,FALSE),\"\")","v":""},{"$f":"IF(COUNTIF([1]Rankings!$B:$B,RIGHT($I297,2)&\"-\"&$C297)>0,IF($C297>0,VLOOKUP(RIGHT($I297,2)&\"-\"&$C297,[1]Rankings!$B:$H,7,FALSE),\"\"),0)","v":0},{"$f":"IF($C297>0,VLOOKUP($C297,[1]Μητρώο!$A:$F,4,FALSE),\"\")","v":""}]
[291,291,null,{"$f":"IF($C298>0,VLOOKUP($C298,[1]Μητρώο!$A:$F,3,FALSE),\"\")","v":""},{"$f":"IF($C298>0,VLOOKUP($C298,[1]Μητρώο!$A:$F,5,FALSE),\"\")","v":""},{"$f":"IF(COUNTIF([1]Rankings!$B:$B,RIGHT($I298,2)&\"-\"&$C298)>0,IF($C298>0,VLOOKUP(RIGHT($I298,2)&\"-\"&$C298,[1]Rankings!$B:$H,7,FALSE),\"\"),0)","v":0},{"$f":"IF($C298>0,VLOOKUP($C298,[1]Μητρώο!$A:$F,4,FALSE),\"\")","v":""}]
[292,292,null,{"$f":"IF($C299>0,VLOOKUP($C299,[1]Μητρώο!$A:$F,3,FALSE),\"\")","v":""},{"$f":"IF($C299>0,VLOOKUP($C299,[1]Μητρώο!$A:$F,5,FALSE),\"\")","v":""},{"$f":"IF(COUNTIF([1]Rankings!$B:$B,RIGHT($I299,2)&\"-\"&$C299)>0,IF($C299>0,VLOOKUP(RIGHT($I299,2)&\"-\"&$C299,[1]Rankings!$B:$H,7,FALSE),\"\"),0)","v":0},{"$f":"IF($C299>0,VLOOKUP($C299,[1]Μητρώο!$A:$F,4,FALSE),\"\")","v":""}]
[293,293,null,{"$f":"IF($C300>0,VLOOKUP($C300,[1]Μητρώο!$A:$F,3,FALSE),\"\")","v":""},{"$f":"IF($C300>0,VLOOKUP($C300,[1]Μητρώο!$A:$F,5,FALSE),\"\")","v":""},{"$f":"IF(COUNTIF([1]Rankings!$B:$B,RIGHT($I300,2)&\"-\"&$C300)>0,IF($C300>0,VLOOKUP(RIGHT($I300,2)&\"-\"&$C300,[1]Rankings!$B:$H,7,FALSE),\"\"),0)","v":0},{"$f":"IF($C300>0,VLOOKUP($C300,[1]Μητρώο!$A:$F,4,FALSE),\"\")","v":""}]
[294,294,null,{"$f":"IF($C301>0,VLOOKUP($C301,[1]Μητρώο!$A:$F,3,FALSE),\"\")","v":""},{"$f":"IF($C301>0,VLOOKUP($C301,[1]Μητρώο!$A:$F,5,FALSE),\"\")","v":""},{"$f":"IF(COUNTIF([1]Rankings!$B:$B,RIGHT($I301,2)&\"-\"&$C301)>0,IF($C301>0,VLOOKUP(RIGHT($I301,2)&\"-\"&$C301,[1]Rankings!$B:$H,7,FALSE),\"\"),0)","v":0},{"$f":"IF($C301>0,VLOOKUP($C301,[1]Μητρώο!$A:$F,4,FALSE),\"\")","v":""}]
[295,295,null,{"$f":"IF($C302>0,VLOOKUP($C302,[1]Μητρώο!$A:$F,3,FALSE),\"\")","v":""},{"$f":"IF($C302>0,VLOOKUP($C302,[1]Μητρώο!$A:$F,5,FALSE),\"\")","v":""},{"$f":"IF(COUNTIF([1]Rankings!$B:$B,RIGHT($I302,2)&\"-\"&$C302)>0,IF($C302>0,VLOOKUP(RIGHT($I302,2)&\"-\"&$C302,[1]Rankings!$B:$H,7,FALSE),\"\"),0)","v":0},{"$f":"IF($C302>0,VLOOKUP($C302,[1]Μητρώο!$A:$F,4,FALSE),\"\")","v":""}]
[296,296,null,{"$f":"IF($C303>0,VLOOKUP($C303,[1]Μητρώο!$A:$F,3,FALSE),\"\")","v":""},{"$f":"IF($C303>0,VLOOKUP($C303,[1]Μητρώο!$A:$F,5,FALSE),\"\")","v":""},{"$f":"IF(COUNTIF([1]Rankings!$B:$B,RIGHT($I303,2)&\"-\"&$C303)>0,IF($C303>0,VLOOKUP(RIGHT($I303,2)&\"-\"&$C303,[1]Rankings!$B:$H,7,FALSE),\"\"),0)","v":0},{"$f":"IF($C303>0,VLOOKUP($C303,[1]Μητρώο!$A:$F,4,FALSE),\"\")","v":""}]
[297,297,null,{"$f":"IF($C304>0,VLOOKUP($C304,[1]Μητρώο!$A:$F,3,FALSE),\"\")","v":""},{"$f":"IF($C304>0,VLOOKUP($C304,[1]Μητρώο!$A:$F,5,FALSE),\"\")","v":""},{"$f":"IF(COUNTIF([1]Rankings!$B:$B,RIGHT($I304,2)&\"-\"&$C304)>0,IF($C304>0,VLOOKUP(RIGHT($I304,2)&\"-\"&$C304,[1]Rankings!$B:$H,7,FALSE),\"\"),0)","v":0},{"$f":"IF($C304>0,VLOOKUP($C304,[1]Μητρώο!$A:$F,4,FALSE),\"\")","v":""}]
[298,298,null,{"$f":"IF($C305>0,VLOOKUP($C305,[1]Μητρώο!$A:$F,3,FALSE),\"\")","v":""},{"$f":"IF($C305>0,VLOOKUP($C305,[1]Μητρώο!$A:$F,5,FALSE),\"\")","v":""},{"$f":"IF(COUNTIF([1]Rankings!$B:$B,RIGHT($I305,2)&\"-\"&$C305)>0,IF($C305>0,VLOOKUP(RIGHT($I305,2)&\"-\"&$C305,[1]Rankings!$B:$H,7,FALSE),\"\"),0)","v":0},{"$f":"IF($C305>0,VLOOKUP($C305,[1]Μητρώο!$A:$F,4,FALSE),\"\")","v":""}]
[299,299,null,{"$f":"IF($C306>0,VLOOKUP($C306,[1]Μητρώο!$A:$F,3,FALSE),\"\")","v":""},{"$f":"IF($C306>0,VLOOKUP($C306,[1]Μητρώο!$A:$F,5,FALSE),\"\")","v":""},{"$f":"IF(COUNTIF([1]Rankings!$B:$B,RIGHT($I306,2)&\"-\"&$C306)>0,IF($C306>0,VLOOKUP(RIGHT($I306,2)&\"-\"&$C306,[1]Rankings!$B:$H,7,FALSE),\"\"),0)","v":0},{"$f":"IF($C306>0,VLOOKUP($C306,[1]Μητρώο!$A:$F,4,FALSE),\"\")","v":""}]
[300,300,null,{"$f":"IF($C307>0,VLOOKUP($C307,[1]Μητρώο!$A:$F,3,FALSE),\"\")","v":""},{"$f":"IF($C307>0,VLOOKUP($C307,[1]Μητρώο!$A:$F,5,FALSE),\"\")","v":""},{"$f":"IF(COUNTIF([1]Rankings!$B:$B,RIGHT($I307,2)&\"-\"&$C307)>0,IF($C307>0,VLOOKUP(RIGHT($I307,2)&\"-\"&$C307,[1]Rankings!$B:$H,7,FALSE),\"\"),0)","v":0},{"$f":"IF($C307>0,VLOOKUP($C307,[1]Μητρώο!$A:$F,4,FALSE),\"\")","v":""}]
[301,301,null,{"$f":"IF($C308>0,VLOOKUP($C308,[1]Μητρώο!$A:$F,3,FALSE),\"\")","v":""},{"$f":"IF($C308>0,VLOOKUP($C308,[1]Μητρώο!$A:$F,5,FALSE),\"\")","v":""},{"$f":"IF(COUNTIF([1]Rankings!$B:$B,RIGHT($I308,2)&\"-\"&$C308)>0,IF($C308>0,VLOOKUP(RIGHT($I308,2)&\"-\"&$C308,[1]Rankings!$B:$H,7,FALSE),\"\"),0)","v":0},{"$f":"IF($C308>0,VLOOKUP($C308,[1]Μητρώο!$A:$F,4,FALSE),\"\")","v":""}]
[302,302,null,{"$f":"IF($C309>0,VLOOKUP($C309,[1]Μητρώο!$A:$F,3,FALSE),\"\")","v":""},{"$f":"IF($C309>0,VLOOKUP($C309,[1]Μητρώο!$A:$F,5,FALSE),\"\")","v":""},{"$f":"IF(COUNTIF([1]Rankings!$B:$B,RIGHT($I309,2)&\"-\"&$C309)>0,IF($C309>0,VLOOKUP(RIGHT($I309,2)&\"-\"&$C309,[1]Rankings!$B:$H,7,FALSE),\"\"),0)","v":0},{"$f":"IF($C309>0,VLOOKUP($C309,[1]Μητρώο!$A:$F,4,FALSE),\"\")","v":""}]
[303,303,null,{"$f":"IF($C310>0,VLOOKUP($C310,[1]Μητρώο!$A:$F,3,FALSE),\"\")","v":""},{"$f":"IF($C310>0,VLOOKUP($C310,[1]Μητρώο!$A:$F,5,FALSE),\"\")","v":""},{"$f":"IF(COUNTIF([1]Rankings!$B:$B,RIGHT($I310,2)&\"-\"&$C310)>0,IF($C310>0,VLOOKUP(RIGHT($I310,2)&\"-\"&$C310,[1]Rankings!$B:$H,7,FALSE),\"\"),0)","v":0},{"$f":"IF($C310>0,VLOOKUP($C310,[1]Μητρώο!$A:$F,4,FALSE),\"\")","v":""}]
[304,304,null,{"$f":"IF($C311>0,VLOOKUP($C311,[1]Μητρώο!$A:$F,3,FALSE),\"\")","v":""},{"$f":"IF($C311>0,VLOOKUP($C311,[1]Μητρώο!$A:$F,5,FALSE),\"\")","v":""},{"$f":"IF(COUNTIF([1]Rankings!$B:$B,RIGHT($I311,2)&\"-\"&$C311)>0,IF($C311>0,VLOOKUP(RIGHT($I311,2)&\"-\"&$C311,[1]Rankings!$B:$H,7,FALSE),\"\"),0)","v":0},{"$f":"IF($C311>0,VLOOKUP($C311,[1]Μητρώο!$A:$F,4,FALSE),\"\")","v":""}]
[305,305,null,{"$f":"IF($C312>0,VLOOKUP($C312,[1]Μητρώο!$A:$F,3,FALSE),\"\")","v":""},{"$f":"IF($C312>0,VLOOKUP($C312,[1]Μητρώο!$A:$F,5,FALSE),\"\")","v":""},{"$f":"IF(COUNTIF([1]Rankings!$B:$B,RIGHT($I312,2)&\"-\"&$C312)>0,IF($C312>0,VLOOKUP(RIGHT($I312,2)&\"-\"&$C312,[1]Rankings!$B:$H,7,FALSE),\"\"),0)","v":0},{"$f":"IF($C312>0,VLOOKUP($C312,[1]Μητρώο!$A:$F,4,FALSE),\"\")","v":""}]
[306,306,null,{"$f":"IF($C313>0,VLOOKUP($C313,[1]Μητρώο!$A:$F,3,FALSE),\"\")","v":""},{"$f":"IF($C313>0,VLOOKUP($C313,[1]Μητρώο!$A:$F,5,FALSE),\"\")","v":""},{"$f":"IF(COUNTIF([1]Rankings!$B:$B,RIGHT($I313,2)&\"-\"&$C313)>0,IF($C313>0,VLOOKUP(RIGHT($I313,2)&\"-\"&$C313,[1]Rankings!$B:$H,7,FALSE),\"\"),0)","v":0},{"$f":"IF($C313>0,VLOOKUP($C313,[1]Μητρώο!$A:$F,4,FALSE),\"\")","v":""}]
[307,307,null,{"$f":"IF($C314>0,VLOOKUP($C314,[1]Μητρώο!$A:$F,3,FALSE),\"\")","v":""},{"$f":"IF($C314>0,VLOOKUP($C314,[1]Μητρώο!$A:$F,5,FALSE),\"\")","v":""},{"$f":"IF(COUNTIF([1]Rankings!$B:$B,RIGHT($I314,2)&\"-\"&$C314)>0,IF($C314>0,VLOOKUP(RIGHT($I314,2)&\"-\"&$C314,[1]Rankings!$B:$H,7,FALSE),\"\"),0)","v":0},{"$f":"IF($C314>0,VLOOKUP($C314,[1]Μητρώο!$A:$F,4,FALSE),\"\")","v":""}]
[308,308,null,{"$f":"IF($C315>0,VLOOKUP($C315,[1]Μητρώο!$A:$F,3,FALSE),\"\")","v":""},{"$f":"IF($C315>0,VLOOKUP($C315,[1]Μητρώο!$A:$F,5,FALSE),\"\")","v":""},{"$f":"IF(COUNTIF([1]Rankings!$B:$B,RIGHT($I315,2)&\"-\"&$C315)>0,IF($C315>0,VLOOKUP(RIGHT($I315,2)&\"-\"&$C315,[1]Rankings!$B:$H,7,FALSE),\"\"),0)","v":0},{"$f":"IF($C315>0,VLOOKUP($C315,[1]Μητρώο!$A:$F,4,FALSE),\"\")","v":""}]
[309,309,null,{"$f":"IF($C316>0,VLOOKUP($C316,[1]Μητρώο!$A:$F,3,FALSE),\"\")","v":""},{"$f":"IF($C316>0,VLOOKUP($C316,[1]Μητρώο!$A:$F,5,FALSE),\"\")","v":""},{"$f":"IF(COUNTIF([1]Rankings!$B:$B,RIGHT($I316,2)&\"-\"&$C316)>0,IF($C316>0,VLOOKUP(RIGHT($I316,2)&\"-\"&$C316,[1]Rankings!$B:$H,7,FALSE),\"\"),0)","v":0},{"$f":"IF($C316>0,VLOOKUP($C316,[1]Μητρώο!$A:$F,4,FALSE),\"\")","v":""}]
[310,310,null,{"$f":"IF($C317>0,VLOOKUP($C317,[1]Μητρώο!$A:$F,3,FALSE),\"\")","v":""},{"$f":"IF($C317>0,VLOOKUP($C317,[1]Μητρώο!$A:$F,5,FALSE),\"\")","v":""},{"$f":"IF(COUNTIF([1]Rankings!$B:$B,RIGHT($I317,2)&\"-\"&$C317)>0,IF($C317>0,VLOOKUP(RIGHT($I317,2)&\"-\"&$C317,[1]Rankings!$B:$H,7,FALSE),\"\"),0)","v":0},{"$f":"IF($C317>0,VLOOKUP($C317,[1]Μητρώο!$A:$F,4,FALSE),\"\")","v":""}]
[311,311,null,{"$f":"IF($C318>0,VLOOKUP($C318,[1]Μητρώο!$A:$F,3,FALSE),\"\")","v":""},{"$f":"IF($C318>0,VLOOKUP($C318,[1]Μητρώο!$A:$F,5,FALSE),\"\")","v":""},{"$f":"IF(COUNTIF([1]Rankings!$B:$B,RIGHT($I318,2)&\"-\"&$C318)>0,IF($C318>0,VLOOKUP(RIGHT($I318,2)&\"-\"&$C318,[1]Rankings!$B:$H,7,FALSE),\"\"),0)","v":0},{"$f":"IF($C318>0,VLOOKUP($C318,[1]Μητρώο!$A:$F,4,FALSE),\"\")","v":""}]
[312,312,null,{"$f":"IF($C319>0,VLOOKUP($C319,[1]Μητρώο!$A:$F,3,FALSE),\"\")","v":""},{"$f":"IF($C319>0,VLOOKUP($C319,[1]Μητρώο!$A:$F,5,FALSE),\"\")","v":""},{"$f":"IF(COUNTIF([1]Rankings!$B:$B,RIGHT($I319,2)&\"-\"&$C319)>0,IF($C319>0,VLOOKUP(RIGHT($I319,2)&\"-\"&$C319,[1]Rankings!$B:$H,7,FALSE),\"\"),0)","v":0},{"$f":"IF($C319>0,VLOOKUP($C319,[1]Μητρώο!$A:$F,4,FALSE),\"\")","v":""}]
[313,313,null,{"$f":"IF($C320>0,VLOOKUP($C320,[1]Μητρώο!$A:$F,3,FALSE),\"\")","v":""},{"$f":"IF($C320>0,VLOOKUP($C320,[1]Μητρώο!$A:$F,5,FALSE),\"\")","v":""},{"$f":"IF(COUNTIF([1]Rankings!$B:$B,RIGHT($I320,2)&\"-\"&$C320)>0,IF($C320>0,VLOOKUP(RIGHT($I320,2)&\"-\"&$C320,[1]Rankings!$B:$H,7,FALSE),\"\"),0)","v":0},{"$f":"IF($C320>0,VLOOKUP($C320,[1]Μητρώο!$A:$F,4,FALSE),\"\")","v":""}]
[314,314,null,{"$f":"IF($C321>0,VLOOKUP($C321,[1]Μητρώο!$A:$F,3,FALSE),\"\")","v":""},{"$f":"IF($C321>0,VLOOKUP($C321,[1]Μητρώο!$A:$F,5,FALSE),\"\")","v":""},{"$f":"IF(COUNTIF([1]Rankings!$B:$B,RIGHT($I321,2)&\"-\"&$C321)>0,IF($C321>0,VLOOKUP(RIGHT($I321,2)&\"-\"&$C321,[1]Rankings!$B:$H,7,FALSE),\"\"),0)","v":0},{"$f":"IF($C321>0,VLOOKUP($C321,[1]Μητρώο!$A:$F,4,FALSE),\"\")","v":""}]
[315,315,null,{"$f":"IF($C322>0,VLOOKUP($C322,[1]Μητρώο!$A:$F,3,FALSE),\"\")","v":""},{"$f":"IF($C322>0,VLOOKUP($C322,[1]Μητρώο!$A:$F,5,FALSE),\"\")","v":""},{"$f":"IF(COUNTIF([1]Rankings!$B:$B,RIGHT($I322,2)&\"-\"&$C322)>0,IF($C322>0,VLOOKUP(RIGHT($I322,2)&\"-\"&$C322,[1]Rankings!$B:$H,7,FALSE),\"\"),0)","v":0},{"$f":"IF($C322>0,VLOOKUP($C322,[1]Μητρώο!$A:$F,4,FALSE),\"\")","v":""}]
[316,316,null,{"$f":"IF($C323>0,VLOOKUP($C323,[1]Μητρώο!$A:$F,3,FALSE),\"\")","v":""},{"$f":"IF($C323>0,VLOOKUP($C323,[1]Μητρώο!$A:$F,5,FALSE),\"\")","v":""},{"$f":"IF(COUNTIF([1]Rankings!$B:$B,RIGHT($I323,2)&\"-\"&$C323)>0,IF($C323>0,VLOOKUP(RIGHT($I323,2)&\"-\"&$C323,[1]Rankings!$B:$H,7,FALSE),\"\"),0)","v":0},{"$f":"IF($C323>0,VLOOKUP($C323,[1]Μητρώο!$A:$F,4,FALSE),\"\")","v":""}]
[317,317,null,{"$f":"IF($C324>0,VLOOKUP($C324,[1]Μητρώο!$A:$F,3,FALSE),\"\")","v":""},{"$f":"IF($C324>0,VLOOKUP($C324,[1]Μητρώο!$A:$F,5,FALSE),\"\")","v":""},{"$f":"IF(COUNTIF([1]Rankings!$B:$B,RIGHT($I324,2)&\"-\"&$C324)>0,IF($C324>0,VLOOKUP(RIGHT($I324,2)&\"-\"&$C324,[1]Rankings!$B:$H,7,FALSE),\"\"),0)","v":0},{"$f":"IF($C324>0,VLOOKUP($C324,[1]Μητρώο!$A:$F,4,FALSE),\"\")","v":""}]
[318,318,null,{"$f":"IF($C325>0,VLOOKUP($C325,[1]Μητρώο!$A:$F,3,FALSE),\"\")","v":""},{"$f":"IF($C325>0,VLOOKUP($C325,[1]Μητρώο!$A:$F,5,FALSE),\"\")","v":""},{"$f":"IF(COUNTIF([1]Rankings!$B:$B,RIGHT($I325,2)&\"-\"&$C325)>0,IF($C325>0,VLOOKUP(RIGHT($I325,2)&\"-\"&$C325,[1]Rankings!$B:$H,7,FALSE),\"\"),0)","v":0},{"$f":"IF($C325>0,VLOOKUP($C325,[1]Μητρώο!$A:$F,4,FALSE),\"\")","v":""}]
[319,319,null,{"$f":"IF($C326>0,VLOOKUP($C326,[1]Μητρώο!$A:$F,3,FALSE),\"\")","v":""},{"$f":"IF($C326>0,VLOOKUP($C326,[1]Μητρώο!$A:$F,5,FALSE),\"\")","v":""},{"$f":"IF(COUNTIF([1]Rankings!$B:$B,RIGHT($I326,2)&\"-\"&$C326)>0,IF($C326>0,VLOOKUP(RIGHT($I326,2)&\"-\"&$C326,[1]Rankings!$B:$H,7,FALSE),\"\"),0)","v":0},{"$f":"IF($C326>0,VLOOKUP($C326,[1]Μητρώο!$A:$F,4,FALSE),\"\")","v":""}]
[320,320,null,{"$f":"IF($C327>0,VLOOKUP($C327,[1]Μητρώο!$A:$F,3,FALSE),\"\")","v":""},{"$f":"IF($C327>0,VLOOKUP($C327,[1]Μητρώο!$A:$F,5,FALSE),\"\")","v":""},{"$f":"IF(COUNTIF([1]Rankings!$B:$B,RIGHT($I327,2)&\"-\"&$C327)>0,IF($C327>0,VLOOKUP(RIGHT($I327,2)&\"-\"&$C327,[1]Rankings!$B:$H,7,FALSE),\"\"),0)","v":0},{"$f":"IF($C327>0,VLOOKUP($C327,[1]Μητρώο!$A:$F,4,FALSE),\"\")","v":""}]
[321,{"$f":"IF(H328&I328=H327&I327,B327+1,1)","v":321},null,{"$f":"IF($C328>0,VLOOKUP($C328,[1]Μητρώο!$A:$F,3,FALSE),\"\")","v":""},{"$f":"IF($C328>0,VLOOKUP($C328,[1]Μητρώο!$A:$F,5,FALSE),\"\")","v":""},{"$f":"IF(COUNTIF([1]Rankings!$B:$B,RIGHT($I328,2)&\"-\"&$C328)>0,IF($C328>0,VLOOKUP(RIGHT($I328,2)&\"-\"&$C328,[1]Rankings!$B:$H,7,FALSE),\"\"),0)","v":0},{"$f":"IF($C328>0,VLOOKUP($C328,[1]Μητρώο!$A:$F,4,FALSE),\"\")","v":""}]
[322,322,null,{"$f":"IF($C329>0,VLOOKUP($C329,[1]Μητρώο!$A:$F,3,FALSE),\"\")","v":""},{"$f":"IF($C329>0,VLOOKUP($C329,[1]Μητρώο!$A:$F,5,FALSE),\"\")","v":""},{"$f":"IF(COUNTIF([1]Rankings!$B:$B,RIGHT($I329,2)&\"-\"&$C329)>0,IF($C329>0,VLOOKUP(RIGHT($I329,2)&\"-\"&$C329,[1]Rankings!$B:$H,7,FALSE),\"\"),0)","v":0},{"$f":"IF($C329>0,VLOOKUP($C329,[1]Μητρώο!$A:$F,4,FALSE),\"\")","v":""}]
[323,323,null,{"$f":"IF($C330>0,VLOOKUP($C330,[1]Μητρώο!$A:$F,3,FALSE),\"\")","v":""},{"$f":"IF($C330>0,VLOOKUP($C330,[1]Μητρώο!$A:$F,5,FALSE),\"\")","v":""},{"$f":"IF(COUNTIF([1]Rankings!$B:$B,RIGHT($I330,2)&\"-\"&$C330)>0,IF($C330>0,VLOOKUP(RIGHT($I330,2)&\"-\"&$C330,[1]Rankings!$B:$H,7,FALSE),\"\"),0)","v":0},{"$f":"IF($C330>0,VLOOKUP($C330,[1]Μητρώο!$A:$F,4,FALSE),\"\")","v":""}]
[324,324,null,{"$f":"IF($C331>0,VLOOKUP($C331,[1]Μητρώο!$A:$F,3,FALSE),\"\")","v":""},{"$f":"IF($C331>0,VLOOKUP($C331,[1]Μητρώο!$A:$F,5,FALSE),\"\")","v":""},{"$f":"IF(COUNTIF([1]Rankings!$B:$B,RIGHT($I331,2)&\"-\"&$C331)>0,IF($C331>0,VLOOKUP(RIGHT($I331,2)&\"-\"&$C331,[1]Rankings!$B:$H,7,FALSE),\"\"),0)","v":0},{"$f":"IF($C331>0,VLOOKUP($C331,[1]Μητρώο!$A:$F,4,FALSE),\"\")","v":""}]
[325,325,null,{"$f":"IF($C332>0,VLOOKUP($C332,[1]Μητρώο!$A:$F,3,FALSE),\"\")","v":""},{"$f":"IF($C332>0,VLOOKUP($C332,[1]Μητρώο!$A:$F,5,FALSE),\"\")","v":""},{"$f":"IF(COUNTIF([1]Rankings!$B:$B,RIGHT($I332,2)&\"-\"&$C332)>0,IF($C332>0,VLOOKUP(RIGHT($I332,2)&\"-\"&$C332,[1]Rankings!$B:$H,7,FALSE),\"\"),0)","v":0},{"$f":"IF($C332>0,VLOOKUP($C332,[1]Μητρώο!$A:$F,4,FALSE),\"\")","v":""}]
[326,326,null,{"$f":"IF($C333>0,VLOOKUP($C333,[1]Μητρώο!$A:$F,3,FALSE),\"\")","v":""},{"$f":"IF($C333>0,VLOOKUP($C333,[1]Μητρώο!$A:$F,5,FALSE),\"\")","v":""},{"$f":"IF(COUNTIF([1]Rankings!$B:$B,RIGHT($I333,2)&\"-\"&$C333)>0,IF($C333>0,VLOOKUP(RIGHT($I333,2)&\"-\"&$C333,[1]Rankings!$B:$H,7,FALSE),\"\"),0)","v":0},{"$f":"IF($C333>0,VLOOKUP($C333,[1]Μητρώο!$A:$F,4,FALSE),\"\")","v":""}]
[327,327,null,{"$f":"IF($C334>0,VLOOKUP($C334,[1]Μητρώο!$A:$F,3,FALSE),\"\")","v":""},{"$f":"IF($C334>0,VLOOKUP($C334,[1]Μητρώο!$A:$F,5,FALSE),\"\")","v":""},{"$f":"IF(COUNTIF([1]Rankings!$B:$B,RIGHT($I334,2)&\"-\"&$C334)>0,IF($C334>0,VLOOKUP(RIGHT($I334,2)&\"-\"&$C334,[1]Rankings!$B:$H,7,FALSE),\"\"),0)","v":0},{"$f":"IF($C334>0,VLOOKUP($C334,[1]Μητρώο!$A:$F,4,FALSE),\"\")","v":""}]
[328,328,null,{"$f":"IF($C335>0,VLOOKUP($C335,[1]Μητρώο!$A:$F,3,FALSE),\"\")","v":""},{"$f":"IF($C335>0,VLOOKUP($C335,[1]Μητρώο!$A:$F,5,FALSE),\"\")","v":""},{"$f":"IF(COUNTIF([1]Rankings!$B:$B,RIGHT($I335,2)&\"-\"&$C335)>0,IF($C335>0,VLOOKUP(RIGHT($I335,2)&\"-\"&$C335,[1]Rankings!$B:$H,7,FALSE),\"\"),0)","v":0},{"$f":"IF($C335>0,VLOOKUP($C335,[1]Μητρώο!$A:$F,4,FALSE),\"\")","v":""}]
[329,329,null,{"$f":"IF($C336>0,VLOOKUP($C336,[1]Μητρώο!$A:$F,3,FALSE),\"\")","v":""},{"$f":"IF($C336>0,VLOOKUP($C336,[1]Μητρώο!$A:$F,5,FALSE),\"\")","v":""},{"$f":"IF(COUNTIF([1]Rankings!$B:$B,RIGHT($I336,2)&\"-\"&$C336)>0,IF($C336>0,VLOOKUP(RIGHT($I336,2)&\"-\"&$C336,[1]Rankings!$B:$H,7,FALSE),\"\"),0)","v":0},{"$f":"IF($C336>0,VLOOKUP($C336,[1]Μητρώο!$A:$F,4,FALSE),\"\")","v":""}]
[330,330,null,{"$f":"IF($C337>0,VLOOKUP($C337,[1]Μητρώο!$A:$F,3,FALSE),\"\")","v":""},{"$f":"IF($C337>0,VLOOKUP($C337,[1]Μητρώο!$A:$F,5,FALSE),\"\")","v":""},{"$f":"IF(COUNTIF([1]Rankings!$B:$B,RIGHT($I337,2)&\"-\"&$C337)>0,IF($C337>0,VLOOKUP(RIGHT($I337,2)&\"-\"&$C337,[1]Rankings!$B:$H,7,FALSE),\"\"),0)","v":0},{"$f":"IF($C337>0,VLOOKUP($C337,[1]Μητρώο!$A:$F,4,FALSE),\"\")","v":""}]
[331,331,null,{"$f":"IF($C338>0,VLOOKUP($C338,[1]Μητρώο!$A:$F,3,FALSE),\"\")","v":""},{"$f":"IF($C338>0,VLOOKUP($C338,[1]Μητρώο!$A:$F,5,FALSE),\"\")","v":""},{"$f":"IF(COUNTIF([1]Rankings!$B:$B,RIGHT($I338,2)&\"-\"&$C338)>0,IF($C338>0,VLOOKUP(RIGHT($I338,2)&\"-\"&$C338,[1]Rankings!$B:$H,7,FALSE),\"\"),0)","v":0},{"$f":"IF($C338>0,VLOOKUP($C338,[1]Μητρώο!$A:$F,4,FALSE),\"\")","v":""}]
[332,332,null,{"$f":"IF($C339>0,VLOOKUP($C339,[1]Μητρώο!$A:$F,3,FALSE),\"\")","v":""},{"$f":"IF($C339>0,VLOOKUP($C339,[1]Μητρώο!$A:$F,5,FALSE),\"\")","v":""},{"$f":"IF(COUNTIF([1]Rankings!$B:$B,RIGHT($I339,2)&\"-\"&$C339)>0,IF($C339>0,VLOOKUP(RIGHT($I339,2)&\"-\"&$C339,[1]Rankings!$B:$H,7,FALSE),\"\"),0)","v":0},{"$f":"IF($C339>0,VLOOKUP($C339,[1]Μητρώο!$A:$F,4,FALSE),\"\")","v":""}]
[333,333,null,{"$f":"IF($C340>0,VLOOKUP($C340,[1]Μητρώο!$A:$F,3,FALSE),\"\")","v":""},{"$f":"IF($C340>0,VLOOKUP($C340,[1]Μητρώο!$A:$F,5,FALSE),\"\")","v":""},{"$f":"IF(COUNTIF([1]Rankings!$B:$B,RIGHT($I340,2)&\"-\"&$C340)>0,IF($C340>0,VLOOKUP(RIGHT($I340,2)&\"-\"&$C340,[1]Rankings!$B:$H,7,FALSE),\"\"),0)","v":0},{"$f":"IF($C340>0,VLOOKUP($C340,[1]Μητρώο!$A:$F,4,FALSE),\"\")","v":""}]
[334,334,null,{"$f":"IF($C341>0,VLOOKUP($C341,[1]Μητρώο!$A:$F,3,FALSE),\"\")","v":""},{"$f":"IF($C341>0,VLOOKUP($C341,[1]Μητρώο!$A:$F,5,FALSE),\"\")","v":""},{"$f":"IF(COUNTIF([1]Rankings!$B:$B,RIGHT($I341,2)&\"-\"&$C341)>0,IF($C341>0,VLOOKUP(RIGHT($I341,2)&\"-\"&$C341,[1]Rankings!$B:$H,7,FALSE),\"\"),0)","v":0},{"$f":"IF($C341>0,VLOOKUP($C341,[1]Μητρώο!$A:$F,4,FALSE),\"\")","v":""}]
[335,335,null,{"$f":"IF($C342>0,VLOOKUP($C342,[1]Μητρώο!$A:$F,3,FALSE),\"\")","v":""},{"$f":"IF($C342>0,VLOOKUP($C342,[1]Μητρώο!$A:$F,5,FALSE),\"\")","v":""},{"$f":"IF(COUNTIF([1]Rankings!$B:$B,RIGHT($I342,2)&\"-\"&$C342)>0,IF($C342>0,VLOOKUP(RIGHT($I342,2)&\"-\"&$C342,[1]Rankings!$B:$H,7,FALSE),\"\"),0)","v":0},{"$f":"IF($C342>0,VLOOKUP($C342,[1]Μητρώο!$A:$F,4,FALSE),\"\")","v":""}]
[336,336,null,{"$f":"IF($C343>0,VLOOKUP($C343,[1]Μητρώο!$A:$F,3,FALSE),\"\")","v":""},{"$f":"IF($C343>0,VLOOKUP($C343,[1]Μητρώο!$A:$F,5,FALSE),\"\")","v":""},{"$f":"IF(COUNTIF([1]Rankings!$B:$B,RIGHT($I343,2)&\"-\"&$C343)>0,IF($C343>0,VLOOKUP(RIGHT($I343,2)&\"-\"&$C343,[1]Rankings!$B:$H,7,FALSE),\"\"),0)","v":0},{"$f":"IF($C343>0,VLOOKUP($C343,[1]Μητρώο!$A:$F,4,FALSE),\"\")","v":""}]
[337,337,null,{"$f":"IF($C344>0,VLOOKUP($C344,[1]Μητρώο!$A:$F,3,FALSE),\"\")","v":""},{"$f":"IF($C344>0,VLOOKUP($C344,[1]Μητρώο!$A:$F,5,FALSE),\"\")","v":""},{"$f":"IF(COUNTIF([1]Rankings!$B:$B,RIGHT($I344,2)&\"-\"&$C344)>0,IF($C344>0,VLOOKUP(RIGHT($I344,2)&\"-\"&$C344,[1]Rankings!$B:$H,7,FALSE),\"\"),0)","v":0},{"$f":"IF($C344>0,VLOOKUP($C344,[1]Μητρώο!$A:$F,4,FALSE),\"\")","v":""}]
[338,338,null,{"$f":"IF($C345>0,VLOOKUP($C345,[1]Μητρώο!$A:$F,3,FALSE),\"\")","v":""},{"$f":"IF($C345>0,VLOOKUP($C345,[1]Μητρώο!$A:$F,5,FALSE),\"\")","v":""},{"$f":"IF(COUNTIF([1]Rankings!$B:$B,RIGHT($I345,2)&\"-\"&$C345)>0,IF($C345>0,VLOOKUP(RIGHT($I345,2)&\"-\"&$C345,[1]Rankings!$B:$H,7,FALSE),\"\"),0)","v":0},{"$f":"IF($C345>0,VLOOKUP($C345,[1]Μητρώο!$A:$F,4,FALSE),\"\")","v":""}]
[339,339,null,{"$f":"IF($C346>0,VLOOKUP($C346,[1]Μητρώο!$A:$F,3,FALSE),\"\")","v":""},{"$f":"IF($C346>0,VLOOKUP($C346,[1]Μητρώο!$A:$F,5,FALSE),\"\")","v":""},{"$f":"IF(COUNTIF([1]Rankings!$B:$B,RIGHT($I346,2)&\"-\"&$C346)>0,IF($C346>0,VLOOKUP(RIGHT($I346,2)&\"-\"&$C346,[1]Rankings!$B:$H,7,FALSE),\"\"),0)","v":0},{"$f":"IF($C346>0,VLOOKUP($C346,[1]Μητρώο!$A:$F,4,FALSE),\"\")","v":""}]
[340,340,null,{"$f":"IF($C347>0,VLOOKUP($C347,[1]Μητρώο!$A:$F,3,FALSE),\"\")","v":""},{"$f":"IF($C347>0,VLOOKUP($C347,[1]Μητρώο!$A:$F,5,FALSE),\"\")","v":""},{"$f":"IF(COUNTIF([1]Rankings!$B:$B,RIGHT($I347,2)&\"-\"&$C347)>0,IF($C347>0,VLOOKUP(RIGHT($I347,2)&\"-\"&$C347,[1]Rankings!$B:$H,7,FALSE),\"\"),0)","v":0},{"$f":"IF($C347>0,VLOOKUP($C347,[1]Μητρώο!$A:$F,4,FALSE),\"\")","v":""}]
[341,341,null,{"$f":"IF($C348>0,VLOOKUP($C348,[1]Μητρώο!$A:$F,3,FALSE),\"\")","v":""},{"$f":"IF($C348>0,VLOOKUP($C348,[1]Μητρώο!$A:$F,5,FALSE),\"\")","v":""},{"$f":"IF(COUNTIF([1]Rankings!$B:$B,RIGHT($I348,2)&\"-\"&$C348)>0,IF($C348>0,VLOOKUP(RIGHT($I348,2)&\"-\"&$C348,[1]Rankings!$B:$H,7,FALSE),\"\"),0)","v":0},{"$f":"IF($C348>0,VLOOKUP($C348,[1]Μητρώο!$A:$F,4,FALSE),\"\")","v":""}]
[342,342,null,{"$f":"IF($C349>0,VLOOKUP($C349,[1]Μητρώο!$A:$F,3,FALSE),\"\")","v":""},{"$f":"IF($C349>0,VLOOKUP($C349,[1]Μητρώο!$A:$F,5,FALSE),\"\")","v":""},{"$f":"IF(COUNTIF([1]Rankings!$B:$B,RIGHT($I349,2)&\"-\"&$C349)>0,IF($C349>0,VLOOKUP(RIGHT($I349,2)&\"-\"&$C349,[1]Rankings!$B:$H,7,FALSE),\"\"),0)","v":0},{"$f":"IF($C349>0,VLOOKUP($C349,[1]Μητρώο!$A:$F,4,FALSE),\"\")","v":""}]
[343,343,null,{"$f":"IF($C350>0,VLOOKUP($C350,[1]Μητρώο!$A:$F,3,FALSE),\"\")","v":""},{"$f":"IF($C350>0,VLOOKUP($C350,[1]Μητρώο!$A:$F,5,FALSE),\"\")","v":""},{"$f":"IF(COUNTIF([1]Rankings!$B:$B,RIGHT($I350,2)&\"-\"&$C350)>0,IF($C350>0,VLOOKUP(RIGHT($I350,2)&\"-\"&$C350,[1]Rankings!$B:$H,7,FALSE),\"\"),0)","v":0},{"$f":"IF($C350>0,VLOOKUP($C350,[1]Μητρώο!$A:$F,4,FALSE),\"\")","v":""}]
[344,344,null,{"$f":"IF($C351>0,VLOOKUP($C351,[1]Μητρώο!$A:$F,3,FALSE),\"\")","v":""},{"$f":"IF($C351>0,VLOOKUP($C351,[1]Μητρώο!$A:$F,5,FALSE),\"\")","v":""},{"$f":"IF(COUNTIF([1]Rankings!$B:$B,RIGHT($I351,2)&\"-\"&$C351)>0,IF($C351>0,VLOOKUP(RIGHT($I351,2)&\"-\"&$C351,[1]Rankings!$B:$H,7,FALSE),\"\"),0)","v":0},{"$f":"IF($C351>0,VLOOKUP($C351,[1]Μητρώο!$A:$F,4,FALSE),\"\")","v":""}]
[345,345,null,{"$f":"IF($C352>0,VLOOKUP($C352,[1]Μητρώο!$A:$F,3,FALSE),\"\")","v":""},{"$f":"IF($C352>0,VLOOKUP($C352,[1]Μητρώο!$A:$F,5,FALSE),\"\")","v":""},{"$f":"IF(COUNTIF([1]Rankings!$B:$B,RIGHT($I352,2)&\"-\"&$C352)>0,IF($C352>0,VLOOKUP(RIGHT($I352,2)&\"-\"&$C352,[1]Rankings!$B:$H,7,FALSE),\"\"),0)","v":0},{"$f":"IF($C352>0,VLOOKUP($C352,[1]Μητρώο!$A:$F,4,FALSE),\"\")","v":""}]
[346,346,null,{"$f":"IF($C353>0,VLOOKUP($C353,[1]Μητρώο!$A:$F,3,FALSE),\"\")","v":""},{"$f":"IF($C353>0,VLOOKUP($C353,[1]Μητρώο!$A:$F,5,FALSE),\"\")","v":""},{"$f":"IF(COUNTIF([1]Rankings!$B:$B,RIGHT($I353,2)&\"-\"&$C353)>0,IF($C353>0,VLOOKUP(RIGHT($I353,2)&\"-\"&$C353,[1]Rankings!$B:$H,7,FALSE),\"\"),0)","v":0},{"$f":"IF($C353>0,VLOOKUP($C353,[1]Μητρώο!$A:$F,4,FALSE),\"\")","v":""}]
[347,347,null,{"$f":"IF($C354>0,VLOOKUP($C354,[1]Μητρώο!$A:$F,3,FALSE),\"\")","v":""},{"$f":"IF($C354>0,VLOOKUP($C354,[1]Μητρώο!$A:$F,5,FALSE),\"\")","v":""},{"$f":"IF(COUNTIF([1]Rankings!$B:$B,RIGHT($I354,2)&\"-\"&$C354)>0,IF($C354>0,VLOOKUP(RIGHT($I354,2)&\"-\"&$C354,[1]Rankings!$B:$H,7,FALSE),\"\"),0)","v":0},{"$f":"IF($C354>0,VLOOKUP($C354,[1]Μητρώο!$A:$F,4,FALSE),\"\")","v":""}]
[348,348,null,{"$f":"IF($C355>0,VLOOKUP($C355,[1]Μητρώο!$A:$F,3,FALSE),\"\")","v":""},{"$f":"IF($C355>0,VLOOKUP($C355,[1]Μητρώο!$A:$F,5,FALSE),\"\")","v":""},{"$f":"IF(COUNTIF([1]Rankings!$B:$B,RIGHT($I355,2)&\"-\"&$C355)>0,IF($C355>0,VLOOKUP(RIGHT($I355,2)&\"-\"&$C355,[1]Rankings!$B:$H,7,FALSE),\"\"),0)","v":0},{"$f":"IF($C355>0,VLOOKUP($C355,[1]Μητρώο!$A:$F,4,FALSE),\"\")","v":""}]
[349,349,null,{"$f":"IF($C356>0,VLOOKUP($C356,[1]Μητρώο!$A:$F,3,FALSE),\"\")","v":""},{"$f":"IF($C356>0,VLOOKUP($C356,[1]Μητρώο!$A:$F,5,FALSE),\"\")","v":""},{"$f":"IF(COUNTIF([1]Rankings!$B:$B,RIGHT($I356,2)&\"-\"&$C356)>0,IF($C356>0,VLOOKUP(RIGHT($I356,2)&\"-\"&$C356,[1]Rankings!$B:$H,7,FALSE),\"\"),0)","v":0},{"$f":"IF($C356>0,VLOOKUP($C356,[1]Μητρώο!$A:$F,4,FALSE),\"\")","v":""}]
[350,350,null,{"$f":"IF($C357>0,VLOOKUP($C357,[1]Μητρώο!$A:$F,3,FALSE),\"\")","v":""},{"$f":"IF($C357>0,VLOOKUP($C357,[1]Μητρώο!$A:$F,5,FALSE),\"\")","v":""},{"$f":"IF(COUNTIF([1]Rankings!$B:$B,RIGHT($I357,2)&\"-\"&$C357)>0,IF($C357>0,VLOOKUP(RIGHT($I357,2)&\"-\"&$C357,[1]Rankings!$B:$H,7,FALSE),\"\"),0)","v":0},{"$f":"IF($C357>0,VLOOKUP($C357,[1]Μητρώο!$A:$F,4,FALSE),\"\")","v":""}]
[351,351,null,{"$f":"IF($C358>0,VLOOKUP($C358,[1]Μητρώο!$A:$F,3,FALSE),\"\")","v":""},{"$f":"IF($C358>0,VLOOKUP($C358,[1]Μητρώο!$A:$F,5,FALSE),\"\")","v":""},{"$f":"IF(COUNTIF([1]Rankings!$B:$B,RIGHT($I358,2)&\"-\"&$C358)>0,IF($C358>0,VLOOKUP(RIGHT($I358,2)&\"-\"&$C358,[1]Rankings!$B:$H,7,FALSE),\"\"),0)","v":0},{"$f":"IF($C358>0,VLOOKUP($C358,[1]Μητρώο!$A:$F,4,FALSE),\"\")","v":""}]
[352,352,null,{"$f":"IF($C359>0,VLOOKUP($C359,[1]Μητρώο!$A:$F,3,FALSE),\"\")","v":""},{"$f":"IF($C359>0,VLOOKUP($C359,[1]Μητρώο!$A:$F,5,FALSE),\"\")","v":""},{"$f":"IF(COUNTIF([1]Rankings!$B:$B,RIGHT($I359,2)&\"-\"&$C359)>0,IF($C359>0,VLOOKUP(RIGHT($I359,2)&\"-\"&$C359,[1]Rankings!$B:$H,7,FALSE),\"\"),0)","v":0},{"$f":"IF($C359>0,VLOOKUP($C359,[1]Μητρώο!$A:$F,4,FALSE),\"\")","v":""}]
[353,353,null,{"$f":"IF($C360>0,VLOOKUP($C360,[1]Μητρώο!$A:$F,3,FALSE),\"\")","v":""},{"$f":"IF($C360>0,VLOOKUP($C360,[1]Μητρώο!$A:$F,5,FALSE),\"\")","v":""},{"$f":"IF(COUNTIF([1]Rankings!$B:$B,RIGHT($I360,2)&\"-\"&$C360)>0,IF($C360>0,VLOOKUP(RIGHT($I360,2)&\"-\"&$C360,[1]Rankings!$B:$H,7,FALSE),\"\"),0)","v":0},{"$f":"IF($C360>0,VLOOKUP($C360,[1]Μητρώο!$A:$F,4,FALSE),\"\")","v":""}]
[354,354,null,{"$f":"IF($C361>0,VLOOKUP($C361,[1]Μητρώο!$A:$F,3,FALSE),\"\")","v":""},{"$f":"IF($C361>0,VLOOKUP($C361,[1]Μητρώο!$A:$F,5,FALSE),\"\")","v":""},{"$f":"IF(COUNTIF([1]Rankings!$B:$B,RIGHT($I361,2)&\"-\"&$C361)>0,IF($C361>0,VLOOKUP(RIGHT($I361,2)&\"-\"&$C361,[1]Rankings!$B:$H,7,FALSE),\"\"),0)","v":0},{"$f":"IF($C361>0,VLOOKUP($C361,[1]Μητρώο!$A:$F,4,FALSE),\"\")","v":""}]
[355,355,null,{"$f":"IF($C362>0,VLOOKUP($C362,[1]Μητρώο!$A:$F,3,FALSE),\"\")","v":""},{"$f":"IF($C362>0,VLOOKUP($C362,[1]Μητρώο!$A:$F,5,FALSE),\"\")","v":""},{"$f":"IF(COUNTIF([1]Rankings!$B:$B,RIGHT($I362,2)&\"-\"&$C362)>0,IF($C362>0,VLOOKUP(RIGHT($I362,2)&\"-\"&$C362,[1]Rankings!$B:$H,7,FALSE),\"\"),0)","v":0},{"$f":"IF($C362>0,VLOOKUP($C362,[1]Μητρώο!$A:$F,4,FALSE),\"\")","v":""}]
[356,356,null,{"$f":"IF($C363>0,VLOOKUP($C363,[1]Μητρώο!$A:$F,3,FALSE),\"\")","v":""},{"$f":"IF($C363>0,VLOOKUP($C363,[1]Μητρώο!$A:$F,5,FALSE),\"\")","v":""},{"$f":"IF(COUNTIF([1]Rankings!$B:$B,RIGHT($I363,2)&\"-\"&$C363)>0,IF($C363>0,VLOOKUP(RIGHT($I363,2)&\"-\"&$C363,[1]Rankings!$B:$H,7,FALSE),\"\"),0)","v":0},{"$f":"IF($C363>0,VLOOKUP($C363,[1]Μητρώο!$A:$F,4,FALSE),\"\")","v":""}]
[357,357,null,{"$f":"IF($C364>0,VLOOKUP($C364,[1]Μητρώο!$A:$F,3,FALSE),\"\")","v":""},{"$f":"IF($C364>0,VLOOKUP($C364,[1]Μητρώο!$A:$F,5,FALSE),\"\")","v":""},{"$f":"IF(COUNTIF([1]Rankings!$B:$B,RIGHT($I364,2)&\"-\"&$C364)>0,IF($C364>0,VLOOKUP(RIGHT($I364,2)&\"-\"&$C364,[1]Rankings!$B:$H,7,FALSE),\"\"),0)","v":0},{"$f":"IF($C364>0,VLOOKUP($C364,[1]Μητρώο!$A:$F,4,FALSE),\"\")","v":""}]
[358,358,null,{"$f":"IF($C365>0,VLOOKUP($C365,[1]Μητρώο!$A:$F,3,FALSE),\"\")","v":""},{"$f":"IF($C365>0,VLOOKUP($C365,[1]Μητρώο!$A:$F,5,FALSE),\"\")","v":""},{"$f":"IF(COUNTIF([1]Rankings!$B:$B,RIGHT($I365,2)&\"-\"&$C365)>0,IF($C365>0,VLOOKUP(RIGHT($I365,2)&\"-\"&$C365,[1]Rankings!$B:$H,7,FALSE),\"\"),0)","v":0},{"$f":"IF($C365>0,VLOOKUP($C365,[1]Μητρώο!$A:$F,4,FALSE),\"\")","v":""}]
[359,359,null,{"$f":"IF($C366>0,VLOOKUP($C366,[1]Μητρώο!$A:$F,3,FALSE),\"\")","v":""},{"$f":"IF($C366>0,VLOOKUP($C366,[1]Μητρώο!$A:$F,5,FALSE),\"\")","v":""},{"$f":"IF(COUNTIF([1]Rankings!$B:$B,RIGHT($I366,2)&\"-\"&$C366)>0,IF($C366>0,VLOOKUP(RIGHT($I366,2)&\"-\"&$C366,[1]Rankings!$B:$H,7,FALSE),\"\"),0)","v":0},{"$f":"IF($C366>0,VLOOKUP($C366,[1]Μητρώο!$A:$F,4,FALSE),\"\")","v":""}]
[360,360,null,{"$f":"IF($C367>0,VLOOKUP($C367,[1]Μητρώο!$A:$F,3,FALSE),\"\")","v":""},{"$f":"IF($C367>0,VLOOKUP($C367,[1]Μητρώο!$A:$F,5,FALSE),\"\")","v":""},{"$f":"IF(COUNTIF([1]Rankings!$B:$B,RIGHT($I367,2)&\"-\"&$C367)>0,IF($C367>0,VLOOKUP(RIGHT($I367,2)&\"-\"&$C367,[1]Rankings!$B:$H,7,FALSE),\"\"),0)","v":0},{"$f":"IF($C367>0,VLOOKUP($C367,[1]Μητρώο!$A:$F,4,FALSE),\"\")","v":""}]
[361,361,null,{"$f":"IF($C368>0,VLOOKUP($C368,[1]Μητρώο!$A:$F,3,FALSE),\"\")","v":""},{"$f":"IF($C368>0,VLOOKUP($C368,[1]Μητρώο!$A:$F,5,FALSE),\"\")","v":""},{"$f":"IF(COUNTIF([1]Rankings!$B:$B,RIGHT($I368,2)&\"-\"&$C368)>0,IF($C368>0,VLOOKUP(RIGHT($I368,2)&\"-\"&$C368,[1]Rankings!$B:$H,7,FALSE),\"\"),0)","v":0},{"$f":"IF($C368>0,VLOOKUP($C368,[1]Μητρώο!$A:$F,4,FALSE),\"\")","v":""}]
[362,362,null,{"$f":"IF($C369>0,VLOOKUP($C369,[1]Μητρώο!$A:$F,3,FALSE),\"\")","v":""},{"$f":"IF($C369>0,VLOOKUP($C369,[1]Μητρώο!$A:$F,5,FALSE),\"\")","v":""},{"$f":"IF(COUNTIF([1]Rankings!$B:$B,RIGHT($I369,2)&\"-\"&$C369)>0,IF($C369>0,VLOOKUP(RIGHT($I369,2)&\"-\"&$C369,[1]Rankings!$B:$H,7,FALSE),\"\"),0)","v":0},{"$f":"IF($C369>0,VLOOKUP($C369,[1]Μητρώο!$A:$F,4,FALSE),\"\")","v":""}]
[363,363,null,{"$f":"IF($C370>0,VLOOKUP($C370,[1]Μητρώο!$A:$F,3,FALSE),\"\")","v":""},{"$f":"IF($C370>0,VLOOKUP($C370,[1]Μητρώο!$A:$F,5,FALSE),\"\")","v":""},{"$f":"IF(COUNTIF([1]Rankings!$B:$B,RIGHT($I370,2)&\"-\"&$C370)>0,IF($C370>0,VLOOKUP(RIGHT($I370,2)&\"-\"&$C370,[1]Rankings!$B:$H,7,FALSE),\"\"),0)","v":0},{"$f":"IF($C370>0,VLOOKUP($C370,[1]Μητρώο!$A:$F,4,FALSE),\"\")","v":""}]
[364,364,null,{"$f":"IF($C371>0,VLOOKUP($C371,[1]Μητρώο!$A:$F,3,FALSE),\"\")","v":""},{"$f":"IF($C371>0,VLOOKUP($C371,[1]Μητρώο!$A:$F,5,FALSE),\"\")","v":""},{"$f":"IF(COUNTIF([1]Rankings!$B:$B,RIGHT($I371,2)&\"-\"&$C371)>0,IF($C371>0,VLOOKUP(RIGHT($I371,2)&\"-\"&$C371,[1]Rankings!$B:$H,7,FALSE),\"\"),0)","v":0},{"$f":"IF($C371>0,VLOOKUP($C371,[1]Μητρώο!$A:$F,4,FALSE),\"\")","v":""}]
[365,365,null,{"$f":"IF($C372>0,VLOOKUP($C372,[1]Μητρώο!$A:$F,3,FALSE),\"\")","v":""},{"$f":"IF($C372>0,VLOOKUP($C372,[1]Μητρώο!$A:$F,5,FALSE),\"\")","v":""},{"$f":"IF(COUNTIF([1]Rankings!$B:$B,RIGHT($I372,2)&\"-\"&$C372)>0,IF($C372>0,VLOOKUP(RIGHT($I372,2)&\"-\"&$C372,[1]Rankings!$B:$H,7,FALSE),\"\"),0)","v":0},{"$f":"IF($C372>0,VLOOKUP($C372,[1]Μητρώο!$A:$F,4,FALSE),\"\")","v":""}]
[366,366,null,{"$f":"IF($C373>0,VLOOKUP($C373,[1]Μητρώο!$A:$F,3,FALSE),\"\")","v":""},{"$f":"IF($C373>0,VLOOKUP($C373,[1]Μητρώο!$A:$F,5,FALSE),\"\")","v":""},{"$f":"IF(COUNTIF([1]Rankings!$B:$B,RIGHT($I373,2)&\"-\"&$C373)>0,IF($C373>0,VLOOKUP(RIGHT($I373,2)&\"-\"&$C373,[1]Rankings!$B:$H,7,FALSE),\"\"),0)","v":0},{"$f":"IF($C373>0,VLOOKUP($C373,[1]Μητρώο!$A:$F,4,FALSE),\"\")","v":""}]
[367,367,null,{"$f":"IF($C374>0,VLOOKUP($C374,[1]Μητρώο!$A:$F,3,FALSE),\"\")","v":""},{"$f":"IF($C374>0,VLOOKUP($C374,[1]Μητρώο!$A:$F,5,FALSE),\"\")","v":""},{"$f":"IF(COUNTIF([1]Rankings!$B:$B,RIGHT($I374,2)&\"-\"&$C374)>0,IF($C374>0,VLOOKUP(RIGHT($I374,2)&\"-\"&$C374,[1]Rankings!$B:$H,7,FALSE),\"\"),0)","v":0},{"$f":"IF($C374>0,VLOOKUP($C374,[1]Μητρώο!$A:$F,4,FALSE),\"\")","v":""}]
[368,368,null,{"$f":"IF($C375>0,VLOOKUP($C375,[1]Μητρώο!$A:$F,3,FALSE),\"\")","v":""},{"$f":"IF($C375>0,VLOOKUP($C375,[1]Μητρώο!$A:$F,5,FALSE),\"\")","v":""},{"$f":"IF(COUNTIF([1]Rankings!$B:$B,RIGHT($I375,2)&\"-\"&$C375)>0,IF($C375>0,VLOOKUP(RIGHT($I375,2)&\"-\"&$C375,[1]Rankings!$B:$H,7,FALSE),\"\"),0)","v":0},{"$f":"IF($C375>0,VLOOKUP($C375,[1]Μητρώο!$A:$F,4,FALSE),\"\")","v":""}]
[369,369,null,{"$f":"IF($C376>0,VLOOKUP($C376,[1]Μητρώο!$A:$F,3,FALSE),\"\")","v":""},{"$f":"IF($C376>0,VLOOKUP($C376,[1]Μητρώο!$A:$F,5,FALSE),\"\")","v":""},{"$f":"IF(COUNTIF([1]Rankings!$B:$B,RIGHT($I376,2)&\"-\"&$C376)>0,IF($C376>0,VLOOKUP(RIGHT($I376,2)&\"-\"&$C376,[1]Rankings!$B:$H,7,FALSE),\"\"),0)","v":0},{"$f":"IF($C376>0,VLOOKUP($C376,[1]Μητρώο!$A:$F,4,FALSE),\"\")","v":""}]
[370,370,null,{"$f":"IF($C377>0,VLOOKUP($C377,[1]Μητρώο!$A:$F,3,FALSE),\"\")","v":""},{"$f":"IF($C377>0,VLOOKUP($C377,[1]Μητρώο!$A:$F,5,FALSE),\"\")","v":""},{"$f":"IF(COUNTIF([1]Rankings!$B:$B,RIGHT($I377,2)&\"-\"&$C377)>0,IF($C377>0,VLOOKUP(RIGHT($I377,2)&\"-\"&$C377,[1]Rankings!$B:$H,7,FALSE),\"\"),0)","v":0},{"$f":"IF($C377>0,VLOOKUP($C377,[1]Μητρώο!$A:$F,4,FALSE),\"\")","v":""}]
[371,371,null,{"$f":"IF($C378>0,VLOOKUP($C378,[1]Μητρώο!$A:$F,3,FALSE),\"\")","v":""},{"$f":"IF($C378>0,VLOOKUP($C378,[1]Μητρώο!$A:$F,5,FALSE),\"\")","v":""},{"$f":"IF(COUNTIF([1]Rankings!$B:$B,RIGHT($I378,2)&\"-\"&$C378)>0,IF($C378>0,VLOOKUP(RIGHT($I378,2)&\"-\"&$C378,[1]Rankings!$B:$H,7,FALSE),\"\"),0)","v":0},{"$f":"IF($C378>0,VLOOKUP($C378,[1]Μητρώο!$A:$F,4,FALSE),\"\")","v":""}]
[372,372,null,{"$f":"IF($C379>0,VLOOKUP($C379,[1]Μητρώο!$A:$F,3,FALSE),\"\")","v":""},{"$f":"IF($C379>0,VLOOKUP($C379,[1]Μητρώο!$A:$F,5,FALSE),\"\")","v":""},{"$f":"IF(COUNTIF([1]Rankings!$B:$B,RIGHT($I379,2)&\"-\"&$C379)>0,IF($C379>0,VLOOKUP(RIGHT($I379,2)&\"-\"&$C379,[1]Rankings!$B:$H,7,FALSE),\"\"),0)","v":0},{"$f":"IF($C379>0,VLOOKUP($C379,[1]Μητρώο!$A:$F,4,FALSE),\"\")","v":""}]
[373,373,null,{"$f":"IF($C380>0,VLOOKUP($C380,[1]Μητρώο!$A:$F,3,FALSE),\"\")","v":""},{"$f":"IF($C380>0,VLOOKUP($C380,[1]Μητρώο!$A:$F,5,FALSE),\"\")","v":""},{"$f":"IF(COUNTIF([1]Rankings!$B:$B,RIGHT($I380,2)&\"-\"&$C380)>0,IF($C380>0,VLOOKUP(RIGHT($I380,2)&\"-\"&$C380,[1]Rankings!$B:$H,7,FALSE),\"\"),0)","v":0},{"$f":"IF($C380>0,VLOOKUP($C380,[1]Μητρώο!$A:$F,4,FALSE),\"\")","v":""}]
[374,374,null,{"$f":"IF($C381>0,VLOOKUP($C381,[1]Μητρώο!$A:$F,3,FALSE),\"\")","v":""},{"$f":"IF($C381>0,VLOOKUP($C381,[1]Μητρώο!$A:$F,5,FALSE),\"\")","v":""},{"$f":"IF(COUNTIF([1]Rankings!$B:$B,RIGHT($I381,2)&\"-\"&$C381)>0,IF($C381>0,VLOOKUP(RIGHT($I381,2)&\"-\"&$C381,[1]Rankings!$B:$H,7,FALSE),\"\"),0)","v":0},{"$f":"IF($C381>0,VLOOKUP($C381,[1]Μητρώο!$A:$F,4,FALSE),\"\")","v":""}]
[375,375,null,{"$f":"IF($C382>0,VLOOKUP($C382,[1]Μητρώο!$A:$F,3,FALSE),\"\")","v":""},{"$f":"IF($C382>0,VLOOKUP($C382,[1]Μητρώο!$A:$F,5,FALSE),\"\")","v":""},{"$f":"IF(COUNTIF([1]Rankings!$B:$B,RIGHT($I382,2)&\"-\"&$C382)>0,IF($C382>0,VLOOKUP(RIGHT($I382,2)&\"-\"&$C382,[1]Rankings!$B:$H,7,FALSE),\"\"),0)","v":0},{"$f":"IF($C382>0,VLOOKUP($C382,[1]Μητρώο!$A:$F,4,FALSE),\"\")","v":""}]
[376,376,null,{"$f":"IF($C383>0,VLOOKUP($C383,[1]Μητρώο!$A:$F,3,FALSE),\"\")","v":""},{"$f":"IF($C383>0,VLOOKUP($C383,[1]Μητρώο!$A:$F,5,FALSE),\"\")","v":""},{"$f":"IF(COUNTIF([1]Rankings!$B:$B,RIGHT($I383,2)&\"-\"&$C383)>0,IF($C383>0,VLOOKUP(RIGHT($I383,2)&\"-\"&$C383,[1]Rankings!$B:$H,7,FALSE),\"\"),0)","v":0},{"$f":"IF($C383>0,VLOOKUP($C383,[1]Μητρώο!$A:$F,4,FALSE),\"\")","v":""}]
[377,377,null,{"$f":"IF($C384>0,VLOOKUP($C384,[1]Μητρώο!$A:$F,3,FALSE),\"\")","v":""},{"$f":"IF($C384>0,VLOOKUP($C384,[1]Μητρώο!$A:$F,5,FALSE),\"\")","v":""},{"$f":"IF(COUNTIF([1]Rankings!$B:$B,RIGHT($I384,2)&\"-\"&$C384)>0,IF($C384>0,VLOOKUP(RIGHT($I384,2)&\"-\"&$C384,[1]Rankings!$B:$H,7,FALSE),\"\"),0)","v":0},{"$f":"IF($C384>0,VLOOKUP($C384,[1]Μητρώο!$A:$F,4,FALSE),\"\")","v":""}]
[378,378,null,{"$f":"IF($C385>0,VLOOKUP($C385,[1]Μητρώο!$A:$F,3,FALSE),\"\")","v":""},{"$f":"IF($C385>0,VLOOKUP($C385,[1]Μητρώο!$A:$F,5,FALSE),\"\")","v":""},{"$f":"IF(COUNTIF([1]Rankings!$B:$B,RIGHT($I385,2)&\"-\"&$C385)>0,IF($C385>0,VLOOKUP(RIGHT($I385,2)&\"-\"&$C385,[1]Rankings!$B:$H,7,FALSE),\"\"),0)","v":0},{"$f":"IF($C385>0,VLOOKUP($C385,[1]Μητρώο!$A:$F,4,FALSE),\"\")","v":""}]
[379,379,null,{"$f":"IF($C386>0,VLOOKUP($C386,[1]Μητρώο!$A:$F,3,FALSE),\"\")","v":""},{"$f":"IF($C386>0,VLOOKUP($C386,[1]Μητρώο!$A:$F,5,FALSE),\"\")","v":""},{"$f":"IF(COUNTIF([1]Rankings!$B:$B,RIGHT($I386,2)&\"-\"&$C386)>0,IF($C386>0,VLOOKUP(RIGHT($I386,2)&\"-\"&$C386,[1]Rankings!$B:$H,7,FALSE),\"\"),0)","v":0},{"$f":"IF($C386>0,VLOOKUP($C386,[1]Μητρώο!$A:$F,4,FALSE),\"\")","v":""}]
[380,380,null,{"$f":"IF($C387>0,VLOOKUP($C387,[1]Μητρώο!$A:$F,3,FALSE),\"\")","v":""},{"$f":"IF($C387>0,VLOOKUP($C387,[1]Μητρώο!$A:$F,5,FALSE),\"\")","v":""},{"$f":"IF(COUNTIF([1]Rankings!$B:$B,RIGHT($I387,2)&\"-\"&$C387)>0,IF($C387>0,VLOOKUP(RIGHT($I387,2)&\"-\"&$C387,[1]Rankings!$B:$H,7,FALSE),\"\"),0)","v":0},{"$f":"IF($C387>0,VLOOKUP($C387,[1]Μητρώο!$A:$F,4,FALSE),\"\")","v":""}]
[381,381,null,{"$f":"IF($C388>0,VLOOKUP($C388,[1]Μητρώο!$A:$F,3,FALSE),\"\")","v":""},{"$f":"IF($C388>0,VLOOKUP($C388,[1]Μητρώο!$A:$F,5,FALSE),\"\")","v":""},{"$f":"IF(COUNTIF([1]Rankings!$B:$B,RIGHT($I388,2)&\"-\"&$C388)>0,IF($C388>0,VLOOKUP(RIGHT($I388,2)&\"-\"&$C388,[1]Rankings!$B:$H,7,FALSE),\"\"),0)","v":0},{"$f":"IF($C388>0,VLOOKUP($C388,[1]Μητρώο!$A:$F,4,FALSE),\"\")","v":""}]
[382,382,null,{"$f":"IF($C389>0,VLOOKUP($C389,[1]Μητρώο!$A:$F,3,FALSE),\"\")","v":""},{"$f":"IF($C389>0,VLOOKUP($C389,[1]Μητρώο!$A:$F,5,FALSE),\"\")","v":""},{"$f":"IF(COUNTIF([1]Rankings!$B:$B,RIGHT($I389,2)&\"-\"&$C389)>0,IF($C389>0,VLOOKUP(RIGHT($I389,2)&\"-\"&$C389,[1]Rankings!$B:$H,7,FALSE),\"\"),0)","v":0},{"$f":"IF($C389>0,VLOOKUP($C389,[1]Μητρώο!$A:$F,4,FALSE),\"\")","v":""}]
[383,383,null,{"$f":"IF($C390>0,VLOOKUP($C390,[1]Μητρώο!$A:$F,3,FALSE),\"\")","v":""},{"$f":"IF($C390>0,VLOOKUP($C390,[1]Μητρώο!$A:$F,5,FALSE),\"\")","v":""},{"$f":"IF(COUNTIF([1]Rankings!$B:$B,RIGHT($I390,2)&\"-\"&$C390)>0,IF($C390>0,VLOOKUP(RIGHT($I390,2)&\"-\"&$C390,[1]Rankings!$B:$H,7,FALSE),\"\"),0)","v":0},{"$f":"IF($C390>0,VLOOKUP($C390,[1]Μητρώο!$A:$F,4,FALSE),\"\")","v":""}]
[384,384,null,{"$f":"IF($C391>0,VLOOKUP($C391,[1]Μητρώο!$A:$F,3,FALSE),\"\")","v":""},{"$f":"IF($C391>0,VLOOKUP($C391,[1]Μητρώο!$A:$F,5,FALSE),\"\")","v":""},{"$f":"IF(COUNTIF([1]Rankings!$B:$B,RIGHT($I391,2)&\"-\"&$C391)>0,IF($C391>0,VLOOKUP(RIGHT($I391,2)&\"-\"&$C391,[1]Rankings!$B:$H,7,FALSE),\"\"),0)","v":0},{"$f":"IF($C391>0,VLOOKUP($C391,[1]Μητρώο!$A:$F,4,FALSE),\"\")","v":""}]
[385,{"$f":"IF(H392&I392=H391&I391,B391+1,1)","v":385},null,{"$f":"IF($C392>0,VLOOKUP($C392,[1]Μητρώο!$A:$F,3,FALSE),\"\")","v":""},{"$f":"IF($C392>0,VLOOKUP($C392,[1]Μητρώο!$A:$F,5,FALSE),\"\")","v":""},{"$f":"IF(COUNTIF([1]Rankings!$B:$B,RIGHT($I392,2)&\"-\"&$C392)>0,IF($C392>0,VLOOKUP(RIGHT($I392,2)&\"-\"&$C392,[1]Rankings!$B:$H,7,FALSE),\"\"),0)","v":0},{"$f":"IF($C392>0,VLOOKUP($C392,[1]Μητρώο!$A:$F,4,FALSE),\"\")","v":""}]
[386,386,null,{"$f":"IF($C393>0,VLOOKUP($C393,[1]Μητρώο!$A:$F,3,FALSE),\"\")","v":""},{"$f":"IF($C393>0,VLOOKUP($C393,[1]Μητρώο!$A:$F,5,FALSE),\"\")","v":""},{"$f":"IF(COUNTIF([1]Rankings!$B:$B,RIGHT($I393,2)&\"-\"&$C393)>0,IF($C393>0,VLOOKUP(RIGHT($I393,2)&\"-\"&$C393,[1]Rankings!$B:$H,7,FALSE),\"\"),0)","v":0},{"$f":"IF($C393>0,VLOOKUP($C393,[1]Μητρώο!$A:$F,4,FALSE),\"\")","v":""}]
[387,387,null,{"$f":"IF($C394>0,VLOOKUP($C394,[1]Μητρώο!$A:$F,3,FALSE),\"\")","v":""},{"$f":"IF($C394>0,VLOOKUP($C394,[1]Μητρώο!$A:$F,5,FALSE),\"\")","v":""},{"$f":"IF(COUNTIF([1]Rankings!$B:$B,RIGHT($I394,2)&\"-\"&$C394)>0,IF($C394>0,VLOOKUP(RIGHT($I394,2)&\"-\"&$C394,[1]Rankings!$B:$H,7,FALSE),\"\"),0)","v":0},{"$f":"IF($C394>0,VLOOKUP($C394,[1]Μητρώο!$A:$F,4,FALSE),\"\")","v":""}]
[388,388,null,{"$f":"IF($C395>0,VLOOKUP($C395,[1]Μητρώο!$A:$F,3,FALSE),\"\")","v":""},{"$f":"IF($C395>0,VLOOKUP($C395,[1]Μητρώο!$A:$F,5,FALSE),\"\")","v":""},{"$f":"IF(COUNTIF([1]Rankings!$B:$B,RIGHT($I395,2)&\"-\"&$C395)>0,IF($C395>0,VLOOKUP(RIGHT($I395,2)&\"-\"&$C395,[1]Rankings!$B:$H,7,FALSE),\"\"),0)","v":0},{"$f":"IF($C395>0,VLOOKUP($C395,[1]Μητρώο!$A:$F,4,FALSE),\"\")","v":""}]
[389,389,null,{"$f":"IF($C396>0,VLOOKUP($C396,[1]Μητρώο!$A:$F,3,FALSE),\"\")","v":""},{"$f":"IF($C396>0,VLOOKUP($C396,[1]Μητρώο!$A:$F,5,FALSE),\"\")","v":""},{"$f":"IF(COUNTIF([1]Rankings!$B:$B,RIGHT($I396,2)&\"-\"&$C396)>0,IF($C396>0,VLOOKUP(RIGHT($I396,2)&\"-\"&$C396,[1]Rankings!$B:$H,7,FALSE),\"\"),0)","v":0},{"$f":"IF($C396>0,VLOOKUP($C396,[1]Μητρώο!$A:$F,4,FALSE),\"\")","v":""}]
[390,390,null,{"$f":"IF($C397>0,VLOOKUP($C397,[1]Μητρώο!$A:$F,3,FALSE),\"\")","v":""},{"$f":"IF($C397>0,VLOOKUP($C397,[1]Μητρώο!$A:$F,5,FALSE),\"\")","v":""},{"$f":"IF(COUNTIF([1]Rankings!$B:$B,RIGHT($I397,2)&\"-\"&$C397)>0,IF($C397>0,VLOOKUP(RIGHT($I397,2)&\"-\"&$C397,[1]Rankings!$B:$H,7,FALSE),\"\"),0)","v":0},{"$f":"IF($C397>0,VLOOKUP($C397,[1]Μητρώο!$A:$F,4,FALSE),\"\")","v":""}]
[391,391,null,{"$f":"IF($C398>0,VLOOKUP($C398,[1]Μητρώο!$A:$F,3,FALSE),\"\")","v":""},{"$f":"IF($C398>0,VLOOKUP($C398,[1]Μητρώο!$A:$F,5,FALSE),\"\")","v":""},{"$f":"IF(COUNTIF([1]Rankings!$B:$B,RIGHT($I398,2)&\"-\"&$C398)>0,IF($C398>0,VLOOKUP(RIGHT($I398,2)&\"-\"&$C398,[1]Rankings!$B:$H,7,FALSE),\"\"),0)","v":0},{"$f":"IF($C398>0,VLOOKUP($C398,[1]Μητρώο!$A:$F,4,FALSE),\"\")","v":""}]
[392,392,null,{"$f":"IF($C399>0,VLOOKUP($C399,[1]Μητρώο!$A:$F,3,FALSE),\"\")","v":""},{"$f":"IF($C399>0,VLOOKUP($C399,[1]Μητρώο!$A:$F,5,FALSE),\"\")","v":""},{"$f":"IF(COUNTIF([1]Rankings!$B:$B,RIGHT($I399,2)&\"-\"&$C399)>0,IF($C399>0,VLOOKUP(RIGHT($I399,2)&\"-\"&$C399,[1]Rankings!$B:$H,7,FALSE),\"\"),0)","v":0},{"$f":"IF($C399>0,VLOOKUP($C399,[1]Μητρώο!$A:$F,4,FALSE),\"\")","v":""}]
[393,393,null,{"$f":"IF($C400>0,VLOOKUP($C400,[1]Μητρώο!$A:$F,3,FALSE),\"\")","v":""},{"$f":"IF($C400>0,VLOOKUP($C400,[1]Μητρώο!$A:$F,5,FALSE),\"\")","v":""},{"$f":"IF(COUNTIF([1]Rankings!$B:$B,RIGHT($I400,2)&\"-\"&$C400)>0,IF($C400>0,VLOOKUP(RIGHT($I400,2)&\"-\"&$C400,[1]Rankings!$B:$H,7,FALSE),\"\"),0)","v":0},{"$f":"IF($C400>0,VLOOKUP($C400,[1]Μητρώο!$A:$F,4,FALSE),\"\")","v":""}]
[394,394,null,{"$f":"IF($C401>0,VLOOKUP($C401,[1]Μητρώο!$A:$F,3,FALSE),\"\")","v":""},{"$f":"IF($C401>0,VLOOKUP($C401,[1]Μητρώο!$A:$F,5,FALSE),\"\")","v":""},{"$f":"IF(COUNTIF([1]Rankings!$B:$B,RIGHT($I401,2)&\"-\"&$C401)>0,IF($C401>0,VLOOKUP(RIGHT($I401,2)&\"-\"&$C401,[1]Rankings!$B:$H,7,FALSE),\"\"),0)","v":0},{"$f":"IF($C401>0,VLOOKUP($C401,[1]Μητρώο!$A:$F,4,FALSE),\"\")","v":""}]
[395,395,null,{"$f":"IF($C402>0,VLOOKUP($C402,[1]Μητρώο!$A:$F,3,FALSE),\"\")","v":""},{"$f":"IF($C402>0,VLOOKUP($C402,[1]Μητρώο!$A:$F,5,FALSE),\"\")","v":""},{"$f":"IF(COUNTIF([1]Rankings!$B:$B,RIGHT($I402,2)&\"-\"&$C402)>0,IF($C402>0,VLOOKUP(RIGHT($I402,2)&\"-\"&$C402,[1]Rankings!$B:$H,7,FALSE),\"\"),0)","v":0},{"$f":"IF($C402>0,VLOOKUP($C402,[1]Μητρώο!$A:$F,4,FALSE),\"\")","v":""}]
[396,396,null,{"$f":"IF($C403>0,VLOOKUP($C403,[1]Μητρώο!$A:$F,3,FALSE),\"\")","v":""},{"$f":"IF($C403>0,VLOOKUP($C403,[1]Μητρώο!$A:$F,5,FALSE),\"\")","v":""},{"$f":"IF(COUNTIF([1]Rankings!$B:$B,RIGHT($I403,2)&\"-\"&$C403)>0,IF($C403>0,VLOOKUP(RIGHT($I403,2)&\"-\"&$C403,[1]Rankings!$B:$H,7,FALSE),\"\"),0)","v":0},{"$f":"IF($C403>0,VLOOKUP($C403,[1]Μητρώο!$A:$F,4,FALSE),\"\")","v":""}]
[397,397,null,{"$f":"IF($C404>0,VLOOKUP($C404,[1]Μητρώο!$A:$F,3,FALSE),\"\")","v":""},{"$f":"IF($C404>0,VLOOKUP($C404,[1]Μητρώο!$A:$F,5,FALSE),\"\")","v":""},{"$f":"IF(COUNTIF([1]Rankings!$B:$B,RIGHT($I404,2)&\"-\"&$C404)>0,IF($C404>0,VLOOKUP(RIGHT($I404,2)&\"-\"&$C404,[1]Rankings!$B:$H,7,FALSE),\"\"),0)","v":0},{"$f":"IF($C404>0,VLOOKUP($C404,[1]Μητρώο!$A:$F,4,FALSE),\"\")","v":""}]
[398,398,null,{"$f":"IF($C405>0,VLOOKUP($C405,[1]Μητρώο!$A:$F,3,FALSE),\"\")","v":""},{"$f":"IF($C405>0,VLOOKUP($C405,[1]Μητρώο!$A:$F,5,FALSE),\"\")","v":""},{"$f":"IF(COUNTIF([1]Rankings!$B:$B,RIGHT($I405,2)&\"-\"&$C405)>0,IF($C405>0,VLOOKUP(RIGHT($I405,2)&\"-\"&$C405,[1]Rankings!$B:$H,7,FALSE),\"\"),0)","v":0},{"$f":"IF($C405>0,VLOOKUP($C405,[1]Μητρώο!$A:$F,4,FALSE),\"\")","v":""}]
[399,399,null,{"$f":"IF($C406>0,VLOOKUP($C406,[1]Μητρώο!$A:$F,3,FALSE),\"\")","v":""},{"$f":"IF($C406>0,VLOOKUP($C406,[1]Μητρώο!$A:$F,5,FALSE),\"\")","v":""},{"$f":"IF(COUNTIF([1]Rankings!$B:$B,RIGHT($I406,2)&\"-\"&$C406)>0,IF($C406>0,VLOOKUP(RIGHT($I406,2)&\"-\"&$C406,[1]Rankings!$B:$H,7,FALSE),\"\"),0)","v":0},{"$f":"IF($C406>0,VLOOKUP($C406,[1]Μητρώο!$A:$F,4,FALSE),\"\")","v":""}]
[400,400,null,{"$f":"IF($C407>0,VLOOKUP($C407,[1]Μητρώο!$A:$F,3,FALSE),\"\")","v":""},{"$f":"IF($C407>0,VLOOKUP($C407,[1]Μητρώο!$A:$F,5,FALSE),\"\")","v":""},{"$f":"IF(COUNTIF([1]Rankings!$B:$B,RIGHT($I407,2)&\"-\"&$C407)>0,IF($C407>0,VLOOKUP(RIGHT($I407,2)&\"-\"&$C407,[1]Rankings!$B:$H,7,FALSE),\"\"),0)","v":0},{"$f":"IF($C407>0,VLOOKUP($C407,[1]Μητρώο!$A:$F,4,FALSE),\"\")","v":""}]
[401,401,null,{"$f":"IF($C408>0,VLOOKUP($C408,[1]Μητρώο!$A:$F,3,FALSE),\"\")","v":""},{"$f":"IF($C408>0,VLOOKUP($C408,[1]Μητρώο!$A:$F,5,FALSE),\"\")","v":""},{"$f":"IF(COUNTIF([1]Rankings!$B:$B,RIGHT($I408,2)&\"-\"&$C408)>0,IF($C408>0,VLOOKUP(RIGHT($I408,2)&\"-\"&$C408,[1]Rankings!$B:$H,7,FALSE),\"\"),0)","v":0},{"$f":"IF($C408>0,VLOOKUP($C408,[1]Μητρώο!$A:$F,4,FALSE),\"\")","v":""}]
[402,402,null,{"$f":"IF($C409>0,VLOOKUP($C409,[1]Μητρώο!$A:$F,3,FALSE),\"\")","v":""},{"$f":"IF($C409>0,VLOOKUP($C409,[1]Μητρώο!$A:$F,5,FALSE),\"\")","v":""},{"$f":"IF(COUNTIF([1]Rankings!$B:$B,RIGHT($I409,2)&\"-\"&$C409)>0,IF($C409>0,VLOOKUP(RIGHT($I409,2)&\"-\"&$C409,[1]Rankings!$B:$H,7,FALSE),\"\"),0)","v":0},{"$f":"IF($C409>0,VLOOKUP($C409,[1]Μητρώο!$A:$F,4,FALSE),\"\")","v":""}]
[403,403,null,{"$f":"IF($C410>0,VLOOKUP($C410,[1]Μητρώο!$A:$F,3,FALSE),\"\")","v":""},{"$f":"IF($C410>0,VLOOKUP($C410,[1]Μητρώο!$A:$F,5,FALSE),\"\")","v":""},{"$f":"IF(COUNTIF([1]Rankings!$B:$B,RIGHT($I410,2)&\"-\"&$C410)>0,IF($C410>0,VLOOKUP(RIGHT($I410,2)&\"-\"&$C410,[1]Rankings!$B:$H,7,FALSE),\"\"),0)","v":0},{"$f":"IF($C410>0,VLOOKUP($C410,[1]Μητρώο!$A:$F,4,FALSE),\"\")","v":""}]
[404,404,null,{"$f":"IF($C411>0,VLOOKUP($C411,[1]Μητρώο!$A:$F,3,FALSE),\"\")","v":""},{"$f":"IF($C411>0,VLOOKUP($C411,[1]Μητρώο!$A:$F,5,FALSE),\"\")","v":""},{"$f":"IF(COUNTIF([1]Rankings!$B:$B,RIGHT($I411,2)&\"-\"&$C411)>0,IF($C411>0,VLOOKUP(RIGHT($I411,2)&\"-\"&$C411,[1]Rankings!$B:$H,7,FALSE),\"\"),0)","v":0},{"$f":"IF($C411>0,VLOOKUP($C411,[1]Μητρώο!$A:$F,4,FALSE),\"\")","v":""}]
[405,405,null,{"$f":"IF($C412>0,VLOOKUP($C412,[1]Μητρώο!$A:$F,3,FALSE),\"\")","v":""},{"$f":"IF($C412>0,VLOOKUP($C412,[1]Μητρώο!$A:$F,5,FALSE),\"\")","v":""},{"$f":"IF(COUNTIF([1]Rankings!$B:$B,RIGHT($I412,2)&\"-\"&$C412)>0,IF($C412>0,VLOOKUP(RIGHT($I412,2)&\"-\"&$C412,[1]Rankings!$B:$H,7,FALSE),\"\"),0)","v":0},{"$f":"IF($C412>0,VLOOKUP($C412,[1]Μητρώο!$A:$F,4,FALSE),\"\")","v":""}]
[406,406,null,{"$f":"IF($C413>0,VLOOKUP($C413,[1]Μητρώο!$A:$F,3,FALSE),\"\")","v":""},{"$f":"IF($C413>0,VLOOKUP($C413,[1]Μητρώο!$A:$F,5,FALSE),\"\")","v":""},{"$f":"IF(COUNTIF([1]Rankings!$B:$B,RIGHT($I413,2)&\"-\"&$C413)>0,IF($C413>0,VLOOKUP(RIGHT($I413,2)&\"-\"&$C413,[1]Rankings!$B:$H,7,FALSE),\"\"),0)","v":0},{"$f":"IF($C413>0,VLOOKUP($C413,[1]Μητρώο!$A:$F,4,FALSE),\"\")","v":""}]
[407,407,null,{"$f":"IF($C414>0,VLOOKUP($C414,[1]Μητρώο!$A:$F,3,FALSE),\"\")","v":""},{"$f":"IF($C414>0,VLOOKUP($C414,[1]Μητρώο!$A:$F,5,FALSE),\"\")","v":""},{"$f":"IF(COUNTIF([1]Rankings!$B:$B,RIGHT($I414,2)&\"-\"&$C414)>0,IF($C414>0,VLOOKUP(RIGHT($I414,2)&\"-\"&$C414,[1]Rankings!$B:$H,7,FALSE),\"\"),0)","v":0},{"$f":"IF($C414>0,VLOOKUP($C414,[1]Μητρώο!$A:$F,4,FALSE),\"\")","v":""}]
[408,408,null,{"$f":"IF($C415>0,VLOOKUP($C415,[1]Μητρώο!$A:$F,3,FALSE),\"\")","v":""},{"$f":"IF($C415>0,VLOOKUP($C415,[1]Μητρώο!$A:$F,5,FALSE),\"\")","v":""},{"$f":"IF(COUNTIF([1]Rankings!$B:$B,RIGHT($I415,2)&\"-\"&$C415)>0,IF($C415>0,VLOOKUP(RIGHT($I415,2)&\"-\"&$C415,[1]Rankings!$B:$H,7,FALSE),\"\"),0)","v":0},{"$f":"IF($C415>0,VLOOKUP($C415,[1]Μητρώο!$A:$F,4,FALSE),\"\")","v":""}]
[409,409,null,{"$f":"IF($C416>0,VLOOKUP($C416,[1]Μητρώο!$A:$F,3,FALSE),\"\")","v":""},{"$f":"IF($C416>0,VLOOKUP($C416,[1]Μητρώο!$A:$F,5,FALSE),\"\")","v":""},{"$f":"IF(COUNTIF([1]Rankings!$B:$B,RIGHT($I416,2)&\"-\"&$C416)>0,IF($C416>0,VLOOKUP(RIGHT($I416,2)&\"-\"&$C416,[1]Rankings!$B:$H,7,FALSE),\"\"),0)","v":0},{"$f":"IF($C416>0,VLOOKUP($C416,[1]Μητρώο!$A:$F,4,FALSE),\"\")","v":""}]
[410,410,null,{"$f":"IF($C417>0,VLOOKUP($C417,[1]Μητρώο!$A:$F,3,FALSE),\"\")","v":""},{"$f":"IF($C417>0,VLOOKUP($C417,[1]Μητρώο!$A:$F,5,FALSE),\"\")","v":""},{"$f":"IF(COUNTIF([1]Rankings!$B:$B,RIGHT($I417,2)&\"-\"&$C417)>0,IF($C417>0,VLOOKUP(RIGHT($I417,2)&\"-\"&$C417,[1]Rankings!$B:$H,7,FALSE),\"\"),0)","v":0},{"$f":"IF($C417>0,VLOOKUP($C417,[1]Μητρώο!$A:$F,4,FALSE),\"\")","v":""}]
[411,411,null,{"$f":"IF($C418>0,VLOOKUP($C418,[1]Μητρώο!$A:$F,3,FALSE),\"\")","v":""},{"$f":"IF($C418>0,VLOOKUP($C418,[1]Μητρώο!$A:$F,5,FALSE),\"\")","v":""},{"$f":"IF(COUNTIF([1]Rankings!$B:$B,RIGHT($I418,2)&\"-\"&$C418)>0,IF($C418>0,VLOOKUP(RIGHT($I418,2)&\"-\"&$C418,[1]Rankings!$B:$H,7,FALSE),\"\"),0)","v":0},{"$f":"IF($C418>0,VLOOKUP($C418,[1]Μητρώο!$A:$F,4,FALSE),\"\")","v":""}]
[412,412,null,{"$f":"IF($C419>0,VLOOKUP($C419,[1]Μητρώο!$A:$F,3,FALSE),\"\")","v":""},{"$f":"IF($C419>0,VLOOKUP($C419,[1]Μητρώο!$A:$F,5,FALSE),\"\")","v":""},{"$f":"IF(COUNTIF([1]Rankings!$B:$B,RIGHT($I419,2)&\"-\"&$C419)>0,IF($C419>0,VLOOKUP(RIGHT($I419,2)&\"-\"&$C419,[1]Rankings!$B:$H,7,FALSE),\"\"),0)","v":0},{"$f":"IF($C419>0,VLOOKUP($C419,[1]Μητρώο!$A:$F,4,FALSE),\"\")","v":""}]
[413,413,null,{"$f":"IF($C420>0,VLOOKUP($C420,[1]Μητρώο!$A:$F,3,FALSE),\"\")","v":""},{"$f":"IF($C420>0,VLOOKUP($C420,[1]Μητρώο!$A:$F,5,FALSE),\"\")","v":""},{"$f":"IF(COUNTIF([1]Rankings!$B:$B,RIGHT($I420,2)&\"-\"&$C420)>0,IF($C420>0,VLOOKUP(RIGHT($I420,2)&\"-\"&$C420,[1]Rankings!$B:$H,7,FALSE),\"\"),0)","v":0},{"$f":"IF($C420>0,VLOOKUP($C420,[1]Μητρώο!$A:$F,4,FALSE),\"\")","v":""}]
[414,414,null,{"$f":"IF($C421>0,VLOOKUP($C421,[1]Μητρώο!$A:$F,3,FALSE),\"\")","v":""},{"$f":"IF($C421>0,VLOOKUP($C421,[1]Μητρώο!$A:$F,5,FALSE),\"\")","v":""},{"$f":"IF(COUNTIF([1]Rankings!$B:$B,RIGHT($I421,2)&\"-\"&$C421)>0,IF($C421>0,VLOOKUP(RIGHT($I421,2)&\"-\"&$C421,[1]Rankings!$B:$H,7,FALSE),\"\"),0)","v":0},{"$f":"IF($C421>0,VLOOKUP($C421,[1]Μητρώο!$A:$F,4,FALSE),\"\")","v":""}]
[415,415,null,{"$f":"IF($C422>0,VLOOKUP($C422,[1]Μητρώο!$A:$F,3,FALSE),\"\")","v":""},{"$f":"IF($C422>0,VLOOKUP($C422,[1]Μητρώο!$A:$F,5,FALSE),\"\")","v":""},{"$f":"IF(COUNTIF([1]Rankings!$B:$B,RIGHT($I422,2)&\"-\"&$C422)>0,IF($C422>0,VLOOKUP(RIGHT($I422,2)&\"-\"&$C422,[1]Rankings!$B:$H,7,FALSE),\"\"),0)","v":0},{"$f":"IF($C422>0,VLOOKUP($C422,[1]Μητρώο!$A:$F,4,FALSE),\"\")","v":""}]
[416,416,null,{"$f":"IF($C423>0,VLOOKUP($C423,[1]Μητρώο!$A:$F,3,FALSE),\"\")","v":""},{"$f":"IF($C423>0,VLOOKUP($C423,[1]Μητρώο!$A:$F,5,FALSE),\"\")","v":""},{"$f":"IF(COUNTIF([1]Rankings!$B:$B,RIGHT($I423,2)&\"-\"&$C423)>0,IF($C423>0,VLOOKUP(RIGHT($I423,2)&\"-\"&$C423,[1]Rankings!$B:$H,7,FALSE),\"\"),0)","v":0},{"$f":"IF($C423>0,VLOOKUP($C423,[1]Μητρώο!$A:$F,4,FALSE),\"\")","v":""}]
[417,417,null,{"$f":"IF($C424>0,VLOOKUP($C424,[1]Μητρώο!$A:$F,3,FALSE),\"\")","v":""},{"$f":"IF($C424>0,VLOOKUP($C424,[1]Μητρώο!$A:$F,5,FALSE),\"\")","v":""},{"$f":"IF(COUNTIF([1]Rankings!$B:$B,RIGHT($I424,2)&\"-\"&$C424)>0,IF($C424>0,VLOOKUP(RIGHT($I424,2)&\"-\"&$C424,[1]Rankings!$B:$H,7,FALSE),\"\"),0)","v":0},{"$f":"IF($C424>0,VLOOKUP($C424,[1]Μητρώο!$A:$F,4,FALSE),\"\")","v":""}]
[418,418,null,{"$f":"IF($C425>0,VLOOKUP($C425,[1]Μητρώο!$A:$F,3,FALSE),\"\")","v":""},{"$f":"IF($C425>0,VLOOKUP($C425,[1]Μητρώο!$A:$F,5,FALSE),\"\")","v":""},{"$f":"IF(COUNTIF([1]Rankings!$B:$B,RIGHT($I425,2)&\"-\"&$C425)>0,IF($C425>0,VLOOKUP(RIGHT($I425,2)&\"-\"&$C425,[1]Rankings!$B:$H,7,FALSE),\"\"),0)","v":0},{"$f":"IF($C425>0,VLOOKUP($C425,[1]Μητρώο!$A:$F,4,FALSE),\"\")","v":""}]
[419,419,null,{"$f":"IF($C426>0,VLOOKUP($C426,[1]Μητρώο!$A:$F,3,FALSE),\"\")","v":""},{"$f":"IF($C426>0,VLOOKUP($C426,[1]Μητρώο!$A:$F,5,FALSE),\"\")","v":""},{"$f":"IF(COUNTIF([1]Rankings!$B:$B,RIGHT($I426,2)&\"-\"&$C426)>0,IF($C426>0,VLOOKUP(RIGHT($I426,2)&\"-\"&$C426,[1]Rankings!$B:$H,7,FALSE),\"\"),0)","v":0},{"$f":"IF($C426>0,VLOOKUP($C426,[1]Μητρώο!$A:$F,4,FALSE),\"\")","v":""}]
[420,420,null,{"$f":"IF($C427>0,VLOOKUP($C427,[1]Μητρώο!$A:$F,3,FALSE),\"\")","v":""},{"$f":"IF($C427>0,VLOOKUP($C427,[1]Μητρώο!$A:$F,5,FALSE),\"\")","v":""},{"$f":"IF(COUNTIF([1]Rankings!$B:$B,RIGHT($I427,2)&\"-\"&$C427)>0,IF($C427>0,VLOOKUP(RIGHT($I427,2)&\"-\"&$C427,[1]Rankings!$B:$H,7,FALSE),\"\"),0)","v":0},{"$f":"IF($C427>0,VLOOKUP($C427,[1]Μητρώο!$A:$F,4,FALSE),\"\")","v":""}]
[421,421,null,{"$f":"IF($C428>0,VLOOKUP($C428,[1]Μητρώο!$A:$F,3,FALSE),\"\")","v":""},{"$f":"IF($C428>0,VLOOKUP($C428,[1]Μητρώο!$A:$F,5,FALSE),\"\")","v":""},{"$f":"IF(COUNTIF([1]Rankings!$B:$B,RIGHT($I428,2)&\"-\"&$C428)>0,IF($C428>0,VLOOKUP(RIGHT($I428,2)&\"-\"&$C428,[1]Rankings!$B:$H,7,FALSE),\"\"),0)","v":0},{"$f":"IF($C428>0,VLOOKUP($C428,[1]Μητρώο!$A:$F,4,FALSE),\"\")","v":""}]
[422,422,null,{"$f":"IF($C429>0,VLOOKUP($C429,[1]Μητρώο!$A:$F,3,FALSE),\"\")","v":""},{"$f":"IF($C429>0,VLOOKUP($C429,[1]Μητρώο!$A:$F,5,FALSE),\"\")","v":""},{"$f":"IF(COUNTIF([1]Rankings!$B:$B,RIGHT($I429,2)&\"-\"&$C429)>0,IF($C429>0,VLOOKUP(RIGHT($I429,2)&\"-\"&$C429,[1]Rankings!$B:$H,7,FALSE),\"\"),0)","v":0},{"$f":"IF($C429>0,VLOOKUP($C429,[1]Μητρώο!$A:$F,4,FALSE),\"\")","v":""}]
[423,423,null,{"$f":"IF($C430>0,VLOOKUP($C430,[1]Μητρώο!$A:$F,3,FALSE),\"\")","v":""},{"$f":"IF($C430>0,VLOOKUP($C430,[1]Μητρώο!$A:$F,5,FALSE),\"\")","v":""},{"$f":"IF(COUNTIF([1]Rankings!$B:$B,RIGHT($I430,2)&\"-\"&$C430)>0,IF($C430>0,VLOOKUP(RIGHT($I430,2)&\"-\"&$C430,[1]Rankings!$B:$H,7,FALSE),\"\"),0)","v":0},{"$f":"IF($C430>0,VLOOKUP($C430,[1]Μητρώο!$A:$F,4,FALSE),\"\")","v":""}]
[424,424,null,{"$f":"IF($C431>0,VLOOKUP($C431,[1]Μητρώο!$A:$F,3,FALSE),\"\")","v":""},{"$f":"IF($C431>0,VLOOKUP($C431,[1]Μητρώο!$A:$F,5,FALSE),\"\")","v":""},{"$f":"IF(COUNTIF([1]Rankings!$B:$B,RIGHT($I431,2)&\"-\"&$C431)>0,IF($C431>0,VLOOKUP(RIGHT($I431,2)&\"-\"&$C431,[1]Rankings!$B:$H,7,FALSE),\"\"),0)","v":0},{"$f":"IF($C431>0,VLOOKUP($C431,[1]Μητρώο!$A:$F,4,FALSE),\"\")","v":""}]
[425,425,null,{"$f":"IF($C432>0,VLOOKUP($C432,[1]Μητρώο!$A:$F,3,FALSE),\"\")","v":""},{"$f":"IF($C432>0,VLOOKUP($C432,[1]Μητρώο!$A:$F,5,FALSE),\"\")","v":""},{"$f":"IF(COUNTIF([1]Rankings!$B:$B,RIGHT($I432,2)&\"-\"&$C432)>0,IF($C432>0,VLOOKUP(RIGHT($I432,2)&\"-\"&$C432,[1]Rankings!$B:$H,7,FALSE),\"\"),0)","v":0},{"$f":"IF($C432>0,VLOOKUP($C432,[1]Μητρώο!$A:$F,4,FALSE),\"\")","v":""}]
[426,426,null,{"$f":"IF($C433>0,VLOOKUP($C433,[1]Μητρώο!$A:$F,3,FALSE),\"\")","v":""},{"$f":"IF($C433>0,VLOOKUP($C433,[1]Μητρώο!$A:$F,5,FALSE),\"\")","v":""},{"$f":"IF(COUNTIF([1]Rankings!$B:$B,RIGHT($I433,2)&\"-\"&$C433)>0,IF($C433>0,VLOOKUP(RIGHT($I433,2)&\"-\"&$C433,[1]Rankings!$B:$H,7,FALSE),\"\"),0)","v":0},{"$f":"IF($C433>0,VLOOKUP($C433,[1]Μητρώο!$A:$F,4,FALSE),\"\")","v":""}]
[427,427,null,{"$f":"IF($C434>0,VLOOKUP($C434,[1]Μητρώο!$A:$F,3,FALSE),\"\")","v":""},{"$f":"IF($C434>0,VLOOKUP($C434,[1]Μητρώο!$A:$F,5,FALSE),\"\")","v":""},{"$f":"IF(COUNTIF([1]Rankings!$B:$B,RIGHT($I434,2)&\"-\"&$C434)>0,IF($C434>0,VLOOKUP(RIGHT($I434,2)&\"-\"&$C434,[1]Rankings!$B:$H,7,FALSE),\"\"),0)","v":0},{"$f":"IF($C434>0,VLOOKUP($C434,[1]Μητρώο!$A:$F,4,FALSE),\"\")","v":""}]
[428,428,null,{"$f":"IF($C435>0,VLOOKUP($C435,[1]Μητρώο!$A:$F,3,FALSE),\"\")","v":""},{"$f":"IF($C435>0,VLOOKUP($C435,[1]Μητρώο!$A:$F,5,FALSE),\"\")","v":""},{"$f":"IF(COUNTIF([1]Rankings!$B:$B,RIGHT($I435,2)&\"-\"&$C435)>0,IF($C435>0,VLOOKUP(RIGHT($I435,2)&\"-\"&$C435,[1]Rankings!$B:$H,7,FALSE),\"\"),0)","v":0},{"$f":"IF($C435>0,VLOOKUP($C435,[1]Μητρώο!$A:$F,4,FALSE),\"\")","v":""}]
[429,429,null,{"$f":"IF($C436>0,VLOOKUP($C436,[1]Μητρώο!$A:$F,3,FALSE),\"\")","v":""},{"$f":"IF($C436>0,VLOOKUP($C436,[1]Μητρώο!$A:$F,5,FALSE),\"\")","v":""},{"$f":"IF(COUNTIF([1]Rankings!$B:$B,RIGHT($I436,2)&\"-\"&$C436)>0,IF($C436>0,VLOOKUP(RIGHT($I436,2)&\"-\"&$C436,[1]Rankings!$B:$H,7,FALSE),\"\"),0)","v":0},{"$f":"IF($C436>0,VLOOKUP($C436,[1]Μητρώο!$A:$F,4,FALSE),\"\")","v":""}]
[430,430,null,{"$f":"IF($C437>0,VLOOKUP($C437,[1]Μητρώο!$A:$F,3,FALSE),\"\")","v":""},{"$f":"IF($C437>0,VLOOKUP($C437,[1]Μητρώο!$A:$F,5,FALSE),\"\")","v":""},{"$f":"IF(COUNTIF([1]Rankings!$B:$B,RIGHT($I437,2)&\"-\"&$C437)>0,IF($C437>0,VLOOKUP(RIGHT($I437,2)&\"-\"&$C437,[1]Rankings!$B:$H,7,FALSE),\"\"),0)","v":0},{"$f":"IF($C437>0,VLOOKUP($C437,[1]Μητρώο!$A:$F,4,FALSE),\"\")","v":""}]
[431,431,null,{"$f":"IF($C438>0,VLOOKUP($C438,[1]Μητρώο!$A:$F,3,FALSE),\"\")","v":""},{"$f":"IF($C438>0,VLOOKUP($C438,[1]Μητρώο!$A:$F,5,FALSE),\"\")","v":""},{"$f":"IF(COUNTIF([1]Rankings!$B:$B,RIGHT($I438,2)&\"-\"&$C438)>0,IF($C438>0,VLOOKUP(RIGHT($I438,2)&\"-\"&$C438,[1]Rankings!$B:$H,7,FALSE),\"\"),0)","v":0},{"$f":"IF($C438>0,VLOOKUP($C438,[1]Μητρώο!$A:$F,4,FALSE),\"\")","v":""}]
[432,432,null,{"$f":"IF($C439>0,VLOOKUP($C439,[1]Μητρώο!$A:$F,3,FALSE),\"\")","v":""},{"$f":"IF($C439>0,VLOOKUP($C439,[1]Μητρώο!$A:$F,5,FALSE),\"\")","v":""},{"$f":"IF(COUNTIF([1]Rankings!$B:$B,RIGHT($I439,2)&\"-\"&$C439)>0,IF($C439>0,VLOOKUP(RIGHT($I439,2)&\"-\"&$C439,[1]Rankings!$B:$H,7,FALSE),\"\"),0)","v":0},{"$f":"IF($C439>0,VLOOKUP($C439,[1]Μητρώο!$A:$F,4,FALSE),\"\")","v":""}]
[433,433,null,{"$f":"IF($C440>0,VLOOKUP($C440,[1]Μητρώο!$A:$F,3,FALSE),\"\")","v":""},{"$f":"IF($C440>0,VLOOKUP($C440,[1]Μητρώο!$A:$F,5,FALSE),\"\")","v":""},{"$f":"IF(COUNTIF([1]Rankings!$B:$B,RIGHT($I440,2)&\"-\"&$C440)>0,IF($C440>0,VLOOKUP(RIGHT($I440,2)&\"-\"&$C440,[1]Rankings!$B:$H,7,FALSE),\"\"),0)","v":0},{"$f":"IF($C440>0,VLOOKUP($C440,[1]Μητρώο!$A:$F,4,FALSE),\"\")","v":""}]
[434,434,null,{"$f":"IF($C441>0,VLOOKUP($C441,[1]Μητρώο!$A:$F,3,FALSE),\"\")","v":""},{"$f":"IF($C441>0,VLOOKUP($C441,[1]Μητρώο!$A:$F,5,FALSE),\"\")","v":""},{"$f":"IF(COUNTIF([1]Rankings!$B:$B,RIGHT($I441,2)&\"-\"&$C441)>0,IF($C441>0,VLOOKUP(RIGHT($I441,2)&\"-\"&$C441,[1]Rankings!$B:$H,7,FALSE),\"\"),0)","v":0},{"$f":"IF($C441>0,VLOOKUP($C441,[1]Μητρώο!$A:$F,4,FALSE),\"\")","v":""}]
[435,435,null,{"$f":"IF($C442>0,VLOOKUP($C442,[1]Μητρώο!$A:$F,3,FALSE),\"\")","v":""},{"$f":"IF($C442>0,VLOOKUP($C442,[1]Μητρώο!$A:$F,5,FALSE),\"\")","v":""},{"$f":"IF(COUNTIF([1]Rankings!$B:$B,RIGHT($I442,2)&\"-\"&$C442)>0,IF($C442>0,VLOOKUP(RIGHT($I442,2)&\"-\"&$C442,[1]Rankings!$B:$H,7,FALSE),\"\"),0)","v":0},{"$f":"IF($C442>0,VLOOKUP($C442,[1]Μητρώο!$A:$F,4,FALSE),\"\")","v":""}]
[436,436,null,{"$f":"IF($C443>0,VLOOKUP($C443,[1]Μητρώο!$A:$F,3,FALSE),\"\")","v":""},{"$f":"IF($C443>0,VLOOKUP($C443,[1]Μητρώο!$A:$F,5,FALSE),\"\")","v":""},{"$f":"IF(COUNTIF([1]Rankings!$B:$B,RIGHT($I443,2)&\"-\"&$C443)>0,IF($C443>0,VLOOKUP(RIGHT($I443,2)&\"-\"&$C443,[1]Rankings!$B:$H,7,FALSE),\"\"),0)","v":0},{"$f":"IF($C443>0,VLOOKUP($C443,[1]Μητρώο!$A:$F,4,FALSE),\"\")","v":""}]
[437,437,null,{"$f":"IF($C444>0,VLOOKUP($C444,[1]Μητρώο!$A:$F,3,FALSE),\"\")","v":""},{"$f":"IF($C444>0,VLOOKUP($C444,[1]Μητρώο!$A:$F,5,FALSE),\"\")","v":""},{"$f":"IF(COUNTIF([1]Rankings!$B:$B,RIGHT($I444,2)&\"-\"&$C444)>0,IF($C444>0,VLOOKUP(RIGHT($I444,2)&\"-\"&$C444,[1]Rankings!$B:$H,7,FALSE),\"\"),0)","v":0},{"$f":"IF($C444>0,VLOOKUP($C444,[1]Μητρώο!$A:$F,4,FALSE),\"\")","v":""}]
[438,438,null,{"$f":"IF($C445>0,VLOOKUP($C445,[1]Μητρώο!$A:$F,3,FALSE),\"\")","v":""},{"$f":"IF($C445>0,VLOOKUP($C445,[1]Μητρώο!$A:$F,5,FALSE),\"\")","v":""},{"$f":"IF(COUNTIF([1]Rankings!$B:$B,RIGHT($I445,2)&\"-\"&$C445)>0,IF($C445>0,VLOOKUP(RIGHT($I445,2)&\"-\"&$C445,[1]Rankings!$B:$H,7,FALSE),\"\"),0)","v":0},{"$f":"IF($C445>0,VLOOKUP($C445,[1]Μητρώο!$A:$F,4,FALSE),\"\")","v":""}]
[439,439,null,{"$f":"IF($C446>0,VLOOKUP($C446,[1]Μητρώο!$A:$F,3,FALSE),\"\")","v":""},{"$f":"IF($C446>0,VLOOKUP($C446,[1]Μητρώο!$A:$F,5,FALSE),\"\")","v":""},{"$f":"IF(COUNTIF([1]Rankings!$B:$B,RIGHT($I446,2)&\"-\"&$C446)>0,IF($C446>0,VLOOKUP(RIGHT($I446,2)&\"-\"&$C446,[1]Rankings!$B:$H,7,FALSE),\"\"),0)","v":0},{"$f":"IF($C446>0,VLOOKUP($C446,[1]Μητρώο!$A:$F,4,FALSE),\"\")","v":""}]
[440,440,null,{"$f":"IF($C447>0,VLOOKUP($C447,[1]Μητρώο!$A:$F,3,FALSE),\"\")","v":""},{"$f":"IF($C447>0,VLOOKUP($C447,[1]Μητρώο!$A:$F,5,FALSE),\"\")","v":""},{"$f":"IF(COUNTIF([1]Rankings!$B:$B,RIGHT($I447,2)&\"-\"&$C447)>0,IF($C447>0,VLOOKUP(RIGHT($I447,2)&\"-\"&$C447,[1]Rankings!$B:$H,7,FALSE),\"\"),0)","v":0},{"$f":"IF($C447>0,VLOOKUP($C447,[1]Μητρώο!$A:$F,4,FALSE),\"\")","v":""}]
[441,441,null,{"$f":"IF($C448>0,VLOOKUP($C448,[1]Μητρώο!$A:$F,3,FALSE),\"\")","v":""},{"$f":"IF($C448>0,VLOOKUP($C448,[1]Μητρώο!$A:$F,5,FALSE),\"\")","v":""},{"$f":"IF(COUNTIF([1]Rankings!$B:$B,RIGHT($I448,2)&\"-\"&$C448)>0,IF($C448>0,VLOOKUP(RIGHT($I448,2)&\"-\"&$C448,[1]Rankings!$B:$H,7,FALSE),\"\"),0)","v":0},{"$f":"IF($C448>0,VLOOKUP($C448,[1]Μητρώο!$A:$F,4,FALSE),\"\")","v":""}]
[442,442,null,{"$f":"IF($C449>0,VLOOKUP($C449,[1]Μητρώο!$A:$F,3,FALSE),\"\")","v":""},{"$f":"IF($C449>0,VLOOKUP($C449,[1]Μητρώο!$A:$F,5,FALSE),\"\")","v":""},{"$f":"IF(COUNTIF([1]Rankings!$B:$B,RIGHT($I449,2)&\"-\"&$C449)>0,IF($C449>0,VLOOKUP(RIGHT($I449,2)&\"-\"&$C449,[1]Rankings!$B:$H,7,FALSE),\"\"),0)","v":0},{"$f":"IF($C449>0,VLOOKUP($C449,[1]Μητρώο!$A:$F,4,FALSE),\"\")","v":""}]
[443,443,null,{"$f":"IF($C450>0,VLOOKUP($C450,[1]Μητρώο!$A:$F,3,FALSE),\"\")","v":""},{"$f":"IF($C450>0,VLOOKUP($C450,[1]Μητρώο!$A:$F,5,FALSE),\"\")","v":""},{"$f":"IF(COUNTIF([1]Rankings!$B:$B,RIGHT($I450,2)&\"-\"&$C450)>0,IF($C450>0,VLOOKUP(RIGHT($I450,2)&\"-\"&$C450,[1]Rankings!$B:$H,7,FALSE),\"\"),0)","v":0},{"$f":"IF($C450>0,VLOOKUP($C450,[1]Μητρώο!$A:$F,4,FALSE),\"\")","v":""}]
[444,444,null,{"$f":"IF($C451>0,VLOOKUP($C451,[1]Μητρώο!$A:$F,3,FALSE),\"\")","v":""},{"$f":"IF($C451>0,VLOOKUP($C451,[1]Μητρώο!$A:$F,5,FALSE),\"\")","v":""},{"$f":"IF(COUNTIF([1]Rankings!$B:$B,RIGHT($I451,2)&\"-\"&$C451)>0,IF($C451>0,VLOOKUP(RIGHT($I451,2)&\"-\"&$C451,[1]Rankings!$B:$H,7,FALSE),\"\"),0)","v":0},{"$f":"IF($C451>0,VLOOKUP($C451,[1]Μητρώο!$A:$F,4,FALSE),\"\")","v":""}]
[445,445,null,{"$f":"IF($C452>0,VLOOKUP($C452,[1]Μητρώο!$A:$F,3,FALSE),\"\")","v":""},{"$f":"IF($C452>0,VLOOKUP($C452,[1]Μητρώο!$A:$F,5,FALSE),\"\")","v":""},{"$f":"IF(COUNTIF([1]Rankings!$B:$B,RIGHT($I452,2)&\"-\"&$C452)>0,IF($C452>0,VLOOKUP(RIGHT($I452,2)&\"-\"&$C452,[1]Rankings!$B:$H,7,FALSE),\"\"),0)","v":0},{"$f":"IF($C452>0,VLOOKUP($C452,[1]Μητρώο!$A:$F,4,FALSE),\"\")","v":""}]
[446,446,null,{"$f":"IF($C453>0,VLOOKUP($C453,[1]Μητρώο!$A:$F,3,FALSE),\"\")","v":""},{"$f":"IF($C453>0,VLOOKUP($C453,[1]Μητρώο!$A:$F,5,FALSE),\"\")","v":""},{"$f":"IF(COUNTIF([1]Rankings!$B:$B,RIGHT($I453,2)&\"-\"&$C453)>0,IF($C453>0,VLOOKUP(RIGHT($I453,2)&\"-\"&$C453,[1]Rankings!$B:$H,7,FALSE),\"\"),0)","v":0},{"$f":"IF($C453>0,VLOOKUP($C453,[1]Μητρώο!$A:$F,4,FALSE),\"\")","v":""}]
[447,447,null,{"$f":"IF($C454>0,VLOOKUP($C454,[1]Μητρώο!$A:$F,3,FALSE),\"\")","v":""},{"$f":"IF($C454>0,VLOOKUP($C454,[1]Μητρώο!$A:$F,5,FALSE),\"\")","v":""},{"$f":"IF(COUNTIF([1]Rankings!$B:$B,RIGHT($I454,2)&\"-\"&$C454)>0,IF($C454>0,VLOOKUP(RIGHT($I454,2)&\"-\"&$C454,[1]Rankings!$B:$H,7,FALSE),\"\"),0)","v":0},{"$f":"IF($C454>0,VLOOKUP($C454,[1]Μητρώο!$A:$F,4,FALSE),\"\")","v":""}]
[448,448,null,{"$f":"IF($C455>0,VLOOKUP($C455,[1]Μητρώο!$A:$F,3,FALSE),\"\")","v":""},{"$f":"IF($C455>0,VLOOKUP($C455,[1]Μητρώο!$A:$F,5,FALSE),\"\")","v":""},{"$f":"IF(COUNTIF([1]Rankings!$B:$B,RIGHT($I455,2)&\"-\"&$C455)>0,IF($C455>0,VLOOKUP(RIGHT($I455,2)&\"-\"&$C455,[1]Rankings!$B:$H,7,FALSE),\"\"),0)","v":0},{"$f":"IF($C455>0,VLOOKUP($C455,[1]Μητρώο!$A:$F,4,FALSE),\"\")","v":""}]
[449,{"$f":"IF(H456&I456=H455&I455,B455+1,1)","v":449},null,{"$f":"IF($C456>0,VLOOKUP($C456,[1]Μητρώο!$A:$F,3,FALSE),\"\")","v":""},{"$f":"IF($C456>0,VLOOKUP($C456,[1]Μητρώο!$A:$F,5,FALSE),\"\")","v":""},{"$f":"IF(COUNTIF([1]Rankings!$B:$B,RIGHT($I456,2)&\"-\"&$C456)>0,IF($C456>0,VLOOKUP(RIGHT($I456,2)&\"-\"&$C456,[1]Rankings!$B:$H,7,FALSE),\"\"),0)","v":0},{"$f":"IF($C456>0,VLOOKUP($C456,[1]Μητρώο!$A:$F,4,FALSE),\"\")","v":""}]
[450,450,null,{"$f":"IF($C457>0,VLOOKUP($C457,[1]Μητρώο!$A:$F,3,FALSE),\"\")","v":""},{"$f":"IF($C457>0,VLOOKUP($C457,[1]Μητρώο!$A:$F,5,FALSE),\"\")","v":""},{"$f":"IF(COUNTIF([1]Rankings!$B:$B,RIGHT($I457,2)&\"-\"&$C457)>0,IF($C457>0,VLOOKUP(RIGHT($I457,2)&\"-\"&$C457,[1]Rankings!$B:$H,7,FALSE),\"\"),0)","v":0},{"$f":"IF($C457>0,VLOOKUP($C457,[1]Μητρώο!$A:$F,4,FALSE),\"\")","v":""}]
[451,451,null,{"$f":"IF($C458>0,VLOOKUP($C458,[1]Μητρώο!$A:$F,3,FALSE),\"\")","v":""},{"$f":"IF($C458>0,VLOOKUP($C458,[1]Μητρώο!$A:$F,5,FALSE),\"\")","v":""},{"$f":"IF(COUNTIF([1]Rankings!$B:$B,RIGHT($I458,2)&\"-\"&$C458)>0,IF($C458>0,VLOOKUP(RIGHT($I458,2)&\"-\"&$C458,[1]Rankings!$B:$H,7,FALSE),\"\"),0)","v":0},{"$f":"IF($C458>0,VLOOKUP($C458,[1]Μητρώο!$A:$F,4,FALSE),\"\")","v":""}]
[452,452,null,{"$f":"IF($C459>0,VLOOKUP($C459,[1]Μητρώο!$A:$F,3,FALSE),\"\")","v":""},{"$f":"IF($C459>0,VLOOKUP($C459,[1]Μητρώο!$A:$F,5,FALSE),\"\")","v":""},{"$f":"IF(COUNTIF([1]Rankings!$B:$B,RIGHT($I459,2)&\"-\"&$C459)>0,IF($C459>0,VLOOKUP(RIGHT($I459,2)&\"-\"&$C459,[1]Rankings!$B:$H,7,FALSE),\"\"),0)","v":0},{"$f":"IF($C459>0,VLOOKUP($C459,[1]Μητρώο!$A:$F,4,FALSE),\"\")","v":""}]
[453,453,null,{"$f":"IF($C460>0,VLOOKUP($C460,[1]Μητρώο!$A:$F,3,FALSE),\"\")","v":""},{"$f":"IF($C460>0,VLOOKUP($C460,[1]Μητρώο!$A:$F,5,FALSE),\"\")","v":""},{"$f":"IF(COUNTIF([1]Rankings!$B:$B,RIGHT($I460,2)&\"-\"&$C460)>0,IF($C460>0,VLOOKUP(RIGHT($I460,2)&\"-\"&$C460,[1]Rankings!$B:$H,7,FALSE),\"\"),0)","v":0},{"$f":"IF($C460>0,VLOOKUP($C460,[1]Μητρώο!$A:$F,4,FALSE),\"\")","v":""}]
[454,454,null,{"$f":"IF($C461>0,VLOOKUP($C461,[1]Μητρώο!$A:$F,3,FALSE),\"\")","v":""},{"$f":"IF($C461>0,VLOOKUP($C461,[1]Μητρώο!$A:$F,5,FALSE),\"\")","v":""},{"$f":"IF(COUNTIF([1]Rankings!$B:$B,RIGHT($I461,2)&\"-\"&$C461)>0,IF($C461>0,VLOOKUP(RIGHT($I461,2)&\"-\"&$C461,[1]Rankings!$B:$H,7,FALSE),\"\"),0)","v":0},{"$f":"IF($C461>0,VLOOKUP($C461,[1]Μητρώο!$A:$F,4,FALSE),\"\")","v":""}]
[455,455,null,{"$f":"IF($C462>0,VLOOKUP($C462,[1]Μητρώο!$A:$F,3,FALSE),\"\")","v":""},{"$f":"IF($C462>0,VLOOKUP($C462,[1]Μητρώο!$A:$F,5,FALSE),\"\")","v":""},{"$f":"IF(COUNTIF([1]Rankings!$B:$B,RIGHT($I462,2)&\"-\"&$C462)>0,IF($C462>0,VLOOKUP(RIGHT($I462,2)&\"-\"&$C462,[1]Rankings!$B:$H,7,FALSE),\"\"),0)","v":0},{"$f":"IF($C462>0,VLOOKUP($C462,[1]Μητρώο!$A:$F,4,FALSE),\"\")","v":""}]
[456,456,null,{"$f":"IF($C463>0,VLOOKUP($C463,[1]Μητρώο!$A:$F,3,FALSE),\"\")","v":""},{"$f":"IF($C463>0,VLOOKUP($C463,[1]Μητρώο!$A:$F,5,FALSE),\"\")","v":""},{"$f":"IF(COUNTIF([1]Rankings!$B:$B,RIGHT($I463,2)&\"-\"&$C463)>0,IF($C463>0,VLOOKUP(RIGHT($I463,2)&\"-\"&$C463,[1]Rankings!$B:$H,7,FALSE),\"\"),0)","v":0},{"$f":"IF($C463>0,VLOOKUP($C463,[1]Μητρώο!$A:$F,4,FALSE),\"\")","v":""}]
[457,457,null,{"$f":"IF($C464>0,VLOOKUP($C464,[1]Μητρώο!$A:$F,3,FALSE),\"\")","v":""},{"$f":"IF($C464>0,VLOOKUP($C464,[1]Μητρώο!$A:$F,5,FALSE),\"\")","v":""},{"$f":"IF(COUNTIF([1]Rankings!$B:$B,RIGHT($I464,2)&\"-\"&$C464)>0,IF($C464>0,VLOOKUP(RIGHT($I464,2)&\"-\"&$C464,[1]Rankings!$B:$H,7,FALSE),\"\"),0)","v":0},{"$f":"IF($C464>0,VLOOKUP($C464,[1]Μητρώο!$A:$F,4,FALSE),\"\")","v":""}]
[458,458,null,{"$f":"IF($C465>0,VLOOKUP($C465,[1]Μητρώο!$A:$F,3,FALSE),\"\")","v":""},{"$f":"IF($C465>0,VLOOKUP($C465,[1]Μητρώο!$A:$F,5,FALSE),\"\")","v":""},{"$f":"IF(COUNTIF([1]Rankings!$B:$B,RIGHT($I465,2)&\"-\"&$C465)>0,IF($C465>0,VLOOKUP(RIGHT($I465,2)&\"-\"&$C465,[1]Rankings!$B:$H,7,FALSE),\"\"),0)","v":0},{"$f":"IF($C465>0,VLOOKUP($C465,[1]Μητρώο!$A:$F,4,FALSE),\"\")","v":""}]
[459,459,null,{"$f":"IF($C466>0,VLOOKUP($C466,[1]Μητρώο!$A:$F,3,FALSE),\"\")","v":""},{"$f":"IF($C466>0,VLOOKUP($C466,[1]Μητρώο!$A:$F,5,FALSE),\"\")","v":""},{"$f":"IF(COUNTIF([1]Rankings!$B:$B,RIGHT($I466,2)&\"-\"&$C466)>0,IF($C466>0,VLOOKUP(RIGHT($I466,2)&\"-\"&$C466,[1]Rankings!$B:$H,7,FALSE),\"\"),0)","v":0},{"$f":"IF($C466>0,VLOOKUP($C466,[1]Μητρώο!$A:$F,4,FALSE),\"\")","v":""}]
[460,460,null,{"$f":"IF($C467>0,VLOOKUP($C467,[1]Μητρώο!$A:$F,3,FALSE),\"\")","v":""},{"$f":"IF($C467>0,VLOOKUP($C467,[1]Μητρώο!$A:$F,5,FALSE),\"\")","v":""},{"$f":"IF(COUNTIF([1]Rankings!$B:$B,RIGHT($I467,2)&\"-\"&$C467)>0,IF($C467>0,VLOOKUP(RIGHT($I467,2)&\"-\"&$C467,[1]Rankings!$B:$H,7,FALSE),\"\"),0)","v":0},{"$f":"IF($C467>0,VLOOKUP($C467,[1]Μητρώο!$A:$F,4,FALSE),\"\")","v":""}]
[461,461,null,{"$f":"IF($C468>0,VLOOKUP($C468,[1]Μητρώο!$A:$F,3,FALSE),\"\")","v":""},{"$f":"IF($C468>0,VLOOKUP($C468,[1]Μητρώο!$A:$F,5,FALSE),\"\")","v":""},{"$f":"IF(COUNTIF([1]Rankings!$B:$B,RIGHT($I468,2)&\"-\"&$C468)>0,IF($C468>0,VLOOKUP(RIGHT($I468,2)&\"-\"&$C468,[1]Rankings!$B:$H,7,FALSE),\"\"),0)","v":0},{"$f":"IF($C468>0,VLOOKUP($C468,[1]Μητρώο!$A:$F,4,FALSE),\"\")","v":""}]
[462,462,null,{"$f":"IF($C469>0,VLOOKUP($C469,[1]Μητρώο!$A:$F,3,FALSE),\"\")","v":""},{"$f":"IF($C469>0,VLOOKUP($C469,[1]Μητρώο!$A:$F,5,FALSE),\"\")","v":""},{"$f":"IF(COUNTIF([1]Rankings!$B:$B,RIGHT($I469,2)&\"-\"&$C469)>0,IF($C469>0,VLOOKUP(RIGHT($I469,2)&\"-\"&$C469,[1]Rankings!$B:$H,7,FALSE),\"\"),0)","v":0},{"$f":"IF($C469>0,VLOOKUP($C469,[1]Μητρώο!$A:$F,4,FALSE),\"\")","v":""}]
[463,463,null,{"$f":"IF($C470>0,VLOOKUP($C470,[1]Μητρώο!$A:$F,3,FALSE),\"\")","v":""},{"$f":"IF($C470>0,VLOOKUP($C470,[1]Μητρώο!$A:$F,5,FALSE),\"\")","v":""},{"$f":"IF(COUNTIF([1]Rankings!$B:$B,RIGHT($I470,2)&\"-\"&$C470)>0,IF($C470>0,VLOOKUP(RIGHT($I470,2)&\"-\"&$C470,[1]Rankings!$B:$H,7,FALSE),\"\"),0)","v":0},{"$f":"IF($C470>0,VLOOKUP($C470,[1]Μητρώο!$A:$F,4,FALSE),\"\")","v":""}]
[464,464,null,{"$f":"IF($C471>0,VLOOKUP($C471,[1]Μητρώο!$A:$F,3,FALSE),\"\")","v":""},{"$f":"IF($C471>0,VLOOKUP($C471,[1]Μητρώο!$A:$F,5,FALSE),\"\")","v":""},{"$f":"IF(COUNTIF([1]Rankings!$B:$B,RIGHT($I471,2)&\"-\"&$C471)>0,IF($C471>0,VLOOKUP(RIGHT($I471,2)&\"-\"&$C471,[1]Rankings!$B:$H,7,FALSE),\"\"),0)","v":0},{"$f":"IF($C471>0,VLOOKUP($C471,[1]Μητρώο!$A:$F,4,FALSE),\"\")","v":""}]
[465,465,null,{"$f":"IF($C472>0,VLOOKUP($C472,[1]Μητρώο!$A:$F,3,FALSE),\"\")","v":""},{"$f":"IF($C472>0,VLOOKUP($C472,[1]Μητρώο!$A:$F,5,FALSE),\"\")","v":""},{"$f":"IF(COUNTIF([1]Rankings!$B:$B,RIGHT($I472,2)&\"-\"&$C472)>0,IF($C472>0,VLOOKUP(RIGHT($I472,2)&\"-\"&$C472,[1]Rankings!$B:$H,7,FALSE),\"\"),0)","v":0},{"$f":"IF($C472>0,VLOOKUP($C472,[1]Μητρώο!$A:$F,4,FALSE),\"\")","v":""}]
[466,466,null,{"$f":"IF($C473>0,VLOOKUP($C473,[1]Μητρώο!$A:$F,3,FALSE),\"\")","v":""},{"$f":"IF($C473>0,VLOOKUP($C473,[1]Μητρώο!$A:$F,5,FALSE),\"\")","v":""},{"$f":"IF(COUNTIF([1]Rankings!$B:$B,RIGHT($I473,2)&\"-\"&$C473)>0,IF($C473>0,VLOOKUP(RIGHT($I473,2)&\"-\"&$C473,[1]Rankings!$B:$H,7,FALSE),\"\"),0)","v":0},{"$f":"IF($C473>0,VLOOKUP($C473,[1]Μητρώο!$A:$F,4,FALSE),\"\")","v":""}]
[467,467,null,{"$f":"IF($C474>0,VLOOKUP($C474,[1]Μητρώο!$A:$F,3,FALSE),\"\")","v":""},{"$f":"IF($C474>0,VLOOKUP($C474,[1]Μητρώο!$A:$F,5,FALSE),\"\")","v":""},{"$f":"IF(COUNTIF([1]Rankings!$B:$B,RIGHT($I474,2)&\"-\"&$C474)>0,IF($C474>0,VLOOKUP(RIGHT($I474,2)&\"-\"&$C474,[1]Rankings!$B:$H,7,FALSE),\"\"),0)","v":0},{"$f":"IF($C474>0,VLOOKUP($C474,[1]Μητρώο!$A:$F,4,FALSE),\"\")","v":""}]
[468,468,null,{"$f":"IF($C475>0,VLOOKUP($C475,[1]Μητρώο!$A:$F,3,FALSE),\"\")","v":""},{"$f":"IF($C475>0,VLOOKUP($C475,[1]Μητρώο!$A:$F,5,FALSE),\"\")","v":""},{"$f":"IF(COUNTIF([1]Rankings!$B:$B,RIGHT($I475,2)&\"-\"&$C475)>0,IF($C475>0,VLOOKUP(RIGHT($I475,2)&\"-\"&$C475,[1]Rankings!$B:$H,7,FALSE),\"\"),0)","v":0},{"$f":"IF($C475>0,VLOOKUP($C475,[1]Μητρώο!$A:$F,4,FALSE),\"\")","v":""}]
[469,469,null,{"$f":"IF($C476>0,VLOOKUP($C476,[1]Μητρώο!$A:$F,3,FALSE),\"\")","v":""},{"$f":"IF($C476>0,VLOOKUP($C476,[1]Μητρώο!$A:$F,5,FALSE),\"\")","v":""},{"$f":"IF(COUNTIF([1]Rankings!$B:$B,RIGHT($I476,2)&\"-\"&$C476)>0,IF($C476>0,VLOOKUP(RIGHT($I476,2)&\"-\"&$C476,[1]Rankings!$B:$H,7,FALSE),\"\"),0)","v":0},{"$f":"IF($C476>0,VLOOKUP($C476,[1]Μητρώο!$A:$F,4,FALSE),\"\")","v":""}]
[470,470,null,{"$f":"IF($C477>0,VLOOKUP($C477,[1]Μητρώο!$A:$F,3,FALSE),\"\")","v":""},{"$f":"IF($C477>0,VLOOKUP($C477,[1]Μητρώο!$A:$F,5,FALSE),\"\")","v":""},{"$f":"IF(COUNTIF([1]Rankings!$B:$B,RIGHT($I477,2)&\"-\"&$C477)>0,IF($C477>0,VLOOKUP(RIGHT($I477,2)&\"-\"&$C477,[1]Rankings!$B:$H,7,FALSE),\"\"),0)","v":0},{"$f":"IF($C477>0,VLOOKUP($C477,[1]Μητρώο!$A:$F,4,FALSE),\"\")","v":""}]
[471,471,null,{"$f":"IF($C478>0,VLOOKUP($C478,[1]Μητρώο!$A:$F,3,FALSE),\"\")","v":""},{"$f":"IF($C478>0,VLOOKUP($C478,[1]Μητρώο!$A:$F,5,FALSE),\"\")","v":""},{"$f":"IF(COUNTIF([1]Rankings!$B:$B,RIGHT($I478,2)&\"-\"&$C478)>0,IF($C478>0,VLOOKUP(RIGHT($I478,2)&\"-\"&$C478,[1]Rankings!$B:$H,7,FALSE),\"\"),0)","v":0},{"$f":"IF($C478>0,VLOOKUP($C478,[1]Μητρώο!$A:$F,4,FALSE),\"\")","v":""}]
[472,472,null,{"$f":"IF($C479>0,VLOOKUP($C479,[1]Μητρώο!$A:$F,3,FALSE),\"\")","v":""},{"$f":"IF($C479>0,VLOOKUP($C479,[1]Μητρώο!$A:$F,5,FALSE),\"\")","v":""},{"$f":"IF(COUNTIF([1]Rankings!$B:$B,RIGHT($I479,2)&\"-\"&$C479)>0,IF($C479>0,VLOOKUP(RIGHT($I479,2)&\"-\"&$C479,[1]Rankings!$B:$H,7,FALSE),\"\"),0)","v":0},{"$f":"IF($C479>0,VLOOKUP($C479,[1]Μητρώο!$A:$F,4,FALSE),\"\")","v":""}]
[473,473,null,{"$f":"IF($C480>0,VLOOKUP($C480,[1]Μητρώο!$A:$F,3,FALSE),\"\")","v":""},{"$f":"IF($C480>0,VLOOKUP($C480,[1]Μητρώο!$A:$F,5,FALSE),\"\")","v":""},{"$f":"IF(COUNTIF([1]Rankings!$B:$B,RIGHT($I480,2)&\"-\"&$C480)>0,IF($C480>0,VLOOKUP(RIGHT($I480,2)&\"-\"&$C480,[1]Rankings!$B:$H,7,FALSE),\"\"),0)","v":0},{"$f":"IF($C480>0,VLOOKUP($C480,[1]Μητρώο!$A:$F,4,FALSE),\"\")","v":""}]
[474,474,null,{"$f":"IF($C481>0,VLOOKUP($C481,[1]Μητρώο!$A:$F,3,FALSE),\"\")","v":""},{"$f":"IF($C481>0,VLOOKUP($C481,[1]Μητρώο!$A:$F,5,FALSE),\"\")","v":""},{"$f":"IF(COUNTIF([1]Rankings!$B:$B,RIGHT($I481,2)&\"-\"&$C481)>0,IF($C481>0,VLOOKUP(RIGHT($I481,2)&\"-\"&$C481,[1]Rankings!$B:$H,7,FALSE),\"\"),0)","v":0},{"$f":"IF($C481>0,VLOOKUP($C481,[1]Μητρώο!$A:$F,4,FALSE),\"\")","v":""}]
[475,475,null,{"$f":"IF($C482>0,VLOOKUP($C482,[1]Μητρώο!$A:$F,3,FALSE),\"\")","v":""},{"$f":"IF($C482>0,VLOOKUP($C482,[1]Μητρώο!$A:$F,5,FALSE),\"\")","v":""},{"$f":"IF(COUNTIF([1]Rankings!$B:$B,RIGHT($I482,2)&\"-\"&$C482)>0,IF($C482>0,VLOOKUP(RIGHT($I482,2)&\"-\"&$C482,[1]Rankings!$B:$H,7,FALSE),\"\"),0)","v":0},{"$f":"IF($C482>0,VLOOKUP($C482,[1]Μητρώο!$A:$F,4,FALSE),\"\")","v":""}]
[476,476,null,{"$f":"IF($C483>0,VLOOKUP($C483,[1]Μητρώο!$A:$F,3,FALSE),\"\")","v":""},{"$f":"IF($C483>0,VLOOKUP($C483,[1]Μητρώο!$A:$F,5,FALSE),\"\")","v":""},{"$f":"IF(COUNTIF([1]Rankings!$B:$B,RIGHT($I483,2)&\"-\"&$C483)>0,IF($C483>0,VLOOKUP(RIGHT($I483,2)&\"-\"&$C483,[1]Rankings!$B:$H,7,FALSE),\"\"),0)","v":0},{"$f":"IF($C483>0,VLOOKUP($C483,[1]Μητρώο!$A:$F,4,FALSE),\"\")","v":""}]
[477,477,null,{"$f":"IF($C484>0,VLOOKUP($C484,[1]Μητρώο!$A:$F,3,FALSE),\"\")","v":""},{"$f":"IF($C484>0,VLOOKUP($C484,[1]Μητρώο!$A:$F,5,FALSE),\"\")","v":""},{"$f":"IF(COUNTIF([1]Rankings!$B:$B,RIGHT($I484,2)&\"-\"&$C484)>0,IF($C484>0,VLOOKUP(RIGHT($I484,2)&\"-\"&$C484,[1]Rankings!$B:$H,7,FALSE),\"\"),0)","v":0},{"$f":"IF($C484>0,VLOOKUP($C484,[1]Μητρώο!$A:$F,4,FALSE),\"\")","v":""}]
[478,478,null,{"$f":"IF($C485>0,VLOOKUP($C485,[1]Μητρώο!$A:$F,3,FALSE),\"\")","v":""},{"$f":"IF($C485>0,VLOOKUP($C485,[1]Μητρώο!$A:$F,5,FALSE),\"\")","v":""},{"$f":"IF(COUNTIF([1]Rankings!$B:$B,RIGHT($I485,2)&\"-\"&$C485)>0,IF($C485>0,VLOOKUP(RIGHT($I485,2)&\"-\"&$C485,[1]Rankings!$B:$H,7,FALSE),\"\"),0)","v":0},{"$f":"IF($C485>0,VLOOKUP($C485,[1]Μητρώο!$A:$F,4,FALSE),\"\")","v":""}]
[479,479,null,{"$f":"IF($C486>0,VLOOKUP($C486,[1]Μητρώο!$A:$F,3,FALSE),\"\")","v":""},{"$f":"IF($C486>0,VLOOKUP($C486,[1]Μητρώο!$A:$F,5,FALSE),\"\")","v":""},{"$f":"IF(COUNTIF([1]Rankings!$B:$B,RIGHT($I486,2)&\"-\"&$C486)>0,IF($C486>0,VLOOKUP(RIGHT($I486,2)&\"-\"&$C486,[1]Rankings!$B:$H,7,FALSE),\"\"),0)","v":0},{"$f":"IF($C486>0,VLOOKUP($C486,[1]Μητρώο!$A:$F,4,FALSE),\"\")","v":""}]
[480,480,null,{"$f":"IF($C487>0,VLOOKUP($C487,[1]Μητρώο!$A:$F,3,FALSE),\"\")","v":""},{"$f":"IF($C487>0,VLOOKUP($C487,[1]Μητρώο!$A:$F,5,FALSE),\"\")","v":""},{"$f":"IF(COUNTIF([1]Rankings!$B:$B,RIGHT($I487,2)&\"-\"&$C487)>0,IF($C487>0,VLOOKUP(RIGHT($I487,2)&\"-\"&$C487,[1]Rankings!$B:$H,7,FALSE),\"\"),0)","v":0},{"$f":"IF($C487>0,VLOOKUP($C487,[1]Μητρώο!$A:$F,4,FALSE),\"\")","v":""}]
[481,481,null,{"$f":"IF($C488>0,VLOOKUP($C488,[1]Μητρώο!$A:$F,3,FALSE),\"\")","v":""},{"$f":"IF($C488>0,VLOOKUP($C488,[1]Μητρώο!$A:$F,5,FALSE),\"\")","v":""},{"$f":"IF(COUNTIF([1]Rankings!$B:$B,RIGHT($I488,2)&\"-\"&$C488)>0,IF($C488>0,VLOOKUP(RIGHT($I488,2)&\"-\"&$C488,[1]Rankings!$B:$H,7,FALSE),\"\"),0)","v":0},{"$f":"IF($C488>0,VLOOKUP($C488,[1]Μητρώο!$A:$F,4,FALSE),\"\")","v":""}]
[482,482,null,{"$f":"IF($C489>0,VLOOKUP($C489,[1]Μητρώο!$A:$F,3,FALSE),\"\")","v":""},{"$f":"IF($C489>0,VLOOKUP($C489,[1]Μητρώο!$A:$F,5,FALSE),\"\")","v":""},{"$f":"IF(COUNTIF([1]Rankings!$B:$B,RIGHT($I489,2)&\"-\"&$C489)>0,IF($C489>0,VLOOKUP(RIGHT($I489,2)&\"-\"&$C489,[1]Rankings!$B:$H,7,FALSE),\"\"),0)","v":0},{"$f":"IF($C489>0,VLOOKUP($C489,[1]Μητρώο!$A:$F,4,FALSE),\"\")","v":""}]
[483,483,null,{"$f":"IF($C490>0,VLOOKUP($C490,[1]Μητρώο!$A:$F,3,FALSE),\"\")","v":""},{"$f":"IF($C490>0,VLOOKUP($C490,[1]Μητρώο!$A:$F,5,FALSE),\"\")","v":""},{"$f":"IF(COUNTIF([1]Rankings!$B:$B,RIGHT($I490,2)&\"-\"&$C490)>0,IF($C490>0,VLOOKUP(RIGHT($I490,2)&\"-\"&$C490,[1]Rankings!$B:$H,7,FALSE),\"\"),0)","v":0},{"$f":"IF($C490>0,VLOOKUP($C490,[1]Μητρώο!$A:$F,4,FALSE),\"\")","v":""}]
[484,484,null,{"$f":"IF($C491>0,VLOOKUP($C491,[1]Μητρώο!$A:$F,3,FALSE),\"\")","v":""},{"$f":"IF($C491>0,VLOOKUP($C491,[1]Μητρώο!$A:$F,5,FALSE),\"\")","v":""},{"$f":"IF(COUNTIF([1]Rankings!$B:$B,RIGHT($I491,2)&\"-\"&$C491)>0,IF($C491>0,VLOOKUP(RIGHT($I491,2)&\"-\"&$C491,[1]Rankings!$B:$H,7,FALSE),\"\"),0)","v":0},{"$f":"IF($C491>0,VLOOKUP($C491,[1]Μητρώο!$A:$F,4,FALSE),\"\")","v":""}]
[485,485,null,{"$f":"IF($C492>0,VLOOKUP($C492,[1]Μητρώο!$A:$F,3,FALSE),\"\")","v":""},{"$f":"IF($C492>0,VLOOKUP($C492,[1]Μητρώο!$A:$F,5,FALSE),\"\")","v":""},{"$f":"IF(COUNTIF([1]Rankings!$B:$B,RIGHT($I492,2)&\"-\"&$C492)>0,IF($C492>0,VLOOKUP(RIGHT($I492,2)&\"-\"&$C492,[1]Rankings!$B:$H,7,FALSE),\"\"),0)","v":0},{"$f":"IF($C492>0,VLOOKUP($C492,[1]Μητρώο!$A:$F,4,FALSE),\"\")","v":""}]
[486,486,null,{"$f":"IF($C493>0,VLOOKUP($C493,[1]Μητρώο!$A:$F,3,FALSE),\"\")","v":""},{"$f":"IF($C493>0,VLOOKUP($C493,[1]Μητρώο!$A:$F,5,FALSE),\"\")","v":""},{"$f":"IF(COUNTIF([1]Rankings!$B:$B,RIGHT($I493,2)&\"-\"&$C493)>0,IF($C493>0,VLOOKUP(RIGHT($I493,2)&\"-\"&$C493,[1]Rankings!$B:$H,7,FALSE),\"\"),0)","v":0},{"$f":"IF($C493>0,VLOOKUP($C493,[1]Μητρώο!$A:$F,4,FALSE),\"\")","v":""}]
[487,487,null,{"$f":"IF($C494>0,VLOOKUP($C494,[1]Μητρώο!$A:$F,3,FALSE),\"\")","v":""},{"$f":"IF($C494>0,VLOOKUP($C494,[1]Μητρώο!$A:$F,5,FALSE),\"\")","v":""},{"$f":"IF(COUNTIF([1]Rankings!$B:$B,RIGHT($I494,2)&\"-\"&$C494)>0,IF($C494>0,VLOOKUP(RIGHT($I494,2)&\"-\"&$C494,[1]Rankings!$B:$H,7,FALSE),\"\"),0)","v":0},{"$f":"IF($C494>0,VLOOKUP($C494,[1]Μητρώο!$A:$F,4,FALSE),\"\")","v":""}]
[488,488,null,{"$f":"IF($C495>0,VLOOKUP($C495,[1]Μητρώο!$A:$F,3,FALSE),\"\")","v":""},{"$f":"IF($C495>0,VLOOKUP($C495,[1]Μητρώο!$A:$F,5,FALSE),\"\")","v":""},{"$f":"IF(COUNTIF([1]Rankings!$B:$B,RIGHT($I495,2)&\"-\"&$C495)>0,IF($C495>0,VLOOKUP(RIGHT($I495,2)&\"-\"&$C495,[1]Rankings!$B:$H,7,FALSE),\"\"),0)","v":0},{"$f":"IF($C495>0,VLOOKUP($C495,[1]Μητρώο!$A:$F,4,FALSE),\"\")","v":""}]
[489,489,null,{"$f":"IF($C496>0,VLOOKUP($C496,[1]Μητρώο!$A:$F,3,FALSE),\"\")","v":""},{"$f":"IF($C496>0,VLOOKUP($C496,[1]Μητρώο!$A:$F,5,FALSE),\"\")","v":""},{"$f":"IF(COUNTIF([1]Rankings!$B:$B,RIGHT($I496,2)&\"-\"&$C496)>0,IF($C496>0,VLOOKUP(RIGHT($I496,2)&\"-\"&$C496,[1]Rankings!$B:$H,7,FALSE),\"\"),0)","v":0},{"$f":"IF($C496>0,VLOOKUP($C496,[1]Μητρώο!$A:$F,4,FALSE),\"\")","v":""}]
[490,490,null,{"$f":"IF($C497>0,VLOOKUP($C497,[1]Μητρώο!$A:$F,3,FALSE),\"\")","v":""},{"$f":"IF($C497>0,VLOOKUP($C497,[1]Μητρώο!$A:$F,5,FALSE),\"\")","v":""},{"$f":"IF(COUNTIF([1]Rankings!$B:$B,RIGHT($I497,2)&\"-\"&$C497)>0,IF($C497>0,VLOOKUP(RIGHT($I497,2)&\"-\"&$C497,[1]Rankings!$B:$H,7,FALSE),\"\"),0)","v":0},{"$f":"IF($C497>0,VLOOKUP($C497,[1]Μητρώο!$A:$F,4,FALSE),\"\")","v":""}]
[491,491,null,{"$f":"IF($C498>0,VLOOKUP($C498,[1]Μητρώο!$A:$F,3,FALSE),\"\")","v":""},{"$f":"IF($C498>0,VLOOKUP($C498,[1]Μητρώο!$A:$F,5,FALSE),\"\")","v":""},{"$f":"IF(COUNTIF([1]Rankings!$B:$B,RIGHT($I498,2)&\"-\"&$C498)>0,IF($C498>0,VLOOKUP(RIGHT($I498,2)&\"-\"&$C498,[1]Rankings!$B:$H,7,FALSE),\"\"),0)","v":0},{"$f":"IF($C498>0,VLOOKUP($C498,[1]Μητρώο!$A:$F,4,FALSE),\"\")","v":""}]
[492,492,null,{"$f":"IF($C499>0,VLOOKUP($C499,[1]Μητρώο!$A:$F,3,FALSE),\"\")","v":""},{"$f":"IF($C499>0,VLOOKUP($C499,[1]Μητρώο!$A:$F,5,FALSE),\"\")","v":""},{"$f":"IF(COUNTIF([1]Rankings!$B:$B,RIGHT($I499,2)&\"-\"&$C499)>0,IF($C499>0,VLOOKUP(RIGHT($I499,2)&\"-\"&$C499,[1]Rankings!$B:$H,7,FALSE),\"\"),0)","v":0},{"$f":"IF($C499>0,VLOOKUP($C499,[1]Μητρώο!$A:$F,4,FALSE),\"\")","v":""}]
[493,493,null,{"$f":"IF($C500>0,VLOOKUP($C500,[1]Μητρώο!$A:$F,3,FALSE),\"\")","v":""},{"$f":"IF($C500>0,VLOOKUP($C500,[1]Μητρώο!$A:$F,5,FALSE),\"\")","v":""},{"$f":"IF(COUNTIF([1]Rankings!$B:$B,RIGHT($I500,2)&\"-\"&$C500)>0,IF($C500>0,VLOOKUP(RIGHT($I500,2)&\"-\"&$C500,[1]Rankings!$B:$H,7,FALSE),\"\"),0)","v":0},{"$f":"IF($C500>0,VLOOKUP($C500,[1]Μητρώο!$A:$F,4,FALSE),\"\")","v":""}]
[494,494,null,{"$f":"IF($C501>0,VLOOKUP($C501,[1]Μητρώο!$A:$F,3,FALSE),\"\")","v":""},{"$f":"IF($C501>0,VLOOKUP($C501,[1]Μητρώο!$A:$F,5,FALSE),\"\")","v":""},{"$f":"IF(COUNTIF([1]Rankings!$B:$B,RIGHT($I501,2)&\"-\"&$C501)>0,IF($C501>0,VLOOKUP(RIGHT($I501,2)&\"-\"&$C501,[1]Rankings!$B:$H,7,FALSE),\"\"),0)","v":0},{"$f":"IF($C501>0,VLOOKUP($C501,[1]Μητρώο!$A:$F,4,FALSE),\"\")","v":""}]
[495,495,null,{"$f":"IF($C502>0,VLOOKUP($C502,[1]Μητρώο!$A:$F,3,FALSE),\"\")","v":""},{"$f":"IF($C502>0,VLOOKUP($C502,[1]Μητρώο!$A:$F,5,FALSE),\"\")","v":""},{"$f":"IF(COUNTIF([1]Rankings!$B:$B,RIGHT($I502,2)&\"-\"&$C502)>0,IF($C502>0,VLOOKUP(RIGHT($I502,2)&\"-\"&$C502,[1]Rankings!$B:$H,7,FALSE),\"\"),0)","v":0},{"$f":"IF($C502>0,VLOOKUP($C502,[1]Μητρώο!$A:$F,4,FALSE),\"\")","v":""}]
[496,496,null,{"$f":"IF($C503>0,VLOOKUP($C503,[1]Μητρώο!$A:$F,3,FALSE),\"\")","v":""},{"$f":"IF($C503>0,VLOOKUP($C503,[1]Μητρώο!$A:$F,5,FALSE),\"\")","v":""},{"$f":"IF(COUNTIF([1]Rankings!$B:$B,RIGHT($I503,2)&\"-\"&$C503)>0,IF($C503>0,VLOOKUP(RIGHT($I503,2)&\"-\"&$C503,[1]Rankings!$B:$H,7,FALSE),\"\"),0)","v":0},{"$f":"IF($C503>0,VLOOKUP($C503,[1]Μητρώο!$A:$F,4,FALSE),\"\")","v":""}]
[497,497,null,{"$f":"IF($C504>0,VLOOKUP($C504,[1]Μητρώο!$A:$F,3,FALSE),\"\")","v":""},{"$f":"IF($C504>0,VLOOKUP($C504,[1]Μητρώο!$A:$F,5,FALSE),\"\")","v":""},{"$f":"IF(COUNTIF([1]Rankings!$B:$B,RIGHT($I504,2)&\"-\"&$C504)>0,IF($C504>0,VLOOKUP(RIGHT($I504,2)&\"-\"&$C504,[1]Rankings!$B:$H,7,FALSE),\"\"),0)","v":0},{"$f":"IF($C504>0,VLOOKUP($C504,[1]Μητρώο!$A:$F,4,FALSE),\"\")","v":""}]
[498,498,null,{"$f":"IF($C505>0,VLOOKUP($C505,[1]Μητρώο!$A:$F,3,FALSE),\"\")","v":""},{"$f":"IF($C505>0,VLOOKUP($C505,[1]Μητρώο!$A:$F,5,FALSE),\"\")","v":""},{"$f":"IF(COUNTIF([1]Rankings!$B:$B,RIGHT($I505,2)&\"-\"&$C505)>0,IF($C505>0,VLOOKUP(RIGHT($I505,2)&\"-\"&$C505,[1]Rankings!$B:$H,7,FALSE),\"\"),0)","v":0},{"$f":"IF($C505>0,VLOOKUP($C505,[1]Μητρώο!$A:$F,4,FALSE),\"\")","v":""}]
[499,499,null,{"$f":"IF($C506>0,VLOOKUP($C506,[1]Μητρώο!$A:$F,3,FALSE),\"\")","v":""},{"$f":"IF($C506>0,VLOOKUP($C506,[1]Μητρώο!$A:$F,5,FALSE),\"\")","v":""},{"$f":"IF(COUNTIF([1]Rankings!$B:$B,RIGHT($I506,2)&\"-\"&$C506)>0,IF($C506>0,VLOOKUP(RIGHT($I506,2)&\"-\"&$C506,[1]Rankings!$B:$H,7,FALSE),\"\"),0)","v":0},{"$f":"IF($C506>0,VLOOKUP($C506,[1]Μητρώο!$A:$F,4,FALSE),\"\")","v":""}]
[500,500,null,{"$f":"IF($C507>0,VLOOKUP($C507,[1]Μητρώο!$A:$F,3,FALSE),\"\")","v":""},{"$f":"IF($C507>0,VLOOKUP($C507,[1]Μητρώο!$A:$F,5,FALSE),\"\")","v":""},{"$f":"IF(COUNTIF([1]Rankings!$B:$B,RIGHT($I507,2)&\"-\"&$C507)>0,IF($C507>0,VLOOKUP(RIGHT($I507,2)&\"-\"&$C507,[1]Rankings!$B:$H,7,FALSE),\"\"),0)","v":0},{"$f":"IF($C507>0,VLOOKUP($C507,[1]Μητρώο!$A:$F,4,FALSE),\"\")","v":""}]
[501,501,null,{"$f":"IF($C508>0,VLOOKUP($C508,[1]Μητρώο!$A:$F,3,FALSE),\"\")","v":""},{"$f":"IF($C508>0,VLOOKUP($C508,[1]Μητρώο!$A:$F,5,FALSE),\"\")","v":""},{"$f":"IF(COUNTIF([1]Rankings!$B:$B,RIGHT($I508,2)&\"-\"&$C508)>0,IF($C508>0,VLOOKUP(RIGHT($I508,2)&\"-\"&$C508,[1]Rankings!$B:$H,7,FALSE),\"\"),0)","v":0},{"$f":"IF($C508>0,VLOOKUP($C508,[1]Μητρώο!$A:$F,4,FALSE),\"\")","v":""}]
[502,502,null,{"$f":"IF($C509>0,VLOOKUP($C509,[1]Μητρώο!$A:$F,3,FALSE),\"\")","v":""},{"$f":"IF($C509>0,VLOOKUP($C509,[1]Μητρώο!$A:$F,5,FALSE),\"\")","v":""},{"$f":"IF(COUNTIF([1]Rankings!$B:$B,RIGHT($I509,2)&\"-\"&$C509)>0,IF($C509>0,VLOOKUP(RIGHT($I509,2)&\"-\"&$C509,[1]Rankings!$B:$H,7,FALSE),\"\"),0)","v":0},{"$f":"IF($C509>0,VLOOKUP($C509,[1]Μητρώο!$A:$F,4,FALSE),\"\")","v":""}]
[503,503,null,{"$f":"IF($C510>0,VLOOKUP($C510,[1]Μητρώο!$A:$F,3,FALSE),\"\")","v":""},{"$f":"IF($C510>0,VLOOKUP($C510,[1]Μητρώο!$A:$F,5,FALSE),\"\")","v":""},{"$f":"IF(COUNTIF([1]Rankings!$B:$B,RIGHT($I510,2)&\"-\"&$C510)>0,IF($C510>0,VLOOKUP(RIGHT($I510,2)&\"-\"&$C510,[1]Rankings!$B:$H,7,FALSE),\"\"),0)","v":0},{"$f":"IF($C510>0,VLOOKUP($C510,[1]Μητρώο!$A:$F,4,FALSE),\"\")","v":""}]
[504,504,null,{"$f":"IF($C511>0,VLOOKUP($C511,[1]Μητρώο!$A:$F,3,FALSE),\"\")","v":""},{"$f":"IF($C511>0,VLOOKUP($C511,[1]Μητρώο!$A:$F,5,FALSE),\"\")","v":""},{"$f":"IF(COUNTIF([1]Rankings!$B:$B,RIGHT($I511,2)&\"-\"&$C511)>0,IF($C511>0,VLOOKUP(RIGHT($I511,2)&\"-\"&$C511,[1]Rankings!$B:$H,7,FALSE),\"\"),0)","v":0},{"$f":"IF($C511>0,VLOOKUP($C511,[1]Μητρώο!$A:$F,4,FALSE),\"\")","v":""}]
[505,505,null,{"$f":"IF($C512>0,VLOOKUP($C512,[1]Μητρώο!$A:$F,3,FALSE),\"\")","v":""},{"$f":"IF($C512>0,VLOOKUP($C512,[1]Μητρώο!$A:$F,5,FALSE),\"\")","v":""},{"$f":"IF(COUNTIF([1]Rankings!$B:$B,RIGHT($I512,2)&\"-\"&$C512)>0,IF($C512>0,VLOOKUP(RIGHT($I512,2)&\"-\"&$C512,[1]Rankings!$B:$H,7,FALSE),\"\"),0)","v":0},{"$f":"IF($C512>0,VLOOKUP($C512,[1]Μητρώο!$A:$F,4,FALSE),\"\")","v":""}]
[506,506,null,{"$f":"IF($C513>0,VLOOKUP($C513,[1]Μητρώο!$A:$F,3,FALSE),\"\")","v":""},{"$f":"IF($C513>0,VLOOKUP($C513,[1]Μητρώο!$A:$F,5,FALSE),\"\")","v":""},{"$f":"IF(COUNTIF([1]Rankings!$B:$B,RIGHT($I513,2)&\"-\"&$C513)>0,IF($C513>0,VLOOKUP(RIGHT($I513,2)&\"-\"&$C513,[1]Rankings!$B:$H,7,FALSE),\"\"),0)","v":0},{"$f":"IF($C513>0,VLOOKUP($C513,[1]Μητρώο!$A:$F,4,FALSE),\"\")","v":""}]
[507,507,null,{"$f":"IF($C514>0,VLOOKUP($C514,[1]Μητρώο!$A:$F,3,FALSE),\"\")","v":""},{"$f":"IF($C514>0,VLOOKUP($C514,[1]Μητρώο!$A:$F,5,FALSE),\"\")","v":""},{"$f":"IF(COUNTIF([1]Rankings!$B:$B,RIGHT($I514,2)&\"-\"&$C514)>0,IF($C514>0,VLOOKUP(RIGHT($I514,2)&\"-\"&$C514,[1]Rankings!$B:$H,7,FALSE),\"\"),0)","v":0},{"$f":"IF($C514>0,VLOOKUP($C514,[1]Μητρώο!$A:$F,4,FALSE),\"\")","v":""}]
[508,508,null,{"$f":"IF($C515>0,VLOOKUP($C515,[1]Μητρώο!$A:$F,3,FALSE),\"\")","v":""},{"$f":"IF($C515>0,VLOOKUP($C515,[1]Μητρώο!$A:$F,5,FALSE),\"\")","v":""},{"$f":"IF(COUNTIF([1]Rankings!$B:$B,RIGHT($I515,2)&\"-\"&$C515)>0,IF($C515>0,VLOOKUP(RIGHT($I515,2)&\"-\"&$C515,[1]Rankings!$B:$H,7,FALSE),\"\"),0)","v":0},{"$f":"IF($C515>0,VLOOKUP($C515,[1]Μητρώο!$A:$F,4,FALSE),\"\")","v":""}]
[509,509,null,{"$f":"IF($C516>0,VLOOKUP($C516,[1]Μητρώο!$A:$F,3,FALSE),\"\")","v":""},{"$f":"IF($C516>0,VLOOKUP($C516,[1]Μητρώο!$A:$F,5,FALSE),\"\")","v":""},{"$f":"IF(COUNTIF([1]Rankings!$B:$B,RIGHT($I516,2)&\"-\"&$C516)>0,IF($C516>0,VLOOKUP(RIGHT($I516,2)&\"-\"&$C516,[1]Rankings!$B:$H,7,FALSE),\"\"),0)","v":0},{"$f":"IF($C516>0,VLOOKUP($C516,[1]Μητρώο!$A:$F,4,FALSE),\"\")","v":""}]
[510,510,null,{"$f":"IF($C517>0,VLOOKUP($C517,[1]Μητρώο!$A:$F,3,FALSE),\"\")","v":""},{"$f":"IF($C517>0,VLOOKUP($C517,[1]Μητρώο!$A:$F,5,FALSE),\"\")","v":""},{"$f":"IF(COUNTIF([1]Rankings!$B:$B,RIGHT($I517,2)&\"-\"&$C517)>0,IF($C517>0,VLOOKUP(RIGHT($I517,2)&\"-\"&$C517,[1]Rankings!$B:$H,7,FALSE),\"\"),0)","v":0},{"$f":"IF($C517>0,VLOOKUP($C517,[1]Μητρώο!$A:$F,4,FALSE),\"\")","v":""}]
[511,511,null,{"$f":"IF($C518>0,VLOOKUP($C518,[1]Μητρώο!$A:$F,3,FALSE),\"\")","v":""},{"$f":"IF($C518>0,VLOOKUP($C518,[1]Μητρώο!$A:$F,5,FALSE),\"\")","v":""},{"$f":"IF(COUNTIF([1]Rankings!$B:$B,RIGHT($I518,2)&\"-\"&$C518)>0,IF($C518>0,VLOOKUP(RIGHT($I518,2)&\"-\"&$C518,[1]Rankings!$B:$H,7,FALSE),\"\"),0)","v":0},{"$f":"IF($C518>0,VLOOKUP($C518,[1]Μητρώο!$A:$F,4,FALSE),\"\")","v":""}]
[512,512,null,{"$f":"IF($C519>0,VLOOKUP($C519,[1]Μητρώο!$A:$F,3,FALSE),\"\")","v":""},{"$f":"IF($C519>0,VLOOKUP($C519,[1]Μητρώο!$A:$F,5,FALSE),\"\")","v":""},{"$f":"IF(COUNTIF([1]Rankings!$B:$B,RIGHT($I519,2)&\"-\"&$C519)>0,IF($C519>0,VLOOKUP(RIGHT($I519,2)&\"-\"&$C519,[1]Rankings!$B:$H,7,FALSE),\"\"),0)","v":0},{"$f":"IF($C519>0,VLOOKUP($C519,[1]Μητρώο!$A:$F,4,FALSE),\"\")","v":""}]
[513,{"$f":"IF(H520&I520=H519&I519,B519+1,1)","v":513},null,{"$f":"IF($C520>0,VLOOKUP($C520,[1]Μητρώο!$A:$F,3,FALSE),\"\")","v":""},{"$f":"IF($C520>0,VLOOKUP($C520,[1]Μητρώο!$A:$F,5,FALSE),\"\")","v":""},{"$f":"IF(COUNTIF([1]Rankings!$B:$B,RIGHT($I520,2)&\"-\"&$C520)>0,IF($C520>0,VLOOKUP(RIGHT($I520,2)&\"-\"&$C520,[1]Rankings!$B:$H,7,FALSE),\"\"),0)","v":0},{"$f":"IF($C520>0,VLOOKUP($C520,[1]Μητρώο!$A:$F,4,FALSE),\"\")","v":""}]
[514,514,null,{"$f":"IF($C521>0,VLOOKUP($C521,[1]Μητρώο!$A:$F,3,FALSE),\"\")","v":""},{"$f":"IF($C521>0,VLOOKUP($C521,[1]Μητρώο!$A:$F,5,FALSE),\"\")","v":""},{"$f":"IF(COUNTIF([1]Rankings!$B:$B,RIGHT($I521,2)&\"-\"&$C521)>0,IF($C521>0,VLOOKUP(RIGHT($I521,2)&\"-\"&$C521,[1]Rankings!$B:$H,7,FALSE),\"\"),0)","v":0},{"$f":"IF($C521>0,VLOOKUP($C521,[1]Μητρώο!$A:$F,4,FALSE),\"\")","v":""}]
[515,515,null,{"$f":"IF($C522>0,VLOOKUP($C522,[1]Μητρώο!$A:$F,3,FALSE),\"\")","v":""},{"$f":"IF($C522>0,VLOOKUP($C522,[1]Μητρώο!$A:$F,5,FALSE),\"\")","v":""},{"$f":"IF(COUNTIF([1]Rankings!$B:$B,RIGHT($I522,2)&\"-\"&$C522)>0,IF($C522>0,VLOOKUP(RIGHT($I522,2)&\"-\"&$C522,[1]Rankings!$B:$H,7,FALSE),\"\"),0)","v":0},{"$f":"IF($C522>0,VLOOKUP($C522,[1]Μητρώο!$A:$F,4,FALSE),\"\")","v":""}]
[516,516,null,{"$f":"IF($C523>0,VLOOKUP($C523,[1]Μητρώο!$A:$F,3,FALSE),\"\")","v":""},{"$f":"IF($C523>0,VLOOKUP($C523,[1]Μητρώο!$A:$F,5,FALSE),\"\")","v":""},{"$f":"IF(COUNTIF([1]Rankings!$B:$B,RIGHT($I523,2)&\"-\"&$C523)>0,IF($C523>0,VLOOKUP(RIGHT($I523,2)&\"-\"&$C523,[1]Rankings!$B:$H,7,FALSE),\"\"),0)","v":0},{"$f":"IF($C523>0,VLOOKUP($C523,[1]Μητρώο!$A:$F,4,FALSE),\"\")","v":""}]
[517,517,null,{"$f":"IF($C524>0,VLOOKUP($C524,[1]Μητρώο!$A:$F,3,FALSE),\"\")","v":""},{"$f":"IF($C524>0,VLOOKUP($C524,[1]Μητρώο!$A:$F,5,FALSE),\"\")","v":""},{"$f":"IF(COUNTIF([1]Rankings!$B:$B,RIGHT($I524,2)&\"-\"&$C524)>0,IF($C524>0,VLOOKUP(RIGHT($I524,2)&\"-\"&$C524,[1]Rankings!$B:$H,7,FALSE),\"\"),0)","v":0},{"$f":"IF($C524>0,VLOOKUP($C524,[1]Μητρώο!$A:$F,4,FALSE),\"\")","v":""}]
[518,518,null,{"$f":"IF($C525>0,VLOOKUP($C525,[1]Μητρώο!$A:$F,3,FALSE),\"\")","v":""},{"$f":"IF($C525>0,VLOOKUP($C525,[1]Μητρώο!$A:$F,5,FALSE),\"\")","v":""},{"$f":"IF(COUNTIF([1]Rankings!$B:$B,RIGHT($I525,2)&\"-\"&$C525)>0,IF($C525>0,VLOOKUP(RIGHT($I525,2)&\"-\"&$C525,[1]Rankings!$B:$H,7,FALSE),\"\"),0)","v":0},{"$f":"IF($C525>0,VLOOKUP($C525,[1]Μητρώο!$A:$F,4,FALSE),\"\")","v":""}]
[519,519,null,{"$f":"IF($C526>0,VLOOKUP($C526,[1]Μητρώο!$A:$F,3,FALSE),\"\")","v":""},{"$f":"IF($C526>0,VLOOKUP($C526,[1]Μητρώο!$A:$F,5,FALSE),\"\")","v":""},{"$f":"IF(COUNTIF([1]Rankings!$B:$B,RIGHT($I526,2)&\"-\"&$C526)>0,IF($C526>0,VLOOKUP(RIGHT($I526,2)&\"-\"&$C526,[1]Rankings!$B:$H,7,FALSE),\"\"),0)","v":0},{"$f":"IF($C526>0,VLOOKUP($C526,[1]Μητρώο!$A:$F,4,FALSE),\"\")","v":""}]
[520,520,null,{"$f":"IF($C527>0,VLOOKUP($C527,[1]Μητρώο!$A:$F,3,FALSE),\"\")","v":""},{"$f":"IF($C527>0,VLOOKUP($C527,[1]Μητρώο!$A:$F,5,FALSE),\"\")","v":""},{"$f":"IF(COUNTIF([1]Rankings!$B:$B,RIGHT($I527,2)&\"-\"&$C527)>0,IF($C527>0,VLOOKUP(RIGHT($I527,2)&\"-\"&$C527,[1]Rankings!$B:$H,7,FALSE),\"\"),0)","v":0},{"$f":"IF($C527>0,VLOOKUP($C527,[1]Μητρώο!$A:$F,4,FALSE),\"\")","v":""}]
[521,521,null,{"$f":"IF($C528>0,VLOOKUP($C528,[1]Μητρώο!$A:$F,3,FALSE),\"\")","v":""},{"$f":"IF($C528>0,VLOOKUP($C528,[1]Μητρώο!$A:$F,5,FALSE),\"\")","v":""},{"$f":"IF(COUNTIF([1]Rankings!$B:$B,RIGHT($I528,2)&\"-\"&$C528)>0,IF($C528>0,VLOOKUP(RIGHT($I528,2)&\"-\"&$C528,[1]Rankings!$B:$H,7,FALSE),\"\"),0)","v":0},{"$f":"IF($C528>0,VLOOKUP($C528,[1]Μητρώο!$A:$F,4,FALSE),\"\")","v":""}]
[522,522,null,{"$f":"IF($C529>0,VLOOKUP($C529,[1]Μητρώο!$A:$F,3,FALSE),\"\")","v":""},{"$f":"IF($C529>0,VLOOKUP($C529,[1]Μητρώο!$A:$F,5,FALSE),\"\")","v":""},{"$f":"IF(COUNTIF([1]Rankings!$B:$B,RIGHT($I529,2)&\"-\"&$C529)>0,IF($C529>0,VLOOKUP(RIGHT($I529,2)&\"-\"&$C529,[1]Rankings!$B:$H,7,FALSE),\"\"),0)","v":0},{"$f":"IF($C529>0,VLOOKUP($C529,[1]Μητρώο!$A:$F,4,FALSE),\"\")","v":""}]
[523,523,null,{"$f":"IF($C530>0,VLOOKUP($C530,[1]Μητρώο!$A:$F,3,FALSE),\"\")","v":""},{"$f":"IF($C530>0,VLOOKUP($C530,[1]Μητρώο!$A:$F,5,FALSE),\"\")","v":""},{"$f":"IF(COUNTIF([1]Rankings!$B:$B,RIGHT($I530,2)&\"-\"&$C530)>0,IF($C530>0,VLOOKUP(RIGHT($I530,2)&\"-\"&$C530,[1]Rankings!$B:$H,7,FALSE),\"\"),0)","v":0},{"$f":"IF($C530>0,VLOOKUP($C530,[1]Μητρώο!$A:$F,4,FALSE),\"\")","v":""}]
[524,524,null,{"$f":"IF($C531>0,VLOOKUP($C531,[1]Μητρώο!$A:$F,3,FALSE),\"\")","v":""},{"$f":"IF($C531>0,VLOOKUP($C531,[1]Μητρώο!$A:$F,5,FALSE),\"\")","v":""},{"$f":"IF(COUNTIF([1]Rankings!$B:$B,RIGHT($I531,2)&\"-\"&$C531)>0,IF($C531>0,VLOOKUP(RIGHT($I531,2)&\"-\"&$C531,[1]Rankings!$B:$H,7,FALSE),\"\"),0)","v":0},{"$f":"IF($C531>0,VLOOKUP($C531,[1]Μητρώο!$A:$F,4,FALSE),\"\")","v":""}]
[525,525,null,{"$f":"IF($C532>0,VLOOKUP($C532,[1]Μητρώο!$A:$F,3,FALSE),\"\")","v":""},{"$f":"IF($C532>0,VLOOKUP($C532,[1]Μητρώο!$A:$F,5,FALSE),\"\")","v":""},{"$f":"IF(COUNTIF([1]Rankings!$B:$B,RIGHT($I532,2)&\"-\"&$C532)>0,IF($C532>0,VLOOKUP(RIGHT($I532,2)&\"-\"&$C532,[1]Rankings!$B:$H,7,FALSE),\"\"),0)","v":0},{"$f":"IF($C532>0,VLOOKUP($C532,[1]Μητρώο!$A:$F,4,FALSE),\"\")","v":""}]
[526,526,null,{"$f":"IF($C533>0,VLOOKUP($C533,[1]Μητρώο!$A:$F,3,FALSE),\"\")","v":""},{"$f":"IF($C533>0,VLOOKUP($C533,[1]Μητρώο!$A:$F,5,FALSE),\"\")","v":""},{"$f":"IF(COUNTIF([1]Rankings!$B:$B,RIGHT($I533,2)&\"-\"&$C533)>0,IF($C533>0,VLOOKUP(RIGHT($I533,2)&\"-\"&$C533,[1]Rankings!$B:$H,7,FALSE),\"\"),0)","v":0},{"$f":"IF($C533>0,VLOOKUP($C533,[1]Μητρώο!$A:$F,4,FALSE),\"\")","v":""}]
[527,527,null,{"$f":"IF($C534>0,VLOOKUP($C534,[1]Μητρώο!$A:$F,3,FALSE),\"\")","v":""},{"$f":"IF($C534>0,VLOOKUP($C534,[1]Μητρώο!$A:$F,5,FALSE),\"\")","v":""},{"$f":"IF(COUNTIF([1]Rankings!$B:$B,RIGHT($I534,2)&\"-\"&$C534)>0,IF($C534>0,VLOOKUP(RIGHT($I534,2)&\"-\"&$C534,[1]Rankings!$B:$H,7,FALSE),\"\"),0)","v":0},{"$f":"IF($C534>0,VLOOKUP($C534,[1]Μητρώο!$A:$F,4,FALSE),\"\")","v":""}]
[528,528,null,{"$f":"IF($C535>0,VLOOKUP($C535,[1]Μητρώο!$A:$F,3,FALSE),\"\")","v":""},{"$f":"IF($C535>0,VLOOKUP($C535,[1]Μητρώο!$A:$F,5,FALSE),\"\")","v":""},{"$f":"IF(COUNTIF([1]Rankings!$B:$B,RIGHT($I535,2)&\"-\"&$C535)>0,IF($C535>0,VLOOKUP(RIGHT($I535,2)&\"-\"&$C535,[1]Rankings!$B:$H,7,FALSE),\"\"),0)","v":0},{"$f":"IF($C535>0,VLOOKUP($C535,[1]Μητρώο!$A:$F,4,FALSE),\"\")","v":""}]
[529,529,null,{"$f":"IF($C536>0,VLOOKUP($C536,[1]Μητρώο!$A:$F,3,FALSE),\"\")","v":""},{"$f":"IF($C536>0,VLOOKUP($C536,[1]Μητρώο!$A:$F,5,FALSE),\"\")","v":""},{"$f":"IF(COUNTIF([1]Rankings!$B:$B,RIGHT($I536,2)&\"-\"&$C536)>0,IF($C536>0,VLOOKUP(RIGHT($I536,2)&\"-\"&$C536,[1]Rankings!$B:$H,7,FALSE),\"\"),0)","v":0},{"$f":"IF($C536>0,VLOOKUP($C536,[1]Μητρώο!$A:$F,4,FALSE),\"\")","v":""}]
[530,530,null,{"$f":"IF($C537>0,VLOOKUP($C537,[1]Μητρώο!$A:$F,3,FALSE),\"\")","v":""},{"$f":"IF($C537>0,VLOOKUP($C537,[1]Μητρώο!$A:$F,5,FALSE),\"\")","v":""},{"$f":"IF(COUNTIF([1]Rankings!$B:$B,RIGHT($I537,2)&\"-\"&$C537)>0,IF($C537>0,VLOOKUP(RIGHT($I537,2)&\"-\"&$C537,[1]Rankings!$B:$H,7,FALSE),\"\"),0)","v":0},{"$f":"IF($C537>0,VLOOKUP($C537,[1]Μητρώο!$A:$F,4,FALSE),\"\")","v":""}]
[531,531,null,{"$f":"IF($C538>0,VLOOKUP($C538,[1]Μητρώο!$A:$F,3,FALSE),\"\")","v":""},{"$f":"IF($C538>0,VLOOKUP($C538,[1]Μητρώο!$A:$F,5,FALSE),\"\")","v":""},{"$f":"IF(COUNTIF([1]Rankings!$B:$B,RIGHT($I538,2)&\"-\"&$C538)>0,IF($C538>0,VLOOKUP(RIGHT($I538,2)&\"-\"&$C538,[1]Rankings!$B:$H,7,FALSE),\"\"),0)","v":0},{"$f":"IF($C538>0,VLOOKUP($C538,[1]Μητρώο!$A:$F,4,FALSE),\"\")","v":""}]
[532,532,null,{"$f":"IF($C539>0,VLOOKUP($C539,[1]Μητρώο!$A:$F,3,FALSE),\"\")","v":""},{"$f":"IF($C539>0,VLOOKUP($C539,[1]Μητρώο!$A:$F,5,FALSE),\"\")","v":""},{"$f":"IF(COUNTIF([1]Rankings!$B:$B,RIGHT($I539,2)&\"-\"&$C539)>0,IF($C539>0,VLOOKUP(RIGHT($I539,2)&\"-\"&$C539,[1]Rankings!$B:$H,7,FALSE),\"\"),0)","v":0},{"$f":"IF($C539>0,VLOOKUP($C539,[1]Μητρώο!$A:$F,4,FALSE),\"\")","v":""}]
[533,533,null,{"$f":"IF($C540>0,VLOOKUP($C540,[1]Μητρώο!$A:$F,3,FALSE),\"\")","v":""},{"$f":"IF($C540>0,VLOOKUP($C540,[1]Μητρώο!$A:$F,5,FALSE),\"\")","v":""},{"$f":"IF(COUNTIF([1]Rankings!$B:$B,RIGHT($I540,2)&\"-\"&$C540)>0,IF($C540>0,VLOOKUP(RIGHT($I540,2)&\"-\"&$C540,[1]Rankings!$B:$H,7,FALSE),\"\"),0)","v":0},{"$f":"IF($C540>0,VLOOKUP($C540,[1]Μητρώο!$A:$F,4,FALSE),\"\")","v":""}]
[534,534,null,{"$f":"IF($C541>0,VLOOKUP($C541,[1]Μητρώο!$A:$F,3,FALSE),\"\")","v":""},{"$f":"IF($C541>0,VLOOKUP($C541,[1]Μητρώο!$A:$F,5,FALSE),\"\")","v":""},{"$f":"IF(COUNTIF([1]Rankings!$B:$B,RIGHT($I541,2)&\"-\"&$C541)>0,IF($C541>0,VLOOKUP(RIGHT($I541,2)&\"-\"&$C541,[1]Rankings!$B:$H,7,FALSE),\"\"),0)","v":0},{"$f":"IF($C541>0,VLOOKUP($C541,[1]Μητρώο!$A:$F,4,FALSE),\"\")","v":""}]
[535,535,null,{"$f":"IF($C542>0,VLOOKUP($C542,[1]Μητρώο!$A:$F,3,FALSE),\"\")","v":""},{"$f":"IF($C542>0,VLOOKUP($C542,[1]Μητρώο!$A:$F,5,FALSE),\"\")","v":""},{"$f":"IF(COUNTIF([1]Rankings!$B:$B,RIGHT($I542,2)&\"-\"&$C542)>0,IF($C542>0,VLOOKUP(RIGHT($I542,2)&\"-\"&$C542,[1]Rankings!$B:$H,7,FALSE),\"\"),0)","v":0},{"$f":"IF($C542>0,VLOOKUP($C542,[1]Μητρώο!$A:$F,4,FALSE),\"\")","v":""}]
[536,536,null,{"$f":"IF($C543>0,VLOOKUP($C543,[1]Μητρώο!$A:$F,3,FALSE),\"\")","v":""},{"$f":"IF($C543>0,VLOOKUP($C543,[1]Μητρώο!$A:$F,5,FALSE),\"\")","v":""},{"$f":"IF(COUNTIF([1]Rankings!$B:$B,RIGHT($I543,2)&\"-\"&$C543)>0,IF($C543>0,VLOOKUP(RIGHT($I543,2)&\"-\"&$C543,[1]Rankings!$B:$H,7,FALSE),\"\"),0)","v":0},{"$f":"IF($C543>0,VLOOKUP($C543,[1]Μητρώο!$A:$F,4,FALSE),\"\")","v":""}]
[537,537,null,{"$f":"IF($C544>0,VLOOKUP($C544,[1]Μητρώο!$A:$F,3,FALSE),\"\")","v":""},{"$f":"IF($C544>0,VLOOKUP($C544,[1]Μητρώο!$A:$F,5,FALSE),\"\")","v":""},{"$f":"IF(COUNTIF([1]Rankings!$B:$B,RIGHT($I544,2)&\"-\"&$C544)>0,IF($C544>0,VLOOKUP(RIGHT($I544,2)&\"-\"&$C544,[1]Rankings!$B:$H,7,FALSE),\"\"),0)","v":0},{"$f":"IF($C544>0,VLOOKUP($C544,[1]Μητρώο!$A:$F,4,FALSE),\"\")","v":""}]
[538,538,null,{"$f":"IF($C545>0,VLOOKUP($C545,[1]Μητρώο!$A:$F,3,FALSE),\"\")","v":""},{"$f":"IF($C545>0,VLOOKUP($C545,[1]Μητρώο!$A:$F,5,FALSE),\"\")","v":""},{"$f":"IF(COUNTIF([1]Rankings!$B:$B,RIGHT($I545,2)&\"-\"&$C545)>0,IF($C545>0,VLOOKUP(RIGHT($I545,2)&\"-\"&$C545,[1]Rankings!$B:$H,7,FALSE),\"\"),0)","v":0},{"$f":"IF($C545>0,VLOOKUP($C545,[1]Μητρώο!$A:$F,4,FALSE),\"\")","v":""}]
[539,539,null,{"$f":"IF($C546>0,VLOOKUP($C546,[1]Μητρώο!$A:$F,3,FALSE),\"\")","v":""},{"$f":"IF($C546>0,VLOOKUP($C546,[1]Μητρώο!$A:$F,5,FALSE),\"\")","v":""},{"$f":"IF(COUNTIF([1]Rankings!$B:$B,RIGHT($I546,2)&\"-\"&$C546)>0,IF($C546>0,VLOOKUP(RIGHT($I546,2)&\"-\"&$C546,[1]Rankings!$B:$H,7,FALSE),\"\"),0)","v":0},{"$f":"IF($C546>0,VLOOKUP($C546,[1]Μητρώο!$A:$F,4,FALSE),\"\")","v":""}]
[540,540,null,{"$f":"IF($C547>0,VLOOKUP($C547,[1]Μητρώο!$A:$F,3,FALSE),\"\")","v":""},{"$f":"IF($C547>0,VLOOKUP($C547,[1]Μητρώο!$A:$F,5,FALSE),\"\")","v":""},{"$f":"IF(COUNTIF([1]Rankings!$B:$B,RIGHT($I547,2)&\"-\"&$C547)>0,IF($C547>0,VLOOKUP(RIGHT($I547,2)&\"-\"&$C547,[1]Rankings!$B:$H,7,FALSE),\"\"),0)","v":0},{"$f":"IF($C547>0,VLOOKUP($C547,[1]Μητρώο!$A:$F,4,FALSE),\"\")","v":""}]
[541,541,null,{"$f":"IF($C548>0,VLOOKUP($C548,[1]Μητρώο!$A:$F,3,FALSE),\"\")","v":""},{"$f":"IF($C548>0,VLOOKUP($C548,[1]Μητρώο!$A:$F,5,FALSE),\"\")","v":""},{"$f":"IF(COUNTIF([1]Rankings!$B:$B,RIGHT($I548,2)&\"-\"&$C548)>0,IF($C548>0,VLOOKUP(RIGHT($I548,2)&\"-\"&$C548,[1]Rankings!$B:$H,7,FALSE),\"\"),0)","v":0},{"$f":"IF($C548>0,VLOOKUP($C548,[1]Μητρώο!$A:$F,4,FALSE),\"\")","v":""}]
[542,542,null,{"$f":"IF($C549>0,VLOOKUP($C549,[1]Μητρώο!$A:$F,3,FALSE),\"\")","v":""},{"$f":"IF($C549>0,VLOOKUP($C549,[1]Μητρώο!$A:$F,5,FALSE),\"\")","v":""},{"$f":"IF(COUNTIF([1]Rankings!$B:$B,RIGHT($I549,2)&\"-\"&$C549)>0,IF($C549>0,VLOOKUP(RIGHT($I549,2)&\"-\"&$C549,[1]Rankings!$B:$H,7,FALSE),\"\"),0)","v":0},{"$f":"IF($C549>0,VLOOKUP($C549,[1]Μητρώο!$A:$F,4,FALSE),\"\")","v":""}]
[543,543,null,{"$f":"IF($C550>0,VLOOKUP($C550,[1]Μητρώο!$A:$F,3,FALSE),\"\")","v":""},{"$f":"IF($C550>0,VLOOKUP($C550,[1]Μητρώο!$A:$F,5,FALSE),\"\")","v":""},{"$f":"IF(COUNTIF([1]Rankings!$B:$B,RIGHT($I550,2)&\"-\"&$C550)>0,IF($C550>0,VLOOKUP(RIGHT($I550,2)&\"-\"&$C550,[1]Rankings!$B:$H,7,FALSE),\"\"),0)","v":0},{"$f":"IF($C550>0,VLOOKUP($C550,[1]Μητρώο!$A:$F,4,FALSE),\"\")","v":""}]
[544,544,null,{"$f":"IF($C551>0,VLOOKUP($C551,[1]Μητρώο!$A:$F,3,FALSE),\"\")","v":""},{"$f":"IF($C551>0,VLOOKUP($C551,[1]Μητρώο!$A:$F,5,FALSE),\"\")","v":""},{"$f":"IF(COUNTIF([1]Rankings!$B:$B,RIGHT($I551,2)&\"-\"&$C551)>0,IF($C551>0,VLOOKUP(RIGHT($I551,2)&\"-\"&$C551,[1]Rankings!$B:$H,7,FALSE),\"\"),0)","v":0},{"$f":"IF($C551>0,VLOOKUP($C551,[1]Μητρώο!$A:$F,4,FALSE),\"\")","v":""}]
[545,545,null,{"$f":"IF($C552>0,VLOOKUP($C552,[1]Μητρώο!$A:$F,3,FALSE),\"\")","v":""},{"$f":"IF($C552>0,VLOOKUP($C552,[1]Μητρώο!$A:$F,5,FALSE),\"\")","v":""},{"$f":"IF(COUNTIF([1]Rankings!$B:$B,RIGHT($I552,2)&\"-\"&$C552)>0,IF($C552>0,VLOOKUP(RIGHT($I552,2)&\"-\"&$C552,[1]Rankings!$B:$H,7,FALSE),\"\"),0)","v":0},{"$f":"IF($C552>0,VLOOKUP($C552,[1]Μητρώο!$A:$F,4,FALSE),\"\")","v":""}]
[546,546,null,{"$f":"IF($C553>0,VLOOKUP($C553,[1]Μητρώο!$A:$F,3,FALSE),\"\")","v":""},{"$f":"IF($C553>0,VLOOKUP($C553,[1]Μητρώο!$A:$F,5,FALSE),\"\")","v":""},{"$f":"IF(COUNTIF([1]Rankings!$B:$B,RIGHT($I553,2)&\"-\"&$C553)>0,IF($C553>0,VLOOKUP(RIGHT($I553,2)&\"-\"&$C553,[1]Rankings!$B:$H,7,FALSE),\"\"),0)","v":0},{"$f":"IF($C553>0,VLOOKUP($C553,[1]Μητρώο!$A:$F,4,FALSE),\"\")","v":""}]
[547,547,null,{"$f":"IF($C554>0,VLOOKUP($C554,[1]Μητρώο!$A:$F,3,FALSE),\"\")","v":""},{"$f":"IF($C554>0,VLOOKUP($C554,[1]Μητρώο!$A:$F,5,FALSE),\"\")","v":""},{"$f":"IF(COUNTIF([1]Rankings!$B:$B,RIGHT($I554,2)&\"-\"&$C554)>0,IF($C554>0,VLOOKUP(RIGHT($I554,2)&\"-\"&$C554,[1]Rankings!$B:$H,7,FALSE),\"\"),0)","v":0},{"$f":"IF($C554>0,VLOOKUP($C554,[1]Μητρώο!$A:$F,4,FALSE),\"\")","v":""}]
[548,548,null,{"$f":"IF($C555>0,VLOOKUP($C555,[1]Μητρώο!$A:$F,3,FALSE),\"\")","v":""},{"$f":"IF($C555>0,VLOOKUP($C555,[1]Μητρώο!$A:$F,5,FALSE),\"\")","v":""},{"$f":"IF(COUNTIF([1]Rankings!$B:$B,RIGHT($I555,2)&\"-\"&$C555)>0,IF($C555>0,VLOOKUP(RIGHT($I555,2)&\"-\"&$C555,[1]Rankings!$B:$H,7,FALSE),\"\"),0)","v":0},{"$f":"IF($C555>0,VLOOKUP($C555,[1]Μητρώο!$A:$F,4,FALSE),\"\")","v":""}]
[549,549,null,{"$f":"IF($C556>0,VLOOKUP($C556,[1]Μητρώο!$A:$F,3,FALSE),\"\")","v":""},{"$f":"IF($C556>0,VLOOKUP($C556,[1]Μητρώο!$A:$F,5,FALSE),\"\")","v":""},{"$f":"IF(COUNTIF([1]Rankings!$B:$B,RIGHT($I556,2)&\"-\"&$C556)>0,IF($C556>0,VLOOKUP(RIGHT($I556,2)&\"-\"&$C556,[1]Rankings!$B:$H,7,FALSE),\"\"),0)","v":0},{"$f":"IF($C556>0,VLOOKUP($C556,[1]Μητρώο!$A:$F,4,FALSE),\"\")","v":""}]
[550,550,null,{"$f":"IF($C557>0,VLOOKUP($C557,[1]Μητρώο!$A:$F,3,FALSE),\"\")","v":""},{"$f":"IF($C557>0,VLOOKUP($C557,[1]Μητρώο!$A:$F,5,FALSE),\"\")","v":""},{"$f":"IF(COUNTIF([1]Rankings!$B:$B,RIGHT($I557,2)&\"-\"&$C557)>0,IF($C557>0,VLOOKUP(RIGHT($I557,2)&\"-\"&$C557,[1]Rankings!$B:$H,7,FALSE),\"\"),0)","v":0},{"$f":"IF($C557>0,VLOOKUP($C557,[1]Μητρώο!$A:$F,4,FALSE),\"\")","v":""}]
[551,551,null,{"$f":"IF($C558>0,VLOOKUP($C558,[1]Μητρώο!$A:$F,3,FALSE),\"\")","v":""},{"$f":"IF($C558>0,VLOOKUP($C558,[1]Μητρώο!$A:$F,5,FALSE),\"\")","v":""},{"$f":"IF(COUNTIF([1]Rankings!$B:$B,RIGHT($I558,2)&\"-\"&$C558)>0,IF($C558>0,VLOOKUP(RIGHT($I558,2)&\"-\"&$C558,[1]Rankings!$B:$H,7,FALSE),\"\"),0)","v":0},{"$f":"IF($C558>0,VLOOKUP($C558,[1]Μητρώο!$A:$F,4,FALSE),\"\")","v":""}]
[552,552,null,{"$f":"IF($C559>0,VLOOKUP($C559,[1]Μητρώο!$A:$F,3,FALSE),\"\")","v":""},{"$f":"IF($C559>0,VLOOKUP($C559,[1]Μητρώο!$A:$F,5,FALSE),\"\")","v":""},{"$f":"IF(COUNTIF([1]Rankings!$B:$B,RIGHT($I559,2)&\"-\"&$C559)>0,IF($C559>0,VLOOKUP(RIGHT($I559,2)&\"-\"&$C559,[1]Rankings!$B:$H,7,FALSE),\"\"),0)","v":0},{"$f":"IF($C559>0,VLOOKUP($C559,[1]Μητρώο!$A:$F,4,FALSE),\"\")","v":""}]
[553,553,null,{"$f":"IF($C560>0,VLOOKUP($C560,[1]Μητρώο!$A:$F,3,FALSE),\"\")","v":""},{"$f":"IF($C560>0,VLOOKUP($C560,[1]Μητρώο!$A:$F,5,FALSE),\"\")","v":""},{"$f":"IF(COUNTIF([1]Rankings!$B:$B,RIGHT($I560,2)&\"-\"&$C560)>0,IF($C560>0,VLOOKUP(RIGHT($I560,2)&\"-\"&$C560,[1]Rankings!$B:$H,7,FALSE),\"\"),0)","v":0},{"$f":"IF($C560>0,VLOOKUP($C560,[1]Μητρώο!$A:$F,4,FALSE),\"\")","v":""}]
[554,554,null,{"$f":"IF($C561>0,VLOOKUP($C561,[1]Μητρώο!$A:$F,3,FALSE),\"\")","v":""},{"$f":"IF($C561>0,VLOOKUP($C561,[1]Μητρώο!$A:$F,5,FALSE),\"\")","v":""},{"$f":"IF(COUNTIF([1]Rankings!$B:$B,RIGHT($I561,2)&\"-\"&$C561)>0,IF($C561>0,VLOOKUP(RIGHT($I561,2)&\"-\"&$C561,[1]Rankings!$B:$H,7,FALSE),\"\"),0)","v":0},{"$f":"IF($C561>0,VLOOKUP($C561,[1]Μητρώο!$A:$F,4,FALSE),\"\")","v":""}]
[555,555,null,{"$f":"IF($C562>0,VLOOKUP($C562,[1]Μητρώο!$A:$F,3,FALSE),\"\")","v":""},{"$f":"IF($C562>0,VLOOKUP($C562,[1]Μητρώο!$A:$F,5,FALSE),\"\")","v":""},{"$f":"IF(COUNTIF([1]Rankings!$B:$B,RIGHT($I562,2)&\"-\"&$C562)>0,IF($C562>0,VLOOKUP(RIGHT($I562,2)&\"-\"&$C562,[1]Rankings!$B:$H,7,FALSE),\"\"),0)","v":0},{"$f":"IF($C562>0,VLOOKUP($C562,[1]Μητρώο!$A:$F,4,FALSE),\"\")","v":""}]
[556,556,null,{"$f":"IF($C563>0,VLOOKUP($C563,[1]Μητρώο!$A:$F,3,FALSE),\"\")","v":""},{"$f":"IF($C563>0,VLOOKUP($C563,[1]Μητρώο!$A:$F,5,FALSE),\"\")","v":""},{"$f":"IF(COUNTIF([1]Rankings!$B:$B,RIGHT($I563,2)&\"-\"&$C563)>0,IF($C563>0,VLOOKUP(RIGHT($I563,2)&\"-\"&$C563,[1]Rankings!$B:$H,7,FALSE),\"\"),0)","v":0},{"$f":"IF($C563>0,VLOOKUP($C563,[1]Μητρώο!$A:$F,4,FALSE),\"\")","v":""}]
[557,557,null,{"$f":"IF($C564>0,VLOOKUP($C564,[1]Μητρώο!$A:$F,3,FALSE),\"\")","v":""},{"$f":"IF($C564>0,VLOOKUP($C564,[1]Μητρώο!$A:$F,5,FALSE),\"\")","v":""},{"$f":"IF(COUNTIF([1]Rankings!$B:$B,RIGHT($I564,2)&\"-\"&$C564)>0,IF($C564>0,VLOOKUP(RIGHT($I564,2)&\"-\"&$C564,[1]Rankings!$B:$H,7,FALSE),\"\"),0)","v":0},{"$f":"IF($C564>0,VLOOKUP($C564,[1]Μητρώο!$A:$F,4,FALSE),\"\")","v":""}]
[558,558,null,{"$f":"IF($C565>0,VLOOKUP($C565,[1]Μητρώο!$A:$F,3,FALSE),\"\")","v":""},{"$f":"IF($C565>0,VLOOKUP($C565,[1]Μητρώο!$A:$F,5,FALSE),\"\")","v":""},{"$f":"IF(COUNTIF([1]Rankings!$B:$B,RIGHT($I565,2)&\"-\"&$C565)>0,IF($C565>0,VLOOKUP(RIGHT($I565,2)&\"-\"&$C565,[1]Rankings!$B:$H,7,FALSE),\"\"),0)","v":0},{"$f":"IF($C565>0,VLOOKUP($C565,[1]Μητρώο!$A:$F,4,FALSE),\"\")","v":""}]
[559,559,null,{"$f":"IF($C566>0,VLOOKUP($C566,[1]Μητρώο!$A:$F,3,FALSE),\"\")","v":""},{"$f":"IF($C566>0,VLOOKUP($C566,[1]Μητρώο!$A:$F,5,FALSE),\"\")","v":""},{"$f":"IF(COUNTIF([1]Rankings!$B:$B,RIGHT($I566,2)&\"-\"&$C566)>0,IF($C566>0,VLOOKUP(RIGHT($I566,2)&\"-\"&$C566,[1]Rankings!$B:$H,7,FALSE),\"\"),0)","v":0},{"$f":"IF($C566>0,VLOOKUP($C566,[1]Μητρώο!$A:$F,4,FALSE),\"\")","v":""}]
[560,560,null,{"$f":"IF($C567>0,VLOOKUP($C567,[1]Μητρώο!$A:$F,3,FALSE),\"\")","v":""},{"$f":"IF($C567>0,VLOOKUP($C567,[1]Μητρώο!$A:$F,5,FALSE),\"\")","v":""},{"$f":"IF(COUNTIF([1]Rankings!$B:$B,RIGHT($I567,2)&\"-\"&$C567)>0,IF($C567>0,VLOOKUP(RIGHT($I567,2)&\"-\"&$C567,[1]Rankings!$B:$H,7,FALSE),\"\"),0)","v":0},{"$f":"IF($C567>0,VLOOKUP($C567,[1]Μητρώο!$A:$F,4,FALSE),\"\")","v":""}]
[561,561,null,{"$f":"IF($C568>0,VLOOKUP($C568,[1]Μητρώο!$A:$F,3,FALSE),\"\")","v":""},{"$f":"IF($C568>0,VLOOKUP($C568,[1]Μητρώο!$A:$F,5,FALSE),\"\")","v":""},{"$f":"IF(COUNTIF([1]Rankings!$B:$B,RIGHT($I568,2)&\"-\"&$C568)>0,IF($C568>0,VLOOKUP(RIGHT($I568,2)&\"-\"&$C568,[1]Rankings!$B:$H,7,FALSE),\"\"),0)","v":0},{"$f":"IF($C568>0,VLOOKUP($C568,[1]Μητρώο!$A:$F,4,FALSE),\"\")","v":""}]
[562,562,null,{"$f":"IF($C569>0,VLOOKUP($C569,[1]Μητρώο!$A:$F,3,FALSE),\"\")","v":""},{"$f":"IF($C569>0,VLOOKUP($C569,[1]Μητρώο!$A:$F,5,FALSE),\"\")","v":""},{"$f":"IF(COUNTIF([1]Rankings!$B:$B,RIGHT($I569,2)&\"-\"&$C569)>0,IF($C569>0,VLOOKUP(RIGHT($I569,2)&\"-\"&$C569,[1]Rankings!$B:$H,7,FALSE),\"\"),0)","v":0},{"$f":"IF($C569>0,VLOOKUP($C569,[1]Μητρώο!$A:$F,4,FALSE),\"\")","v":""}]
[563,563,null,{"$f":"IF($C570>0,VLOOKUP($C570,[1]Μητρώο!$A:$F,3,FALSE),\"\")","v":""},{"$f":"IF($C570>0,VLOOKUP($C570,[1]Μητρώο!$A:$F,5,FALSE),\"\")","v":""},{"$f":"IF(COUNTIF([1]Rankings!$B:$B,RIGHT($I570,2)&\"-\"&$C570)>0,IF($C570>0,VLOOKUP(RIGHT($I570,2)&\"-\"&$C570,[1]Rankings!$B:$H,7,FALSE),\"\"),0)","v":0},{"$f":"IF($C570>0,VLOOKUP($C570,[1]Μητρώο!$A:$F,4,FALSE),\"\")","v":""}]
[564,564,null,{"$f":"IF($C571>0,VLOOKUP($C571,[1]Μητρώο!$A:$F,3,FALSE),\"\")","v":""},{"$f":"IF($C571>0,VLOOKUP($C571,[1]Μητρώο!$A:$F,5,FALSE),\"\")","v":""},{"$f":"IF(COUNTIF([1]Rankings!$B:$B,RIGHT($I571,2)&\"-\"&$C571)>0,IF($C571>0,VLOOKUP(RIGHT($I571,2)&\"-\"&$C571,[1]Rankings!$B:$H,7,FALSE),\"\"),0)","v":0},{"$f":"IF($C571>0,VLOOKUP($C571,[1]Μητρώο!$A:$F,4,FALSE),\"\")","v":""}]
[565,565,null,{"$f":"IF($C572>0,VLOOKUP($C572,[1]Μητρώο!$A:$F,3,FALSE),\"\")","v":""},{"$f":"IF($C572>0,VLOOKUP($C572,[1]Μητρώο!$A:$F,5,FALSE),\"\")","v":""},{"$f":"IF(COUNTIF([1]Rankings!$B:$B,RIGHT($I572,2)&\"-\"&$C572)>0,IF($C572>0,VLOOKUP(RIGHT($I572,2)&\"-\"&$C572,[1]Rankings!$B:$H,7,FALSE),\"\"),0)","v":0},{"$f":"IF($C572>0,VLOOKUP($C572,[1]Μητρώο!$A:$F,4,FALSE),\"\")","v":""}]
[566,566,null,{"$f":"IF($C573>0,VLOOKUP($C573,[1]Μητρώο!$A:$F,3,FALSE),\"\")","v":""},{"$f":"IF($C573>0,VLOOKUP($C573,[1]Μητρώο!$A:$F,5,FALSE),\"\")","v":""},{"$f":"IF(COUNTIF([1]Rankings!$B:$B,RIGHT($I573,2)&\"-\"&$C573)>0,IF($C573>0,VLOOKUP(RIGHT($I573,2)&\"-\"&$C573,[1]Rankings!$B:$H,7,FALSE),\"\"),0)","v":0},{"$f":"IF($C573>0,VLOOKUP($C573,[1]Μητρώο!$A:$F,4,FALSE),\"\")","v":""}]
[567,567,null,{"$f":"IF($C574>0,VLOOKUP($C574,[1]Μητρώο!$A:$F,3,FALSE),\"\")","v":""},{"$f":"IF($C574>0,VLOOKUP($C574,[1]Μητρώο!$A:$F,5,FALSE),\"\")","v":""},{"$f":"IF(COUNTIF([1]Rankings!$B:$B,RIGHT($I574,2)&\"-\"&$C574)>0,IF($C574>0,VLOOKUP(RIGHT($I574,2)&\"-\"&$C574,[1]Rankings!$B:$H,7,FALSE),\"\"),0)","v":0},{"$f":"IF($C574>0,VLOOKUP($C574,[1]Μητρώο!$A:$F,4,FALSE),\"\")","v":""}]
[568,568,null,{"$f":"IF($C575>0,VLOOKUP($C575,[1]Μητρώο!$A:$F,3,FALSE),\"\")","v":""},{"$f":"IF($C575>0,VLOOKUP($C575,[1]Μητρώο!$A:$F,5,FALSE),\"\")","v":""},{"$f":"IF(COUNTIF([1]Rankings!$B:$B,RIGHT($I575,2)&\"-\"&$C575)>0,IF($C575>0,VLOOKUP(RIGHT($I575,2)&\"-\"&$C575,[1]Rankings!$B:$H,7,FALSE),\"\"),0)","v":0},{"$f":"IF($C575>0,VLOOKUP($C575,[1]Μητρώο!$A:$F,4,FALSE),\"\")","v":""}]
[569,569,null,{"$f":"IF($C576>0,VLOOKUP($C576,[1]Μητρώο!$A:$F,3,FALSE),\"\")","v":""},{"$f":"IF($C576>0,VLOOKUP($C576,[1]Μητρώο!$A:$F,5,FALSE),\"\")","v":""},{"$f":"IF(COUNTIF([1]Rankings!$B:$B,RIGHT($I576,2)&\"-\"&$C576)>0,IF($C576>0,VLOOKUP(RIGHT($I576,2)&\"-\"&$C576,[1]Rankings!$B:$H,7,FALSE),\"\"),0)","v":0},{"$f":"IF($C576>0,VLOOKUP($C576,[1]Μητρώο!$A:$F,4,FALSE),\"\")","v":""}]
[570,570,null,{"$f":"IF($C577>0,VLOOKUP($C577,[1]Μητρώο!$A:$F,3,FALSE),\"\")","v":""},{"$f":"IF($C577>0,VLOOKUP($C577,[1]Μητρώο!$A:$F,5,FALSE),\"\")","v":""},{"$f":"IF(COUNTIF([1]Rankings!$B:$B,RIGHT($I577,2)&\"-\"&$C577)>0,IF($C577>0,VLOOKUP(RIGHT($I577,2)&\"-\"&$C577,[1]Rankings!$B:$H,7,FALSE),\"\"),0)","v":0},{"$f":"IF($C577>0,VLOOKUP($C577,[1]Μητρώο!$A:$F,4,FALSE),\"\")","v":""}]
[571,571,null,{"$f":"IF($C578>0,VLOOKUP($C578,[1]Μητρώο!$A:$F,3,FALSE),\"\")","v":""},{"$f":"IF($C578>0,VLOOKUP($C578,[1]Μητρώο!$A:$F,5,FALSE),\"\")","v":""},{"$f":"IF(COUNTIF([1]Rankings!$B:$B,RIGHT($I578,2)&\"-\"&$C578)>0,IF($C578>0,VLOOKUP(RIGHT($I578,2)&\"-\"&$C578,[1]Rankings!$B:$H,7,FALSE),\"\"),0)","v":0},{"$f":"IF($C578>0,VLOOKUP($C578,[1]Μητρώο!$A:$F,4,FALSE),\"\")","v":""}]
[572,572,null,{"$f":"IF($C579>0,VLOOKUP($C579,[1]Μητρώο!$A:$F,3,FALSE),\"\")","v":""},{"$f":"IF($C579>0,VLOOKUP($C579,[1]Μητρώο!$A:$F,5,FALSE),\"\")","v":""},{"$f":"IF(COUNTIF([1]Rankings!$B:$B,RIGHT($I579,2)&\"-\"&$C579)>0,IF($C579>0,VLOOKUP(RIGHT($I579,2)&\"-\"&$C579,[1]Rankings!$B:$H,7,FALSE),\"\"),0)","v":0},{"$f":"IF($C579>0,VLOOKUP($C579,[1]Μητρώο!$A:$F,4,FALSE),\"\")","v":""}]
[573,573,null,{"$f":"IF($C580>0,VLOOKUP($C580,[1]Μητρώο!$A:$F,3,FALSE),\"\")","v":""},{"$f":"IF($C580>0,VLOOKUP($C580,[1]Μητρώο!$A:$F,5,FALSE),\"\")","v":""},{"$f":"IF(COUNTIF([1]Rankings!$B:$B,RIGHT($I580,2)&\"-\"&$C580)>0,IF($C580>0,VLOOKUP(RIGHT($I580,2)&\"-\"&$C580,[1]Rankings!$B:$H,7,FALSE),\"\"),0)","v":0},{"$f":"IF($C580>0,VLOOKUP($C580,[1]Μητρώο!$A:$F,4,FALSE),\"\")","v":""}]
[574,574,null,{"$f":"IF($C581>0,VLOOKUP($C581,[1]Μητρώο!$A:$F,3,FALSE),\"\")","v":""},{"$f":"IF($C581>0,VLOOKUP($C581,[1]Μητρώο!$A:$F,5,FALSE),\"\")","v":""},{"$f":"IF(COUNTIF([1]Rankings!$B:$B,RIGHT($I581,2)&\"-\"&$C581)>0,IF($C581>0,VLOOKUP(RIGHT($I581,2)&\"-\"&$C581,[1]Rankings!$B:$H,7,FALSE),\"\"),0)","v":0},{"$f":"IF($C581>0,VLOOKUP($C581,[1]Μητρώο!$A:$F,4,FALSE),\"\")","v":""}]
[575,575,null,{"$f":"IF($C582>0,VLOOKUP($C582,[1]Μητρώο!$A:$F,3,FALSE),\"\")","v":""},{"$f":"IF($C582>0,VLOOKUP($C582,[1]Μητρώο!$A:$F,5,FALSE),\"\")","v":""},{"$f":"IF(COUNTIF([1]Rankings!$B:$B,RIGHT($I582,2)&\"-\"&$C582)>0,IF($C582>0,VLOOKUP(RIGHT($I582,2)&\"-\"&$C582,[1]Rankings!$B:$H,7,FALSE),\"\"),0)","v":0},{"$f":"IF($C582>0,VLOOKUP($C582,[1]Μητρώο!$A:$F,4,FALSE),\"\")","v":""}]
[576,576,null,{"$f":"IF($C583>0,VLOOKUP($C583,[1]Μητρώο!$A:$F,3,FALSE),\"\")","v":""},{"$f":"IF($C583>0,VLOOKUP($C583,[1]Μητρώο!$A:$F,5,FALSE),\"\")","v":""},{"$f":"IF(COUNTIF([1]Rankings!$B:$B,RIGHT($I583,2)&\"-\"&$C583)>0,IF($C583>0,VLOOKUP(RIGHT($I583,2)&\"-\"&$C583,[1]Rankings!$B:$H,7,FALSE),\"\"),0)","v":0},{"$f":"IF($C583>0,VLOOKUP($C583,[1]Μητρώο!$A:$F,4,FALSE),\"\")","v":""}]
[577,{"$f":"IF(H584&I584=H583&I583,B583+1,1)","v":577},null,{"$f":"IF($C584>0,VLOOKUP($C584,[1]Μητρώο!$A:$F,3,FALSE),\"\")","v":""},{"$f":"IF($C584>0,VLOOKUP($C584,[1]Μητρώο!$A:$F,5,FALSE),\"\")","v":""},{"$f":"IF(COUNTIF([1]Rankings!$B:$B,RIGHT($I584,2)&\"-\"&$C584)>0,IF($C584>0,VLOOKUP(RIGHT($I584,2)&\"-\"&$C584,[1]Rankings!$B:$H,7,FALSE),\"\"),0)","v":0},{"$f":"IF($C584>0,VLOOKUP($C584,[1]Μητρώο!$A:$F,4,FALSE),\"\")","v":""}]
[578,578,null,{"$f":"IF($C585>0,VLOOKUP($C585,[1]Μητρώο!$A:$F,3,FALSE),\"\")","v":""},{"$f":"IF($C585>0,VLOOKUP($C585,[1]Μητρώο!$A:$F,5,FALSE),\"\")","v":""},{"$f":"IF(COUNTIF([1]Rankings!$B:$B,RIGHT($I585,2)&\"-\"&$C585)>0,IF($C585>0,VLOOKUP(RIGHT($I585,2)&\"-\"&$C585,[1]Rankings!$B:$H,7,FALSE),\"\"),0)","v":0},{"$f":"IF($C585>0,VLOOKUP($C585,[1]Μητρώο!$A:$F,4,FALSE),\"\")","v":""}]
[579,579,null,{"$f":"IF($C586>0,VLOOKUP($C586,[1]Μητρώο!$A:$F,3,FALSE),\"\")","v":""},{"$f":"IF($C586>0,VLOOKUP($C586,[1]Μητρώο!$A:$F,5,FALSE),\"\")","v":""},{"$f":"IF(COUNTIF([1]Rankings!$B:$B,RIGHT($I586,2)&\"-\"&$C586)>0,IF($C586>0,VLOOKUP(RIGHT($I586,2)&\"-\"&$C586,[1]Rankings!$B:$H,7,FALSE),\"\"),0)","v":0},{"$f":"IF($C586>0,VLOOKUP($C586,[1]Μητρώο!$A:$F,4,FALSE),\"\")","v":""}]
[580,580,null,{"$f":"IF($C587>0,VLOOKUP($C587,[1]Μητρώο!$A:$F,3,FALSE),\"\")","v":""},{"$f":"IF($C587>0,VLOOKUP($C587,[1]Μητρώο!$A:$F,5,FALSE),\"\")","v":""},{"$f":"IF(COUNTIF([1]Rankings!$B:$B,RIGHT($I587,2)&\"-\"&$C587)>0,IF($C587>0,VLOOKUP(RIGHT($I587,2)&\"-\"&$C587,[1]Rankings!$B:$H,7,FALSE),\"\"),0)","v":0},{"$f":"IF($C587>0,VLOOKUP($C587,[1]Μητρώο!$A:$F,4,FALSE),\"\")","v":""}]
[581,581,null,{"$f":"IF($C588>0,VLOOKUP($C588,[1]Μητρώο!$A:$F,3,FALSE),\"\")","v":""},{"$f":"IF($C588>0,VLOOKUP($C588,[1]Μητρώο!$A:$F,5,FALSE),\"\")","v":""},{"$f":"IF(COUNTIF([1]Rankings!$B:$B,RIGHT($I588,2)&\"-\"&$C588)>0,IF($C588>0,VLOOKUP(RIGHT($I588,2)&\"-\"&$C588,[1]Rankings!$B:$H,7,FALSE),\"\"),0)","v":0},{"$f":"IF($C588>0,VLOOKUP($C588,[1]Μητρώο!$A:$F,4,FALSE),\"\")","v":""}]
[582,582,null,{"$f":"IF($C589>0,VLOOKUP($C589,[1]Μητρώο!$A:$F,3,FALSE),\"\")","v":""},{"$f":"IF($C589>0,VLOOKUP($C589,[1]Μητρώο!$A:$F,5,FALSE),\"\")","v":""},{"$f":"IF(COUNTIF([1]Rankings!$B:$B,RIGHT($I589,2)&\"-\"&$C589)>0,IF($C589>0,VLOOKUP(RIGHT($I589,2)&\"-\"&$C589,[1]Rankings!$B:$H,7,FALSE),\"\"),0)","v":0},{"$f":"IF($C589>0,VLOOKUP($C589,[1]Μητρώο!$A:$F,4,FALSE),\"\")","v":""}]
[583,583,null,{"$f":"IF($C590>0,VLOOKUP($C590,[1]Μητρώο!$A:$F,3,FALSE),\"\")","v":""},{"$f":"IF($C590>0,VLOOKUP($C590,[1]Μητρώο!$A:$F,5,FALSE),\"\")","v":""},{"$f":"IF(COUNTIF([1]Rankings!$B:$B,RIGHT($I590,2)&\"-\"&$C590)>0,IF($C590>0,VLOOKUP(RIGHT($I590,2)&\"-\"&$C590,[1]Rankings!$B:$H,7,FALSE),\"\"),0)","v":0},{"$f":"IF($C590>0,VLOOKUP($C590,[1]Μητρώο!$A:$F,4,FALSE),\"\")","v":""}]
[584,584,null,{"$f":"IF($C591>0,VLOOKUP($C591,[1]Μητρώο!$A:$F,3,FALSE),\"\")","v":""},{"$f":"IF($C591>0,VLOOKUP($C591,[1]Μητρώο!$A:$F,5,FALSE),\"\")","v":""},{"$f":"IF(COUNTIF([1]Rankings!$B:$B,RIGHT($I591,2)&\"-\"&$C591)>0,IF($C591>0,VLOOKUP(RIGHT($I591,2)&\"-\"&$C591,[1]Rankings!$B:$H,7,FALSE),\"\"),0)","v":0},{"$f":"IF($C591>0,VLOOKUP($C591,[1]Μητρώο!$A:$F,4,FALSE),\"\")","v":""}]
[585,585,null,{"$f":"IF($C592>0,VLOOKUP($C592,[1]Μητρώο!$A:$F,3,FALSE),\"\")","v":""},{"$f":"IF($C592>0,VLOOKUP($C592,[1]Μητρώο!$A:$F,5,FALSE),\"\")","v":""},{"$f":"IF(COUNTIF([1]Rankings!$B:$B,RIGHT($I592,2)&\"-\"&$C592)>0,IF($C592>0,VLOOKUP(RIGHT($I592,2)&\"-\"&$C592,[1]Rankings!$B:$H,7,FALSE),\"\"),0)","v":0},{"$f":"IF($C592>0,VLOOKUP($C592,[1]Μητρώο!$A:$F,4,FALSE),\"\")","v":""}]
[586,586,null,{"$f":"IF($C593>0,VLOOKUP($C593,[1]Μητρώο!$A:$F,3,FALSE),\"\")","v":""},{"$f":"IF($C593>0,VLOOKUP($C593,[1]Μητρώο!$A:$F,5,FALSE),\"\")","v":""},{"$f":"IF(COUNTIF([1]Rankings!$B:$B,RIGHT($I593,2)&\"-\"&$C593)>0,IF($C593>0,VLOOKUP(RIGHT($I593,2)&\"-\"&$C593,[1]Rankings!$B:$H,7,FALSE),\"\"),0)","v":0},{"$f":"IF($C593>0,VLOOKUP($C593,[1]Μητρώο!$A:$F,4,FALSE),\"\")","v":""}]
[587,587,null,{"$f":"IF($C594>0,VLOOKUP($C594,[1]Μητρώο!$A:$F,3,FALSE),\"\")","v":""},{"$f":"IF($C594>0,VLOOKUP($C594,[1]Μητρώο!$A:$F,5,FALSE),\"\")","v":""},{"$f":"IF(COUNTIF([1]Rankings!$B:$B,RIGHT($I594,2)&\"-\"&$C594)>0,IF($C594>0,VLOOKUP(RIGHT($I594,2)&\"-\"&$C594,[1]Rankings!$B:$H,7,FALSE),\"\"),0)","v":0},{"$f":"IF($C594>0,VLOOKUP($C594,[1]Μητρώο!$A:$F,4,FALSE),\"\")","v":""}]
[588,588,null,{"$f":"IF($C595>0,VLOOKUP($C595,[1]Μητρώο!$A:$F,3,FALSE),\"\")","v":""},{"$f":"IF($C595>0,VLOOKUP($C595,[1]Μητρώο!$A:$F,5,FALSE),\"\")","v":""},{"$f":"IF(COUNTIF([1]Rankings!$B:$B,RIGHT($I595,2)&\"-\"&$C595)>0,IF($C595>0,VLOOKUP(RIGHT($I595,2)&\"-\"&$C595,[1]Rankings!$B:$H,7,FALSE),\"\"),0)","v":0},{"$f":"IF($C595>0,VLOOKUP($C595,[1]Μητρώο!$A:$F,4,FALSE),\"\")","v":""}]
[589,589,null,{"$f":"IF($C596>0,VLOOKUP($C596,[1]Μητρώο!$A:$F,3,FALSE),\"\")","v":""},{"$f":"IF($C596>0,VLOOKUP($C596,[1]Μητρώο!$A:$F,5,FALSE),\"\")","v":""},{"$f":"IF(COUNTIF([1]Rankings!$B:$B,RIGHT($I596,2)&\"-\"&$C596)>0,IF($C596>0,VLOOKUP(RIGHT($I596,2)&\"-\"&$C596,[1]Rankings!$B:$H,7,FALSE),\"\"),0)","v":0},{"$f":"IF($C596>0,VLOOKUP($C596,[1]Μητρώο!$A:$F,4,FALSE),\"\")","v":""}]
[590,590,null,{"$f":"IF($C597>0,VLOOKUP($C597,[1]Μητρώο!$A:$F,3,FALSE),\"\")","v":""},{"$f":"IF($C597>0,VLOOKUP($C597,[1]Μητρώο!$A:$F,5,FALSE),\"\")","v":""},{"$f":"IF(COUNTIF([1]Rankings!$B:$B,RIGHT($I597,2)&\"-\"&$C597)>0,IF($C597>0,VLOOKUP(RIGHT($I597,2)&\"-\"&$C597,[1]Rankings!$B:$H,7,FALSE),\"\"),0)","v":0},{"$f":"IF($C597>0,VLOOKUP($C597,[1]Μητρώο!$A:$F,4,FALSE),\"\")","v":""}]
[591,591,null,{"$f":"IF($C598>0,VLOOKUP($C598,[1]Μητρώο!$A:$F,3,FALSE),\"\")","v":""},{"$f":"IF($C598>0,VLOOKUP($C598,[1]Μητρώο!$A:$F,5,FALSE),\"\")","v":""},{"$f":"IF(COUNTIF([1]Rankings!$B:$B,RIGHT($I598,2)&\"-\"&$C598)>0,IF($C598>0,VLOOKUP(RIGHT($I598,2)&\"-\"&$C598,[1]Rankings!$B:$H,7,FALSE),\"\"),0)","v":0},{"$f":"IF($C598>0,VLOOKUP($C598,[1]Μητρώο!$A:$F,4,FALSE),\"\")","v":""}]
[592,592,null,{"$f":"IF($C599>0,VLOOKUP($C599,[1]Μητρώο!$A:$F,3,FALSE),\"\")","v":""},{"$f":"IF($C599>0,VLOOKUP($C599,[1]Μητρώο!$A:$F,5,FALSE),\"\")","v":""},{"$f":"IF(COUNTIF([1]Rankings!$B:$B,RIGHT($I599,2)&\"-\"&$C599)>0,IF($C599>0,VLOOKUP(RIGHT($I599,2)&\"-\"&$C599,[1]Rankings!$B:$H,7,FALSE),\"\"),0)","v":0},{"$f":"IF($C599>0,VLOOKUP($C599,[1]Μητρώο!$A:$F,4,FALSE),\"\")","v":""}]
[593,593,null,{"$f":"IF($C600>0,VLOOKUP($C600,[1]Μητρώο!$A:$F,3,FALSE),\"\")","v":""},{"$f":"IF($C600>0,VLOOKUP($C600,[1]Μητρώο!$A:$F,5,FALSE),\"\")","v":""},{"$f":"IF(COUNTIF([1]Rankings!$B:$B,RIGHT($I600,2)&\"-\"&$C600)>0,IF($C600>0,VLOOKUP(RIGHT($I600,2)&\"-\"&$C600,[1]Rankings!$B:$H,7,FALSE),\"\"),0)","v":0},{"$f":"IF($C600>0,VLOOKUP($C600,[1]Μητρώο!$A:$F,4,FALSE),\"\")","v":""}]
[594,594,null,{"$f":"IF($C601>0,VLOOKUP($C601,[1]Μητρώο!$A:$F,3,FALSE),\"\")","v":""},{"$f":"IF($C601>0,VLOOKUP($C601,[1]Μητρώο!$A:$F,5,FALSE),\"\")","v":""},{"$f":"IF(COUNTIF([1]Rankings!$B:$B,RIGHT($I601,2)&\"-\"&$C601)>0,IF($C601>0,VLOOKUP(RIGHT($I601,2)&\"-\"&$C601,[1]Rankings!$B:$H,7,FALSE),\"\"),0)","v":0},{"$f":"IF($C601>0,VLOOKUP($C601,[1]Μητρώο!$A:$F,4,FALSE),\"\")","v":""}]
[595,595,null,{"$f":"IF($C602>0,VLOOKUP($C602,[1]Μητρώο!$A:$F,3,FALSE),\"\")","v":""},{"$f":"IF($C602>0,VLOOKUP($C602,[1]Μητρώο!$A:$F,5,FALSE),\"\")","v":""},{"$f":"IF(COUNTIF([1]Rankings!$B:$B,RIGHT($I602,2)&\"-\"&$C602)>0,IF($C602>0,VLOOKUP(RIGHT($I602,2)&\"-\"&$C602,[1]Rankings!$B:$H,7,FALSE),\"\"),0)","v":0},{"$f":"IF($C602>0,VLOOKUP($C602,[1]Μητρώο!$A:$F,4,FALSE),\"\")","v":""}]
[596,596,null,{"$f":"IF($C603>0,VLOOKUP($C603,[1]Μητρώο!$A:$F,3,FALSE),\"\")","v":""},{"$f":"IF($C603>0,VLOOKUP($C603,[1]Μητρώο!$A:$F,5,FALSE),\"\")","v":""},{"$f":"IF(COUNTIF([1]Rankings!$B:$B,RIGHT($I603,2)&\"-\"&$C603)>0,IF($C603>0,VLOOKUP(RIGHT($I603,2)&\"-\"&$C603,[1]Rankings!$B:$H,7,FALSE),\"\"),0)","v":0},{"$f":"IF($C603>0,VLOOKUP($C603,[1]Μητρώο!$A:$F,4,FALSE),\"\")","v":""}]
[597,597,null,{"$f":"IF($C604>0,VLOOKUP($C604,[1]Μητρώο!$A:$F,3,FALSE),\"\")","v":""},{"$f":"IF($C604>0,VLOOKUP($C604,[1]Μητρώο!$A:$F,5,FALSE),\"\")","v":""},{"$f":"IF(COUNTIF([1]Rankings!$B:$B,RIGHT($I604,2)&\"-\"&$C604)>0,IF($C604>0,VLOOKUP(RIGHT($I604,2)&\"-\"&$C604,[1]Rankings!$B:$H,7,FALSE),\"\"),0)","v":0},{"$f":"IF($C604>0,VLOOKUP($C604,[1]Μητρώο!$A:$F,4,FALSE),\"\")","v":""}]
[598,598,null,{"$f":"IF($C605>0,VLOOKUP($C605,[1]Μητρώο!$A:$F,3,FALSE),\"\")","v":""},{"$f":"IF($C605>0,VLOOKUP($C605,[1]Μητρώο!$A:$F,5,FALSE),\"\")","v":""},{"$f":"IF(COUNTIF([1]Rankings!$B:$B,RIGHT($I605,2)&\"-\"&$C605)>0,IF($C605>0,VLOOKUP(RIGHT($I605,2)&\"-\"&$C605,[1]Rankings!$B:$H,7,FALSE),\"\"),0)","v":0},{"$f":"IF($C605>0,VLOOKUP($C605,[1]Μητρώο!$A:$F,4,FALSE),\"\")","v":""}]
[599,599,null,{"$f":"IF($C606>0,VLOOKUP($C606,[1]Μητρώο!$A:$F,3,FALSE),\"\")","v":""},{"$f":"IF($C606>0,VLOOKUP($C606,[1]Μητρώο!$A:$F,5,FALSE),\"\")","v":""},{"$f":"IF(COUNTIF([1]Rankings!$B:$B,RIGHT($I606,2)&\"-\"&$C606)>0,IF($C606>0,VLOOKUP(RIGHT($I606,2)&\"-\"&$C606,[1]Rankings!$B:$H,7,FALSE),\"\"),0)","v":0},{"$f":"IF($C606>0,VLOOKUP($C606,[1]Μητρώο!$A:$F,4,FALSE),\"\")","v":""}]
[600,600,null,{"$f":"IF($C607>0,VLOOKUP($C607,[1]Μητρώο!$A:$F,3,FALSE),\"\")","v":""},{"$f":"IF($C607>0,VLOOKUP($C607,[1]Μητρώο!$A:$F,5,FALSE),\"\")","v":""},{"$f":"IF(COUNTIF([1]Rankings!$B:$B,RIGHT($I607,2)&\"-\"&$C607)>0,IF($C607>0,VLOOKUP(RIGHT($I607,2)&\"-\"&$C607,[1]Rankings!$B:$H,7,FALSE),\"\"),0)","v":0},{"$f":"IF($C607>0,VLOOKUP($C607,[1]Μητρώο!$A:$F,4,FALSE),\"\")","v":""}]