{"text_format":"1","workbook":"xlsx","n_sheets":4,"sheets":["DB","Validations","Rankings","Μητρώο"],"not_rendered":{"charts":0,"images":0,"macros":1,"external_links":0,"defined_names":5,"comments":0,"pivot_tables":0},"unopened":[],"bounds":{"document_bytes":16777216,"sheet_cells":100000,"rows_first":2000,"rows_last":500,"rows_between":2000,"halvings":0,"cell_chars":16384,"cell_head_chars":4096},"cells_cut":0,"cells_raw":0,"read":"whole","date_system":"1900"}

{"sheet":"DB","index":0,"n_rows":752,"n_cols":11,"rows_kept":752,"cut":false,"hidden":false,"merged":[[0,4,0,5]]}
[null,null,null,null,"ΔΗΛΩΣΕΙΣ ΣΥΜΜΕΤΟΧΗΣ OPEN ΚΕΦΑΛΛΗΝΙΑΚΟΥ ΟΑ"]
["#","α/α","Κατηγ.","Α.Μ.","Ονοματεπώνυμο","Σύλλογος","Βαθμοί","Έτος"]
[1,{"$f":"IF(C3=C2,B2+1,1)","v":1},"MS",null,{"$f":"IF($D3>0,VLOOKUP($D3,Μητρώο!$A:$F,3,FALSE),\"\")","v":""},{"$f":"IF($D3>0,VLOOKUP($D3,Μητρώο!$A:$F,5,FALSE),\"\")","v":""},{"$f":"IF(COUNTIF(Rankings!$B:$B,RIGHT($C3,2)&\"-\"&$D3)>0,IF($D3>0,VLOOKUP(RIGHT($C3,2)&\"-\"&$D3,Rankings!$B:$G,6,FALSE),\"\"),0)","v":0},{"$f":"IF($D3>0,VLOOKUP($D3,Μητρώο!$A:$F,4,FALSE),\"\")","v":""}]
[2,{"$f":"IF(C4=C3,B3+1,1)","v":1},null,null,{"$f":"IF($D4>0,VLOOKUP($D4,Μητρώο!$A:$F,3,FALSE),\"\")","v":""},{"$f":"IF($D4>0,VLOOKUP($D4,Μητρώο!$A:$F,5,FALSE),\"\")","v":""},{"$f":"IF(COUNTIF(Rankings!$B:$B,RIGHT($C4,2)&\"-\"&$D4)>0,IF($D4>0,VLOOKUP(RIGHT($C4,2)&\"-\"&$D4,Rankings!$B:$G,6,FALSE),\"\"),0)","v":0},{"$f":"IF($D4>0,VLOOKUP($D4,Μητρώο!$A:$F,4,FALSE),\"\")","v":""}]
[3,2,null,null,{"$f":"IF($D5>0,VLOOKUP($D5,Μητρώο!$A:$F,3,FALSE),\"\")","v":""},{"$f":"IF($D5>0,VLOOKUP($D5,Μητρώο!$A:$F,5,FALSE),\"\")","v":""},{"$f":"IF(COUNTIF(Rankings!$B:$B,RIGHT($C5,2)&\"-\"&$D5)>0,IF($D5>0,VLOOKUP(RIGHT($C5,2)&\"-\"&$D5,Rankings!$B:$G,6,FALSE),\"\"),0)","v":0},{"$f":"IF($D5>0,VLOOKUP($D5,Μητρώο!$A:$F,4,FALSE),\"\")","v":""}]
[4,3,null,null,{"$f":"IF($D6>0,VLOOKUP($D6,Μητρώο!$A:$F,3,FALSE),\"\")","v":""},{"$f":"IF($D6>0,VLOOKUP($D6,Μητρώο!$A:$F,5,FALSE),\"\")","v":""},{"$f":"IF(COUNTIF(Rankings!$B:$B,RIGHT($C6,2)&\"-\"&$D6)>0,IF($D6>0,VLOOKUP(RIGHT($C6,2)&\"-\"&$D6,Rankings!$B:$G,6,FALSE),\"\"),0)","v":0},{"$f":"IF($D6>0,VLOOKUP($D6,Μητρώο!$A:$F,4,FALSE),\"\")","v":""}]
[5,4,null,null,{"$f":"IF($D7>0,VLOOKUP($D7,Μητρώο!$A:$F,3,FALSE),\"\")","v":""},{"$f":"IF($D7>0,VLOOKUP($D7,Μητρώο!$A:$F,5,FALSE),\"\")","v":""},{"$f":"IF(COUNTIF(Rankings!$B:$B,RIGHT($C7,2)&\"-\"&$D7)>0,IF($D7>0,VLOOKUP(RIGHT($C7,2)&\"-\"&$D7,Rankings!$B:$G,6,FALSE),\"\"),0)","v":0},{"$f":"IF($D7>0,VLOOKUP($D7,Μητρώο!$A:$F,4,FALSE),\"\")","v":""}]
[6,5,null,null,{"$f":"IF($D8>0,VLOOKUP($D8,Μητρώο!$A:$F,3,FALSE),\"\")","v":""},{"$f":"IF($D8>0,VLOOKUP($D8,Μητρώο!$A:$F,5,FALSE),\"\")","v":""},{"$f":"IF(COUNTIF(Rankings!$B:$B,RIGHT($C8,2)&\"-\"&$D8)>0,IF($D8>0,VLOOKUP(RIGHT($C8,2)&\"-\"&$D8,Rankings!$B:$G,6,FALSE),\"\"),0)","v":0},{"$f":"IF($D8>0,VLOOKUP($D8,Μητρώο!$A:$F,4,FALSE),\"\")","v":""}]
[7,6,null,null,{"$f":"IF($D9>0,VLOOKUP($D9,Μητρώο!$A:$F,3,FALSE),\"\")","v":""},{"$f":"IF($D9>0,VLOOKUP($D9,Μητρώο!$A:$F,5,FALSE),\"\")","v":""},{"$f":"IF(COUNTIF(Rankings!$B:$B,RIGHT($C9,2)&\"-\"&$D9)>0,IF($D9>0,VLOOKUP(RIGHT($C9,2)&\"-\"&$D9,Rankings!$B:$G,6,FALSE),\"\"),0)","v":0},{"$f":"IF($D9>0,VLOOKUP($D9,Μητρώο!$A:$F,4,FALSE),\"\")","v":""}]
[8,7,null,null,{"$f":"IF($D10>0,VLOOKUP($D10,Μητρώο!$A:$F,3,FALSE),\"\")","v":""},{"$f":"IF($D10>0,VLOOKUP($D10,Μητρώο!$A:$F,5,FALSE),\"\")","v":""},{"$f":"IF(COUNTIF(Rankings!$B:$B,RIGHT($C10,2)&\"-\"&$D10)>0,IF($D10>0,VLOOKUP(RIGHT($C10,2)&\"-\"&$D10,Rankings!$B:$G,6,FALSE),\"\"),0)","v":0},{"$f":"IF($D10>0,VLOOKUP($D10,Μητρώο!$A:$F,4,FALSE),\"\")","v":""}]
[9,8,null,null,{"$f":"IF($D11>0,VLOOKUP($D11,Μητρώο!$A:$F,3,FALSE),\"\")","v":""},{"$f":"IF($D11>0,VLOOKUP($D11,Μητρώο!$A:$F,5,FALSE),\"\")","v":""},{"$f":"IF(COUNTIF(Rankings!$B:$B,RIGHT($C11,2)&\"-\"&$D11)>0,IF($D11>0,VLOOKUP(RIGHT($C11,2)&\"-\"&$D11,Rankings!$B:$G,6,FALSE),\"\"),0)","v":0},{"$f":"IF($D11>0,VLOOKUP($D11,Μητρώο!$A:$F,4,FALSE),\"\")","v":""}]
[10,9,null,null,{"$f":"IF($D12>0,VLOOKUP($D12,Μητρώο!$A:$F,3,FALSE),\"\")","v":""},{"$f":"IF($D12>0,VLOOKUP($D12,Μητρώο!$A:$F,5,FALSE),\"\")","v":""},{"$f":"IF(COUNTIF(Rankings!$B:$B,RIGHT($C12,2)&\"-\"&$D12)>0,IF($D12>0,VLOOKUP(RIGHT($C12,2)&\"-\"&$D12,Rankings!$B:$G,6,FALSE),\"\"),0)","v":0},{"$f":"IF($D12>0,VLOOKUP($D12,Μητρώο!$A:$F,4,FALSE),\"\")","v":""}]
[11,10,null,null,{"$f":"IF($D13>0,VLOOKUP($D13,Μητρώο!$A:$F,3,FALSE),\"\")","v":""},{"$f":"IF($D13>0,VLOOKUP($D13,Μητρώο!$A:$F,5,FALSE),\"\")","v":""},{"$f":"IF(COUNTIF(Rankings!$B:$B,RIGHT($C13,2)&\"-\"&$D13)>0,IF($D13>0,VLOOKUP(RIGHT($C13,2)&\"-\"&$D13,Rankings!$B:$G,6,FALSE),\"\"),0)","v":0},{"$f":"IF($D13>0,VLOOKUP($D13,Μητρώο!$A:$F,4,FALSE),\"\")","v":""}]
[12,11,null,null,{"$f":"IF($D14>0,VLOOKUP($D14,Μητρώο!$A:$F,3,FALSE),\"\")","v":""},{"$f":"IF($D14>0,VLOOKUP($D14,Μητρώο!$A:$F,5,FALSE),\"\")","v":""},{"$f":"IF(COUNTIF(Rankings!$B:$B,RIGHT($C14,2)&\"-\"&$D14)>0,IF($D14>0,VLOOKUP(RIGHT($C14,2)&\"-\"&$D14,Rankings!$B:$G,6,FALSE),\"\"),0)","v":0},{"$f":"IF($D14>0,VLOOKUP($D14,Μητρώο!$A:$F,4,FALSE),\"\")","v":""}]
[13,12,null,null,{"$f":"IF($D15>0,VLOOKUP($D15,Μητρώο!$A:$F,3,FALSE),\"\")","v":""},{"$f":"IF($D15>0,VLOOKUP($D15,Μητρώο!$A:$F,5,FALSE),\"\")","v":""},{"$f":"IF(COUNTIF(Rankings!$B:$B,RIGHT($C15,2)&\"-\"&$D15)>0,IF($D15>0,VLOOKUP(RIGHT($C15,2)&\"-\"&$D15,Rankings!$B:$G,6,FALSE),\"\"),0)","v":0},{"$f":"IF($D15>0,VLOOKUP($D15,Μητρώο!$A:$F,4,FALSE),\"\")","v":""}]
[14,13,null,null,{"$f":"IF($D16>0,VLOOKUP($D16,Μητρώο!$A:$F,3,FALSE),\"\")","v":""},{"$f":"IF($D16>0,VLOOKUP($D16,Μητρώο!$A:$F,5,FALSE),\"\")","v":""},{"$f":"IF(COUNTIF(Rankings!$B:$B,RIGHT($C16,2)&\"-\"&$D16)>0,IF($D16>0,VLOOKUP(RIGHT($C16,2)&\"-\"&$D16,Rankings!$B:$G,6,FALSE),\"\"),0)","v":0},{"$f":"IF($D16>0,VLOOKUP($D16,Μητρώο!$A:$F,4,FALSE),\"\")","v":""}]
[15,14,null,null,{"$f":"IF($D17>0,VLOOKUP($D17,Μητρώο!$A:$F,3,FALSE),\"\")","v":""},{"$f":"IF($D17>0,VLOOKUP($D17,Μητρώο!$A:$F,5,FALSE),\"\")","v":""},{"$f":"IF(COUNTIF(Rankings!$B:$B,RIGHT($C17,2)&\"-\"&$D17)>0,IF($D17>0,VLOOKUP(RIGHT($C17,2)&\"-\"&$D17,Rankings!$B:$G,6,FALSE),\"\"),0)","v":0},{"$f":"IF($D17>0,VLOOKUP($D17,Μητρώο!$A:$F,4,FALSE),\"\")","v":""}]
[16,15,null,null,{"$f":"IF($D18>0,VLOOKUP($D18,Μητρώο!$A:$F,3,FALSE),\"\")","v":""},{"$f":"IF($D18>0,VLOOKUP($D18,Μητρώο!$A:$F,5,FALSE),\"\")","v":""},{"$f":"IF(COUNTIF(Rankings!$B:$B,RIGHT($C18,2)&\"-\"&$D18)>0,IF($D18>0,VLOOKUP(RIGHT($C18,2)&\"-\"&$D18,Rankings!$B:$G,6,FALSE),\"\"),0)","v":0},{"$f":"IF($D18>0,VLOOKUP($D18,Μητρώο!$A:$F,4,FALSE),\"\")","v":""}]
[17,16,null,null,{"$f":"IF($D19>0,VLOOKUP($D19,Μητρώο!$A:$F,3,FALSE),\"\")","v":""},{"$f":"IF($D19>0,VLOOKUP($D19,Μητρώο!$A:$F,5,FALSE),\"\")","v":""},{"$f":"IF(COUNTIF(Rankings!$B:$B,RIGHT($C19,2)&\"-\"&$D19)>0,IF($D19>0,VLOOKUP(RIGHT($C19,2)&\"-\"&$D19,Rankings!$B:$G,6,FALSE),\"\"),0)","v":0},{"$f":"IF($D19>0,VLOOKUP($D19,Μητρώο!$A:$F,4,FALSE),\"\")","v":""}]
[18,17,null,null,{"$f":"IF($D20>0,VLOOKUP($D20,Μητρώο!$A:$F,3,FALSE),\"\")","v":""},{"$f":"IF($D20>0,VLOOKUP($D20,Μητρώο!$A:$F,5,FALSE),\"\")","v":""},null,{"$f":"IF($D20>0,VLOOKUP($D20,Μητρώο!$A:$F,4,FALSE),\"\")","v":""},null,null," "]
[19,18,null,null,{"$f":"IF($D21>0,VLOOKUP($D21,Μητρώο!$A:$F,3,FALSE),\"\")","v":""},{"$f":"IF($D21>0,VLOOKUP($D21,Μητρώο!$A:$F,5,FALSE),\"\")","v":""},null,{"$f":"IF($D21>0,VLOOKUP($D21,Μητρώο!$A:$F,4,FALSE),\"\")","v":""}]
[20,19,null,null,{"$f":"IF($D22>0,VLOOKUP($D22,Μητρώο!$A:$F,3,FALSE),\"\")","v":""},{"$f":"IF($D22>0,VLOOKUP($D22,Μητρώο!$A:$F,5,FALSE),\"\")","v":""},null,{"$f":"IF($D22>0,VLOOKUP($D22,Μητρώο!$A:$F,4,FALSE),\"\")","v":""}]
[21,20,null,null,{"$f":"IF($D23>0,VLOOKUP($D23,Μητρώο!$A:$F,3,FALSE),\"\")","v":""},{"$f":"IF($D23>0,VLOOKUP($D23,Μητρώο!$A:$F,5,FALSE),\"\")","v":""},null,{"$f":"IF($D23>0,VLOOKUP($D23,Μητρώο!$A:$F,4,FALSE),\"\")","v":""}]
[22,21,null,null,{"$f":"IF($D24>0,VLOOKUP($D24,Μητρώο!$A:$F,3,FALSE),\"\")","v":""},{"$f":"IF($D24>0,VLOOKUP($D24,Μητρώο!$A:$F,5,FALSE),\"\")","v":""},null,{"$f":"IF($D24>0,VLOOKUP($D24,Μητρώο!$A:$F,4,FALSE),\"\")","v":""}]
[23,22,null,null,{"$f":"IF($D25>0,VLOOKUP($D25,Μητρώο!$A:$F,3,FALSE),\"\")","v":""},{"$f":"IF($D25>0,VLOOKUP($D25,Μητρώο!$A:$F,5,FALSE),\"\")","v":""},null,{"$f":"IF($D25>0,VLOOKUP($D25,Μητρώο!$A:$F,4,FALSE),\"\")","v":""}]
[24,23,null,null,{"$f":"IF($D26>0,VLOOKUP($D26,Μητρώο!$A:$F,3,FALSE),\"\")","v":""},{"$f":"IF($D26>0,VLOOKUP($D26,Μητρώο!$A:$F,5,FALSE),\"\")","v":""},null,{"$f":"IF($D26>0,VLOOKUP($D26,Μητρώο!$A:$F,4,FALSE),\"\")","v":""}]
[25,24,null,null,{"$f":"IF($D27>0,VLOOKUP($D27,Μητρώο!$A:$F,3,FALSE),\"\")","v":""},{"$f":"IF($D27>0,VLOOKUP($D27,Μητρώο!$A:$F,5,FALSE),\"\")","v":""},null,{"$f":"IF($D27>0,VLOOKUP($D27,Μητρώο!$A:$F,4,FALSE),\"\")","v":""}]
[26,25,null,null,{"$f":"IF($D28>0,VLOOKUP($D28,Μητρώο!$A:$F,3,FALSE),\"\")","v":""},{"$f":"IF($D28>0,VLOOKUP($D28,Μητρώο!$A:$F,5,FALSE),\"\")","v":""},null,{"$f":"IF($D28>0,VLOOKUP($D28,Μητρώο!$A:$F,4,FALSE),\"\")","v":""}]
[27,26,null,null,{"$f":"IF($D29>0,VLOOKUP($D29,Μητρώο!$A:$F,3,FALSE),\"\")","v":""},{"$f":"IF($D29>0,VLOOKUP($D29,Μητρώο!$A:$F,5,FALSE),\"\")","v":""},null,{"$f":"IF($D29>0,VLOOKUP($D29,Μητρώο!$A:$F,4,FALSE),\"\")","v":""}]
[28,27,null,null,{"$f":"IF($D30>0,VLOOKUP($D30,Μητρώο!$A:$F,3,FALSE),\"\")","v":""},{"$f":"IF($D30>0,VLOOKUP($D30,Μητρώο!$A:$F,5,FALSE),\"\")","v":""},null,{"$f":"IF($D30>0,VLOOKUP($D30,Μητρώο!$A:$F,4,FALSE),\"\")","v":""}]
[29,28,null,null,{"$f":"IF($D31>0,VLOOKUP($D31,Μητρώο!$A:$F,3,FALSE),\"\")","v":""},{"$f":"IF($D31>0,VLOOKUP($D31,Μητρώο!$A:$F,5,FALSE),\"\")","v":""},null,{"$f":"IF($D31>0,VLOOKUP($D31,Μητρώο!$A:$F,4,FALSE),\"\")","v":""}]
[30,29,null,null,{"$f":"IF($D32>0,VLOOKUP($D32,Μητρώο!$A:$F,3,FALSE),\"\")","v":""},{"$f":"IF($D32>0,VLOOKUP($D32,Μητρώο!$A:$F,5,FALSE),\"\")","v":""},null,{"$f":"IF($D32>0,VLOOKUP($D32,Μητρώο!$A:$F,4,FALSE),\"\")","v":""}]
[31,30,null,null,{"$f":"IF($D33>0,VLOOKUP($D33,Μητρώο!$A:$F,3,FALSE),\"\")","v":""},{"$f":"IF($D33>0,VLOOKUP($D33,Μητρώο!$A:$F,5,FALSE),\"\")","v":""},null,{"$f":"IF($D33>0,VLOOKUP($D33,Μητρώο!$A:$F,4,FALSE),\"\")","v":""}]
[32,31,null,null,{"$f":"IF($D34>0,VLOOKUP($D34,Μητρώο!$A:$F,3,FALSE),\"\")","v":""},{"$f":"IF($D34>0,VLOOKUP($D34,Μητρώο!$A:$F,5,FALSE),\"\")","v":""},null,{"$f":"IF($D34>0,VLOOKUP($D34,Μητρώο!$A:$F,4,FALSE),\"\")","v":""}]
[33,32,null,null,{"$f":"IF($D35>0,VLOOKUP($D35,Μητρώο!$A:$F,3,FALSE),\"\")","v":""},{"$f":"IF($D35>0,VLOOKUP($D35,Μητρώο!$A:$F,5,FALSE),\"\")","v":""},null,{"$f":"IF($D35>0,VLOOKUP($D35,Μητρώο!$A:$F,4,FALSE),\"\")","v":""}]
[34,33,null,null,{"$f":"IF($D36>0,VLOOKUP($D36,Μητρώο!$A:$F,3,FALSE),\"\")","v":""},{"$f":"IF($D36>0,VLOOKUP($D36,Μητρώο!$A:$F,5,FALSE),\"\")","v":""},null,{"$f":"IF($D36>0,VLOOKUP($D36,Μητρώο!$A:$F,4,FALSE),\"\")","v":""}]
[35,34,null,null,{"$f":"IF($D37>0,VLOOKUP($D37,Μητρώο!$A:$F,3,FALSE),\"\")","v":""},{"$f":"IF($D37>0,VLOOKUP($D37,Μητρώο!$A:$F,5,FALSE),\"\")","v":""},null,{"$f":"IF($D37>0,VLOOKUP($D37,Μητρώο!$A:$F,4,FALSE),\"\")","v":""}]
[36,35,null,null,{"$f":"IF($D38>0,VLOOKUP($D38,Μητρώο!$A:$F,3,FALSE),\"\")","v":""},{"$f":"IF($D38>0,VLOOKUP($D38,Μητρώο!$A:$F,5,FALSE),\"\")","v":""},null,{"$f":"IF($D38>0,VLOOKUP($D38,Μητρώο!$A:$F,4,FALSE),\"\")","v":""}]
[37,36,null,null,{"$f":"IF($D39>0,VLOOKUP($D39,Μητρώο!$A:$F,3,FALSE),\"\")","v":""},{"$f":"IF($D39>0,VLOOKUP($D39,Μητρώο!$A:$F,5,FALSE),\"\")","v":""},null,{"$f":"IF($D39>0,VLOOKUP($D39,Μητρώο!$A:$F,4,FALSE),\"\")","v":""}]
[38,37,null,null,{"$f":"IF($D40>0,VLOOKUP($D40,Μητρώο!$A:$F,3,FALSE),\"\")","v":""},{"$f":"IF($D40>0,VLOOKUP($D40,Μητρώο!$A:$F,5,FALSE),\"\")","v":""},null,{"$f":"IF($D40>0,VLOOKUP($D40,Μητρώο!$A:$F,4,FALSE),\"\")","v":""}]
[39,38,null,null,{"$f":"IF($D41>0,VLOOKUP($D41,Μητρώο!$A:$F,3,FALSE),\"\")","v":""},{"$f":"IF($D41>0,VLOOKUP($D41,Μητρώο!$A:$F,5,FALSE),\"\")","v":""},null,{"$f":"IF($D41>0,VLOOKUP($D41,Μητρώο!$A:$F,4,FALSE),\"\")","v":""}]
[40,39,null,null,{"$f":"IF($D42>0,VLOOKUP($D42,Μητρώο!$A:$F,3,FALSE),\"\")","v":""},{"$f":"IF($D42>0,VLOOKUP($D42,Μητρώο!$A:$F,5,FALSE),\"\")","v":""},{"$f":"IF(COUNTIF(Rankings!$B:$B,RIGHT($C42,2)&\"-\"&$D42)>0,IF($D42>0,VLOOKUP(RIGHT($C42,2)&\"-\"&$D42,Rankings!$B:$G,6,FALSE),\"\"),0)","v":0},{"$f":"IF($D42>0,VLOOKUP($D42,Μητρώο!$A:$F,4,FALSE),\"\")","v":""}]
[41,40,null,null,{"$f":"IF($D43>0,VLOOKUP($D43,Μητρώο!$A:$F,3,FALSE),\"\")","v":""},{"$f":"IF($D43>0,VLOOKUP($D43,Μητρώο!$A:$F,5,FALSE),\"\")","v":""},{"$f":"IF(COUNTIF(Rankings!$B:$B,RIGHT($C43,2)&\"-\"&$D43)>0,IF($D43>0,VLOOKUP(RIGHT($C43,2)&\"-\"&$D43,Rankings!$B:$G,6,FALSE),\"\"),0)","v":0},{"$f":"IF($D43>0,VLOOKUP($D43,Μητρώο!$A:$F,4,FALSE),\"\")","v":""}]
[42,41]
[43,42]
[44,43]
[45,44,null,null,{"$f":"IF($D47>0,VLOOKUP($D47,Μητρώο!$A:$F,3,FALSE),\"\")","v":""},{"$f":"IF($D47>0,VLOOKUP($D47,Μητρώο!$A:$F,5,FALSE),\"\")","v":""},{"$f":"IF(COUNTIF(Rankings!$B:$B,RIGHT($C47,2)&\"-\"&$D47)>0,IF($D47>0,VLOOKUP(RIGHT($C47,2)&\"-\"&$D47,Rankings!$B:$G,6,FALSE),\"\"),0)","v":0},{"$f":"IF($D47>0,VLOOKUP($D47,Μητρώο!$A:$F,4,FALSE),\"\")","v":""}]
[46,45,null,null,{"$f":"IF($D48>0,VLOOKUP($D48,Μητρώο!$A:$F,3,FALSE),\"\")","v":""},{"$f":"IF($D48>0,VLOOKUP($D48,Μητρώο!$A:$F,5,FALSE),\"\")","v":""},{"$f":"IF(COUNTIF(Rankings!$B:$B,RIGHT($C48,2)&\"-\"&$D48)>0,IF($D48>0,VLOOKUP(RIGHT($C48,2)&\"-\"&$D48,Rankings!$B:$G,6,FALSE),\"\"),0)","v":0},{"$f":"IF($D48>0,VLOOKUP($D48,Μητρώο!$A:$F,4,FALSE),\"\")","v":""}]
[47,46,null,null,{"$f":"IF($D49>0,VLOOKUP($D49,Μητρώο!$A:$F,3,FALSE),\"\")","v":""},{"$f":"IF($D49>0,VLOOKUP($D49,Μητρώο!$A:$F,5,FALSE),\"\")","v":""},{"$f":"IF(COUNTIF(Rankings!$B:$B,RIGHT($C49,2)&\"-\"&$D49)>0,IF($D49>0,VLOOKUP(RIGHT($C49,2)&\"-\"&$D49,Rankings!$B:$G,6,FALSE),\"\"),0)","v":0},{"$f":"IF($D49>0,VLOOKUP($D49,Μητρώο!$A:$F,4,FALSE),\"\")","v":""}]
[48,47,null,null,{"$f":"IF($D50>0,VLOOKUP($D50,Μητρώο!$A:$F,3,FALSE),\"\")","v":""},{"$f":"IF($D50>0,VLOOKUP($D50,Μητρώο!$A:$F,5,FALSE),\"\")","v":""},{"$f":"IF(COUNTIF(Rankings!$B:$B,RIGHT($C50,2)&\"-\"&$D50)>0,IF($D50>0,VLOOKUP(RIGHT($C50,2)&\"-\"&$D50,Rankings!$B:$G,6,FALSE),\"\"),0)","v":0},{"$f":"IF($D50>0,VLOOKUP($D50,Μητρώο!$A:$F,4,FALSE),\"\")","v":""}]
[49,48,null,null,{"$f":"IF($D51>0,VLOOKUP($D51,Μητρώο!$A:$F,3,FALSE),\"\")","v":""},{"$f":"IF($D51>0,VLOOKUP($D51,Μητρώο!$A:$F,5,FALSE),\"\")","v":""},{"$f":"IF(COUNTIF(Rankings!$B:$B,RIGHT($C51,2)&\"-\"&$D51)>0,IF($D51>0,VLOOKUP(RIGHT($C51,2)&\"-\"&$D51,Rankings!$B:$G,6,FALSE),\"\"),0)","v":0},{"$f":"IF($D51>0,VLOOKUP($D51,Μητρώο!$A:$F,4,FALSE),\"\")","v":""}]
[50,49,null,null,{"$f":"IF($D52>0,VLOOKUP($D52,Μητρώο!$A:$F,3,FALSE),\"\")","v":""},{"$f":"IF($D52>0,VLOOKUP($D52,Μητρώο!$A:$F,5,FALSE),\"\")","v":""},{"$f":"IF(COUNTIF(Rankings!$B:$B,RIGHT($C52,2)&\"-\"&$D52)>0,IF($D52>0,VLOOKUP(RIGHT($C52,2)&\"-\"&$D52,Rankings!$B:$G,6,FALSE),\"\"),0)","v":0},{"$f":"IF($D52>0,VLOOKUP($D52,Μητρώο!$A:$F,4,FALSE),\"\")","v":""}]
[51,50,null,null,{"$f":"IF($D53>0,VLOOKUP($D53,Μητρώο!$A:$F,3,FALSE),\"\")","v":""},{"$f":"IF($D53>0,VLOOKUP($D53,Μητρώο!$A:$F,5,FALSE),\"\")","v":""},{"$f":"IF(COUNTIF(Rankings!$B:$B,RIGHT($C53,2)&\"-\"&$D53)>0,IF($D53>0,VLOOKUP(RIGHT($C53,2)&\"-\"&$D53,Rankings!$B:$G,6,FALSE),\"\"),0)","v":0},{"$f":"IF($D53>0,VLOOKUP($D53,Μητρώο!$A:$F,4,FALSE),\"\")","v":""}]
[52,51,null,null,{"$f":"IF($D54>0,VLOOKUP($D54,Μητρώο!$A:$F,3,FALSE),\"\")","v":""},{"$f":"IF($D54>0,VLOOKUP($D54,Μητρώο!$A:$F,5,FALSE),\"\")","v":""},{"$f":"IF(COUNTIF(Rankings!$B:$B,RIGHT($C54,2)&\"-\"&$D54)>0,IF($D54>0,VLOOKUP(RIGHT($C54,2)&\"-\"&$D54,Rankings!$B:$G,6,FALSE),\"\"),0)","v":0},{"$f":"IF($D54>0,VLOOKUP($D54,Μητρώο!$A:$F,4,FALSE),\"\")","v":""}]
[53,52,null,null,{"$f":"IF($D55>0,VLOOKUP($D55,Μητρώο!$A:$F,3,FALSE),\"\")","v":""},{"$f":"IF($D55>0,VLOOKUP($D55,Μητρώο!$A:$F,5,FALSE),\"\")","v":""},{"$f":"IF(COUNTIF(Rankings!$B:$B,RIGHT($C55,2)&\"-\"&$D55)>0,IF($D55>0,VLOOKUP(RIGHT($C55,2)&\"-\"&$D55,Rankings!$B:$G,6,FALSE),\"\"),0)","v":0},{"$f":"IF($D55>0,VLOOKUP($D55,Μητρώο!$A:$F,4,FALSE),\"\")","v":""}]
[54,53,null,null,{"$f":"IF($D56>0,VLOOKUP($D56,Μητρώο!$A:$F,3,FALSE),\"\")","v":""},{"$f":"IF($D56>0,VLOOKUP($D56,Μητρώο!$A:$F,5,FALSE),\"\")","v":""},{"$f":"IF(COUNTIF(Rankings!$B:$B,RIGHT($C56,2)&\"-\"&$D56)>0,IF($D56>0,VLOOKUP(RIGHT($C56,2)&\"-\"&$D56,Rankings!$B:$G,6,FALSE),\"\"),0)","v":0},{"$f":"IF($D56>0,VLOOKUP($D56,Μητρώο!$A:$F,4,FALSE),\"\")","v":""}]
[55,54,null,null,{"$f":"IF($D57>0,VLOOKUP($D57,Μητρώο!$A:$F,3,FALSE),\"\")","v":""},{"$f":"IF($D57>0,VLOOKUP($D57,Μητρώο!$A:$F,5,FALSE),\"\")","v":""},{"$f":"IF(COUNTIF(Rankings!$B:$B,RIGHT($C57,2)&\"-\"&$D57)>0,IF($D57>0,VLOOKUP(RIGHT($C57,2)&\"-\"&$D57,Rankings!$B:$G,6,FALSE),\"\"),0)","v":0},{"$f":"IF($D57>0,VLOOKUP($D57,Μητρώο!$A:$F,4,FALSE),\"\")","v":""}]
[56,55,null,null,{"$f":"IF($D58>0,VLOOKUP($D58,Μητρώο!$A:$F,3,FALSE),\"\")","v":""},{"$f":"IF($D58>0,VLOOKUP($D58,Μητρώο!$A:$F,5,FALSE),\"\")","v":""},{"$f":"IF(COUNTIF(Rankings!$B:$B,RIGHT($C58,2)&\"-\"&$D58)>0,IF($D58>0,VLOOKUP(RIGHT($C58,2)&\"-\"&$D58,Rankings!$B:$G,6,FALSE),\"\"),0)","v":0},{"$f":"IF($D58>0,VLOOKUP($D58,Μητρώο!$A:$F,4,FALSE),\"\")","v":""}]
[57,56,null,null,{"$f":"IF($D59>0,VLOOKUP($D59,Μητρώο!$A:$F,3,FALSE),\"\")","v":""},{"$f":"IF($D59>0,VLOOKUP($D59,Μητρώο!$A:$F,5,FALSE),\"\")","v":""},{"$f":"IF(COUNTIF(Rankings!$B:$B,RIGHT($C59,2)&\"-\"&$D59)>0,IF($D59>0,VLOOKUP(RIGHT($C59,2)&\"-\"&$D59,Rankings!$B:$G,6,FALSE),\"\"),0)","v":0},{"$f":"IF($D59>0,VLOOKUP($D59,Μητρώο!$A:$F,4,FALSE),\"\")","v":""}]
[58,57,null,null,{"$f":"IF($D60>0,VLOOKUP($D60,Μητρώο!$A:$F,3,FALSE),\"\")","v":""},{"$f":"IF($D60>0,VLOOKUP($D60,Μητρώο!$A:$F,5,FALSE),\"\")","v":""},{"$f":"IF(COUNTIF(Rankings!$B:$B,RIGHT($C60,2)&\"-\"&$D60)>0,IF($D60>0,VLOOKUP(RIGHT($C60,2)&\"-\"&$D60,Rankings!$B:$G,6,FALSE),\"\"),0)","v":0},{"$f":"IF($D60>0,VLOOKUP($D60,Μητρώο!$A:$F,4,FALSE),\"\")","v":""}]
[59,58,null,null,{"$f":"IF($D61>0,VLOOKUP($D61,Μητρώο!$A:$F,3,FALSE),\"\")","v":""},{"$f":"IF($D61>0,VLOOKUP($D61,Μητρώο!$A:$F,5,FALSE),\"\")","v":""},{"$f":"IF(COUNTIF(Rankings!$B:$B,RIGHT($C61,2)&\"-\"&$D61)>0,IF($D61>0,VLOOKUP(RIGHT($C61,2)&\"-\"&$D61,Rankings!$B:$G,6,FALSE),\"\"),0)","v":0},{"$f":"IF($D61>0,VLOOKUP($D61,Μητρώο!$A:$F,4,FALSE),\"\")","v":""}]
[60,59,null,null,{"$f":"IF($D62>0,VLOOKUP($D62,Μητρώο!$A:$F,3,FALSE),\"\")","v":""},{"$f":"IF($D62>0,VLOOKUP($D62,Μητρώο!$A:$F,5,FALSE),\"\")","v":""},{"$f":"IF(COUNTIF(Rankings!$B:$B,RIGHT($C62,2)&\"-\"&$D62)>0,IF($D62>0,VLOOKUP(RIGHT($C62,2)&\"-\"&$D62,Rankings!$B:$G,6,FALSE),\"\"),0)","v":0},{"$f":"IF($D62>0,VLOOKUP($D62,Μητρώο!$A:$F,4,FALSE),\"\")","v":""}]
[61,60,null,null,{"$f":"IF($D63>0,VLOOKUP($D63,Μητρώο!$A:$F,3,FALSE),\"\")","v":""},{"$f":"IF($D63>0,VLOOKUP($D63,Μητρώο!$A:$F,5,FALSE),\"\")","v":""},{"$f":"IF(COUNTIF(Rankings!$B:$B,RIGHT($C63,2)&\"-\"&$D63)>0,IF($D63>0,VLOOKUP(RIGHT($C63,2)&\"-\"&$D63,Rankings!$B:$G,6,FALSE),\"\"),0)","v":0},{"$f":"IF($D63>0,VLOOKUP($D63,Μητρώο!$A:$F,4,FALSE),\"\")","v":""}]
[62,61,null,null,{"$f":"IF($D64>0,VLOOKUP($D64,Μητρώο!$A:$F,3,FALSE),\"\")","v":""},{"$f":"IF($D64>0,VLOOKUP($D64,Μητρώο!$A:$F,5,FALSE),\"\")","v":""},{"$f":"IF(COUNTIF(Rankings!$B:$B,RIGHT($C64,2)&\"-\"&$D64)>0,IF($D64>0,VLOOKUP(RIGHT($C64,2)&\"-\"&$D64,Rankings!$B:$G,6,FALSE),\"\"),0)","v":0},{"$f":"IF($D64>0,VLOOKUP($D64,Μητρώο!$A:$F,4,FALSE),\"\")","v":""}]
[63,62,null,null,{"$f":"IF($D65>0,VLOOKUP($D65,Μητρώο!$A:$F,3,FALSE),\"\")","v":""},{"$f":"IF($D65>0,VLOOKUP($D65,Μητρώο!$A:$F,5,FALSE),\"\")","v":""},{"$f":"IF(COUNTIF(Rankings!$B:$B,RIGHT($C65,2)&\"-\"&$D65)>0,IF($D65>0,VLOOKUP(RIGHT($C65,2)&\"-\"&$D65,Rankings!$B:$G,6,FALSE),\"\"),0)","v":0},{"$f":"IF($D65>0,VLOOKUP($D65,Μητρώο!$A:$F,4,FALSE),\"\")","v":""}]
[64,63,null,null,{"$f":"IF($D66>0,VLOOKUP($D66,Μητρώο!$A:$F,3,FALSE),\"\")","v":""},{"$f":"IF($D66>0,VLOOKUP($D66,Μητρώο!$A:$F,5,FALSE),\"\")","v":""},{"$f":"IF(COUNTIF(Rankings!$B:$B,RIGHT($C66,2)&\"-\"&$D66)>0,IF($D66>0,VLOOKUP(RIGHT($C66,2)&\"-\"&$D66,Rankings!$B:$G,6,FALSE),\"\"),0)","v":0},{"$f":"IF($D66>0,VLOOKUP($D66,Μητρώο!$A:$F,4,FALSE),\"\")","v":""}]
[65,64,null,null,{"$f":"IF($D67>0,VLOOKUP($D67,Μητρώο!$A:$F,3,FALSE),\"\")","v":""},{"$f":"IF($D67>0,VLOOKUP($D67,Μητρώο!$A:$F,5,FALSE),\"\")","v":""},{"$f":"IF(COUNTIF(Rankings!$B:$B,RIGHT($C67,2)&\"-\"&$D67)>0,IF($D67>0,VLOOKUP(RIGHT($C67,2)&\"-\"&$D67,Rankings!$B:$G,6,FALSE),\"\"),0)","v":0},{"$f":"IF($D67>0,VLOOKUP($D67,Μητρώο!$A:$F,4,FALSE),\"\")","v":""}]
[66,{"$f":"IF(C68=C67,B67+1,1)","v":65},null,null,{"$f":"IF($D68>0,VLOOKUP($D68,Μητρώο!$A:$F,3,FALSE),\"\")","v":""},{"$f":"IF($D68>0,VLOOKUP($D68,Μητρώο!$A:$F,5,FALSE),\"\")","v":""},{"$f":"IF(COUNTIF(Rankings!$B:$B,RIGHT($C68,2)&\"-\"&$D68)>0,IF($D68>0,VLOOKUP(RIGHT($C68,2)&\"-\"&$D68,Rankings!$B:$G,6,FALSE),\"\"),0)","v":0},{"$f":"IF($D68>0,VLOOKUP($D68,Μητρώο!$A:$F,4,FALSE),\"\")","v":""}]
[67,66,null,null,{"$f":"IF($D69>0,VLOOKUP($D69,Μητρώο!$A:$F,3,FALSE),\"\")","v":""},{"$f":"IF($D69>0,VLOOKUP($D69,Μητρώο!$A:$F,5,FALSE),\"\")","v":""},{"$f":"IF(COUNTIF(Rankings!$B:$B,RIGHT($C69,2)&\"-\"&$D69)>0,IF($D69>0,VLOOKUP(RIGHT($C69,2)&\"-\"&$D69,Rankings!$B:$G,6,FALSE),\"\"),0)","v":0},{"$f":"IF($D69>0,VLOOKUP($D69,Μητρώο!$A:$F,4,FALSE),\"\")","v":""}]
[68,67,null,null,{"$f":"IF($D70>0,VLOOKUP($D70,Μητρώο!$A:$F,3,FALSE),\"\")","v":""},{"$f":"IF($D70>0,VLOOKUP($D70,Μητρώο!$A:$F,5,FALSE),\"\")","v":""},{"$f":"IF(COUNTIF(Rankings!$B:$B,RIGHT($C70,2)&\"-\"&$D70)>0,IF($D70>0,VLOOKUP(RIGHT($C70,2)&\"-\"&$D70,Rankings!$B:$G,6,FALSE),\"\"),0)","v":0},{"$f":"IF($D70>0,VLOOKUP($D70,Μητρώο!$A:$F,4,FALSE),\"\")","v":""}]
[69,68,null,null,{"$f":"IF($D71>0,VLOOKUP($D71,Μητρώο!$A:$F,3,FALSE),\"\")","v":""},{"$f":"IF($D71>0,VLOOKUP($D71,Μητρώο!$A:$F,5,FALSE),\"\")","v":""},{"$f":"IF(COUNTIF(Rankings!$B:$B,RIGHT($C71,2)&\"-\"&$D71)>0,IF($D71>0,VLOOKUP(RIGHT($C71,2)&\"-\"&$D71,Rankings!$B:$G,6,FALSE),\"\"),0)","v":0},{"$f":"IF($D71>0,VLOOKUP($D71,Μητρώο!$A:$F,4,FALSE),\"\")","v":""}]
[70,69,null,null,{"$f":"IF($D72>0,VLOOKUP($D72,Μητρώο!$A:$F,3,FALSE),\"\")","v":""},{"$f":"IF($D72>0,VLOOKUP($D72,Μητρώο!$A:$F,5,FALSE),\"\")","v":""},{"$f":"IF(COUNTIF(Rankings!$B:$B,RIGHT($C72,2)&\"-\"&$D72)>0,IF($D72>0,VLOOKUP(RIGHT($C72,2)&\"-\"&$D72,Rankings!$B:$G,6,FALSE),\"\"),0)","v":0},{"$f":"IF($D72>0,VLOOKUP($D72,Μητρώο!$A:$F,4,FALSE),\"\")","v":""}]
[71,70,null,null,{"$f":"IF($D73>0,VLOOKUP($D73,Μητρώο!$A:$F,3,FALSE),\"\")","v":""},{"$f":"IF($D73>0,VLOOKUP($D73,Μητρώο!$A:$F,5,FALSE),\"\")","v":""},{"$f":"IF(COUNTIF(Rankings!$B:$B,RIGHT($C73,2)&\"-\"&$D73)>0,IF($D73>0,VLOOKUP(RIGHT($C73,2)&\"-\"&$D73,Rankings!$B:$G,6,FALSE),\"\"),0)","v":0},{"$f":"IF($D73>0,VLOOKUP($D73,Μητρώο!$A:$F,4,FALSE),\"\")","v":""}]
[72,71,null,null,{"$f":"IF($D74>0,VLOOKUP($D74,Μητρώο!$A:$F,3,FALSE),\"\")","v":""},{"$f":"IF($D74>0,VLOOKUP($D74,Μητρώο!$A:$F,5,FALSE),\"\")","v":""},{"$f":"IF(COUNTIF(Rankings!$B:$B,RIGHT($C74,2)&\"-\"&$D74)>0,IF($D74>0,VLOOKUP(RIGHT($C74,2)&\"-\"&$D74,Rankings!$B:$G,6,FALSE),\"\"),0)","v":0},{"$f":"IF($D74>0,VLOOKUP($D74,Μητρώο!$A:$F,4,FALSE),\"\")","v":""}]
[73,72,null,null,{"$f":"IF($D75>0,VLOOKUP($D75,Μητρώο!$A:$F,3,FALSE),\"\")","v":""},{"$f":"IF($D75>0,VLOOKUP($D75,Μητρώο!$A:$F,5,FALSE),\"\")","v":""},{"$f":"IF(COUNTIF(Rankings!$B:$B,RIGHT($C75,2)&\"-\"&$D75)>0,IF($D75>0,VLOOKUP(RIGHT($C75,2)&\"-\"&$D75,Rankings!$B:$G,6,FALSE),\"\"),0)","v":0},{"$f":"IF($D75>0,VLOOKUP($D75,Μητρώο!$A:$F,4,FALSE),\"\")","v":""}]
[74,73,null,null,{"$f":"IF($D76>0,VLOOKUP($D76,Μητρώο!$A:$F,3,FALSE),\"\")","v":""},{"$f":"IF($D76>0,VLOOKUP($D76,Μητρώο!$A:$F,5,FALSE),\"\")","v":""},{"$f":"IF(COUNTIF(Rankings!$B:$B,RIGHT($C76,2)&\"-\"&$D76)>0,IF($D76>0,VLOOKUP(RIGHT($C76,2)&\"-\"&$D76,Rankings!$B:$G,6,FALSE),\"\"),0)","v":0},{"$f":"IF($D76>0,VLOOKUP($D76,Μητρώο!$A:$F,4,FALSE),\"\")","v":""}]
[75,74,null,null,{"$f":"IF($D77>0,VLOOKUP($D77,Μητρώο!$A:$F,3,FALSE),\"\")","v":""},{"$f":"IF($D77>0,VLOOKUP($D77,Μητρώο!$A:$F,5,FALSE),\"\")","v":""},{"$f":"IF(COUNTIF(Rankings!$B:$B,RIGHT($C77,2)&\"-\"&$D77)>0,IF($D77>0,VLOOKUP(RIGHT($C77,2)&\"-\"&$D77,Rankings!$B:$G,6,FALSE),\"\"),0)","v":0},{"$f":"IF($D77>0,VLOOKUP($D77,Μητρώο!$A:$F,4,FALSE),\"\")","v":""}]
[76,75,null,null,{"$f":"IF($D78>0,VLOOKUP($D78,Μητρώο!$A:$F,3,FALSE),\"\")","v":""},{"$f":"IF($D78>0,VLOOKUP($D78,Μητρώο!$A:$F,5,FALSE),\"\")","v":""},{"$f":"IF(COUNTIF(Rankings!$B:$B,RIGHT($C78,2)&\"-\"&$D78)>0,IF($D78>0,VLOOKUP(RIGHT($C78,2)&\"-\"&$D78,Rankings!$B:$G,6,FALSE),\"\"),0)","v":0},{"$f":"IF($D78>0,VLOOKUP($D78,Μητρώο!$A:$F,4,FALSE),\"\")","v":""}]
[77,76,null,null,{"$f":"IF($D79>0,VLOOKUP($D79,Μητρώο!$A:$F,3,FALSE),\"\")","v":""},{"$f":"IF($D79>0,VLOOKUP($D79,Μητρώο!$A:$F,5,FALSE),\"\")","v":""},{"$f":"IF(COUNTIF(Rankings!$B:$B,RIGHT($C79,2)&\"-\"&$D79)>0,IF($D79>0,VLOOKUP(RIGHT($C79,2)&\"-\"&$D79,Rankings!$B:$G,6,FALSE),\"\"),0)","v":0},{"$f":"IF($D79>0,VLOOKUP($D79,Μητρώο!$A:$F,4,FALSE),\"\")","v":""}]
[78,77,null,null,{"$f":"IF($D80>0,VLOOKUP($D80,Μητρώο!$A:$F,3,FALSE),\"\")","v":""},{"$f":"IF($D80>0,VLOOKUP($D80,Μητρώο!$A:$F,5,FALSE),\"\")","v":""},{"$f":"IF(COUNTIF(Rankings!$B:$B,RIGHT($C80,2)&\"-\"&$D80)>0,IF($D80>0,VLOOKUP(RIGHT($C80,2)&\"-\"&$D80,Rankings!$B:$G,6,FALSE),\"\"),0)","v":0},{"$f":"IF($D80>0,VLOOKUP($D80,Μητρώο!$A:$F,4,FALSE),\"\")","v":""}]
[79,78,null,null,{"$f":"IF($D81>0,VLOOKUP($D81,Μητρώο!$A:$F,3,FALSE),\"\")","v":""},{"$f":"IF($D81>0,VLOOKUP($D81,Μητρώο!$A:$F,5,FALSE),\"\")","v":""},{"$f":"IF(COUNTIF(Rankings!$B:$B,RIGHT($C81,2)&\"-\"&$D81)>0,IF($D81>0,VLOOKUP(RIGHT($C81,2)&\"-\"&$D81,Rankings!$B:$G,6,FALSE),\"\"),0)","v":0},{"$f":"IF($D81>0,VLOOKUP($D81,Μητρώο!$A:$F,4,FALSE),\"\")","v":""}]
[80,79,null,null,{"$f":"IF($D82>0,VLOOKUP($D82,Μητρώο!$A:$F,3,FALSE),\"\")","v":""},{"$f":"IF($D82>0,VLOOKUP($D82,Μητρώο!$A:$F,5,FALSE),\"\")","v":""},{"$f":"IF(COUNTIF(Rankings!$B:$B,RIGHT($C82,2)&\"-\"&$D82)>0,IF($D82>0,VLOOKUP(RIGHT($C82,2)&\"-\"&$D82,Rankings!$B:$G,6,FALSE),\"\"),0)","v":0},{"$f":"IF($D82>0,VLOOKUP($D82,Μητρώο!$A:$F,4,FALSE),\"\")","v":""}]
[81,80,null,null,{"$f":"IF($D83>0,VLOOKUP($D83,Μητρώο!$A:$F,3,FALSE),\"\")","v":""},{"$f":"IF($D83>0,VLOOKUP($D83,Μητρώο!$A:$F,5,FALSE),\"\")","v":""},{"$f":"IF(COUNTIF(Rankings!$B:$B,RIGHT($C83,2)&\"-\"&$D83)>0,IF($D83>0,VLOOKUP(RIGHT($C83,2)&\"-\"&$D83,Rankings!$B:$G,6,FALSE),\"\"),0)","v":0},{"$f":"IF($D83>0,VLOOKUP($D83,Μητρώο!$A:$F,4,FALSE),\"\")","v":""}]
[82,81,null,null,{"$f":"IF($D84>0,VLOOKUP($D84,Μητρώο!$A:$F,3,FALSE),\"\")","v":""},{"$f":"IF($D84>0,VLOOKUP($D84,Μητρώο!$A:$F,5,FALSE),\"\")","v":""},{"$f":"IF(COUNTIF(Rankings!$B:$B,RIGHT($C84,2)&\"-\"&$D84)>0,IF($D84>0,VLOOKUP(RIGHT($C84,2)&\"-\"&$D84,Rankings!$B:$G,6,FALSE),\"\"),0)","v":0},{"$f":"IF($D84>0,VLOOKUP($D84,Μητρώο!$A:$F,4,FALSE),\"\")","v":""}]
[83,82,null,null,{"$f":"IF($D85>0,VLOOKUP($D85,Μητρώο!$A:$F,3,FALSE),\"\")","v":""},{"$f":"IF($D85>0,VLOOKUP($D85,Μητρώο!$A:$F,5,FALSE),\"\")","v":""},{"$f":"IF(COUNTIF(Rankings!$B:$B,RIGHT($C85,2)&\"-\"&$D85)>0,IF($D85>0,VLOOKUP(RIGHT($C85,2)&\"-\"&$D85,Rankings!$B:$G,6,FALSE),\"\"),0)","v":0},{"$f":"IF($D85>0,VLOOKUP($D85,Μητρώο!$A:$F,4,FALSE),\"\")","v":""}]
[84,83,null,null,{"$f":"IF($D86>0,VLOOKUP($D86,Μητρώο!$A:$F,3,FALSE),\"\")","v":""},{"$f":"IF($D86>0,VLOOKUP($D86,Μητρώο!$A:$F,5,FALSE),\"\")","v":""},{"$f":"IF(COUNTIF(Rankings!$B:$B,RIGHT($C86,2)&\"-\"&$D86)>0,IF($D86>0,VLOOKUP(RIGHT($C86,2)&\"-\"&$D86,Rankings!$B:$G,6,FALSE),\"\"),0)","v":0},{"$f":"IF($D86>0,VLOOKUP($D86,Μητρώο!$A:$F,4,FALSE),\"\")","v":""}]
[85,84,null,null,{"$f":"IF($D87>0,VLOOKUP($D87,Μητρώο!$A:$F,3,FALSE),\"\")","v":""},{"$f":"IF($D87>0,VLOOKUP($D87,Μητρώο!$A:$F,5,FALSE),\"\")","v":""},{"$f":"IF(COUNTIF(Rankings!$B:$B,RIGHT($C87,2)&\"-\"&$D87)>0,IF($D87>0,VLOOKUP(RIGHT($C87,2)&\"-\"&$D87,Rankings!$B:$G,6,FALSE),\"\"),0)","v":0},{"$f":"IF($D87>0,VLOOKUP($D87,Μητρώο!$A:$F,4,FALSE),\"\")","v":""}]
[86,85,null,null,{"$f":"IF($D88>0,VLOOKUP($D88,Μητρώο!$A:$F,3,FALSE),\"\")","v":""},{"$f":"IF($D88>0,VLOOKUP($D88,Μητρώο!$A:$F,5,FALSE),\"\")","v":""},{"$f":"IF(COUNTIF(Rankings!$B:$B,RIGHT($C88,2)&\"-\"&$D88)>0,IF($D88>0,VLOOKUP(RIGHT($C88,2)&\"-\"&$D88,Rankings!$B:$G,6,FALSE),\"\"),0)","v":0},{"$f":"IF($D88>0,VLOOKUP($D88,Μητρώο!$A:$F,4,FALSE),\"\")","v":""}]
[87,86,null,null,{"$f":"IF($D89>0,VLOOKUP($D89,Μητρώο!$A:$F,3,FALSE),\"\")","v":""},{"$f":"IF($D89>0,VLOOKUP($D89,Μητρώο!$A:$F,5,FALSE),\"\")","v":""},{"$f":"IF(COUNTIF(Rankings!$B:$B,RIGHT($C89,2)&\"-\"&$D89)>0,IF($D89>0,VLOOKUP(RIGHT($C89,2)&\"-\"&$D89,Rankings!$B:$G,6,FALSE),\"\"),0)","v":0},{"$f":"IF($D89>0,VLOOKUP($D89,Μητρώο!$A:$F,4,FALSE),\"\")","v":""}]
[88,87,null,null,{"$f":"IF($D90>0,VLOOKUP($D90,Μητρώο!$A:$F,3,FALSE),\"\")","v":""},{"$f":"IF($D90>0,VLOOKUP($D90,Μητρώο!$A:$F,5,FALSE),\"\")","v":""},{"$f":"IF(COUNTIF(Rankings!$B:$B,RIGHT($C90,2)&\"-\"&$D90)>0,IF($D90>0,VLOOKUP(RIGHT($C90,2)&\"-\"&$D90,Rankings!$B:$G,6,FALSE),\"\"),0)","v":0},{"$f":"IF($D90>0,VLOOKUP($D90,Μητρώο!$A:$F,4,FALSE),\"\")","v":""}]
[89,88,null,null,{"$f":"IF($D91>0,VLOOKUP($D91,Μητρώο!$A:$F,3,FALSE),\"\")","v":""},{"$f":"IF($D91>0,VLOOKUP($D91,Μητρώο!$A:$F,5,FALSE),\"\")","v":""},{"$f":"IF(COUNTIF(Rankings!$B:$B,RIGHT($C91,2)&\"-\"&$D91)>0,IF($D91>0,VLOOKUP(RIGHT($C91,2)&\"-\"&$D91,Rankings!$B:$G,6,FALSE),\"\"),0)","v":0},{"$f":"IF($D91>0,VLOOKUP($D91,Μητρώο!$A:$F,4,FALSE),\"\")","v":""}]
[90,89,null,null,{"$f":"IF($D92>0,VLOOKUP($D92,Μητρώο!$A:$F,3,FALSE),\"\")","v":""},{"$f":"IF($D92>0,VLOOKUP($D92,Μητρώο!$A:$F,5,FALSE),\"\")","v":""},{"$f":"IF(COUNTIF(Rankings!$B:$B,RIGHT($C92,2)&\"-\"&$D92)>0,IF($D92>0,VLOOKUP(RIGHT($C92,2)&\"-\"&$D92,Rankings!$B:$G,6,FALSE),\"\"),0)","v":0},{"$f":"IF($D92>0,VLOOKUP($D92,Μητρώο!$A:$F,4,FALSE),\"\")","v":""}]
[91,90,null,null,{"$f":"IF($D93>0,VLOOKUP($D93,Μητρώο!$A:$F,3,FALSE),\"\")","v":""},{"$f":"IF($D93>0,VLOOKUP($D93,Μητρώο!$A:$F,5,FALSE),\"\")","v":""},{"$f":"IF(COUNTIF(Rankings!$B:$B,RIGHT($C93,2)&\"-\"&$D93)>0,IF($D93>0,VLOOKUP(RIGHT($C93,2)&\"-\"&$D93,Rankings!$B:$G,6,FALSE),\"\"),0)","v":0},{"$f":"IF($D93>0,VLOOKUP($D93,Μητρώο!$A:$F,4,FALSE),\"\")","v":""}]
[92,91,null,null,{"$f":"IF($D94>0,VLOOKUP($D94,Μητρώο!$A:$F,3,FALSE),\"\")","v":""},{"$f":"IF($D94>0,VLOOKUP($D94,Μητρώο!$A:$F,5,FALSE),\"\")","v":""},{"$f":"IF(COUNTIF(Rankings!$B:$B,RIGHT($C94,2)&\"-\"&$D94)>0,IF($D94>0,VLOOKUP(RIGHT($C94,2)&\"-\"&$D94,Rankings!$B:$G,6,FALSE),\"\"),0)","v":0},{"$f":"IF($D94>0,VLOOKUP($D94,Μητρώο!$A:$F,4,FALSE),\"\")","v":""}]
[93,92,null,null,{"$f":"IF($D95>0,VLOOKUP($D95,Μητρώο!$A:$F,3,FALSE),\"\")","v":""},{"$f":"IF($D95>0,VLOOKUP($D95,Μητρώο!$A:$F,5,FALSE),\"\")","v":""},{"$f":"IF(COUNTIF(Rankings!$B:$B,RIGHT($C95,2)&\"-\"&$D95)>0,IF($D95>0,VLOOKUP(RIGHT($C95,2)&\"-\"&$D95,Rankings!$B:$G,6,FALSE),\"\"),0)","v":0},{"$f":"IF($D95>0,VLOOKUP($D95,Μητρώο!$A:$F,4,FALSE),\"\")","v":""}]
[94,93,null,null,{"$f":"IF($D96>0,VLOOKUP($D96,Μητρώο!$A:$F,3,FALSE),\"\")","v":""},{"$f":"IF($D96>0,VLOOKUP($D96,Μητρώο!$A:$F,5,FALSE),\"\")","v":""},{"$f":"IF(COUNTIF(Rankings!$B:$B,RIGHT($C96,2)&\"-\"&$D96)>0,IF($D96>0,VLOOKUP(RIGHT($C96,2)&\"-\"&$D96,Rankings!$B:$G,6,FALSE),\"\"),0)","v":0},{"$f":"IF($D96>0,VLOOKUP($D96,Μητρώο!$A:$F,4,FALSE),\"\")","v":""}]
[95,94,null,null,{"$f":"IF($D97>0,VLOOKUP($D97,Μητρώο!$A:$F,3,FALSE),\"\")","v":""},{"$f":"IF($D97>0,VLOOKUP($D97,Μητρώο!$A:$F,5,FALSE),\"\")","v":""},{"$f":"IF(COUNTIF(Rankings!$B:$B,RIGHT($C97,2)&\"-\"&$D97)>0,IF($D97>0,VLOOKUP(RIGHT($C97,2)&\"-\"&$D97,Rankings!$B:$G,6,FALSE),\"\"),0)","v":0},{"$f":"IF($D97>0,VLOOKUP($D97,Μητρώο!$A:$F,4,FALSE),\"\")","v":""}]
[96,95,null,null,{"$f":"IF($D98>0,VLOOKUP($D98,Μητρώο!$A:$F,3,FALSE),\"\")","v":""},{"$f":"IF($D98>0,VLOOKUP($D98,Μητρώο!$A:$F,5,FALSE),\"\")","v":""},{"$f":"IF(COUNTIF(Rankings!$B:$B,RIGHT($C98,2)&\"-\"&$D98)>0,IF($D98>0,VLOOKUP(RIGHT($C98,2)&\"-\"&$D98,Rankings!$B:$G,6,FALSE),\"\"),0)","v":0},{"$f":"IF($D98>0,VLOOKUP($D98,Μητρώο!$A:$F,4,FALSE),\"\")","v":""}]
[97,96,null,null,{"$f":"IF($D99>0,VLOOKUP($D99,Μητρώο!$A:$F,3,FALSE),\"\")","v":""},{"$f":"IF($D99>0,VLOOKUP($D99,Μητρώο!$A:$F,5,FALSE),\"\")","v":""},{"$f":"IF(COUNTIF(Rankings!$B:$B,RIGHT($C99,2)&\"-\"&$D99)>0,IF($D99>0,VLOOKUP(RIGHT($C99,2)&\"-\"&$D99,Rankings!$B:$G,6,FALSE),\"\"),0)","v":0},{"$f":"IF($D99>0,VLOOKUP($D99,Μητρώο!$A:$F,4,FALSE),\"\")","v":""}]
[98,97,null,null,{"$f":"IF($D100>0,VLOOKUP($D100,Μητρώο!$A:$F,3,FALSE),\"\")","v":""},{"$f":"IF($D100>0,VLOOKUP($D100,Μητρώο!$A:$F,5,FALSE),\"\")","v":""},{"$f":"IF(COUNTIF(Rankings!$B:$B,RIGHT($C100,2)&\"-\"&$D100)>0,IF($D100>0,VLOOKUP(RIGHT($C100,2)&\"-\"&$D100,Rankings!$B:$G,6,FALSE),\"\"),0)","v":0},{"$f":"IF($D100>0,VLOOKUP($D100,Μητρώο!$A:$F,4,FALSE),\"\")","v":""}]
[99,98,null,null,{"$f":"IF($D101>0,VLOOKUP($D101,Μητρώο!$A:$F,3,FALSE),\"\")","v":""},{"$f":"IF($D101>0,VLOOKUP($D101,Μητρώο!$A:$F,5,FALSE),\"\")","v":""},{"$f":"IF(COUNTIF(Rankings!$B:$B,RIGHT($C101,2)&\"-\"&$D101)>0,IF($D101>0,VLOOKUP(RIGHT($C101,2)&\"-\"&$D101,Rankings!$B:$G,6,FALSE),\"\"),0)","v":0},{"$f":"IF($D101>0,VLOOKUP($D101,Μητρώο!$A:$F,4,FALSE),\"\")","v":""}]
[100,99,null,null,{"$f":"IF($D102>0,VLOOKUP($D102,Μητρώο!$A:$F,3,FALSE),\"\")","v":""},{"$f":"IF($D102>0,VLOOKUP($D102,Μητρώο!$A:$F,5,FALSE),\"\")","v":""},{"$f":"IF(COUNTIF(Rankings!$B:$B,RIGHT($C102,2)&\"-\"&$D102)>0,IF($D102>0,VLOOKUP(RIGHT($C102,2)&\"-\"&$D102,Rankings!$B:$G,6,FALSE),\"\"),0)","v":0},{"$f":"IF($D102>0,VLOOKUP($D102,Μητρώο!$A:$F,4,FALSE),\"\")","v":""}]
[101,100,null,null,{"$f":"IF($D103>0,VLOOKUP($D103,Μητρώο!$A:$F,3,FALSE),\"\")","v":""},{"$f":"IF($D103>0,VLOOKUP($D103,Μητρώο!$A:$F,5,FALSE),\"\")","v":""},{"$f":"IF(COUNTIF(Rankings!$B:$B,RIGHT($C103,2)&\"-\"&$D103)>0,IF($D103>0,VLOOKUP(RIGHT($C103,2)&\"-\"&$D103,Rankings!$B:$G,6,FALSE),\"\"),0)","v":0},{"$f":"IF($D103>0,VLOOKUP($D103,Μητρώο!$A:$F,4,FALSE),\"\")","v":""}]
[102,101,null,null,{"$f":"IF($D104>0,VLOOKUP($D104,Μητρώο!$A:$F,3,FALSE),\"\")","v":""},{"$f":"IF($D104>0,VLOOKUP($D104,Μητρώο!$A:$F,5,FALSE),\"\")","v":""},{"$f":"IF(COUNTIF(Rankings!$B:$B,RIGHT($C104,2)&\"-\"&$D104)>0,IF($D104>0,VLOOKUP(RIGHT($C104,2)&\"-\"&$D104,Rankings!$B:$G,6,FALSE),\"\"),0)","v":0},{"$f":"IF($D104>0,VLOOKUP($D104,Μητρώο!$A:$F,4,FALSE),\"\")","v":""}]
[103,102,null,null,{"$f":"IF($D105>0,VLOOKUP($D105,Μητρώο!$A:$F,3,FALSE),\"\")","v":""},{"$f":"IF($D105>0,VLOOKUP($D105,Μητρώο!$A:$F,5,FALSE),\"\")","v":""},{"$f":"IF(COUNTIF(Rankings!$B:$B,RIGHT($C105,2)&\"-\"&$D105)>0,IF($D105>0,VLOOKUP(RIGHT($C105,2)&\"-\"&$D105,Rankings!$B:$G,6,FALSE),\"\"),0)","v":0},{"$f":"IF($D105>0,VLOOKUP($D105,Μητρώο!$A:$F,4,FALSE),\"\")","v":""}]
[104,103,null,null,{"$f":"IF($D106>0,VLOOKUP($D106,Μητρώο!$A:$F,3,FALSE),\"\")","v":""},{"$f":"IF($D106>0,VLOOKUP($D106,Μητρώο!$A:$F,5,FALSE),\"\")","v":""},{"$f":"IF(COUNTIF(Rankings!$B:$B,RIGHT($C106,2)&\"-\"&$D106)>0,IF($D106>0,VLOOKUP(RIGHT($C106,2)&\"-\"&$D106,Rankings!$B:$G,6,FALSE),\"\"),0)","v":0},{"$f":"IF($D106>0,VLOOKUP($D106,Μητρώο!$A:$F,4,FALSE),\"\")","v":""}]
[105,104,null,null,{"$f":"IF($D107>0,VLOOKUP($D107,Μητρώο!$A:$F,3,FALSE),\"\")","v":""},{"$f":"IF($D107>0,VLOOKUP($D107,Μητρώο!$A:$F,5,FALSE),\"\")","v":""},{"$f":"IF(COUNTIF(Rankings!$B:$B,RIGHT($C107,2)&\"-\"&$D107)>0,IF($D107>0,VLOOKUP(RIGHT($C107,2)&\"-\"&$D107,Rankings!$B:$G,6,FALSE),\"\"),0)","v":0},{"$f":"IF($D107>0,VLOOKUP($D107,Μητρώο!$A:$F,4,FALSE),\"\")","v":""}]
[106,105,null,null,{"$f":"IF($D108>0,VLOOKUP($D108,Μητρώο!$A:$F,3,FALSE),\"\")","v":""},{"$f":"IF($D108>0,VLOOKUP($D108,Μητρώο!$A:$F,5,FALSE),\"\")","v":""},{"$f":"IF(COUNTIF(Rankings!$B:$B,RIGHT($C108,2)&\"-\"&$D108)>0,IF($D108>0,VLOOKUP(RIGHT($C108,2)&\"-\"&$D108,Rankings!$B:$G,6,FALSE),\"\"),0)","v":0},{"$f":"IF($D108>0,VLOOKUP($D108,Μητρώο!$A:$F,4,FALSE),\"\")","v":""}]
[107,106,null,null,{"$f":"IF($D109>0,VLOOKUP($D109,Μητρώο!$A:$F,3,FALSE),\"\")","v":""},{"$f":"IF($D109>0,VLOOKUP($D109,Μητρώο!$A:$F,5,FALSE),\"\")","v":""},{"$f":"IF(COUNTIF(Rankings!$B:$B,RIGHT($C109,2)&\"-\"&$D109)>0,IF($D109>0,VLOOKUP(RIGHT($C109,2)&\"-\"&$D109,Rankings!$B:$G,6,FALSE),\"\"),0)","v":0},{"$f":"IF($D109>0,VLOOKUP($D109,Μητρώο!$A:$F,4,FALSE),\"\")","v":""}]
[108,107,null,null,{"$f":"IF($D110>0,VLOOKUP($D110,Μητρώο!$A:$F,3,FALSE),\"\")","v":""},{"$f":"IF($D110>0,VLOOKUP($D110,Μητρώο!$A:$F,5,FALSE),\"\")","v":""},{"$f":"IF(COUNTIF(Rankings!$B:$B,RIGHT($C110,2)&\"-\"&$D110)>0,IF($D110>0,VLOOKUP(RIGHT($C110,2)&\"-\"&$D110,Rankings!$B:$G,6,FALSE),\"\"),0)","v":0},{"$f":"IF($D110>0,VLOOKUP($D110,Μητρώο!$A:$F,4,FALSE),\"\")","v":""}]
[109,108,null,null,{"$f":"IF($D111>0,VLOOKUP($D111,Μητρώο!$A:$F,3,FALSE),\"\")","v":""},{"$f":"IF($D111>0,VLOOKUP($D111,Μητρώο!$A:$F,5,FALSE),\"\")","v":""},{"$f":"IF(COUNTIF(Rankings!$B:$B,RIGHT($C111,2)&\"-\"&$D111)>0,IF($D111>0,VLOOKUP(RIGHT($C111,2)&\"-\"&$D111,Rankings!$B:$G,6,FALSE),\"\"),0)","v":0},{"$f":"IF($D111>0,VLOOKUP($D111,Μητρώο!$A:$F,4,FALSE),\"\")","v":""}]
[110,109,null,null,{"$f":"IF($D112>0,VLOOKUP($D112,Μητρώο!$A:$F,3,FALSE),\"\")","v":""},{"$f":"IF($D112>0,VLOOKUP($D112,Μητρώο!$A:$F,5,FALSE),\"\")","v":""},{"$f":"IF(COUNTIF(Rankings!$B:$B,RIGHT($C112,2)&\"-\"&$D112)>0,IF($D112>0,VLOOKUP(RIGHT($C112,2)&\"-\"&$D112,Rankings!$B:$G,6,FALSE),\"\"),0)","v":0},{"$f":"IF($D112>0,VLOOKUP($D112,Μητρώο!$A:$F,4,FALSE),\"\")","v":""}]
[111,110,null,null,{"$f":"IF($D113>0,VLOOKUP($D113,Μητρώο!$A:$F,3,FALSE),\"\")","v":""},{"$f":"IF($D113>0,VLOOKUP($D113,Μητρώο!$A:$F,5,FALSE),\"\")","v":""},{"$f":"IF(COUNTIF(Rankings!$B:$B,RIGHT($C113,2)&\"-\"&$D113)>0,IF($D113>0,VLOOKUP(RIGHT($C113,2)&\"-\"&$D113,Rankings!$B:$G,6,FALSE),\"\"),0)","v":0},{"$f":"IF($D113>0,VLOOKUP($D113,Μητρώο!$A:$F,4,FALSE),\"\")","v":""}]
[112,111,null,null,{"$f":"IF($D114>0,VLOOKUP($D114,Μητρώο!$A:$F,3,FALSE),\"\")","v":""},{"$f":"IF($D114>0,VLOOKUP($D114,Μητρώο!$A:$F,5,FALSE),\"\")","v":""},{"$f":"IF(COUNTIF(Rankings!$B:$B,RIGHT($C114,2)&\"-\"&$D114)>0,IF($D114>0,VLOOKUP(RIGHT($C114,2)&\"-\"&$D114,Rankings!$B:$G,6,FALSE),\"\"),0)","v":0},{"$f":"IF($D114>0,VLOOKUP($D114,Μητρώο!$A:$F,4,FALSE),\"\")","v":""}]
[113,112,null,null,{"$f":"IF($D115>0,VLOOKUP($D115,Μητρώο!$A:$F,3,FALSE),\"\")","v":""},{"$f":"IF($D115>0,VLOOKUP($D115,Μητρώο!$A:$F,5,FALSE),\"\")","v":""},{"$f":"IF(COUNTIF(Rankings!$B:$B,RIGHT($C115,2)&\"-\"&$D115)>0,IF($D115>0,VLOOKUP(RIGHT($C115,2)&\"-\"&$D115,Rankings!$B:$G,6,FALSE),\"\"),0)","v":0},{"$f":"IF($D115>0,VLOOKUP($D115,Μητρώο!$A:$F,4,FALSE),\"\")","v":""}]
[114,113,null,null,{"$f":"IF($D116>0,VLOOKUP($D116,Μητρώο!$A:$F,3,FALSE),\"\")","v":""},{"$f":"IF($D116>0,VLOOKUP($D116,Μητρώο!$A:$F,5,FALSE),\"\")","v":""},{"$f":"IF(COUNTIF(Rankings!$B:$B,RIGHT($C116,2)&\"-\"&$D116)>0,IF($D116>0,VLOOKUP(RIGHT($C116,2)&\"-\"&$D116,Rankings!$B:$G,6,FALSE),\"\"),0)","v":0},{"$f":"IF($D116>0,VLOOKUP($D116,Μητρώο!$A:$F,4,FALSE),\"\")","v":""}]
[115,114,null,null,{"$f":"IF($D117>0,VLOOKUP($D117,Μητρώο!$A:$F,3,FALSE),\"\")","v":""},{"$f":"IF($D117>0,VLOOKUP($D117,Μητρώο!$A:$F,5,FALSE),\"\")","v":""},{"$f":"IF(COUNTIF(Rankings!$B:$B,RIGHT($C117,2)&\"-\"&$D117)>0,IF($D117>0,VLOOKUP(RIGHT($C117,2)&\"-\"&$D117,Rankings!$B:$G,6,FALSE),\"\"),0)","v":0},{"$f":"IF($D117>0,VLOOKUP($D117,Μητρώο!$A:$F,4,FALSE),\"\")","v":""}]
[116,115,null,null,{"$f":"IF($D118>0,VLOOKUP($D118,Μητρώο!$A:$F,3,FALSE),\"\")","v":""},{"$f":"IF($D118>0,VLOOKUP($D118,Μητρώο!$A:$F,5,FALSE),\"\")","v":""},{"$f":"IF(COUNTIF(Rankings!$B:$B,RIGHT($C118,2)&\"-\"&$D118)>0,IF($D118>0,VLOOKUP(RIGHT($C118,2)&\"-\"&$D118,Rankings!$B:$G,6,FALSE),\"\"),0)","v":0},{"$f":"IF($D118>0,VLOOKUP($D118,Μητρώο!$A:$F,4,FALSE),\"\")","v":""}]
[117,116,null,null,{"$f":"IF($D119>0,VLOOKUP($D119,Μητρώο!$A:$F,3,FALSE),\"\")","v":""},{"$f":"IF($D119>0,VLOOKUP($D119,Μητρώο!$A:$F,5,FALSE),\"\")","v":""},{"$f":"IF(COUNTIF(Rankings!$B:$B,RIGHT($C119,2)&\"-\"&$D119)>0,IF($D119>0,VLOOKUP(RIGHT($C119,2)&\"-\"&$D119,Rankings!$B:$G,6,FALSE),\"\"),0)","v":0},{"$f":"IF($D119>0,VLOOKUP($D119,Μητρώο!$A:$F,4,FALSE),\"\")","v":""}]
[118,117,null,null,{"$f":"IF($D120>0,VLOOKUP($D120,Μητρώο!$A:$F,3,FALSE),\"\")","v":""},{"$f":"IF($D120>0,VLOOKUP($D120,Μητρώο!$A:$F,5,FALSE),\"\")","v":""},{"$f":"IF(COUNTIF(Rankings!$B:$B,RIGHT($C120,2)&\"-\"&$D120)>0,IF($D120>0,VLOOKUP(RIGHT($C120,2)&\"-\"&$D120,Rankings!$B:$G,6,FALSE),\"\"),0)","v":0},{"$f":"IF($D120>0,VLOOKUP($D120,Μητρώο!$A:$F,4,FALSE),\"\")","v":""}]
[119,118,null,null,{"$f":"IF($D121>0,VLOOKUP($D121,Μητρώο!$A:$F,3,FALSE),\"\")","v":""},{"$f":"IF($D121>0,VLOOKUP($D121,Μητρώο!$A:$F,5,FALSE),\"\")","v":""},{"$f":"IF(COUNTIF(Rankings!$B:$B,RIGHT($C121,2)&\"-\"&$D121)>0,IF($D121>0,VLOOKUP(RIGHT($C121,2)&\"-\"&$D121,Rankings!$B:$G,6,FALSE),\"\"),0)","v":0},{"$f":"IF($D121>0,VLOOKUP($D121,Μητρώο!$A:$F,4,FALSE),\"\")","v":""}]
[120,119,null,null,{"$f":"IF($D122>0,VLOOKUP($D122,Μητρώο!$A:$F,3,FALSE),\"\")","v":""},{"$f":"IF($D122>0,VLOOKUP($D122,Μητρώο!$A:$F,5,FALSE),\"\")","v":""},{"$f":"IF(COUNTIF(Rankings!$B:$B,RIGHT($C122,2)&\"-\"&$D122)>0,IF($D122>0,VLOOKUP(RIGHT($C122,2)&\"-\"&$D122,Rankings!$B:$G,6,FALSE),\"\"),0)","v":0},{"$f":"IF($D122>0,VLOOKUP($D122,Μητρώο!$A:$F,4,FALSE),\"\")","v":""}]
[121,120,null,null,{"$f":"IF($D123>0,VLOOKUP($D123,Μητρώο!$A:$F,3,FALSE),\"\")","v":""},{"$f":"IF($D123>0,VLOOKUP($D123,Μητρώο!$A:$F,5,FALSE),\"\")","v":""},{"$f":"IF(COUNTIF(Rankings!$B:$B,RIGHT($C123,2)&\"-\"&$D123)>0,IF($D123>0,VLOOKUP(RIGHT($C123,2)&\"-\"&$D123,Rankings!$B:$G,6,FALSE),\"\"),0)","v":0},{"$f":"IF($D123>0,VLOOKUP($D123,Μητρώο!$A:$F,4,FALSE),\"\")","v":""}]
[122,121,null,null,{"$f":"IF($D124>0,VLOOKUP($D124,Μητρώο!$A:$F,3,FALSE),\"\")","v":""},{"$f":"IF($D124>0,VLOOKUP($D124,Μητρώο!$A:$F,5,FALSE),\"\")","v":""},{"$f":"IF(COUNTIF(Rankings!$B:$B,RIGHT($C124,2)&\"-\"&$D124)>0,IF($D124>0,VLOOKUP(RIGHT($C124,2)&\"-\"&$D124,Rankings!$B:$G,6,FALSE),\"\"),0)","v":0},{"$f":"IF($D124>0,VLOOKUP($D124,Μητρώο!$A:$F,4,FALSE),\"\")","v":""}]
[123,122,null,null,{"$f":"IF($D125>0,VLOOKUP($D125,Μητρώο!$A:$F,3,FALSE),\"\")","v":""},{"$f":"IF($D125>0,VLOOKUP($D125,Μητρώο!$A:$F,5,FALSE),\"\")","v":""},{"$f":"IF(COUNTIF(Rankings!$B:$B,RIGHT($C125,2)&\"-\"&$D125)>0,IF($D125>0,VLOOKUP(RIGHT($C125,2)&\"-\"&$D125,Rankings!$B:$G,6,FALSE),\"\"),0)","v":0},{"$f":"IF($D125>0,VLOOKUP($D125,Μητρώο!$A:$F,4,FALSE),\"\")","v":""}]
[124,123,null,null,{"$f":"IF($D126>0,VLOOKUP($D126,Μητρώο!$A:$F,3,FALSE),\"\")","v":""},{"$f":"IF($D126>0,VLOOKUP($D126,Μητρώο!$A:$F,5,FALSE),\"\")","v":""},{"$f":"IF(COUNTIF(Rankings!$B:$B,RIGHT($C126,2)&\"-\"&$D126)>0,IF($D126>0,VLOOKUP(RIGHT($C126,2)&\"-\"&$D126,Rankings!$B:$G,6,FALSE),\"\"),0)","v":0},{"$f":"IF($D126>0,VLOOKUP($D126,Μητρώο!$A:$F,4,FALSE),\"\")","v":""}]
[125,124,null,null,{"$f":"IF($D127>0,VLOOKUP($D127,Μητρώο!$A:$F,3,FALSE),\"\")","v":""},{"$f":"IF($D127>0,VLOOKUP($D127,Μητρώο!$A:$F,5,FALSE),\"\")","v":""},{"$f":"IF(COUNTIF(Rankings!$B:$B,RIGHT($C127,2)&\"-\"&$D127)>0,IF($D127>0,VLOOKUP(RIGHT($C127,2)&\"-\"&$D127,Rankings!$B:$G,6,FALSE),\"\"),0)","v":0},{"$f":"IF($D127>0,VLOOKUP($D127,Μητρώο!$A:$F,4,FALSE),\"\")","v":""}]
[126,125,null,null,{"$f":"IF($D128>0,VLOOKUP($D128,Μητρώο!$A:$F,3,FALSE),\"\")","v":""},{"$f":"IF($D128>0,VLOOKUP($D128,Μητρώο!$A:$F,5,FALSE),\"\")","v":""},{"$f":"IF(COUNTIF(Rankings!$B:$B,RIGHT($C128,2)&\"-\"&$D128)>0,IF($D128>0,VLOOKUP(RIGHT($C128,2)&\"-\"&$D128,Rankings!$B:$G,6,FALSE),\"\"),0)","v":0},{"$f":"IF($D128>0,VLOOKUP($D128,Μητρώο!$A:$F,4,FALSE),\"\")","v":""}]
[127,126,null,null,{"$f":"IF($D129>0,VLOOKUP($D129,Μητρώο!$A:$F,3,FALSE),\"\")","v":""},{"$f":"IF($D129>0,VLOOKUP($D129,Μητρώο!$A:$F,5,FALSE),\"\")","v":""},{"$f":"IF(COUNTIF(Rankings!$B:$B,RIGHT($C129,2)&\"-\"&$D129)>0,IF($D129>0,VLOOKUP(RIGHT($C129,2)&\"-\"&$D129,Rankings!$B:$G,6,FALSE),\"\"),0)","v":0},{"$f":"IF($D129>0,VLOOKUP($D129,Μητρώο!$A:$F,4,FALSE),\"\")","v":""}]
[128,127,null,null,{"$f":"IF($D130>0,VLOOKUP($D130,Μητρώο!$A:$F,3,FALSE),\"\")","v":""},{"$f":"IF($D130>0,VLOOKUP($D130,Μητρώο!$A:$F,5,FALSE),\"\")","v":""},{"$f":"IF(COUNTIF(Rankings!$B:$B,RIGHT($C130,2)&\"-\"&$D130)>0,IF($D130>0,VLOOKUP(RIGHT($C130,2)&\"-\"&$D130,Rankings!$B:$G,6,FALSE),\"\"),0)","v":0},{"$f":"IF($D130>0,VLOOKUP($D130,Μητρώο!$A:$F,4,FALSE),\"\")","v":""}]
[129,128,null,null,{"$f":"IF($D131>0,VLOOKUP($D131,Μητρώο!$A:$F,3,FALSE),\"\")","v":""},{"$f":"IF($D131>0,VLOOKUP($D131,Μητρώο!$A:$F,5,FALSE),\"\")","v":""},{"$f":"IF(COUNTIF(Rankings!$B:$B,RIGHT($C131,2)&\"-\"&$D131)>0,IF($D131>0,VLOOKUP(RIGHT($C131,2)&\"-\"&$D131,Rankings!$B:$G,6,FALSE),\"\"),0)","v":0},{"$f":"IF($D131>0,VLOOKUP($D131,Μητρώο!$A:$F,4,FALSE),\"\")","v":""}]
[130,{"$f":"IF(C132=C131,B131+1,1)","v":129},null,null,{"$f":"IF($D132>0,VLOOKUP($D132,Μητρώο!$A:$F,3,FALSE),\"\")","v":""},{"$f":"IF($D132>0,VLOOKUP($D132,Μητρώο!$A:$F,5,FALSE),\"\")","v":""},{"$f":"IF(COUNTIF(Rankings!$B:$B,RIGHT($C132,2)&\"-\"&$D132)>0,IF($D132>0,VLOOKUP(RIGHT($C132,2)&\"-\"&$D132,Rankings!$B:$G,6,FALSE),\"\"),0)","v":0},{"$f":"IF($D132>0,VLOOKUP($D132,Μητρώο!$A:$F,4,FALSE),\"\")","v":""}]
[131,130,null,null,{"$f":"IF($D133>0,VLOOKUP($D133,Μητρώο!$A:$F,3,FALSE),\"\")","v":""},{"$f":"IF($D133>0,VLOOKUP($D133,Μητρώο!$A:$F,5,FALSE),\"\")","v":""},{"$f":"IF(COUNTIF(Rankings!$B:$B,RIGHT($C133,2)&\"-\"&$D133)>0,IF($D133>0,VLOOKUP(RIGHT($C133,2)&\"-\"&$D133,Rankings!$B:$G,6,FALSE),\"\"),0)","v":0},{"$f":"IF($D133>0,VLOOKUP($D133,Μητρώο!$A:$F,4,FALSE),\"\")","v":""}]
[132,131,null,null,{"$f":"IF($D134>0,VLOOKUP($D134,Μητρώο!$A:$F,3,FALSE),\"\")","v":""},{"$f":"IF($D134>0,VLOOKUP($D134,Μητρώο!$A:$F,5,FALSE),\"\")","v":""},{"$f":"IF(COUNTIF(Rankings!$B:$B,RIGHT($C134,2)&\"-\"&$D134)>0,IF($D134>0,VLOOKUP(RIGHT($C134,2)&\"-\"&$D134,Rankings!$B:$G,6,FALSE),\"\"),0)","v":0},{"$f":"IF($D134>0,VLOOKUP($D134,Μητρώο!$A:$F,4,FALSE),\"\")","v":""}]
[133,132,null,null,{"$f":"IF($D135>0,VLOOKUP($D135,Μητρώο!$A:$F,3,FALSE),\"\")","v":""},{"$f":"IF($D135>0,VLOOKUP($D135,Μητρώο!$A:$F,5,FALSE),\"\")","v":""},{"$f":"IF(COUNTIF(Rankings!$B:$B,RIGHT($C135,2)&\"-\"&$D135)>0,IF($D135>0,VLOOKUP(RIGHT($C135,2)&\"-\"&$D135,Rankings!$B:$G,6,FALSE),\"\"),0)","v":0},{"$f":"IF($D135>0,VLOOKUP($D135,Μητρώο!$A:$F,4,FALSE),\"\")","v":""}]
[134,133,null,null,{"$f":"IF($D136>0,VLOOKUP($D136,Μητρώο!$A:$F,3,FALSE),\"\")","v":""},{"$f":"IF($D136>0,VLOOKUP($D136,Μητρώο!$A:$F,5,FALSE),\"\")","v":""},{"$f":"IF(COUNTIF(Rankings!$B:$B,RIGHT($C136,2)&\"-\"&$D136)>0,IF($D136>0,VLOOKUP(RIGHT($C136,2)&\"-\"&$D136,Rankings!$B:$G,6,FALSE),\"\"),0)","v":0},{"$f":"IF($D136>0,VLOOKUP($D136,Μητρώο!$A:$F,4,FALSE),\"\")","v":""}]
[135,134,null,null,{"$f":"IF($D137>0,VLOOKUP($D137,Μητρώο!$A:$F,3,FALSE),\"\")","v":""},{"$f":"IF($D137>0,VLOOKUP($D137,Μητρώο!$A:$F,5,FALSE),\"\")","v":""},{"$f":"IF(COUNTIF(Rankings!$B:$B,RIGHT($C137,2)&\"-\"&$D137)>0,IF($D137>0,VLOOKUP(RIGHT($C137,2)&\"-\"&$D137,Rankings!$B:$G,6,FALSE),\"\"),0)","v":0},{"$f":"IF($D137>0,VLOOKUP($D137,Μητρώο!$A:$F,4,FALSE),\"\")","v":""}]
[136,135,null,null,{"$f":"IF($D138>0,VLOOKUP($D138,Μητρώο!$A:$F,3,FALSE),\"\")","v":""},{"$f":"IF($D138>0,VLOOKUP($D138,Μητρώο!$A:$F,5,FALSE),\"\")","v":""},{"$f":"IF(COUNTIF(Rankings!$B:$B,RIGHT($C138,2)&\"-\"&$D138)>0,IF($D138>0,VLOOKUP(RIGHT($C138,2)&\"-\"&$D138,Rankings!$B:$G,6,FALSE),\"\"),0)","v":0},{"$f":"IF($D138>0,VLOOKUP($D138,Μητρώο!$A:$F,4,FALSE),\"\")","v":""}]
[137,136,null,null,{"$f":"IF($D139>0,VLOOKUP($D139,Μητρώο!$A:$F,3,FALSE),\"\")","v":""},{"$f":"IF($D139>0,VLOOKUP($D139,Μητρώο!$A:$F,5,FALSE),\"\")","v":""},{"$f":"IF(COUNTIF(Rankings!$B:$B,RIGHT($C139,2)&\"-\"&$D139)>0,IF($D139>0,VLOOKUP(RIGHT($C139,2)&\"-\"&$D139,Rankings!$B:$G,6,FALSE),\"\"),0)","v":0},{"$f":"IF($D139>0,VLOOKUP($D139,Μητρώο!$A:$F,4,FALSE),\"\")","v":""}]
[138,137,null,null,{"$f":"IF($D140>0,VLOOKUP($D140,Μητρώο!$A:$F,3,FALSE),\"\")","v":""},{"$f":"IF($D140>0,VLOOKUP($D140,Μητρώο!$A:$F,5,FALSE),\"\")","v":""},{"$f":"IF(COUNTIF(Rankings!$B:$B,RIGHT($C140,2)&\"-\"&$D140)>0,IF($D140>0,VLOOKUP(RIGHT($C140,2)&\"-\"&$D140,Rankings!$B:$G,6,FALSE),\"\"),0)","v":0},{"$f":"IF($D140>0,VLOOKUP($D140,Μητρώο!$A:$F,4,FALSE),\"\")","v":""}]
[139,138,null,null,{"$f":"IF($D141>0,VLOOKUP($D141,Μητρώο!$A:$F,3,FALSE),\"\")","v":""},{"$f":"IF($D141>0,VLOOKUP($D141,Μητρώο!$A:$F,5,FALSE),\"\")","v":""},{"$f":"IF(COUNTIF(Rankings!$B:$B,RIGHT($C141,2)&\"-\"&$D141)>0,IF($D141>0,VLOOKUP(RIGHT($C141,2)&\"-\"&$D141,Rankings!$B:$G,6,FALSE),\"\"),0)","v":0},{"$f":"IF($D141>0,VLOOKUP($D141,Μητρώο!$A:$F,4,FALSE),\"\")","v":""}]
[140,139,null,null,{"$f":"IF($D142>0,VLOOKUP($D142,Μητρώο!$A:$F,3,FALSE),\"\")","v":""},{"$f":"IF($D142>0,VLOOKUP($D142,Μητρώο!$A:$F,5,FALSE),\"\")","v":""},{"$f":"IF(COUNTIF(Rankings!$B:$B,RIGHT($C142,2)&\"-\"&$D142)>0,IF($D142>0,VLOOKUP(RIGHT($C142,2)&\"-\"&$D142,Rankings!$B:$G,6,FALSE),\"\"),0)","v":0},{"$f":"IF($D142>0,VLOOKUP($D142,Μητρώο!$A:$F,4,FALSE),\"\")","v":""}]
[141,140,null,null,{"$f":"IF($D143>0,VLOOKUP($D143,Μητρώο!$A:$F,3,FALSE),\"\")","v":""},{"$f":"IF($D143>0,VLOOKUP($D143,Μητρώο!$A:$F,5,FALSE),\"\")","v":""},{"$f":"IF(COUNTIF(Rankings!$B:$B,RIGHT($C143,2)&\"-\"&$D143)>0,IF($D143>0,VLOOKUP(RIGHT($C143,2)&\"-\"&$D143,Rankings!$B:$G,6,FALSE),\"\"),0)","v":0},{"$f":"IF($D143>0,VLOOKUP($D143,Μητρώο!$A:$F,4,FALSE),\"\")","v":""}]
[142,141,null,null,{"$f":"IF($D144>0,VLOOKUP($D144,Μητρώο!$A:$F,3,FALSE),\"\")","v":""},{"$f":"IF($D144>0,VLOOKUP($D144,Μητρώο!$A:$F,5,FALSE),\"\")","v":""},{"$f":"IF(COUNTIF(Rankings!$B:$B,RIGHT($C144,2)&\"-\"&$D144)>0,IF($D144>0,VLOOKUP(RIGHT($C144,2)&\"-\"&$D144,Rankings!$B:$G,6,FALSE),\"\"),0)","v":0},{"$f":"IF($D144>0,VLOOKUP($D144,Μητρώο!$A:$F,4,FALSE),\"\")","v":""}]
[143,142,null,null,{"$f":"IF($D145>0,VLOOKUP($D145,Μητρώο!$A:$F,3,FALSE),\"\")","v":""},{"$f":"IF($D145>0,VLOOKUP($D145,Μητρώο!$A:$F,5,FALSE),\"\")","v":""},{"$f":"IF(COUNTIF(Rankings!$B:$B,RIGHT($C145,2)&\"-\"&$D145)>0,IF($D145>0,VLOOKUP(RIGHT($C145,2)&\"-\"&$D145,Rankings!$B:$G,6,FALSE),\"\"),0)","v":0},{"$f":"IF($D145>0,VLOOKUP($D145,Μητρώο!$A:$F,4,FALSE),\"\")","v":""}]
[144,143,null,null,{"$f":"IF($D146>0,VLOOKUP($D146,Μητρώο!$A:$F,3,FALSE),\"\")","v":""},{"$f":"IF($D146>0,VLOOKUP($D146,Μητρώο!$A:$F,5,FALSE),\"\")","v":""},{"$f":"IF(COUNTIF(Rankings!$B:$B,RIGHT($C146,2)&\"-\"&$D146)>0,IF($D146>0,VLOOKUP(RIGHT($C146,2)&\"-\"&$D146,Rankings!$B:$G,6,FALSE),\"\"),0)","v":0},{"$f":"IF($D146>0,VLOOKUP($D146,Μητρώο!$A:$F,4,FALSE),\"\")","v":""}]
[145,144,null,null,{"$f":"IF($D147>0,VLOOKUP($D147,Μητρώο!$A:$F,3,FALSE),\"\")","v":""},{"$f":"IF($D147>0,VLOOKUP($D147,Μητρώο!$A:$F,5,FALSE),\"\")","v":""},{"$f":"IF(COUNTIF(Rankings!$B:$B,RIGHT($C147,2)&\"-\"&$D147)>0,IF($D147>0,VLOOKUP(RIGHT($C147,2)&\"-\"&$D147,Rankings!$B:$G,6,FALSE),\"\"),0)","v":0},{"$f":"IF($D147>0,VLOOKUP($D147,Μητρώο!$A:$F,4,FALSE),\"\")","v":""}]
[146,145,null,null,{"$f":"IF($D148>0,VLOOKUP($D148,Μητρώο!$A:$F,3,FALSE),\"\")","v":""},{"$f":"IF($D148>0,VLOOKUP($D148,Μητρώο!$A:$F,5,FALSE),\"\")","v":""},{"$f":"IF(COUNTIF(Rankings!$B:$B,RIGHT($C148,2)&\"-\"&$D148)>0,IF($D148>0,VLOOKUP(RIGHT($C148,2)&\"-\"&$D148,Rankings!$B:$G,6,FALSE),\"\"),0)","v":0},{"$f":"IF($D148>0,VLOOKUP($D148,Μητρώο!$A:$F,4,FALSE),\"\")","v":""}]
[147,146,null,null,{"$f":"IF($D149>0,VLOOKUP($D149,Μητρώο!$A:$F,3,FALSE),\"\")","v":""},{"$f":"IF($D149>0,VLOOKUP($D149,Μητρώο!$A:$F,5,FALSE),\"\")","v":""},{"$f":"IF(COUNTIF(Rankings!$B:$B,RIGHT($C149,2)&\"-\"&$D149)>0,IF($D149>0,VLOOKUP(RIGHT($C149,2)&\"-\"&$D149,Rankings!$B:$G,6,FALSE),\"\"),0)","v":0},{"$f":"IF($D149>0,VLOOKUP($D149,Μητρώο!$A:$F,4,FALSE),\"\")","v":""}]
[148,147,null,null,{"$f":"IF($D150>0,VLOOKUP($D150,Μητρώο!$A:$F,3,FALSE),\"\")","v":""},{"$f":"IF($D150>0,VLOOKUP($D150,Μητρώο!$A:$F,5,FALSE),\"\")","v":""},{"$f":"IF(COUNTIF(Rankings!$B:$B,RIGHT($C150,2)&\"-\"&$D150)>0,IF($D150>0,VLOOKUP(RIGHT($C150,2)&\"-\"&$D150,Rankings!$B:$G,6,FALSE),\"\"),0)","v":0},{"$f":"IF($D150>0,VLOOKUP($D150,Μητρώο!$A:$F,4,FALSE),\"\")","v":""}]
[149,148,null,null,{"$f":"IF($D151>0,VLOOKUP($D151,Μητρώο!$A:$F,3,FALSE),\"\")","v":""},{"$f":"IF($D151>0,VLOOKUP($D151,Μητρώο!$A:$F,5,FALSE),\"\")","v":""},{"$f":"IF(COUNTIF(Rankings!$B:$B,RIGHT($C151,2)&\"-\"&$D151)>0,IF($D151>0,VLOOKUP(RIGHT($C151,2)&\"-\"&$D151,Rankings!$B:$G,6,FALSE),\"\"),0)","v":0},{"$f":"IF($D151>0,VLOOKUP($D151,Μητρώο!$A:$F,4,FALSE),\"\")","v":""}]
[150,149,null,null,{"$f":"IF($D152>0,VLOOKUP($D152,Μητρώο!$A:$F,3,FALSE),\"\")","v":""},{"$f":"IF($D152>0,VLOOKUP($D152,Μητρώο!$A:$F,5,FALSE),\"\")","v":""},{"$f":"IF(COUNTIF(Rankings!$B:$B,RIGHT($C152,2)&\"-\"&$D152)>0,IF($D152>0,VLOOKUP(RIGHT($C152,2)&\"-\"&$D152,Rankings!$B:$G,6,FALSE),\"\"),0)","v":0},{"$f":"IF($D152>0,VLOOKUP($D152,Μητρώο!$A:$F,4,FALSE),\"\")","v":""}]
[151,150,null,null,{"$f":"IF($D153>0,VLOOKUP($D153,Μητρώο!$A:$F,3,FALSE),\"\")","v":""},{"$f":"IF($D153>0,VLOOKUP($D153,Μητρώο!$A:$F,5,FALSE),\"\")","v":""},{"$f":"IF(COUNTIF(Rankings!$B:$B,RIGHT($C153,2)&\"-\"&$D153)>0,IF($D153>0,VLOOKUP(RIGHT($C153,2)&\"-\"&$D153,Rankings!$B:$G,6,FALSE),\"\"),0)","v":0},{"$f":"IF($D153>0,VLOOKUP($D153,Μητρώο!$A:$F,4,FALSE),\"\")","v":""}]
[152,151,null,null,{"$f":"IF($D154>0,VLOOKUP($D154,Μητρώο!$A:$F,3,FALSE),\"\")","v":""},{"$f":"IF($D154>0,VLOOKUP($D154,Μητρώο!$A:$F,5,FALSE),\"\")","v":""},{"$f":"IF(COUNTIF(Rankings!$B:$B,RIGHT($C154,2)&\"-\"&$D154)>0,IF($D154>0,VLOOKUP(RIGHT($C154,2)&\"-\"&$D154,Rankings!$B:$G,6,FALSE),\"\"),0)","v":0},{"$f":"IF($D154>0,VLOOKUP($D154,Μητρώο!$A:$F,4,FALSE),\"\")","v":""}]
[153,152,null,null,{"$f":"IF($D155>0,VLOOKUP($D155,Μητρώο!$A:$F,3,FALSE),\"\")","v":""},{"$f":"IF($D155>0,VLOOKUP($D155,Μητρώο!$A:$F,5,FALSE),\"\")","v":""},{"$f":"IF(COUNTIF(Rankings!$B:$B,RIGHT($C155,2)&\"-\"&$D155)>0,IF($D155>0,VLOOKUP(RIGHT($C155,2)&\"-\"&$D155,Rankings!$B:$G,6,FALSE),\"\"),0)","v":0},{"$f":"IF($D155>0,VLOOKUP($D155,Μητρώο!$A:$F,4,FALSE),\"\")","v":""}]
[154,153,null,null,{"$f":"IF($D156>0,VLOOKUP($D156,Μητρώο!$A:$F,3,FALSE),\"\")","v":""},{"$f":"IF($D156>0,VLOOKUP($D156,Μητρώο!$A:$F,5,FALSE),\"\")","v":""},{"$f":"IF(COUNTIF(Rankings!$B:$B,RIGHT($C156,2)&\"-\"&$D156)>0,IF($D156>0,VLOOKUP(RIGHT($C156,2)&\"-\"&$D156,Rankings!$B:$G,6,FALSE),\"\"),0)","v":0},{"$f":"IF($D156>0,VLOOKUP($D156,Μητρώο!$A:$F,4,FALSE),\"\")","v":""}]
[155,154,null,null,{"$f":"IF($D157>0,VLOOKUP($D157,Μητρώο!$A:$F,3,FALSE),\"\")","v":""},{"$f":"IF($D157>0,VLOOKUP($D157,Μητρώο!$A:$F,5,FALSE),\"\")","v":""},{"$f":"IF(COUNTIF(Rankings!$B:$B,RIGHT($C157,2)&\"-\"&$D157)>0,IF($D157>0,VLOOKUP(RIGHT($C157,2)&\"-\"&$D157,Rankings!$B:$G,6,FALSE),\"\"),0)","v":0},{"$f":"IF($D157>0,VLOOKUP($D157,Μητρώο!$A:$F,4,FALSE),\"\")","v":""}]
[156,155,null,null,{"$f":"IF($D158>0,VLOOKUP($D158,Μητρώο!$A:$F,3,FALSE),\"\")","v":""},{"$f":"IF($D158>0,VLOOKUP($D158,Μητρώο!$A:$F,5,FALSE),\"\")","v":""},{"$f":"IF(COUNTIF(Rankings!$B:$B,RIGHT($C158,2)&\"-\"&$D158)>0,IF($D158>0,VLOOKUP(RIGHT($C158,2)&\"-\"&$D158,Rankings!$B:$G,6,FALSE),\"\"),0)","v":0},{"$f":"IF($D158>0,VLOOKUP($D158,Μητρώο!$A:$F,4,FALSE),\"\")","v":""}]
[157,156,null,null,{"$f":"IF($D159>0,VLOOKUP($D159,Μητρώο!$A:$F,3,FALSE),\"\")","v":""},{"$f":"IF($D159>0,VLOOKUP($D159,Μητρώο!$A:$F,5,FALSE),\"\")","v":""},{"$f":"IF(COUNTIF(Rankings!$B:$B,RIGHT($C159,2)&\"-\"&$D159)>0,IF($D159>0,VLOOKUP(RIGHT($C159,2)&\"-\"&$D159,Rankings!$B:$G,6,FALSE),\"\"),0)","v":0},{"$f":"IF($D159>0,VLOOKUP($D159,Μητρώο!$A:$F,4,FALSE),\"\")","v":""}]
[158,157,null,null,{"$f":"IF($D160>0,VLOOKUP($D160,Μητρώο!$A:$F,3,FALSE),\"\")","v":""},{"$f":"IF($D160>0,VLOOKUP($D160,Μητρώο!$A:$F,5,FALSE),\"\")","v":""},{"$f":"IF(COUNTIF(Rankings!$B:$B,RIGHT($C160,2)&\"-\"&$D160)>0,IF($D160>0,VLOOKUP(RIGHT($C160,2)&\"-\"&$D160,Rankings!$B:$G,6,FALSE),\"\"),0)","v":0},{"$f":"IF($D160>0,VLOOKUP($D160,Μητρώο!$A:$F,4,FALSE),\"\")","v":""}]
[159,158,null,null,{"$f":"IF($D161>0,VLOOKUP($D161,Μητρώο!$A:$F,3,FALSE),\"\")","v":""},{"$f":"IF($D161>0,VLOOKUP($D161,Μητρώο!$A:$F,5,FALSE),\"\")","v":""},{"$f":"IF(COUNTIF(Rankings!$B:$B,RIGHT($C161,2)&\"-\"&$D161)>0,IF($D161>0,VLOOKUP(RIGHT($C161,2)&\"-\"&$D161,Rankings!$B:$G,6,FALSE),\"\"),0)","v":0},{"$f":"IF($D161>0,VLOOKUP($D161,Μητρώο!$A:$F,4,FALSE),\"\")","v":""}]
[160,159,null,null,{"$f":"IF($D162>0,VLOOKUP($D162,Μητρώο!$A:$F,3,FALSE),\"\")","v":""},{"$f":"IF($D162>0,VLOOKUP($D162,Μητρώο!$A:$F,5,FALSE),\"\")","v":""},{"$f":"IF(COUNTIF(Rankings!$B:$B,RIGHT($C162,2)&\"-\"&$D162)>0,IF($D162>0,VLOOKUP(RIGHT($C162,2)&\"-\"&$D162,Rankings!$B:$G,6,FALSE),\"\"),0)","v":0},{"$f":"IF($D162>0,VLOOKUP($D162,Μητρώο!$A:$F,4,FALSE),\"\")","v":""}]
[161,160,null,null,{"$f":"IF($D163>0,VLOOKUP($D163,Μητρώο!$A:$F,3,FALSE),\"\")","v":""},{"$f":"IF($D163>0,VLOOKUP($D163,Μητρώο!$A:$F,5,FALSE),\"\")","v":""},{"$f":"IF(COUNTIF(Rankings!$B:$B,RIGHT($C163,2)&\"-\"&$D163)>0,IF($D163>0,VLOOKUP(RIGHT($C163,2)&\"-\"&$D163,Rankings!$B:$G,6,FALSE),\"\"),0)","v":0},{"$f":"IF($D163>0,VLOOKUP($D163,Μητρώο!$A:$F,4,FALSE),\"\")","v":""}]
[162,161,null,null,{"$f":"IF($D164>0,VLOOKUP($D164,Μητρώο!$A:$F,3,FALSE),\"\")","v":""},{"$f":"IF($D164>0,VLOOKUP($D164,Μητρώο!$A:$F,5,FALSE),\"\")","v":""},{"$f":"IF(COUNTIF(Rankings!$B:$B,RIGHT($C164,2)&\"-\"&$D164)>0,IF($D164>0,VLOOKUP(RIGHT($C164,2)&\"-\"&$D164,Rankings!$B:$G,6,FALSE),\"\"),0)","v":0},{"$f":"IF($D164>0,VLOOKUP($D164,Μητρώο!$A:$F,4,FALSE),\"\")","v":""}]
[163,162,null,null,{"$f":"IF($D165>0,VLOOKUP($D165,Μητρώο!$A:$F,3,FALSE),\"\")","v":""},{"$f":"IF($D165>0,VLOOKUP($D165,Μητρώο!$A:$F,5,FALSE),\"\")","v":""},{"$f":"IF(COUNTIF(Rankings!$B:$B,RIGHT($C165,2)&\"-\"&$D165)>0,IF($D165>0,VLOOKUP(RIGHT($C165,2)&\"-\"&$D165,Rankings!$B:$G,6,FALSE),\"\"),0)","v":0},{"$f":"IF($D165>0,VLOOKUP($D165,Μητρώο!$A:$F,4,FALSE),\"\")","v":""}]
[164,163,null,null,{"$f":"IF($D166>0,VLOOKUP($D166,Μητρώο!$A:$F,3,FALSE),\"\")","v":""},{"$f":"IF($D166>0,VLOOKUP($D166,Μητρώο!$A:$F,5,FALSE),\"\")","v":""},{"$f":"IF(COUNTIF(Rankings!$B:$B,RIGHT($C166,2)&\"-\"&$D166)>0,IF($D166>0,VLOOKUP(RIGHT($C166,2)&\"-\"&$D166,Rankings!$B:$G,6,FALSE),\"\"),0)","v":0},{"$f":"IF($D166>0,VLOOKUP($D166,Μητρώο!$A:$F,4,FALSE),\"\")","v":""}]
[165,164,null,null,{"$f":"IF($D167>0,VLOOKUP($D167,Μητρώο!$A:$F,3,FALSE),\"\")","v":""},{"$f":"IF($D167>0,VLOOKUP($D167,Μητρώο!$A:$F,5,FALSE),\"\")","v":""},{"$f":"IF(COUNTIF(Rankings!$B:$B,RIGHT($C167,2)&\"-\"&$D167)>0,IF($D167>0,VLOOKUP(RIGHT($C167,2)&\"-\"&$D167,Rankings!$B:$G,6,FALSE),\"\"),0)","v":0},{"$f":"IF($D167>0,VLOOKUP($D167,Μητρώο!$A:$F,4,FALSE),\"\")","v":""}]
[166,165,null,null,{"$f":"IF($D168>0,VLOOKUP($D168,Μητρώο!$A:$F,3,FALSE),\"\")","v":""},{"$f":"IF($D168>0,VLOOKUP($D168,Μητρώο!$A:$F,5,FALSE),\"\")","v":""},{"$f":"IF(COUNTIF(Rankings!$B:$B,RIGHT($C168,2)&\"-\"&$D168)>0,IF($D168>0,VLOOKUP(RIGHT($C168,2)&\"-\"&$D168,Rankings!$B:$G,6,FALSE),\"\"),0)","v":0},{"$f":"IF($D168>0,VLOOKUP($D168,Μητρώο!$A:$F,4,FALSE),\"\")","v":""}]
[167,166,null,null,{"$f":"IF($D169>0,VLOOKUP($D169,Μητρώο!$A:$F,3,FALSE),\"\")","v":""},{"$f":"IF($D169>0,VLOOKUP($D169,Μητρώο!$A:$F,5,FALSE),\"\")","v":""},{"$f":"IF(COUNTIF(Rankings!$B:$B,RIGHT($C169,2)&\"-\"&$D169)>0,IF($D169>0,VLOOKUP(RIGHT($C169,2)&\"-\"&$D169,Rankings!$B:$G,6,FALSE),\"\"),0)","v":0},{"$f":"IF($D169>0,VLOOKUP($D169,Μητρώο!$A:$F,4,FALSE),\"\")","v":""}]
[168,167,null,null,{"$f":"IF($D170>0,VLOOKUP($D170,Μητρώο!$A:$F,3,FALSE),\"\")","v":""},{"$f":"IF($D170>0,VLOOKUP($D170,Μητρώο!$A:$F,5,FALSE),\"\")","v":""},{"$f":"IF(COUNTIF(Rankings!$B:$B,RIGHT($C170,2)&\"-\"&$D170)>0,IF($D170>0,VLOOKUP(RIGHT($C170,2)&\"-\"&$D170,Rankings!$B:$G,6,FALSE),\"\"),0)","v":0},{"$f":"IF($D170>0,VLOOKUP($D170,Μητρώο!$A:$F,4,FALSE),\"\")","v":""}]
[169,168,null,null,{"$f":"IF($D171>0,VLOOKUP($D171,Μητρώο!$A:$F,3,FALSE),\"\")","v":""},{"$f":"IF($D171>0,VLOOKUP($D171,Μητρώο!$A:$F,5,FALSE),\"\")","v":""},{"$f":"IF(COUNTIF(Rankings!$B:$B,RIGHT($C171,2)&\"-\"&$D171)>0,IF($D171>0,VLOOKUP(RIGHT($C171,2)&\"-\"&$D171,Rankings!$B:$G,6,FALSE),\"\"),0)","v":0},{"$f":"IF($D171>0,VLOOKUP($D171,Μητρώο!$A:$F,4,FALSE),\"\")","v":""}]
[170,169,null,null,{"$f":"IF($D172>0,VLOOKUP($D172,Μητρώο!$A:$F,3,FALSE),\"\")","v":""},{"$f":"IF($D172>0,VLOOKUP($D172,Μητρώο!$A:$F,5,FALSE),\"\")","v":""},{"$f":"IF(COUNTIF(Rankings!$B:$B,RIGHT($C172,2)&\"-\"&$D172)>0,IF($D172>0,VLOOKUP(RIGHT($C172,2)&\"-\"&$D172,Rankings!$B:$G,6,FALSE),\"\"),0)","v":0},{"$f":"IF($D172>0,VLOOKUP($D172,Μητρώο!$A:$F,4,FALSE),\"\")","v":""}]
[171,170,null,null,{"$f":"IF($D173>0,VLOOKUP($D173,Μητρώο!$A:$F,3,FALSE),\"\")","v":""},{"$f":"IF($D173>0,VLOOKUP($D173,Μητρώο!$A:$F,5,FALSE),\"\")","v":""},{"$f":"IF(COUNTIF(Rankings!$B:$B,RIGHT($C173,2)&\"-\"&$D173)>0,IF($D173>0,VLOOKUP(RIGHT($C173,2)&\"-\"&$D173,Rankings!$B:$G,6,FALSE),\"\"),0)","v":0},{"$f":"IF($D173>0,VLOOKUP($D173,Μητρώο!$A:$F,4,FALSE),\"\")","v":""}]
[172,171,null,null,{"$f":"IF($D174>0,VLOOKUP($D174,Μητρώο!$A:$F,3,FALSE),\"\")","v":""},{"$f":"IF($D174>0,VLOOKUP($D174,Μητρώο!$A:$F,5,FALSE),\"\")","v":""},{"$f":"IF(COUNTIF(Rankings!$B:$B,RIGHT($C174,2)&\"-\"&$D174)>0,IF($D174>0,VLOOKUP(RIGHT($C174,2)&\"-\"&$D174,Rankings!$B:$G,6,FALSE),\"\"),0)","v":0},{"$f":"IF($D174>0,VLOOKUP($D174,Μητρώο!$A:$F,4,FALSE),\"\")","v":""}]
[173,172,null,null,{"$f":"IF($D175>0,VLOOKUP($D175,Μητρώο!$A:$F,3,FALSE),\"\")","v":""},{"$f":"IF($D175>0,VLOOKUP($D175,Μητρώο!$A:$F,5,FALSE),\"\")","v":""},{"$f":"IF(COUNTIF(Rankings!$B:$B,RIGHT($C175,2)&\"-\"&$D175)>0,IF($D175>0,VLOOKUP(RIGHT($C175,2)&\"-\"&$D175,Rankings!$B:$G,6,FALSE),\"\"),0)","v":0},{"$f":"IF($D175>0,VLOOKUP($D175,Μητρώο!$A:$F,4,FALSE),\"\")","v":""}]
[174,173,null,null,{"$f":"IF($D176>0,VLOOKUP($D176,Μητρώο!$A:$F,3,FALSE),\"\")","v":""},{"$f":"IF($D176>0,VLOOKUP($D176,Μητρώο!$A:$F,5,FALSE),\"\")","v":""},{"$f":"IF(COUNTIF(Rankings!$B:$B,RIGHT($C176,2)&\"-\"&$D176)>0,IF($D176>0,VLOOKUP(RIGHT($C176,2)&\"-\"&$D176,Rankings!$B:$G,6,FALSE),\"\"),0)","v":0},{"$f":"IF($D176>0,VLOOKUP($D176,Μητρώο!$A:$F,4,FALSE),\"\")","v":""}]
[175,174,null,null,{"$f":"IF($D177>0,VLOOKUP($D177,Μητρώο!$A:$F,3,FALSE),\"\")","v":""},{"$f":"IF($D177>0,VLOOKUP($D177,Μητρώο!$A:$F,5,FALSE),\"\")","v":""},{"$f":"IF(COUNTIF(Rankings!$B:$B,RIGHT($C177,2)&\"-\"&$D177)>0,IF($D177>0,VLOOKUP(RIGHT($C177,2)&\"-\"&$D177,Rankings!$B:$G,6,FALSE),\"\"),0)","v":0},{"$f":"IF($D177>0,VLOOKUP($D177,Μητρώο!$A:$F,4,FALSE),\"\")","v":""}]
[176,175,null,null,{"$f":"IF($D178>0,VLOOKUP($D178,Μητρώο!$A:$F,3,FALSE),\"\")","v":""},{"$f":"IF($D178>0,VLOOKUP($D178,Μητρώο!$A:$F,5,FALSE),\"\")","v":""},{"$f":"IF(COUNTIF(Rankings!$B:$B,RIGHT($C178,2)&\"-\"&$D178)>0,IF($D178>0,VLOOKUP(RIGHT($C178,2)&\"-\"&$D178,Rankings!$B:$G,6,FALSE),\"\"),0)","v":0},{"$f":"IF($D178>0,VLOOKUP($D178,Μητρώο!$A:$F,4,FALSE),\"\")","v":""}]
[177,176,null,null,{"$f":"IF($D179>0,VLOOKUP($D179,Μητρώο!$A:$F,3,FALSE),\"\")","v":""},{"$f":"IF($D179>0,VLOOKUP($D179,Μητρώο!$A:$F,5,FALSE),\"\")","v":""},{"$f":"IF(COUNTIF(Rankings!$B:$B,RIGHT($C179,2)&\"-\"&$D179)>0,IF($D179>0,VLOOKUP(RIGHT($C179,2)&\"-\"&$D179,Rankings!$B:$G,6,FALSE),\"\"),0)","v":0},{"$f":"IF($D179>0,VLOOKUP($D179,Μητρώο!$A:$F,4,FALSE),\"\")","v":""}]
[178,177,null,null,{"$f":"IF($D180>0,VLOOKUP($D180,Μητρώο!$A:$F,3,FALSE),\"\")","v":""},{"$f":"IF($D180>0,VLOOKUP($D180,Μητρώο!$A:$F,5,FALSE),\"\")","v":""},{"$f":"IF(COUNTIF(Rankings!$B:$B,RIGHT($C180,2)&\"-\"&$D180)>0,IF($D180>0,VLOOKUP(RIGHT($C180,2)&\"-\"&$D180,Rankings!$B:$G,6,FALSE),\"\"),0)","v":0},{"$f":"IF($D180>0,VLOOKUP($D180,Μητρώο!$A:$F,4,FALSE),\"\")","v":""}]
[179,178,null,null,{"$f":"IF($D181>0,VLOOKUP($D181,Μητρώο!$A:$F,3,FALSE),\"\")","v":""},{"$f":"IF($D181>0,VLOOKUP($D181,Μητρώο!$A:$F,5,FALSE),\"\")","v":""},{"$f":"IF(COUNTIF(Rankings!$B:$B,RIGHT($C181,2)&\"-\"&$D181)>0,IF($D181>0,VLOOKUP(RIGHT($C181,2)&\"-\"&$D181,Rankings!$B:$G,6,FALSE),\"\"),0)","v":0},{"$f":"IF($D181>0,VLOOKUP($D181,Μητρώο!$A:$F,4,FALSE),\"\")","v":""}]
[180,179,null,null,{"$f":"IF($D182>0,VLOOKUP($D182,Μητρώο!$A:$F,3,FALSE),\"\")","v":""},{"$f":"IF($D182>0,VLOOKUP($D182,Μητρώο!$A:$F,5,FALSE),\"\")","v":""},{"$f":"IF(COUNTIF(Rankings!$B:$B,RIGHT($C182,2)&\"-\"&$D182)>0,IF($D182>0,VLOOKUP(RIGHT($C182,2)&\"-\"&$D182,Rankings!$B:$G,6,FALSE),\"\"),0)","v":0},{"$f":"IF($D182>0,VLOOKUP($D182,Μητρώο!$A:$F,4,FALSE),\"\")","v":""}]
[181,180,null,null,{"$f":"IF($D183>0,VLOOKUP($D183,Μητρώο!$A:$F,3,FALSE),\"\")","v":""},{"$f":"IF($D183>0,VLOOKUP($D183,Μητρώο!$A:$F,5,FALSE),\"\")","v":""},{"$f":"IF(COUNTIF(Rankings!$B:$B,RIGHT($C183,2)&\"-\"&$D183)>0,IF($D183>0,VLOOKUP(RIGHT($C183,2)&\"-\"&$D183,Rankings!$B:$G,6,FALSE),\"\"),0)","v":0},{"$f":"IF($D183>0,VLOOKUP($D183,Μητρώο!$A:$F,4,FALSE),\"\")","v":""}]
[182,181,null,null,{"$f":"IF($D184>0,VLOOKUP($D184,Μητρώο!$A:$F,3,FALSE),\"\")","v":""},{"$f":"IF($D184>0,VLOOKUP($D184,Μητρώο!$A:$F,5,FALSE),\"\")","v":""},{"$f":"IF(COUNTIF(Rankings!$B:$B,RIGHT($C184,2)&\"-\"&$D184)>0,IF($D184>0,VLOOKUP(RIGHT($C184,2)&\"-\"&$D184,Rankings!$B:$G,6,FALSE),\"\"),0)","v":0},{"$f":"IF($D184>0,VLOOKUP($D184,Μητρώο!$A:$F,4,FALSE),\"\")","v":""}]
[183,182,null,null,{"$f":"IF($D185>0,VLOOKUP($D185,Μητρώο!$A:$F,3,FALSE),\"\")","v":""},{"$f":"IF($D185>0,VLOOKUP($D185,Μητρώο!$A:$F,5,FALSE),\"\")","v":""},{"$f":"IF(COUNTIF(Rankings!$B:$B,RIGHT($C185,2)&\"-\"&$D185)>0,IF($D185>0,VLOOKUP(RIGHT($C185,2)&\"-\"&$D185,Rankings!$B:$G,6,FALSE),\"\"),0)","v":0},{"$f":"IF($D185>0,VLOOKUP($D185,Μητρώο!$A:$F,4,FALSE),\"\")","v":""}]
[184,183,null,null,{"$f":"IF($D186>0,VLOOKUP($D186,Μητρώο!$A:$F,3,FALSE),\"\")","v":""},{"$f":"IF($D186>0,VLOOKUP($D186,Μητρώο!$A:$F,5,FALSE),\"\")","v":""},{"$f":"IF(COUNTIF(Rankings!$B:$B,RIGHT($C186,2)&\"-\"&$D186)>0,IF($D186>0,VLOOKUP(RIGHT($C186,2)&\"-\"&$D186,Rankings!$B:$G,6,FALSE),\"\"),0)","v":0},{"$f":"IF($D186>0,VLOOKUP($D186,Μητρώο!$A:$F,4,FALSE),\"\")","v":""}]
[185,184,null,null,{"$f":"IF($D187>0,VLOOKUP($D187,Μητρώο!$A:$F,3,FALSE),\"\")","v":""},{"$f":"IF($D187>0,VLOOKUP($D187,Μητρώο!$A:$F,5,FALSE),\"\")","v":""},{"$f":"IF(COUNTIF(Rankings!$B:$B,RIGHT($C187,2)&\"-\"&$D187)>0,IF($D187>0,VLOOKUP(RIGHT($C187,2)&\"-\"&$D187,Rankings!$B:$G,6,FALSE),\"\"),0)","v":0},{"$f":"IF($D187>0,VLOOKUP($D187,Μητρώο!$A:$F,4,FALSE),\"\")","v":""}]
[186,185,null,null,{"$f":"IF($D188>0,VLOOKUP($D188,Μητρώο!$A:$F,3,FALSE),\"\")","v":""},{"$f":"IF($D188>0,VLOOKUP($D188,Μητρώο!$A:$F,5,FALSE),\"\")","v":""},{"$f":"IF(COUNTIF(Rankings!$B:$B,RIGHT($C188,2)&\"-\"&$D188)>0,IF($D188>0,VLOOKUP(RIGHT($C188,2)&\"-\"&$D188,Rankings!$B:$G,6,FALSE),\"\"),0)","v":0},{"$f":"IF($D188>0,VLOOKUP($D188,Μητρώο!$A:$F,4,FALSE),\"\")","v":""}]
[187,186,null,null,{"$f":"IF($D189>0,VLOOKUP($D189,Μητρώο!$A:$F,3,FALSE),\"\")","v":""},{"$f":"IF($D189>0,VLOOKUP($D189,Μητρώο!$A:$F,5,FALSE),\"\")","v":""},{"$f":"IF(COUNTIF(Rankings!$B:$B,RIGHT($C189,2)&\"-\"&$D189)>0,IF($D189>0,VLOOKUP(RIGHT($C189,2)&\"-\"&$D189,Rankings!$B:$G,6,FALSE),\"\"),0)","v":0},{"$f":"IF($D189>0,VLOOKUP($D189,Μητρώο!$A:$F,4,FALSE),\"\")","v":""}]
[188,187,null,null,{"$f":"IF($D190>0,VLOOKUP($D190,Μητρώο!$A:$F,3,FALSE),\"\")","v":""},{"$f":"IF($D190>0,VLOOKUP($D190,Μητρώο!$A:$F,5,FALSE),\"\")","v":""},{"$f":"IF(COUNTIF(Rankings!$B:$B,RIGHT($C190,2)&\"-\"&$D190)>0,IF($D190>0,VLOOKUP(RIGHT($C190,2)&\"-\"&$D190,Rankings!$B:$G,6,FALSE),\"\"),0)","v":0},{"$f":"IF($D190>0,VLOOKUP($D190,Μητρώο!$A:$F,4,FALSE),\"\")","v":""}]
[189,188,null,null,{"$f":"IF($D191>0,VLOOKUP($D191,Μητρώο!$A:$F,3,FALSE),\"\")","v":""},{"$f":"IF($D191>0,VLOOKUP($D191,Μητρώο!$A:$F,5,FALSE),\"\")","v":""},{"$f":"IF(COUNTIF(Rankings!$B:$B,RIGHT($C191,2)&\"-\"&$D191)>0,IF($D191>0,VLOOKUP(RIGHT($C191,2)&\"-\"&$D191,Rankings!$B:$G,6,FALSE),\"\"),0)","v":0},{"$f":"IF($D191>0,VLOOKUP($D191,Μητρώο!$A:$F,4,FALSE),\"\")","v":""}]
[190,189,null,null,{"$f":"IF($D192>0,VLOOKUP($D192,Μητρώο!$A:$F,3,FALSE),\"\")","v":""},{"$f":"IF($D192>0,VLOOKUP($D192,Μητρώο!$A:$F,5,FALSE),\"\")","v":""},{"$f":"IF(COUNTIF(Rankings!$B:$B,RIGHT($C192,2)&\"-\"&$D192)>0,IF($D192>0,VLOOKUP(RIGHT($C192,2)&\"-\"&$D192,Rankings!$B:$G,6,FALSE),\"\"),0)","v":0},{"$f":"IF($D192>0,VLOOKUP($D192,Μητρώο!$A:$F,4,FALSE),\"\")","v":""}]
[191,190,null,null,{"$f":"IF($D193>0,VLOOKUP($D193,Μητρώο!$A:$F,3,FALSE),\"\")","v":""},{"$f":"IF($D193>0,VLOOKUP($D193,Μητρώο!$A:$F,5,FALSE),\"\")","v":""},{"$f":"IF(COUNTIF(Rankings!$B:$B,RIGHT($C193,2)&\"-\"&$D193)>0,IF($D193>0,VLOOKUP(RIGHT($C193,2)&\"-\"&$D193,Rankings!$B:$G,6,FALSE),\"\"),0)","v":0},{"$f":"IF($D193>0,VLOOKUP($D193,Μητρώο!$A:$F,4,FALSE),\"\")","v":""}]
[192,191,null,null,{"$f":"IF($D194>0,VLOOKUP($D194,Μητρώο!$A:$F,3,FALSE),\"\")","v":""},{"$f":"IF($D194>0,VLOOKUP($D194,Μητρώο!$A:$F,5,FALSE),\"\")","v":""},{"$f":"IF(COUNTIF(Rankings!$B:$B,RIGHT($C194,2)&\"-\"&$D194)>0,IF($D194>0,VLOOKUP(RIGHT($C194,2)&\"-\"&$D194,Rankings!$B:$G,6,FALSE),\"\"),0)","v":0},{"$f":"IF($D194>0,VLOOKUP($D194,Μητρώο!$A:$F,4,FALSE),\"\")","v":""}]
[193,192,null,null,{"$f":"IF($D195>0,VLOOKUP($D195,Μητρώο!$A:$F,3,FALSE),\"\")","v":""},{"$f":"IF($D195>0,VLOOKUP($D195,Μητρώο!$A:$F,5,FALSE),\"\")","v":""},{"$f":"IF(COUNTIF(Rankings!$B:$B,RIGHT($C195,2)&\"-\"&$D195)>0,IF($D195>0,VLOOKUP(RIGHT($C195,2)&\"-\"&$D195,Rankings!$B:$G,6,FALSE),\"\"),0)","v":0},{"$f":"IF($D195>0,VLOOKUP($D195,Μητρώο!$A:$F,4,FALSE),\"\")","v":""}]
[194,{"$f":"IF(C196=C195,B195+1,1)","v":193},null,null,{"$f":"IF($D196>0,VLOOKUP($D196,Μητρώο!$A:$F,3,FALSE),\"\")","v":""},{"$f":"IF($D196>0,VLOOKUP($D196,Μητρώο!$A:$F,5,FALSE),\"\")","v":""},{"$f":"IF(COUNTIF(Rankings!$B:$B,RIGHT($C196,2)&\"-\"&$D196)>0,IF($D196>0,VLOOKUP(RIGHT($C196,2)&\"-\"&$D196,Rankings!$B:$G,6,FALSE),\"\"),0)","v":0},{"$f":"IF($D196>0,VLOOKUP($D196,Μητρώο!$A:$F,4,FALSE),\"\")","v":""}]
[195,194,null,null,{"$f":"IF($D197>0,VLOOKUP($D197,Μητρώο!$A:$F,3,FALSE),\"\")","v":""},{"$f":"IF($D197>0,VLOOKUP($D197,Μητρώο!$A:$F,5,FALSE),\"\")","v":""},{"$f":"IF(COUNTIF(Rankings!$B:$B,RIGHT($C197,2)&\"-\"&$D197)>0,IF($D197>0,VLOOKUP(RIGHT($C197,2)&\"-\"&$D197,Rankings!$B:$G,6,FALSE),\"\"),0)","v":0},{"$f":"IF($D197>0,VLOOKUP($D197,Μητρώο!$A:$F,4,FALSE),\"\")","v":""}]
[196,195,null,null,{"$f":"IF($D198>0,VLOOKUP($D198,Μητρώο!$A:$F,3,FALSE),\"\")","v":""},{"$f":"IF($D198>0,VLOOKUP($D198,Μητρώο!$A:$F,5,FALSE),\"\")","v":""},{"$f":"IF(COUNTIF(Rankings!$B:$B,RIGHT($C198,2)&\"-\"&$D198)>0,IF($D198>0,VLOOKUP(RIGHT($C198,2)&\"-\"&$D198,Rankings!$B:$G,6,FALSE),\"\"),0)","v":0},{"$f":"IF($D198>0,VLOOKUP($D198,Μητρώο!$A:$F,4,FALSE),\"\")","v":""}]
[197,196,null,null,{"$f":"IF($D199>0,VLOOKUP($D199,Μητρώο!$A:$F,3,FALSE),\"\")","v":""},{"$f":"IF($D199>0,VLOOKUP($D199,Μητρώο!$A:$F,5,FALSE),\"\")","v":""},{"$f":"IF(COUNTIF(Rankings!$B:$B,RIGHT($C199,2)&\"-\"&$D199)>0,IF($D199>0,VLOOKUP(RIGHT($C199,2)&\"-\"&$D199,Rankings!$B:$G,6,FALSE),\"\"),0)","v":0},{"$f":"IF($D199>0,VLOOKUP($D199,Μητρώο!$A:$F,4,FALSE),\"\")","v":""}]
[198,197,null,null,{"$f":"IF($D200>0,VLOOKUP($D200,Μητρώο!$A:$F,3,FALSE),\"\")","v":""},{"$f":"IF($D200>0,VLOOKUP($D200,Μητρώο!$A:$F,5,FALSE),\"\")","v":""},{"$f":"IF(COUNTIF(Rankings!$B:$B,RIGHT($C200,2)&\"-\"&$D200)>0,IF($D200>0,VLOOKUP(RIGHT($C200,2)&\"-\"&$D200,Rankings!$B:$G,6,FALSE),\"\"),0)","v":0},{"$f":"IF($D200>0,VLOOKUP($D200,Μητρώο!$A:$F,4,FALSE),\"\")","v":""}]
[199,198,null,null,{"$f":"IF($D201>0,VLOOKUP($D201,Μητρώο!$A:$F,3,FALSE),\"\")","v":""},{"$f":"IF($D201>0,VLOOKUP($D201,Μητρώο!$A:$F,5,FALSE),\"\")","v":""},{"$f":"IF(COUNTIF(Rankings!$B:$B,RIGHT($C201,2)&\"-\"&$D201)>0,IF($D201>0,VLOOKUP(RIGHT($C201,2)&\"-\"&$D201,Rankings!$B:$G,6,FALSE),\"\"),0)","v":0},{"$f":"IF($D201>0,VLOOKUP($D201,Μητρώο!$A:$F,4,FALSE),\"\")","v":""}]
[200,199,null,null,{"$f":"IF($D202>0,VLOOKUP($D202,Μητρώο!$A:$F,3,FALSE),\"\")","v":""},{"$f":"IF($D202>0,VLOOKUP($D202,Μητρώο!$A:$F,5,FALSE),\"\")","v":""},{"$f":"IF(COUNTIF(Rankings!$B:$B,RIGHT($C202,2)&\"-\"&$D202)>0,IF($D202>0,VLOOKUP(RIGHT($C202,2)&\"-\"&$D202,Rankings!$B:$G,6,FALSE),\"\"),0)","v":0},{"$f":"IF($D202>0,VLOOKUP($D202,Μητρώο!$A:$F,4,FALSE),\"\")","v":""}]
[201,200,null,null,{"$f":"IF($D203>0,VLOOKUP($D203,Μητρώο!$A:$F,3,FALSE),\"\")","v":""},{"$f":"IF($D203>0,VLOOKUP($D203,Μητρώο!$A:$F,5,FALSE),\"\")","v":""},{"$f":"IF(COUNTIF(Rankings!$B:$B,RIGHT($C203,2)&\"-\"&$D203)>0,IF($D203>0,VLOOKUP(RIGHT($C203,2)&\"-\"&$D203,Rankings!$B:$G,6,FALSE),\"\"),0)","v":0},{"$f":"IF($D203>0,VLOOKUP($D203,Μητρώο!$A:$F,4,FALSE),\"\")","v":""}]
[202,201,null,null,{"$f":"IF($D204>0,VLOOKUP($D204,Μητρώο!$A:$F,3,FALSE),\"\")","v":""},{"$f":"IF($D204>0,VLOOKUP($D204,Μητρώο!$A:$F,5,FALSE),\"\")","v":""},{"$f":"IF(COUNTIF(Rankings!$B:$B,RIGHT($C204,2)&\"-\"&$D204)>0,IF($D204>0,VLOOKUP(RIGHT($C204,2)&\"-\"&$D204,Rankings!$B:$G,6,FALSE),\"\"),0)","v":0},{"$f":"IF($D204>0,VLOOKUP($D204,Μητρώο!$A:$F,4,FALSE),\"\")","v":""}]
[203,202,null,null,{"$f":"IF($D205>0,VLOOKUP($D205,Μητρώο!$A:$F,3,FALSE),\"\")","v":""},{"$f":"IF($D205>0,VLOOKUP($D205,Μητρώο!$A:$F,5,FALSE),\"\")","v":""},{"$f":"IF(COUNTIF(Rankings!$B:$B,RIGHT($C205,2)&\"-\"&$D205)>0,IF($D205>0,VLOOKUP(RIGHT($C205,2)&\"-\"&$D205,Rankings!$B:$G,6,FALSE),\"\"),0)","v":0},{"$f":"IF($D205>0,VLOOKUP($D205,Μητρώο!$A:$F,4,FALSE),\"\")","v":""}]
[204,203,null,null,{"$f":"IF($D206>0,VLOOKUP($D206,Μητρώο!$A:$F,3,FALSE),\"\")","v":""},{"$f":"IF($D206>0,VLOOKUP($D206,Μητρώο!$A:$F,5,FALSE),\"\")","v":""},{"$f":"IF(COUNTIF(Rankings!$B:$B,RIGHT($C206,2)&\"-\"&$D206)>0,IF($D206>0,VLOOKUP(RIGHT($C206,2)&\"-\"&$D206,Rankings!$B:$G,6,FALSE),\"\"),0)","v":0},{"$f":"IF($D206>0,VLOOKUP($D206,Μητρώο!$A:$F,4,FALSE),\"\")","v":""}]
[205,204,null,null,{"$f":"IF($D207>0,VLOOKUP($D207,Μητρώο!$A:$F,3,FALSE),\"\")","v":""},{"$f":"IF($D207>0,VLOOKUP($D207,Μητρώο!$A:$F,5,FALSE),\"\")","v":""},{"$f":"IF(COUNTIF(Rankings!$B:$B,RIGHT($C207,2)&\"-\"&$D207)>0,IF($D207>0,VLOOKUP(RIGHT($C207,2)&\"-\"&$D207,Rankings!$B:$G,6,FALSE),\"\"),0)","v":0},{"$f":"IF($D207>0,VLOOKUP($D207,Μητρώο!$A:$F,4,FALSE),\"\")","v":""}]
[206,205,null,null,{"$f":"IF($D208>0,VLOOKUP($D208,Μητρώο!$A:$F,3,FALSE),\"\")","v":""},{"$f":"IF($D208>0,VLOOKUP($D208,Μητρώο!$A:$F,5,FALSE),\"\")","v":""},{"$f":"IF(COUNTIF(Rankings!$B:$B,RIGHT($C208,2)&\"-\"&$D208)>0,IF($D208>0,VLOOKUP(RIGHT($C208,2)&\"-\"&$D208,Rankings!$B:$G,6,FALSE),\"\"),0)","v":0},{"$f":"IF($D208>0,VLOOKUP($D208,Μητρώο!$A:$F,4,FALSE),\"\")","v":""}]
[207,206,null,null,{"$f":"IF($D209>0,VLOOKUP($D209,Μητρώο!$A:$F,3,FALSE),\"\")","v":""},{"$f":"IF($D209>0,VLOOKUP($D209,Μητρώο!$A:$F,5,FALSE),\"\")","v":""},{"$f":"IF(COUNTIF(Rankings!$B:$B,RIGHT($C209,2)&\"-\"&$D209)>0,IF($D209>0,VLOOKUP(RIGHT($C209,2)&\"-\"&$D209,Rankings!$B:$G,6,FALSE),\"\"),0)","v":0},{"$f":"IF($D209>0,VLOOKUP($D209,Μητρώο!$A:$F,4,FALSE),\"\")","v":""}]
[208,207,null,null,{"$f":"IF($D210>0,VLOOKUP($D210,Μητρώο!$A:$F,3,FALSE),\"\")","v":""},{"$f":"IF($D210>0,VLOOKUP($D210,Μητρώο!$A:$F,5,FALSE),\"\")","v":""},{"$f":"IF(COUNTIF(Rankings!$B:$B,RIGHT($C210,2)&\"-\"&$D210)>0,IF($D210>0,VLOOKUP(RIGHT($C210,2)&\"-\"&$D210,Rankings!$B:$G,6,FALSE),\"\"),0)","v":0},{"$f":"IF($D210>0,VLOOKUP($D210,Μητρώο!$A:$F,4,FALSE),\"\")","v":""}]
[209,208,null,null,{"$f":"IF($D211>0,VLOOKUP($D211,Μητρώο!$A:$F,3,FALSE),\"\")","v":""},{"$f":"IF($D211>0,VLOOKUP($D211,Μητρώο!$A:$F,5,FALSE),\"\")","v":""},{"$f":"IF(COUNTIF(Rankings!$B:$B,RIGHT($C211,2)&\"-\"&$D211)>0,IF($D211>0,VLOOKUP(RIGHT($C211,2)&\"-\"&$D211,Rankings!$B:$G,6,FALSE),\"\"),0)","v":0},{"$f":"IF($D211>0,VLOOKUP($D211,Μητρώο!$A:$F,4,FALSE),\"\")","v":""}]
[210,209,null,null,{"$f":"IF($D212>0,VLOOKUP($D212,Μητρώο!$A:$F,3,FALSE),\"\")","v":""},{"$f":"IF($D212>0,VLOOKUP($D212,Μητρώο!$A:$F,5,FALSE),\"\")","v":""},{"$f":"IF(COUNTIF(Rankings!$B:$B,RIGHT($C212,2)&\"-\"&$D212)>0,IF($D212>0,VLOOKUP(RIGHT($C212,2)&\"-\"&$D212,Rankings!$B:$G,6,FALSE),\"\"),0)","v":0},{"$f":"IF($D212>0,VLOOKUP($D212,Μητρώο!$A:$F,4,FALSE),\"\")","v":""}]
[211,210,null,null,{"$f":"IF($D213>0,VLOOKUP($D213,Μητρώο!$A:$F,3,FALSE),\"\")","v":""},{"$f":"IF($D213>0,VLOOKUP($D213,Μητρώο!$A:$F,5,FALSE),\"\")","v":""},{"$f":"IF(COUNTIF(Rankings!$B:$B,RIGHT($C213,2)&\"-\"&$D213)>0,IF($D213>0,VLOOKUP(RIGHT($C213,2)&\"-\"&$D213,Rankings!$B:$G,6,FALSE),\"\"),0)","v":0},{"$f":"IF($D213>0,VLOOKUP($D213,Μητρώο!$A:$F,4,FALSE),\"\")","v":""}]
[212,211,null,null,{"$f":"IF($D214>0,VLOOKUP($D214,Μητρώο!$A:$F,3,FALSE),\"\")","v":""},{"$f":"IF($D214>0,VLOOKUP($D214,Μητρώο!$A:$F,5,FALSE),\"\")","v":""},{"$f":"IF(COUNTIF(Rankings!$B:$B,RIGHT($C214,2)&\"-\"&$D214)>0,IF($D214>0,VLOOKUP(RIGHT($C214,2)&\"-\"&$D214,Rankings!$B:$G,6,FALSE),\"\"),0)","v":0},{"$f":"IF($D214>0,VLOOKUP($D214,Μητρώο!$A:$F,4,FALSE),\"\")","v":""}]
[213,212,null,null,{"$f":"IF($D215>0,VLOOKUP($D215,Μητρώο!$A:$F,3,FALSE),\"\")","v":""},{"$f":"IF($D215>0,VLOOKUP($D215,Μητρώο!$A:$F,5,FALSE),\"\")","v":""},{"$f":"IF(COUNTIF(Rankings!$B:$B,RIGHT($C215,2)&\"-\"&$D215)>0,IF($D215>0,VLOOKUP(RIGHT($C215,2)&\"-\"&$D215,Rankings!$B:$G,6,FALSE),\"\"),0)","v":0},{"$f":"IF($D215>0,VLOOKUP($D215,Μητρώο!$A:$F,4,FALSE),\"\")","v":""}]
[214,213,null,null,{"$f":"IF($D216>0,VLOOKUP($D216,Μητρώο!$A:$F,3,FALSE),\"\")","v":""},{"$f":"IF($D216>0,VLOOKUP($D216,Μητρώο!$A:$F,5,FALSE),\"\")","v":""},{"$f":"IF(COUNTIF(Rankings!$B:$B,RIGHT($C216,2)&\"-\"&$D216)>0,IF($D216>0,VLOOKUP(RIGHT($C216,2)&\"-\"&$D216,Rankings!$B:$G,6,FALSE),\"\"),0)","v":0},{"$f":"IF($D216>0,VLOOKUP($D216,Μητρώο!$A:$F,4,FALSE),\"\")","v":""}]
[215,214,null,null,{"$f":"IF($D217>0,VLOOKUP($D217,Μητρώο!$A:$F,3,FALSE),\"\")","v":""},{"$f":"IF($D217>0,VLOOKUP($D217,Μητρώο!$A:$F,5,FALSE),\"\")","v":""},{"$f":"IF(COUNTIF(Rankings!$B:$B,RIGHT($C217,2)&\"-\"&$D217)>0,IF($D217>0,VLOOKUP(RIGHT($C217,2)&\"-\"&$D217,Rankings!$B:$G,6,FALSE),\"\"),0)","v":0},{"$f":"IF($D217>0,VLOOKUP($D217,Μητρώο!$A:$F,4,FALSE),\"\")","v":""}]
[216,215,null,null,{"$f":"IF($D218>0,VLOOKUP($D218,Μητρώο!$A:$F,3,FALSE),\"\")","v":""},{"$f":"IF($D218>0,VLOOKUP($D218,Μητρώο!$A:$F,5,FALSE),\"\")","v":""},{"$f":"IF(COUNTIF(Rankings!$B:$B,RIGHT($C218,2)&\"-\"&$D218)>0,IF($D218>0,VLOOKUP(RIGHT($C218,2)&\"-\"&$D218,Rankings!$B:$G,6,FALSE),\"\"),0)","v":0},{"$f":"IF($D218>0,VLOOKUP($D218,Μητρώο!$A:$F,4,FALSE),\"\")","v":""}]
[217,216,null,null,{"$f":"IF($D219>0,VLOOKUP($D219,Μητρώο!$A:$F,3,FALSE),\"\")","v":""},{"$f":"IF($D219>0,VLOOKUP($D219,Μητρώο!$A:$F,5,FALSE),\"\")","v":""},{"$f":"IF(COUNTIF(Rankings!$B:$B,RIGHT($C219,2)&\"-\"&$D219)>0,IF($D219>0,VLOOKUP(RIGHT($C219,2)&\"-\"&$D219,Rankings!$B:$G,6,FALSE),\"\"),0)","v":0},{"$f":"IF($D219>0,VLOOKUP($D219,Μητρώο!$A:$F,4,FALSE),\"\")","v":""}]
[218,217,null,null,{"$f":"IF($D220>0,VLOOKUP($D220,Μητρώο!$A:$F,3,FALSE),\"\")","v":""},{"$f":"IF($D220>0,VLOOKUP($D220,Μητρώο!$A:$F,5,FALSE),\"\")","v":""},{"$f":"IF(COUNTIF(Rankings!$B:$B,RIGHT($C220,2)&\"-\"&$D220)>0,IF($D220>0,VLOOKUP(RIGHT($C220,2)&\"-\"&$D220,Rankings!$B:$G,6,FALSE),\"\"),0)","v":0},{"$f":"IF($D220>0,VLOOKUP($D220,Μητρώο!$A:$F,4,FALSE),\"\")","v":""}]
[219,218,null,null,{"$f":"IF($D221>0,VLOOKUP($D221,Μητρώο!$A:$F,3,FALSE),\"\")","v":""},{"$f":"IF($D221>0,VLOOKUP($D221,Μητρώο!$A:$F,5,FALSE),\"\")","v":""},{"$f":"IF(COUNTIF(Rankings!$B:$B,RIGHT($C221,2)&\"-\"&$D221)>0,IF($D221>0,VLOOKUP(RIGHT($C221,2)&\"-\"&$D221,Rankings!$B:$G,6,FALSE),\"\"),0)","v":0},{"$f":"IF($D221>0,VLOOKUP($D221,Μητρώο!$A:$F,4,FALSE),\"\")","v":""}]
[220,219,null,null,{"$f":"IF($D222>0,VLOOKUP($D222,Μητρώο!$A:$F,3,FALSE),\"\")","v":""},{"$f":"IF($D222>0,VLOOKUP($D222,Μητρώο!$A:$F,5,FALSE),\"\")","v":""},{"$f":"IF(COUNTIF(Rankings!$B:$B,RIGHT($C222,2)&\"-\"&$D222)>0,IF($D222>0,VLOOKUP(RIGHT($C222,2)&\"-\"&$D222,Rankings!$B:$G,6,FALSE),\"\"),0)","v":0},{"$f":"IF($D222>0,VLOOKUP($D222,Μητρώο!$A:$F,4,FALSE),\"\")","v":""}]
[221,220,null,null,{"$f":"IF($D223>0,VLOOKUP($D223,Μητρώο!$A:$F,3,FALSE),\"\")","v":""},{"$f":"IF($D223>0,VLOOKUP($D223,Μητρώο!$A:$F,5,FALSE),\"\")","v":""},{"$f":"IF(COUNTIF(Rankings!$B:$B,RIGHT($C223,2)&\"-\"&$D223)>0,IF($D223>0,VLOOKUP(RIGHT($C223,2)&\"-\"&$D223,Rankings!$B:$G,6,FALSE),\"\"),0)","v":0},{"$f":"IF($D223>0,VLOOKUP($D223,Μητρώο!$A:$F,4,FALSE),\"\")","v":""}]
[222,221,null,null,{"$f":"IF($D224>0,VLOOKUP($D224,Μητρώο!$A:$F,3,FALSE),\"\")","v":""},{"$f":"IF($D224>0,VLOOKUP($D224,Μητρώο!$A:$F,5,FALSE),\"\")","v":""},{"$f":"IF(COUNTIF(Rankings!$B:$B,RIGHT($C224,2)&\"-\"&$D224)>0,IF($D224>0,VLOOKUP(RIGHT($C224,2)&\"-\"&$D224,Rankings!$B:$G,6,FALSE),\"\"),0)","v":0},{"$f":"IF($D224>0,VLOOKUP($D224,Μητρώο!$A:$F,4,FALSE),\"\")","v":""}]
[223,222,null,null,{"$f":"IF($D225>0,VLOOKUP($D225,Μητρώο!$A:$F,3,FALSE),\"\")","v":""},{"$f":"IF($D225>0,VLOOKUP($D225,Μητρώο!$A:$F,5,FALSE),\"\")","v":""},{"$f":"IF(COUNTIF(Rankings!$B:$B,RIGHT($C225,2)&\"-\"&$D225)>0,IF($D225>0,VLOOKUP(RIGHT($C225,2)&\"-\"&$D225,Rankings!$B:$G,6,FALSE),\"\"),0)","v":0},{"$f":"IF($D225>0,VLOOKUP($D225,Μητρώο!$A:$F,4,FALSE),\"\")","v":""}]
[224,223,null,null,{"$f":"IF($D226>0,VLOOKUP($D226,Μητρώο!$A:$F,3,FALSE),\"\")","v":""},{"$f":"IF($D226>0,VLOOKUP($D226,Μητρώο!$A:$F,5,FALSE),\"\")","v":""},{"$f":"IF(COUNTIF(Rankings!$B:$B,RIGHT($C226,2)&\"-\"&$D226)>0,IF($D226>0,VLOOKUP(RIGHT($C226,2)&\"-\"&$D226,Rankings!$B:$G,6,FALSE),\"\"),0)","v":0},{"$f":"IF($D226>0,VLOOKUP($D226,Μητρώο!$A:$F,4,FALSE),\"\")","v":""}]
[225,224,null,null,{"$f":"IF($D227>0,VLOOKUP($D227,Μητρώο!$A:$F,3,FALSE),\"\")","v":""},{"$f":"IF($D227>0,VLOOKUP($D227,Μητρώο!$A:$F,5,FALSE),\"\")","v":""},{"$f":"IF(COUNTIF(Rankings!$B:$B,RIGHT($C227,2)&\"-\"&$D227)>0,IF($D227>0,VLOOKUP(RIGHT($C227,2)&\"-\"&$D227,Rankings!$B:$G,6,FALSE),\"\"),0)","v":0},{"$f":"IF($D227>0,VLOOKUP($D227,Μητρώο!$A:$F,4,FALSE),\"\")","v":""}]
[226,225,null,null,{"$f":"IF($D228>0,VLOOKUP($D228,Μητρώο!$A:$F,3,FALSE),\"\")","v":""},{"$f":"IF($D228>0,VLOOKUP($D228,Μητρώο!$A:$F,5,FALSE),\"\")","v":""},{"$f":"IF(COUNTIF(Rankings!$B:$B,RIGHT($C228,2)&\"-\"&$D228)>0,IF($D228>0,VLOOKUP(RIGHT($C228,2)&\"-\"&$D228,Rankings!$B:$G,6,FALSE),\"\"),0)","v":0},{"$f":"IF($D228>0,VLOOKUP($D228,Μητρώο!$A:$F,4,FALSE),\"\")","v":""}]
[227,226,null,null,{"$f":"IF($D229>0,VLOOKUP($D229,Μητρώο!$A:$F,3,FALSE),\"\")","v":""},{"$f":"IF($D229>0,VLOOKUP($D229,Μητρώο!$A:$F,5,FALSE),\"\")","v":""},{"$f":"IF(COUNTIF(Rankings!$B:$B,RIGHT($C229,2)&\"-\"&$D229)>0,IF($D229>0,VLOOKUP(RIGHT($C229,2)&\"-\"&$D229,Rankings!$B:$G,6,FALSE),\"\"),0)","v":0},{"$f":"IF($D229>0,VLOOKUP($D229,Μητρώο!$A:$F,4,FALSE),\"\")","v":""}]
[228,227,null,null,{"$f":"IF($D230>0,VLOOKUP($D230,Μητρώο!$A:$F,3,FALSE),\"\")","v":""},{"$f":"IF($D230>0,VLOOKUP($D230,Μητρώο!$A:$F,5,FALSE),\"\")","v":""},{"$f":"IF(COUNTIF(Rankings!$B:$B,RIGHT($C230,2)&\"-\"&$D230)>0,IF($D230>0,VLOOKUP(RIGHT($C230,2)&\"-\"&$D230,Rankings!$B:$G,6,FALSE),\"\"),0)","v":0},{"$f":"IF($D230>0,VLOOKUP($D230,Μητρώο!$A:$F,4,FALSE),\"\")","v":""}]
[229,228,null,null,{"$f":"IF($D231>0,VLOOKUP($D231,Μητρώο!$A:$F,3,FALSE),\"\")","v":""},{"$f":"IF($D231>0,VLOOKUP($D231,Μητρώο!$A:$F,5,FALSE),\"\")","v":""},{"$f":"IF(COUNTIF(Rankings!$B:$B,RIGHT($C231,2)&\"-\"&$D231)>0,IF($D231>0,VLOOKUP(RIGHT($C231,2)&\"-\"&$D231,Rankings!$B:$G,6,FALSE),\"\"),0)","v":0},{"$f":"IF($D231>0,VLOOKUP($D231,Μητρώο!$A:$F,4,FALSE),\"\")","v":""}]
[230,229,null,null,{"$f":"IF($D232>0,VLOOKUP($D232,Μητρώο!$A:$F,3,FALSE),\"\")","v":""},{"$f":"IF($D232>0,VLOOKUP($D232,Μητρώο!$A:$F,5,FALSE),\"\")","v":""},{"$f":"IF(COUNTIF(Rankings!$B:$B,RIGHT($C232,2)&\"-\"&$D232)>0,IF($D232>0,VLOOKUP(RIGHT($C232,2)&\"-\"&$D232,Rankings!$B:$G,6,FALSE),\"\"),0)","v":0},{"$f":"IF($D232>0,VLOOKUP($D232,Μητρώο!$A:$F,4,FALSE),\"\")","v":""}]
[231,230,null,null,{"$f":"IF($D233>0,VLOOKUP($D233,Μητρώο!$A:$F,3,FALSE),\"\")","v":""},{"$f":"IF($D233>0,VLOOKUP($D233,Μητρώο!$A:$F,5,FALSE),\"\")","v":""},{"$f":"IF(COUNTIF(Rankings!$B:$B,RIGHT($C233,2)&\"-\"&$D233)>0,IF($D233>0,VLOOKUP(RIGHT($C233,2)&\"-\"&$D233,Rankings!$B:$G,6,FALSE),\"\"),0)","v":0},{"$f":"IF($D233>0,VLOOKUP($D233,Μητρώο!$A:$F,4,FALSE),\"\")","v":""}]
[232,231,null,null,{"$f":"IF($D234>0,VLOOKUP($D234,Μητρώο!$A:$F,3,FALSE),\"\")","v":""},{"$f":"IF($D234>0,VLOOKUP($D234,Μητρώο!$A:$F,5,FALSE),\"\")","v":""},{"$f":"IF(COUNTIF(Rankings!$B:$B,RIGHT($C234,2)&\"-\"&$D234)>0,IF($D234>0,VLOOKUP(RIGHT($C234,2)&\"-\"&$D234,Rankings!$B:$G,6,FALSE),\"\"),0)","v":0},{"$f":"IF($D234>0,VLOOKUP($D234,Μητρώο!$A:$F,4,FALSE),\"\")","v":""}]
[233,232,null,null,{"$f":"IF($D235>0,VLOOKUP($D235,Μητρώο!$A:$F,3,FALSE),\"\")","v":""},{"$f":"IF($D235>0,VLOOKUP($D235,Μητρώο!$A:$F,5,FALSE),\"\")","v":""},{"$f":"IF(COUNTIF(Rankings!$B:$B,RIGHT($C235,2)&\"-\"&$D235)>0,IF($D235>0,VLOOKUP(RIGHT($C235,2)&\"-\"&$D235,Rankings!$B:$G,6,FALSE),\"\"),0)","v":0},{"$f":"IF($D235>0,VLOOKUP($D235,Μητρώο!$A:$F,4,FALSE),\"\")","v":""}]
[234,233,null,null,{"$f":"IF($D236>0,VLOOKUP($D236,Μητρώο!$A:$F,3,FALSE),\"\")","v":""},{"$f":"IF($D236>0,VLOOKUP($D236,Μητρώο!$A:$F,5,FALSE),\"\")","v":""},{"$f":"IF(COUNTIF(Rankings!$B:$B,RIGHT($C236,2)&\"-\"&$D236)>0,IF($D236>0,VLOOKUP(RIGHT($C236,2)&\"-\"&$D236,Rankings!$B:$G,6,FALSE),\"\"),0)","v":0},{"$f":"IF($D236>0,VLOOKUP($D236,Μητρώο!$A:$F,4,FALSE),\"\")","v":""}]
[235,234,null,null,{"$f":"IF($D237>0,VLOOKUP($D237,Μητρώο!$A:$F,3,FALSE),\"\")","v":""},{"$f":"IF($D237>0,VLOOKUP($D237,Μητρώο!$A:$F,5,FALSE),\"\")","v":""},{"$f":"IF(COUNTIF(Rankings!$B:$B,RIGHT($C237,2)&\"-\"&$D237)>0,IF($D237>0,VLOOKUP(RIGHT($C237,2)&\"-\"&$D237,Rankings!$B:$G,6,FALSE),\"\"),0)","v":0},{"$f":"IF($D237>0,VLOOKUP($D237,Μητρώο!$A:$F,4,FALSE),\"\")","v":""}]
[236,235,null,null,{"$f":"IF($D238>0,VLOOKUP($D238,Μητρώο!$A:$F,3,FALSE),\"\")","v":""},{"$f":"IF($D238>0,VLOOKUP($D238,Μητρώο!$A:$F,5,FALSE),\"\")","v":""},{"$f":"IF(COUNTIF(Rankings!$B:$B,RIGHT($C238,2)&\"-\"&$D238)>0,IF($D238>0,VLOOKUP(RIGHT($C238,2)&\"-\"&$D238,Rankings!$B:$G,6,FALSE),\"\"),0)","v":0},{"$f":"IF($D238>0,VLOOKUP($D238,Μητρώο!$A:$F,4,FALSE),\"\")","v":""}]
[237,236,null,null,{"$f":"IF($D239>0,VLOOKUP($D239,Μητρώο!$A:$F,3,FALSE),\"\")","v":""},{"$f":"IF($D239>0,VLOOKUP($D239,Μητρώο!$A:$F,5,FALSE),\"\")","v":""},{"$f":"IF(COUNTIF(Rankings!$B:$B,RIGHT($C239,2)&\"-\"&$D239)>0,IF($D239>0,VLOOKUP(RIGHT($C239,2)&\"-\"&$D239,Rankings!$B:$G,6,FALSE),\"\"),0)","v":0},{"$f":"IF($D239>0,VLOOKUP($D239,Μητρώο!$A:$F,4,FALSE),\"\")","v":""}]
[238,237,null,null,{"$f":"IF($D240>0,VLOOKUP($D240,Μητρώο!$A:$F,3,FALSE),\"\")","v":""},{"$f":"IF($D240>0,VLOOKUP($D240,Μητρώο!$A:$F,5,FALSE),\"\")","v":""},{"$f":"IF(COUNTIF(Rankings!$B:$B,RIGHT($C240,2)&\"-\"&$D240)>0,IF($D240>0,VLOOKUP(RIGHT($C240,2)&\"-\"&$D240,Rankings!$B:$G,6,FALSE),\"\"),0)","v":0},{"$f":"IF($D240>0,VLOOKUP($D240,Μητρώο!$A:$F,4,FALSE),\"\")","v":""}]
[239,238,null,null,{"$f":"IF($D241>0,VLOOKUP($D241,Μητρώο!$A:$F,3,FALSE),\"\")","v":""},{"$f":"IF($D241>0,VLOOKUP($D241,Μητρώο!$A:$F,5,FALSE),\"\")","v":""},{"$f":"IF(COUNTIF(Rankings!$B:$B,RIGHT($C241,2)&\"-\"&$D241)>0,IF($D241>0,VLOOKUP(RIGHT($C241,2)&\"-\"&$D241,Rankings!$B:$G,6,FALSE),\"\"),0)","v":0},{"$f":"IF($D241>0,VLOOKUP($D241,Μητρώο!$A:$F,4,FALSE),\"\")","v":""}]
[240,239,null,null,{"$f":"IF($D242>0,VLOOKUP($D242,Μητρώο!$A:$F,3,FALSE),\"\")","v":""},{"$f":"IF($D242>0,VLOOKUP($D242,Μητρώο!$A:$F,5,FALSE),\"\")","v":""},{"$f":"IF(COUNTIF(Rankings!$B:$B,RIGHT($C242,2)&\"-\"&$D242)>0,IF($D242>0,VLOOKUP(RIGHT($C242,2)&\"-\"&$D242,Rankings!$B:$G,6,FALSE),\"\"),0)","v":0},{"$f":"IF($D242>0,VLOOKUP($D242,Μητρώο!$A:$F,4,FALSE),\"\")","v":""}]
[241,240,null,null,{"$f":"IF($D243>0,VLOOKUP($D243,Μητρώο!$A:$F,3,FALSE),\"\")","v":""},{"$f":"IF($D243>0,VLOOKUP($D243,Μητρώο!$A:$F,5,FALSE),\"\")","v":""},{"$f":"IF(COUNTIF(Rankings!$B:$B,RIGHT($C243,2)&\"-\"&$D243)>0,IF($D243>0,VLOOKUP(RIGHT($C243,2)&\"-\"&$D243,Rankings!$B:$G,6,FALSE),\"\"),0)","v":0},{"$f":"IF($D243>0,VLOOKUP($D243,Μητρώο!$A:$F,4,FALSE),\"\")","v":""}]
[242,241,null,null,{"$f":"IF($D244>0,VLOOKUP($D244,Μητρώο!$A:$F,3,FALSE),\"\")","v":""},{"$f":"IF($D244>0,VLOOKUP($D244,Μητρώο!$A:$F,5,FALSE),\"\")","v":""},{"$f":"IF(COUNTIF(Rankings!$B:$B,RIGHT($C244,2)&\"-\"&$D244)>0,IF($D244>0,VLOOKUP(RIGHT($C244,2)&\"-\"&$D244,Rankings!$B:$G,6,FALSE),\"\"),0)","v":0},{"$f":"IF($D244>0,VLOOKUP($D244,Μητρώο!$A:$F,4,FALSE),\"\")","v":""}]
[243,242,null,null,{"$f":"IF($D245>0,VLOOKUP($D245,Μητρώο!$A:$F,3,FALSE),\"\")","v":""},{"$f":"IF($D245>0,VLOOKUP($D245,Μητρώο!$A:$F,5,FALSE),\"\")","v":""},{"$f":"IF(COUNTIF(Rankings!$B:$B,RIGHT($C245,2)&\"-\"&$D245)>0,IF($D245>0,VLOOKUP(RIGHT($C245,2)&\"-\"&$D245,Rankings!$B:$G,6,FALSE),\"\"),0)","v":0},{"$f":"IF($D245>0,VLOOKUP($D245,Μητρώο!$A:$F,4,FALSE),\"\")","v":""}]
[244,243,null,null,{"$f":"IF($D246>0,VLOOKUP($D246,Μητρώο!$A:$F,3,FALSE),\"\")","v":""},{"$f":"IF($D246>0,VLOOKUP($D246,Μητρώο!$A:$F,5,FALSE),\"\")","v":""},{"$f":"IF(COUNTIF(Rankings!$B:$B,RIGHT($C246,2)&\"-\"&$D246)>0,IF($D246>0,VLOOKUP(RIGHT($C246,2)&\"-\"&$D246,Rankings!$B:$G,6,FALSE),\"\"),0)","v":0},{"$f":"IF($D246>0,VLOOKUP($D246,Μητρώο!$A:$F,4,FALSE),\"\")","v":""}]
[245,244,null,null,{"$f":"IF($D247>0,VLOOKUP($D247,Μητρώο!$A:$F,3,FALSE),\"\")","v":""},{"$f":"IF($D247>0,VLOOKUP($D247,Μητρώο!$A:$F,5,FALSE),\"\")","v":""},{"$f":"IF(COUNTIF(Rankings!$B:$B,RIGHT($C247,2)&\"-\"&$D247)>0,IF($D247>0,VLOOKUP(RIGHT($C247,2)&\"-\"&$D247,Rankings!$B:$G,6,FALSE),\"\"),0)","v":0},{"$f":"IF($D247>0,VLOOKUP($D247,Μητρώο!$A:$F,4,FALSE),\"\")","v":""}]
[246,245,null,null,{"$f":"IF($D248>0,VLOOKUP($D248,Μητρώο!$A:$F,3,FALSE),\"\")","v":""},{"$f":"IF($D248>0,VLOOKUP($D248,Μητρώο!$A:$F,5,FALSE),\"\")","v":""},{"$f":"IF(COUNTIF(Rankings!$B:$B,RIGHT($C248,2)&\"-\"&$D248)>0,IF($D248>0,VLOOKUP(RIGHT($C248,2)&\"-\"&$D248,Rankings!$B:$G,6,FALSE),\"\"),0)","v":0},{"$f":"IF($D248>0,VLOOKUP($D248,Μητρώο!$A:$F,4,FALSE),\"\")","v":""}]
[247,246,null,null,{"$f":"IF($D249>0,VLOOKUP($D249,Μητρώο!$A:$F,3,FALSE),\"\")","v":""},{"$f":"IF($D249>0,VLOOKUP($D249,Μητρώο!$A:$F,5,FALSE),\"\")","v":""},{"$f":"IF(COUNTIF(Rankings!$B:$B,RIGHT($C249,2)&\"-\"&$D249)>0,IF($D249>0,VLOOKUP(RIGHT($C249,2)&\"-\"&$D249,Rankings!$B:$G,6,FALSE),\"\"),0)","v":0},{"$f":"IF($D249>0,VLOOKUP($D249,Μητρώο!$A:$F,4,FALSE),\"\")","v":""}]
[248,247,null,null,{"$f":"IF($D250>0,VLOOKUP($D250,Μητρώο!$A:$F,3,FALSE),\"\")","v":""},{"$f":"IF($D250>0,VLOOKUP($D250,Μητρώο!$A:$F,5,FALSE),\"\")","v":""},{"$f":"IF(COUNTIF(Rankings!$B:$B,RIGHT($C250,2)&\"-\"&$D250)>0,IF($D250>0,VLOOKUP(RIGHT($C250,2)&\"-\"&$D250,Rankings!$B:$G,6,FALSE),\"\"),0)","v":0},{"$f":"IF($D250>0,VLOOKUP($D250,Μητρώο!$A:$F,4,FALSE),\"\")","v":""}]
[249,248,null,null,{"$f":"IF($D251>0,VLOOKUP($D251,Μητρώο!$A:$F,3,FALSE),\"\")","v":""},{"$f":"IF($D251>0,VLOOKUP($D251,Μητρώο!$A:$F,5,FALSE),\"\")","v":""},{"$f":"IF(COUNTIF(Rankings!$B:$B,RIGHT($C251,2)&\"-\"&$D251)>0,IF($D251>0,VLOOKUP(RIGHT($C251,2)&\"-\"&$D251,Rankings!$B:$G,6,FALSE),\"\"),0)","v":0},{"$f":"IF($D251>0,VLOOKUP($D251,Μητρώο!$A:$F,4,FALSE),\"\")","v":""}]
[250,249,null,null,{"$f":"IF($D252>0,VLOOKUP($D252,Μητρώο!$A:$F,3,FALSE),\"\")","v":""},{"$f":"IF($D252>0,VLOOKUP($D252,Μητρώο!$A:$F,5,FALSE),\"\")","v":""},{"$f":"IF(COUNTIF(Rankings!$B:$B,RIGHT($C252,2)&\"-\"&$D252)>0,IF($D252>0,VLOOKUP(RIGHT($C252,2)&\"-\"&$D252,Rankings!$B:$G,6,FALSE),\"\"),0)","v":0},{"$f":"IF($D252>0,VLOOKUP($D252,Μητρώο!$A:$F,4,FALSE),\"\")","v":""}]
[251,250,null,null,{"$f":"IF($D253>0,VLOOKUP($D253,Μητρώο!$A:$F,3,FALSE),\"\")","v":""},{"$f":"IF($D253>0,VLOOKUP($D253,Μητρώο!$A:$F,5,FALSE),\"\")","v":""},{"$f":"IF(COUNTIF(Rankings!$B:$B,RIGHT($C253,2)&\"-\"&$D253)>0,IF($D253>0,VLOOKUP(RIGHT($C253,2)&\"-\"&$D253,Rankings!$B:$G,6,FALSE),\"\"),0)","v":0},{"$f":"IF($D253>0,VLOOKUP($D253,Μητρώο!$A:$F,4,FALSE),\"\")","v":""}]
[252,251,null,null,{"$f":"IF($D254>0,VLOOKUP($D254,Μητρώο!$A:$F,3,FALSE),\"\")","v":""},{"$f":"IF($D254>0,VLOOKUP($D254,Μητρώο!$A:$F,5,FALSE),\"\")","v":""},{"$f":"IF(COUNTIF(Rankings!$B:$B,RIGHT($C254,2)&\"-\"&$D254)>0,IF($D254>0,VLOOKUP(RIGHT($C254,2)&\"-\"&$D254,Rankings!$B:$G,6,FALSE),\"\"),0)","v":0},{"$f":"IF($D254>0,VLOOKUP($D254,Μητρώο!$A:$F,4,FALSE),\"\")","v":""}]
[253,252,null,null,{"$f":"IF($D255>0,VLOOKUP($D255,Μητρώο!$A:$F,3,FALSE),\"\")","v":""},{"$f":"IF($D255>0,VLOOKUP($D255,Μητρώο!$A:$F,5,FALSE),\"\")","v":""},{"$f":"IF(COUNTIF(Rankings!$B:$B,RIGHT($C255,2)&\"-\"&$D255)>0,IF($D255>0,VLOOKUP(RIGHT($C255,2)&\"-\"&$D255,Rankings!$B:$G,6,FALSE),\"\"),0)","v":0},{"$f":"IF($D255>0,VLOOKUP($D255,Μητρώο!$A:$F,4,FALSE),\"\")","v":""}]
[254,253,null,null,{"$f":"IF($D256>0,VLOOKUP($D256,Μητρώο!$A:$F,3,FALSE),\"\")","v":""},{"$f":"IF($D256>0,VLOOKUP($D256,Μητρώο!$A:$F,5,FALSE),\"\")","v":""},{"$f":"IF(COUNTIF(Rankings!$B:$B,RIGHT($C256,2)&\"-\"&$D256)>0,IF($D256>0,VLOOKUP(RIGHT($C256,2)&\"-\"&$D256,Rankings!$B:$G,6,FALSE),\"\"),0)","v":0},{"$f":"IF($D256>0,VLOOKUP($D256,Μητρώο!$A:$F,4,FALSE),\"\")","v":""}]
[255,254,null,null,{"$f":"IF($D257>0,VLOOKUP($D257,Μητρώο!$A:$F,3,FALSE),\"\")","v":""},{"$f":"IF($D257>0,VLOOKUP($D257,Μητρώο!$A:$F,5,FALSE),\"\")","v":""},{"$f":"IF(COUNTIF(Rankings!$B:$B,RIGHT($C257,2)&\"-\"&$D257)>0,IF($D257>0,VLOOKUP(RIGHT($C257,2)&\"-\"&$D257,Rankings!$B:$G,6,FALSE),\"\"),0)","v":0},{"$f":"IF($D257>0,VLOOKUP($D257,Μητρώο!$A:$F,4,FALSE),\"\")","v":""}]
[256,255,null,null,{"$f":"IF($D258>0,VLOOKUP($D258,Μητρώο!$A:$F,3,FALSE),\"\")","v":""},{"$f":"IF($D258>0,VLOOKUP($D258,Μητρώο!$A:$F,5,FALSE),\"\")","v":""},{"$f":"IF(COUNTIF(Rankings!$B:$B,RIGHT($C258,2)&\"-\"&$D258)>0,IF($D258>0,VLOOKUP(RIGHT($C258,2)&\"-\"&$D258,Rankings!$B:$G,6,FALSE),\"\"),0)","v":0},{"$f":"IF($D258>0,VLOOKUP($D258,Μητρώο!$A:$F,4,FALSE),\"\")","v":""}]
[257,256,null,null,{"$f":"IF($D259>0,VLOOKUP($D259,Μητρώο!$A:$F,3,FALSE),\"\")","v":""},{"$f":"IF($D259>0,VLOOKUP($D259,Μητρώο!$A:$F,5,FALSE),\"\")","v":""},{"$f":"IF(COUNTIF(Rankings!$B:$B,RIGHT($C259,2)&\"-\"&$D259)>0,IF($D259>0,VLOOKUP(RIGHT($C259,2)&\"-\"&$D259,Rankings!$B:$G,6,FALSE),\"\"),0)","v":0},{"$f":"IF($D259>0,VLOOKUP($D259,Μητρώο!$A:$F,4,FALSE),\"\")","v":""}]
[258,{"$f":"IF(C260=C259,B259+1,1)","v":257},null,null,{"$f":"IF($D260>0,VLOOKUP($D260,Μητρώο!$A:$F,3,FALSE),\"\")","v":""},{"$f":"IF($D260>0,VLOOKUP($D260,Μητρώο!$A:$F,5,FALSE),\"\")","v":""},{"$f":"IF(COUNTIF(Rankings!$B:$B,RIGHT($C260,2)&\"-\"&$D260)>0,IF($D260>0,VLOOKUP(RIGHT($C260,2)&\"-\"&$D260,Rankings!$B:$G,6,FALSE),\"\"),0)","v":0},{"$f":"IF($D260>0,VLOOKUP($D260,Μητρώο!$A:$F,4,FALSE),\"\")","v":""}]
[259,258,null,null,{"$f":"IF($D261>0,VLOOKUP($D261,Μητρώο!$A:$F,3,FALSE),\"\")","v":""},{"$f":"IF($D261>0,VLOOKUP($D261,Μητρώο!$A:$F,5,FALSE),\"\")","v":""},{"$f":"IF(COUNTIF(Rankings!$B:$B,RIGHT($C261,2)&\"-\"&$D261)>0,IF($D261>0,VLOOKUP(RIGHT($C261,2)&\"-\"&$D261,Rankings!$B:$G,6,FALSE),\"\"),0)","v":0},{"$f":"IF($D261>0,VLOOKUP($D261,Μητρώο!$A:$F,4,FALSE),\"\")","v":""}]
[260,259,null,null,{"$f":"IF($D262>0,VLOOKUP($D262,Μητρώο!$A:$F,3,FALSE),\"\")","v":""},{"$f":"IF($D262>0,VLOOKUP($D262,Μητρώο!$A:$F,5,FALSE),\"\")","v":""},{"$f":"IF(COUNTIF(Rankings!$B:$B,RIGHT($C262,2)&\"-\"&$D262)>0,IF($D262>0,VLOOKUP(RIGHT($C262,2)&\"-\"&$D262,Rankings!$B:$G,6,FALSE),\"\"),0)","v":0},{"$f":"IF($D262>0,VLOOKUP($D262,Μητρώο!$A:$F,4,FALSE),\"\")","v":""}]
[261,260,null,null,{"$f":"IF($D263>0,VLOOKUP($D263,Μητρώο!$A:$F,3,FALSE),\"\")","v":""},{"$f":"IF($D263>0,VLOOKUP($D263,Μητρώο!$A:$F,5,FALSE),\"\")","v":""},{"$f":"IF(COUNTIF(Rankings!$B:$B,RIGHT($C263,2)&\"-\"&$D263)>0,IF($D263>0,VLOOKUP(RIGHT($C263,2)&\"-\"&$D263,Rankings!$B:$G,6,FALSE),\"\"),0)","v":0},{"$f":"IF($D263>0,VLOOKUP($D263,Μητρώο!$A:$F,4,FALSE),\"\")","v":""}]
[262,261,null,null,{"$f":"IF($D264>0,VLOOKUP($D264,Μητρώο!$A:$F,3,FALSE),\"\")","v":""},{"$f":"IF($D264>0,VLOOKUP($D264,Μητρώο!$A:$F,5,FALSE),\"\")","v":""},{"$f":"IF(COUNTIF(Rankings!$B:$B,RIGHT($C264,2)&\"-\"&$D264)>0,IF($D264>0,VLOOKUP(RIGHT($C264,2)&\"-\"&$D264,Rankings!$B:$G,6,FALSE),\"\"),0)","v":0},{"$f":"IF($D264>0,VLOOKUP($D264,Μητρώο!$A:$F,4,FALSE),\"\")","v":""}]
[263,262,null,null,{"$f":"IF($D265>0,VLOOKUP($D265,Μητρώο!$A:$F,3,FALSE),\"\")","v":""},{"$f":"IF($D265>0,VLOOKUP($D265,Μητρώο!$A:$F,5,FALSE),\"\")","v":""},{"$f":"IF(COUNTIF(Rankings!$B:$B,RIGHT($C265,2)&\"-\"&$D265)>0,IF($D265>0,VLOOKUP(RIGHT($C265,2)&\"-\"&$D265,Rankings!$B:$G,6,FALSE),\"\"),0)","v":0},{"$f":"IF($D265>0,VLOOKUP($D265,Μητρώο!$A:$F,4,FALSE),\"\")","v":""}]
[264,263,null,null,{"$f":"IF($D266>0,VLOOKUP($D266,Μητρώο!$A:$F,3,FALSE),\"\")","v":""},{"$f":"IF($D266>0,VLOOKUP($D266,Μητρώο!$A:$F,5,FALSE),\"\")","v":""},{"$f":"IF(COUNTIF(Rankings!$B:$B,RIGHT($C266,2)&\"-\"&$D266)>0,IF($D266>0,VLOOKUP(RIGHT($C266,2)&\"-\"&$D266,Rankings!$B:$G,6,FALSE),\"\"),0)","v":0},{"$f":"IF($D266>0,VLOOKUP($D266,Μητρώο!$A:$F,4,FALSE),\"\")","v":""}]
[265,264,null,null,{"$f":"IF($D267>0,VLOOKUP($D267,Μητρώο!$A:$F,3,FALSE),\"\")","v":""},{"$f":"IF($D267>0,VLOOKUP($D267,Μητρώο!$A:$F,5,FALSE),\"\")","v":""},{"$f":"IF(COUNTIF(Rankings!$B:$B,RIGHT($C267,2)&\"-\"&$D267)>0,IF($D267>0,VLOOKUP(RIGHT($C267,2)&\"-\"&$D267,Rankings!$B:$G,6,FALSE),\"\"),0)","v":0},{"$f":"IF($D267>0,VLOOKUP($D267,Μητρώο!$A:$F,4,FALSE),\"\")","v":""}]
[266,265,null,null,{"$f":"IF($D268>0,VLOOKUP($D268,Μητρώο!$A:$F,3,FALSE),\"\")","v":""},{"$f":"IF($D268>0,VLOOKUP($D268,Μητρώο!$A:$F,5,FALSE),\"\")","v":""},{"$f":"IF(COUNTIF(Rankings!$B:$B,RIGHT($C268,2)&\"-\"&$D268)>0,IF($D268>0,VLOOKUP(RIGHT($C268,2)&\"-\"&$D268,Rankings!$B:$G,6,FALSE),\"\"),0)","v":0},{"$f":"IF($D268>0,VLOOKUP($D268,Μητρώο!$A:$F,4,FALSE),\"\")","v":""}]
[267,266,null,null,{"$f":"IF($D269>0,VLOOKUP($D269,Μητρώο!$A:$F,3,FALSE),\"\")","v":""},{"$f":"IF($D269>0,VLOOKUP($D269,Μητρώο!$A:$F,5,FALSE),\"\")","v":""},{"$f":"IF(COUNTIF(Rankings!$B:$B,RIGHT($C269,2)&\"-\"&$D269)>0,IF($D269>0,VLOOKUP(RIGHT($C269,2)&\"-\"&$D269,Rankings!$B:$G,6,FALSE),\"\"),0)","v":0},{"$f":"IF($D269>0,VLOOKUP($D269,Μητρώο!$A:$F,4,FALSE),\"\")","v":""}]
[268,267,null,null,{"$f":"IF($D270>0,VLOOKUP($D270,Μητρώο!$A:$F,3,FALSE),\"\")","v":""},{"$f":"IF($D270>0,VLOOKUP($D270,Μητρώο!$A:$F,5,FALSE),\"\")","v":""},{"$f":"IF(COUNTIF(Rankings!$B:$B,RIGHT($C270,2)&\"-\"&$D270)>0,IF($D270>0,VLOOKUP(RIGHT($C270,2)&\"-\"&$D270,Rankings!$B:$G,6,FALSE),\"\"),0)","v":0},{"$f":"IF($D270>0,VLOOKUP($D270,Μητρώο!$A:$F,4,FALSE),\"\")","v":""}]
[269,268,null,null,{"$f":"IF($D271>0,VLOOKUP($D271,Μητρώο!$A:$F,3,FALSE),\"\")","v":""},{"$f":"IF($D271>0,VLOOKUP($D271,Μητρώο!$A:$F,5,FALSE),\"\")","v":""},{"$f":"IF(COUNTIF(Rankings!$B:$B,RIGHT($C271,2)&\"-\"&$D271)>0,IF($D271>0,VLOOKUP(RIGHT($C271,2)&\"-\"&$D271,Rankings!$B:$G,6,FALSE),\"\"),0)","v":0},{"$f":"IF($D271>0,VLOOKUP($D271,Μητρώο!$A:$F,4,FALSE),\"\")","v":""}]
[270,269,null,null,{"$f":"IF($D272>0,VLOOKUP($D272,Μητρώο!$A:$F,3,FALSE),\"\")","v":""},{"$f":"IF($D272>0,VLOOKUP($D272,Μητρώο!$A:$F,5,FALSE),\"\")","v":""},{"$f":"IF(COUNTIF(Rankings!$B:$B,RIGHT($C272,2)&\"-\"&$D272)>0,IF($D272>0,VLOOKUP(RIGHT($C272,2)&\"-\"&$D272,Rankings!$B:$G,6,FALSE),\"\"),0)","v":0},{"$f":"IF($D272>0,VLOOKUP($D272,Μητρώο!$A:$F,4,FALSE),\"\")","v":""}]
[271,270,null,null,{"$f":"IF($D273>0,VLOOKUP($D273,Μητρώο!$A:$F,3,FALSE),\"\")","v":""},{"$f":"IF($D273>0,VLOOKUP($D273,Μητρώο!$A:$F,5,FALSE),\"\")","v":""},{"$f":"IF(COUNTIF(Rankings!$B:$B,RIGHT($C273,2)&\"-\"&$D273)>0,IF($D273>0,VLOOKUP(RIGHT($C273,2)&\"-\"&$D273,Rankings!$B:$G,6,FALSE),\"\"),0)","v":0},{"$f":"IF($D273>0,VLOOKUP($D273,Μητρώο!$A:$F,4,FALSE),\"\")","v":""}]
[272,271,null,null,{"$f":"IF($D274>0,VLOOKUP($D274,Μητρώο!$A:$F,3,FALSE),\"\")","v":""},{"$f":"IF($D274>0,VLOOKUP($D274,Μητρώο!$A:$F,5,FALSE),\"\")","v":""},{"$f":"IF(COUNTIF(Rankings!$B:$B,RIGHT($C274,2)&\"-\"&$D274)>0,IF($D274>0,VLOOKUP(RIGHT($C274,2)&\"-\"&$D274,Rankings!$B:$G,6,FALSE),\"\"),0)","v":0},{"$f":"IF($D274>0,VLOOKUP($D274,Μητρώο!$A:$F,4,FALSE),\"\")","v":""}]
[273,272,null,null,{"$f":"IF($D275>0,VLOOKUP($D275,Μητρώο!$A:$F,3,FALSE),\"\")","v":""},{"$f":"IF($D275>0,VLOOKUP($D275,Μητρώο!$A:$F,5,FALSE),\"\")","v":""},{"$f":"IF(COUNTIF(Rankings!$B:$B,RIGHT($C275,2)&\"-\"&$D275)>0,IF($D275>0,VLOOKUP(RIGHT($C275,2)&\"-\"&$D275,Rankings!$B:$G,6,FALSE),\"\"),0)","v":0},{"$f":"IF($D275>0,VLOOKUP($D275,Μητρώο!$A:$F,4,FALSE),\"\")","v":""}]
[274,273,null,null,{"$f":"IF($D276>0,VLOOKUP($D276,Μητρώο!$A:$F,3,FALSE),\"\")","v":""},{"$f":"IF($D276>0,VLOOKUP($D276,Μητρώο!$A:$F,5,FALSE),\"\")","v":""},{"$f":"IF(COUNTIF(Rankings!$B:$B,RIGHT($C276,2)&\"-\"&$D276)>0,IF($D276>0,VLOOKUP(RIGHT($C276,2)&\"-\"&$D276,Rankings!$B:$G,6,FALSE),\"\"),0)","v":0},{"$f":"IF($D276>0,VLOOKUP($D276,Μητρώο!$A:$F,4,FALSE),\"\")","v":""}]
[275,274,null,null,{"$f":"IF($D277>0,VLOOKUP($D277,Μητρώο!$A:$F,3,FALSE),\"\")","v":""},{"$f":"IF($D277>0,VLOOKUP($D277,Μητρώο!$A:$F,5,FALSE),\"\")","v":""},{"$f":"IF(COUNTIF(Rankings!$B:$B,RIGHT($C277,2)&\"-\"&$D277)>0,IF($D277>0,VLOOKUP(RIGHT($C277,2)&\"-\"&$D277,Rankings!$B:$G,6,FALSE),\"\"),0)","v":0},{"$f":"IF($D277>0,VLOOKUP($D277,Μητρώο!$A:$F,4,FALSE),\"\")","v":""}]
[276,275,null,null,{"$f":"IF($D278>0,VLOOKUP($D278,Μητρώο!$A:$F,3,FALSE),\"\")","v":""},{"$f":"IF($D278>0,VLOOKUP($D278,Μητρώο!$A:$F,5,FALSE),\"\")","v":""},{"$f":"IF(COUNTIF(Rankings!$B:$B,RIGHT($C278,2)&\"-\"&$D278)>0,IF($D278>0,VLOOKUP(RIGHT($C278,2)&\"-\"&$D278,Rankings!$B:$G,6,FALSE),\"\"),0)","v":0},{"$f":"IF($D278>0,VLOOKUP($D278,Μητρώο!$A:$F,4,FALSE),\"\")","v":""}]
[277,276,null,null,{"$f":"IF($D279>0,VLOOKUP($D279,Μητρώο!$A:$F,3,FALSE),\"\")","v":""},{"$f":"IF($D279>0,VLOOKUP($D279,Μητρώο!$A:$F,5,FALSE),\"\")","v":""},{"$f":"IF(COUNTIF(Rankings!$B:$B,RIGHT($C279,2)&\"-\"&$D279)>0,IF($D279>0,VLOOKUP(RIGHT($C279,2)&\"-\"&$D279,Rankings!$B:$G,6,FALSE),\"\"),0)","v":0},{"$f":"IF($D279>0,VLOOKUP($D279,Μητρώο!$A:$F,4,FALSE),\"\")","v":""}]
[278,277,null,null,{"$f":"IF($D280>0,VLOOKUP($D280,Μητρώο!$A:$F,3,FALSE),\"\")","v":""},{"$f":"IF($D280>0,VLOOKUP($D280,Μητρώο!$A:$F,5,FALSE),\"\")","v":""},{"$f":"IF(COUNTIF(Rankings!$B:$B,RIGHT($C280,2)&\"-\"&$D280)>0,IF($D280>0,VLOOKUP(RIGHT($C280,2)&\"-\"&$D280,Rankings!$B:$G,6,FALSE),\"\"),0)","v":0},{"$f":"IF($D280>0,VLOOKUP($D280,Μητρώο!$A:$F,4,FALSE),\"\")","v":""}]
[279,278,null,null,{"$f":"IF($D281>0,VLOOKUP($D281,Μητρώο!$A:$F,3,FALSE),\"\")","v":""},{"$f":"IF($D281>0,VLOOKUP($D281,Μητρώο!$A:$F,5,FALSE),\"\")","v":""},{"$f":"IF(COUNTIF(Rankings!$B:$B,RIGHT($C281,2)&\"-\"&$D281)>0,IF($D281>0,VLOOKUP(RIGHT($C281,2)&\"-\"&$D281,Rankings!$B:$G,6,FALSE),\"\"),0)","v":0},{"$f":"IF($D281>0,VLOOKUP($D281,Μητρώο!$A:$F,4,FALSE),\"\")","v":""}]
[280,279,null,null,{"$f":"IF($D282>0,VLOOKUP($D282,Μητρώο!$A:$F,3,FALSE),\"\")","v":""},{"$f":"IF($D282>0,VLOOKUP($D282,Μητρώο!$A:$F,5,FALSE),\"\")","v":""},{"$f":"IF(COUNTIF(Rankings!$B:$B,RIGHT($C282,2)&\"-\"&$D282)>0,IF($D282>0,VLOOKUP(RIGHT($C282,2)&\"-\"&$D282,Rankings!$B:$G,6,FALSE),\"\"),0)","v":0},{"$f":"IF($D282>0,VLOOKUP($D282,Μητρώο!$A:$F,4,FALSE),\"\")","v":""}]
[281,280,null,null,{"$f":"IF($D283>0,VLOOKUP($D283,Μητρώο!$A:$F,3,FALSE),\"\")","v":""},{"$f":"IF($D283>0,VLOOKUP($D283,Μητρώο!$A:$F,5,FALSE),\"\")","v":""},{"$f":"IF(COUNTIF(Rankings!$B:$B,RIGHT($C283,2)&\"-\"&$D283)>0,IF($D283>0,VLOOKUP(RIGHT($C283,2)&\"-\"&$D283,Rankings!$B:$G,6,FALSE),\"\"),0)","v":0},{"$f":"IF($D283>0,VLOOKUP($D283,Μητρώο!$A:$F,4,FALSE),\"\")","v":""}]
[282,281,null,null,{"$f":"IF($D284>0,VLOOKUP($D284,Μητρώο!$A:$F,3,FALSE),\"\")","v":""},{"$f":"IF($D284>0,VLOOKUP($D284,Μητρώο!$A:$F,5,FALSE),\"\")","v":""},{"$f":"IF(COUNTIF(Rankings!$B:$B,RIGHT($C284,2)&\"-\"&$D284)>0,IF($D284>0,VLOOKUP(RIGHT($C284,2)&\"-\"&$D284,Rankings!$B:$G,6,FALSE),\"\"),0)","v":0},{"$f":"IF($D284>0,VLOOKUP($D284,Μητρώο!$A:$F,4,FALSE),\"\")","v":""}]
[283,282,null,null,{"$f":"IF($D285>0,VLOOKUP($D285,Μητρώο!$A:$F,3,FALSE),\"\")","v":""},{"$f":"IF($D285>0,VLOOKUP($D285,Μητρώο!$A:$F,5,FALSE),\"\")","v":""},{"$f":"IF(COUNTIF(Rankings!$B:$B,RIGHT($C285,2)&\"-\"&$D285)>0,IF($D285>0,VLOOKUP(RIGHT($C285,2)&\"-\"&$D285,Rankings!$B:$G,6,FALSE),\"\"),0)","v":0},{"$f":"IF($D285>0,VLOOKUP($D285,Μητρώο!$A:$F,4,FALSE),\"\")","v":""}]
[284,283,null,null,{"$f":"IF($D286>0,VLOOKUP($D286,Μητρώο!$A:$F,3,FALSE),\"\")","v":""},{"$f":"IF($D286>0,VLOOKUP($D286,Μητρώο!$A:$F,5,FALSE),\"\")","v":""},{"$f":"IF(COUNTIF(Rankings!$B:$B,RIGHT($C286,2)&\"-\"&$D286)>0,IF($D286>0,VLOOKUP(RIGHT($C286,2)&\"-\"&$D286,Rankings!$B:$G,6,FALSE),\"\"),0)","v":0},{"$f":"IF($D286>0,VLOOKUP($D286,Μητρώο!$A:$F,4,FALSE),\"\")","v":""}]
[285,284,null,null,{"$f":"IF($D287>0,VLOOKUP($D287,Μητρώο!$A:$F,3,FALSE),\"\")","v":""},{"$f":"IF($D287>0,VLOOKUP($D287,Μητρώο!$A:$F,5,FALSE),\"\")","v":""},{"$f":"IF(COUNTIF(Rankings!$B:$B,RIGHT($C287,2)&\"-\"&$D287)>0,IF($D287>0,VLOOKUP(RIGHT($C287,2)&\"-\"&$D287,Rankings!$B:$G,6,FALSE),\"\"),0)","v":0},{"$f":"IF($D287>0,VLOOKUP($D287,Μητρώο!$A:$F,4,FALSE),\"\")","v":""}]
[286,285,null,null,{"$f":"IF($D288>0,VLOOKUP($D288,Μητρώο!$A:$F,3,FALSE),\"\")","v":""},{"$f":"IF($D288>0,VLOOKUP($D288,Μητρώο!$A:$F,5,FALSE),\"\")","v":""},{"$f":"IF(COUNTIF(Rankings!$B:$B,RIGHT($C288,2)&\"-\"&$D288)>0,IF($D288>0,VLOOKUP(RIGHT($C288,2)&\"-\"&$D288,Rankings!$B:$G,6,FALSE),\"\"),0)","v":0},{"$f":"IF($D288>0,VLOOKUP($D288,Μητρώο!$A:$F,4,FALSE),\"\")","v":""}]
[287,286,null,null,{"$f":"IF($D289>0,VLOOKUP($D289,Μητρώο!$A:$F,3,FALSE),\"\")","v":""},{"$f":"IF($D289>0,VLOOKUP($D289,Μητρώο!$A:$F,5,FALSE),\"\")","v":""},{"$f":"IF(COUNTIF(Rankings!$B:$B,RIGHT($C289,2)&\"-\"&$D289)>0,IF($D289>0,VLOOKUP(RIGHT($C289,2)&\"-\"&$D289,Rankings!$B:$G,6,FALSE),\"\"),0)","v":0},{"$f":"IF($D289>0,VLOOKUP($D289,Μητρώο!$A:$F,4,FALSE),\"\")","v":""}]
[288,287,null,null,{"$f":"IF($D290>0,VLOOKUP($D290,Μητρώο!$A:$F,3,FALSE),\"\")","v":""},{"$f":"IF($D290>0,VLOOKUP($D290,Μητρώο!$A:$F,5,FALSE),\"\")","v":""},{"$f":"IF(COUNTIF(Rankings!$B:$B,RIGHT($C290,2)&\"-\"&$D290)>0,IF($D290>0,VLOOKUP(RIGHT($C290,2)&\"-\"&$D290,Rankings!$B:$G,6,FALSE),\"\"),0)","v":0},{"$f":"IF($D290>0,VLOOKUP($D290,Μητρώο!$A:$F,4,FALSE),\"\")","v":""}]
[289,288,null,null,{"$f":"IF($D291>0,VLOOKUP($D291,Μητρώο!$A:$F,3,FALSE),\"\")","v":""},{"$f":"IF($D291>0,VLOOKUP($D291,Μητρώο!$A:$F,5,FALSE),\"\")","v":""},{"$f":"IF(COUNTIF(Rankings!$B:$B,RIGHT($C291,2)&\"-\"&$D291)>0,IF($D291>0,VLOOKUP(RIGHT($C291,2)&\"-\"&$D291,Rankings!$B:$G,6,FALSE),\"\"),0)","v":0},{"$f":"IF($D291>0,VLOOKUP($D291,Μητρώο!$A:$F,4,FALSE),\"\")","v":""}]
[290,289,null,null,{"$f":"IF($D292>0,VLOOKUP($D292,Μητρώο!$A:$F,3,FALSE),\"\")","v":""},{"$f":"IF($D292>0,VLOOKUP($D292,Μητρώο!$A:$F,5,FALSE),\"\")","v":""},{"$f":"IF(COUNTIF(Rankings!$B:$B,RIGHT($C292,2)&\"-\"&$D292)>0,IF($D292>0,VLOOKUP(RIGHT($C292,2)&\"-\"&$D292,Rankings!$B:$G,6,FALSE),\"\"),0)","v":0},{"$f":"IF($D292>0,VLOOKUP($D292,Μητρώο!$A:$F,4,FALSE),\"\")","v":""}]
[291,290,null,null,{"$f":"IF($D293>0,VLOOKUP($D293,Μητρώο!$A:$F,3,FALSE),\"\")","v":""},{"$f":"IF($D293>0,VLOOKUP($D293,Μητρώο!$A:$F,5,FALSE),\"\")","v":""},{"$f":"IF(COUNTIF(Rankings!$B:$B,RIGHT($C293,2)&\"-\"&$D293)>0,IF($D293>0,VLOOKUP(RIGHT($C293,2)&\"-\"&$D293,Rankings!$B:$G,6,FALSE),\"\"),0)","v":0},{"$f":"IF($D293>0,VLOOKUP($D293,Μητρώο!$A:$F,4,FALSE),\"\")","v":""}]
[292,291,null,null,{"$f":"IF($D294>0,VLOOKUP($D294,Μητρώο!$A:$F,3,FALSE),\"\")","v":""},{"$f":"IF($D294>0,VLOOKUP($D294,Μητρώο!$A:$F,5,FALSE),\"\")","v":""},{"$f":"IF(COUNTIF(Rankings!$B:$B,RIGHT($C294,2)&\"-\"&$D294)>0,IF($D294>0,VLOOKUP(RIGHT($C294,2)&\"-\"&$D294,Rankings!$B:$G,6,FALSE),\"\"),0)","v":0},{"$f":"IF($D294>0,VLOOKUP($D294,Μητρώο!$A:$F,4,FALSE),\"\")","v":""}]
[293,292,null,null,{"$f":"IF($D295>0,VLOOKUP($D295,Μητρώο!$A:$F,3,FALSE),\"\")","v":""},{"$f":"IF($D295>0,VLOOKUP($D295,Μητρώο!$A:$F,5,FALSE),\"\")","v":""},{"$f":"IF(COUNTIF(Rankings!$B:$B,RIGHT($C295,2)&\"-\"&$D295)>0,IF($D295>0,VLOOKUP(RIGHT($C295,2)&\"-\"&$D295,Rankings!$B:$G,6,FALSE),\"\"),0)","v":0},{"$f":"IF($D295>0,VLOOKUP($D295,Μητρώο!$A:$F,4,FALSE),\"\")","v":""}]
[294,293,null,null,{"$f":"IF($D296>0,VLOOKUP($D296,Μητρώο!$A:$F,3,FALSE),\"\")","v":""},{"$f":"IF($D296>0,VLOOKUP($D296,Μητρώο!$A:$F,5,FALSE),\"\")","v":""},{"$f":"IF(COUNTIF(Rankings!$B:$B,RIGHT($C296,2)&\"-\"&$D296)>0,IF($D296>0,VLOOKUP(RIGHT($C296,2)&\"-\"&$D296,Rankings!$B:$G,6,FALSE),\"\"),0)","v":0},{"$f":"IF($D296>0,VLOOKUP($D296,Μητρώο!$A:$F,4,FALSE),\"\")","v":""}]
[295,294,null,null,{"$f":"IF($D297>0,VLOOKUP($D297,Μητρώο!$A:$F,3,FALSE),\"\")","v":""},{"$f":"IF($D297>0,VLOOKUP($D297,Μητρώο!$A:$F,5,FALSE),\"\")","v":""},{"$f":"IF(COUNTIF(Rankings!$B:$B,RIGHT($C297,2)&\"-\"&$D297)>0,IF($D297>0,VLOOKUP(RIGHT($C297,2)&\"-\"&$D297,Rankings!$B:$G,6,FALSE),\"\"),0)","v":0},{"$f":"IF($D297>0,VLOOKUP($D297,Μητρώο!$A:$F,4,FALSE),\"\")","v":""}]
[296,295,null,null,{"$f":"IF($D298>0,VLOOKUP($D298,Μητρώο!$A:$F,3,FALSE),\"\")","v":""},{"$f":"IF($D298>0,VLOOKUP($D298,Μητρώο!$A:$F,5,FALSE),\"\")","v":""},{"$f":"IF(COUNTIF(Rankings!$B:$B,RIGHT($C298,2)&\"-\"&$D298)>0,IF($D298>0,VLOOKUP(RIGHT($C298,2)&\"-\"&$D298,Rankings!$B:$G,6,FALSE),\"\"),0)","v":0},{"$f":"IF($D298>0,VLOOKUP($D298,Μητρώο!$A:$F,4,FALSE),\"\")","v":""}]
[297,296,null,null,{"$f":"IF($D299>0,VLOOKUP($D299,Μητρώο!$A:$F,3,FALSE),\"\")","v":""},{"$f":"IF($D299>0,VLOOKUP($D299,Μητρώο!$A:$F,5,FALSE),\"\")","v":""},{"$f":"IF(COUNTIF(Rankings!$B:$B,RIGHT($C299,2)&\"-\"&$D299)>0,IF($D299>0,VLOOKUP(RIGHT($C299,2)&\"-\"&$D299,Rankings!$B:$G,6,FALSE),\"\"),0)","v":0},{"$f":"IF($D299>0,VLOOKUP($D299,Μητρώο!$A:$F,4,FALSE),\"\")","v":""}]
[298,297,null,null,{"$f":"IF($D300>0,VLOOKUP($D300,Μητρώο!$A:$F,3,FALSE),\"\")","v":""},{"$f":"IF($D300>0,VLOOKUP($D300,Μητρώο!$A:$F,5,FALSE),\"\")","v":""},{"$f":"IF(COUNTIF(Rankings!$B:$B,RIGHT($C300,2)&\"-\"&$D300)>0,IF($D300>0,VLOOKUP(RIGHT($C300,2)&\"-\"&$D300,Rankings!$B:$G,6,FALSE),\"\"),0)","v":0},{"$f":"IF($D300>0,VLOOKUP($D300,Μητρώο!$A:$F,4,FALSE),\"\")","v":""}]
[299,298,null,null,{"$f":"IF($D301>0,VLOOKUP($D301,Μητρώο!$A:$F,3,FALSE),\"\")","v":""},{"$f":"IF($D301>0,VLOOKUP($D301,Μητρώο!$A:$F,5,FALSE),\"\")","v":""},{"$f":"IF(COUNTIF(Rankings!$B:$B,RIGHT($C301,2)&\"-\"&$D301)>0,IF($D301>0,VLOOKUP(RIGHT($C301,2)&\"-\"&$D301,Rankings!$B:$G,6,FALSE),\"\"),0)","v":0},{"$f":"IF($D301>0,VLOOKUP($D301,Μητρώο!$A:$F,4,FALSE),\"\")","v":""}]
[300,299,null,null,{"$f":"IF($D302>0,VLOOKUP($D302,Μητρώο!$A:$F,3,FALSE),\"\")","v":""},{"$f":"IF($D302>0,VLOOKUP($D302,Μητρώο!$A:$F,5,FALSE),\"\")","v":""},{"$f":"IF(COUNTIF(Rankings!$B:$B,RIGHT($C302,2)&\"-\"&$D302)>0,IF($D302>0,VLOOKUP(RIGHT($C302,2)&\"-\"&$D302,Rankings!$B:$G,6,FALSE),\"\"),0)","v":0},{"$f":"IF($D302>0,VLOOKUP($D302,Μητρώο!$A:$F,4,FALSE),\"\")","v":""}]
[301,300,null,null,{"$f":"IF($D303>0,VLOOKUP($D303,Μητρώο!$A:$F,3,FALSE),\"\")","v":""},{"$f":"IF($D303>0,VLOOKUP($D303,Μητρώο!$A:$F,5,FALSE),\"\")","v":""},{"$f":"IF(COUNTIF(Rankings!$B:$B,RIGHT($C303,2)&\"-\"&$D303)>0,IF($D303>0,VLOOKUP(RIGHT($C303,2)&\"-\"&$D303,Rankings!$B:$G,6,FALSE),\"\"),0)","v":0},{"$f":"IF($D303>0,VLOOKUP($D303,Μητρώο!$A:$F,4,FALSE),\"\")","v":""}]
[302,301,null,null,{"$f":"IF($D304>0,VLOOKUP($D304,Μητρώο!$A:$F,3,FALSE),\"\")","v":""},{"$f":"IF($D304>0,VLOOKUP($D304,Μητρώο!$A:$F,5,FALSE),\"\")","v":""},{"$f":"IF(COUNTIF(Rankings!$B:$B,RIGHT($C304,2)&\"-\"&$D304)>0,IF($D304>0,VLOOKUP(RIGHT($C304,2)&\"-\"&$D304,Rankings!$B:$G,6,FALSE),\"\"),0)","v":0},{"$f":"IF($D304>0,VLOOKUP($D304,Μητρώο!$A:$F,4,FALSE),\"\")","v":""}]
[303,302,null,null,{"$f":"IF($D305>0,VLOOKUP($D305,Μητρώο!$A:$F,3,FALSE),\"\")","v":""},{"$f":"IF($D305>0,VLOOKUP($D305,Μητρώο!$A:$F,5,FALSE),\"\")","v":""},{"$f":"IF(COUNTIF(Rankings!$B:$B,RIGHT($C305,2)&\"-\"&$D305)>0,IF($D305>0,VLOOKUP(RIGHT($C305,2)&\"-\"&$D305,Rankings!$B:$G,6,FALSE),\"\"),0)","v":0},{"$f":"IF($D305>0,VLOOKUP($D305,Μητρώο!$A:$F,4,FALSE),\"\")","v":""}]
[304,303,null,null,{"$f":"IF($D306>0,VLOOKUP($D306,Μητρώο!$A:$F,3,FALSE),\"\")","v":""},{"$f":"IF($D306>0,VLOOKUP($D306,Μητρώο!$A:$F,5,FALSE),\"\")","v":""},{"$f":"IF(COUNTIF(Rankings!$B:$B,RIGHT($C306,2)&\"-\"&$D306)>0,IF($D306>0,VLOOKUP(RIGHT($C306,2)&\"-\"&$D306,Rankings!$B:$G,6,FALSE),\"\"),0)","v":0},{"$f":"IF($D306>0,VLOOKUP($D306,Μητρώο!$A:$F,4,FALSE),\"\")","v":""}]
[305,304,null,null,{"$f":"IF($D307>0,VLOOKUP($D307,Μητρώο!$A:$F,3,FALSE),\"\")","v":""},{"$f":"IF($D307>0,VLOOKUP($D307,Μητρώο!$A:$F,5,FALSE),\"\")","v":""},{"$f":"IF(COUNTIF(Rankings!$B:$B,RIGHT($C307,2)&\"-\"&$D307)>0,IF($D307>0,VLOOKUP(RIGHT($C307,2)&\"-\"&$D307,Rankings!$B:$G,6,FALSE),\"\"),0)","v":0},{"$f":"IF($D307>0,VLOOKUP($D307,Μητρώο!$A:$F,4,FALSE),\"\")","v":""}]
[306,305,null,null,{"$f":"IF($D308>0,VLOOKUP($D308,Μητρώο!$A:$F,3,FALSE),\"\")","v":""},{"$f":"IF($D308>0,VLOOKUP($D308,Μητρώο!$A:$F,5,FALSE),\"\")","v":""},{"$f":"IF(COUNTIF(Rankings!$B:$B,RIGHT($C308,2)&\"-\"&$D308)>0,IF($D308>0,VLOOKUP(RIGHT($C308,2)&\"-\"&$D308,Rankings!$B:$G,6,FALSE),\"\"),0)","v":0},{"$f":"IF($D308>0,VLOOKUP($D308,Μητρώο!$A:$F,4,FALSE),\"\")","v":""}]
[307,306,null,null,{"$f":"IF($D309>0,VLOOKUP($D309,Μητρώο!$A:$F,3,FALSE),\"\")","v":""},{"$f":"IF($D309>0,VLOOKUP($D309,Μητρώο!$A:$F,5,FALSE),\"\")","v":""},{"$f":"IF(COUNTIF(Rankings!$B:$B,RIGHT($C309,2)&\"-\"&$D309)>0,IF($D309>0,VLOOKUP(RIGHT($C309,2)&\"-\"&$D309,Rankings!$B:$G,6,FALSE),\"\"),0)","v":0},{"$f":"IF($D309>0,VLOOKUP($D309,Μητρώο!$A:$F,4,FALSE),\"\")","v":""}]
[308,307,null,null,{"$f":"IF($D310>0,VLOOKUP($D310,Μητρώο!$A:$F,3,FALSE),\"\")","v":""},{"$f":"IF($D310>0,VLOOKUP($D310,Μητρώο!$A:$F,5,FALSE),\"\")","v":""},{"$f":"IF(COUNTIF(Rankings!$B:$B,RIGHT($C310,2)&\"-\"&$D310)>0,IF($D310>0,VLOOKUP(RIGHT($C310,2)&\"-\"&$D310,Rankings!$B:$G,6,FALSE),\"\"),0)","v":0},{"$f":"IF($D310>0,VLOOKUP($D310,Μητρώο!$A:$F,4,FALSE),\"\")","v":""}]
[309,308,null,null,{"$f":"IF($D311>0,VLOOKUP($D311,Μητρώο!$A:$F,3,FALSE),\"\")","v":""},{"$f":"IF($D311>0,VLOOKUP($D311,Μητρώο!$A:$F,5,FALSE),\"\")","v":""},{"$f":"IF(COUNTIF(Rankings!$B:$B,RIGHT($C311,2)&\"-\"&$D311)>0,IF($D311>0,VLOOKUP(RIGHT($C311,2)&\"-\"&$D311,Rankings!$B:$G,6,FALSE),\"\"),0)","v":0},{"$f":"IF($D311>0,VLOOKUP($D311,Μητρώο!$A:$F,4,FALSE),\"\")","v":""}]
[310,309,null,null,{"$f":"IF($D312>0,VLOOKUP($D312,Μητρώο!$A:$F,3,FALSE),\"\")","v":""},{"$f":"IF($D312>0,VLOOKUP($D312,Μητρώο!$A:$F,5,FALSE),\"\")","v":""},{"$f":"IF(COUNTIF(Rankings!$B:$B,RIGHT($C312,2)&\"-\"&$D312)>0,IF($D312>0,VLOOKUP(RIGHT($C312,2)&\"-\"&$D312,Rankings!$B:$G,6,FALSE),\"\"),0)","v":0},{"$f":"IF($D312>0,VLOOKUP($D312,Μητρώο!$A:$F,4,FALSE),\"\")","v":""}]
[311,310,null,null,{"$f":"IF($D313>0,VLOOKUP($D313,Μητρώο!$A:$F,3,FALSE),\"\")","v":""},{"$f":"IF($D313>0,VLOOKUP($D313,Μητρώο!$A:$F,5,FALSE),\"\")","v":""},{"$f":"IF(COUNTIF(Rankings!$B:$B,RIGHT($C313,2)&\"-\"&$D313)>0,IF($D313>0,VLOOKUP(RIGHT($C313,2)&\"-\"&$D313,Rankings!$B:$G,6,FALSE),\"\"),0)","v":0},{"$f":"IF($D313>0,VLOOKUP($D313,Μητρώο!$A:$F,4,FALSE),\"\")","v":""}]
[312,311,null,null,{"$f":"IF($D314>0,VLOOKUP($D314,Μητρώο!$A:$F,3,FALSE),\"\")","v":""},{"$f":"IF($D314>0,VLOOKUP($D314,Μητρώο!$A:$F,5,FALSE),\"\")","v":""},{"$f":"IF(COUNTIF(Rankings!$B:$B,RIGHT($C314,2)&\"-\"&$D314)>0,IF($D314>0,VLOOKUP(RIGHT($C314,2)&\"-\"&$D314,Rankings!$B:$G,6,FALSE),\"\"),0)","v":0},{"$f":"IF($D314>0,VLOOKUP($D314,Μητρώο!$A:$F,4,FALSE),\"\")","v":""}]
[313,312,null,null,{"$f":"IF($D315>0,VLOOKUP($D315,Μητρώο!$A:$F,3,FALSE),\"\")","v":""},{"$f":"IF($D315>0,VLOOKUP($D315,Μητρώο!$A:$F,5,FALSE),\"\")","v":""},{"$f":"IF(COUNTIF(Rankings!$B:$B,RIGHT($C315,2)&\"-\"&$D315)>0,IF($D315>0,VLOOKUP(RIGHT($C315,2)&\"-\"&$D315,Rankings!$B:$G,6,FALSE),\"\"),0)","v":0},{"$f":"IF($D315>0,VLOOKUP($D315,Μητρώο!$A:$F,4,FALSE),\"\")","v":""}]
[314,313,null,null,{"$f":"IF($D316>0,VLOOKUP($D316,Μητρώο!$A:$F,3,FALSE),\"\")","v":""},{"$f":"IF($D316>0,VLOOKUP($D316,Μητρώο!$A:$F,5,FALSE),\"\")","v":""},{"$f":"IF(COUNTIF(Rankings!$B:$B,RIGHT($C316,2)&\"-\"&$D316)>0,IF($D316>0,VLOOKUP(RIGHT($C316,2)&\"-\"&$D316,Rankings!$B:$G,6,FALSE),\"\"),0)","v":0},{"$f":"IF($D316>0,VLOOKUP($D316,Μητρώο!$A:$F,4,FALSE),\"\")","v":""}]
[315,314,null,null,{"$f":"IF($D317>0,VLOOKUP($D317,Μητρώο!$A:$F,3,FALSE),\"\")","v":""},{"$f":"IF($D317>0,VLOOKUP($D317,Μητρώο!$A:$F,5,FALSE),\"\")","v":""},{"$f":"IF(COUNTIF(Rankings!$B:$B,RIGHT($C317,2)&\"-\"&$D317)>0,IF($D317>0,VLOOKUP(RIGHT($C317,2)&\"-\"&$D317,Rankings!$B:$G,6,FALSE),\"\"),0)","v":0},{"$f":"IF($D317>0,VLOOKUP($D317,Μητρώο!$A:$F,4,FALSE),\"\")","v":""}]
[316,315,null,null,{"$f":"IF($D318>0,VLOOKUP($D318,Μητρώο!$A:$F,3,FALSE),\"\")","v":""},{"$f":"IF($D318>0,VLOOKUP($D318,Μητρώο!$A:$F,5,FALSE),\"\")","v":""},{"$f":"IF(COUNTIF(Rankings!$B:$B,RIGHT($C318,2)&\"-\"&$D318)>0,IF($D318>0,VLOOKUP(RIGHT($C318,2)&\"-\"&$D318,Rankings!$B:$G,6,FALSE),\"\"),0)","v":0},{"$f":"IF($D318>0,VLOOKUP($D318,Μητρώο!$A:$F,4,FALSE),\"\")","v":""}]
[317,316,null,null,{"$f":"IF($D319>0,VLOOKUP($D319,Μητρώο!$A:$F,3,FALSE),\"\")","v":""},{"$f":"IF($D319>0,VLOOKUP($D319,Μητρώο!$A:$F,5,FALSE),\"\")","v":""},{"$f":"IF(COUNTIF(Rankings!$B:$B,RIGHT($C319,2)&\"-\"&$D319)>0,IF($D319>0,VLOOKUP(RIGHT($C319,2)&\"-\"&$D319,Rankings!$B:$G,6,FALSE),\"\"),0)","v":0},{"$f":"IF($D319>0,VLOOKUP($D319,Μητρώο!$A:$F,4,FALSE),\"\")","v":""}]
[318,317,null,null,{"$f":"IF($D320>0,VLOOKUP($D320,Μητρώο!$A:$F,3,FALSE),\"\")","v":""},{"$f":"IF($D320>0,VLOOKUP($D320,Μητρώο!$A:$F,5,FALSE),\"\")","v":""},{"$f":"IF(COUNTIF(Rankings!$B:$B,RIGHT($C320,2)&\"-\"&$D320)>0,IF($D320>0,VLOOKUP(RIGHT($C320,2)&\"-\"&$D320,Rankings!$B:$G,6,FALSE),\"\"),0)","v":0},{"$f":"IF($D320>0,VLOOKUP($D320,Μητρώο!$A:$F,4,FALSE),\"\")","v":""}]
[319,318,null,null,{"$f":"IF($D321>0,VLOOKUP($D321,Μητρώο!$A:$F,3,FALSE),\"\")","v":""},{"$f":"IF($D321>0,VLOOKUP($D321,Μητρώο!$A:$F,5,FALSE),\"\")","v":""},{"$f":"IF(COUNTIF(Rankings!$B:$B,RIGHT($C321,2)&\"-\"&$D321)>0,IF($D321>0,VLOOKUP(RIGHT($C321,2)&\"-\"&$D321,Rankings!$B:$G,6,FALSE),\"\"),0)","v":0},{"$f":"IF($D321>0,VLOOKUP($D321,Μητρώο!$A:$F,4,FALSE),\"\")","v":""}]
[320,319,null,null,{"$f":"IF($D322>0,VLOOKUP($D322,Μητρώο!$A:$F,3,FALSE),\"\")","v":""},{"$f":"IF($D322>0,VLOOKUP($D322,Μητρώο!$A:$F,5,FALSE),\"\")","v":""},{"$f":"IF(COUNTIF(Rankings!$B:$B,RIGHT($C322,2)&\"-\"&$D322)>0,IF($D322>0,VLOOKUP(RIGHT($C322,2)&\"-\"&$D322,Rankings!$B:$G,6,FALSE),\"\"),0)","v":0},{"$f":"IF($D322>0,VLOOKUP($D322,Μητρώο!$A:$F,4,FALSE),\"\")","v":""}]
[321,320,null,null,{"$f":"IF($D323>0,VLOOKUP($D323,Μητρώο!$A:$F,3,FALSE),\"\")","v":""},{"$f":"IF($D323>0,VLOOKUP($D323,Μητρώο!$A:$F,5,FALSE),\"\")","v":""},{"$f":"IF(COUNTIF(Rankings!$B:$B,RIGHT($C323,2)&\"-\"&$D323)>0,IF($D323>0,VLOOKUP(RIGHT($C323,2)&\"-\"&$D323,Rankings!$B:$G,6,FALSE),\"\"),0)","v":0},{"$f":"IF($D323>0,VLOOKUP($D323,Μητρώο!$A:$F,4,FALSE),\"\")","v":""}]
[322,{"$f":"IF(C324=C323,B323+1,1)","v":321},null,null,{"$f":"IF($D324>0,VLOOKUP($D324,Μητρώο!$A:$F,3,FALSE),\"\")","v":""},{"$f":"IF($D324>0,VLOOKUP($D324,Μητρώο!$A:$F,5,FALSE),\"\")","v":""},{"$f":"IF(COUNTIF(Rankings!$B:$B,RIGHT($C324,2)&\"-\"&$D324)>0,IF($D324>0,VLOOKUP(RIGHT($C324,2)&\"-\"&$D324,Rankings!$B:$G,6,FALSE),\"\"),0)","v":0},{"$f":"IF($D324>0,VLOOKUP($D324,Μητρώο!$A:$F,4,FALSE),\"\")","v":""}]
[323,322,null,null,{"$f":"IF($D325>0,VLOOKUP($D325,Μητρώο!$A:$F,3,FALSE),\"\")","v":""},{"$f":"IF($D325>0,VLOOKUP($D325,Μητρώο!$A:$F,5,FALSE),\"\")","v":""},{"$f":"IF(COUNTIF(Rankings!$B:$B,RIGHT($C325,2)&\"-\"&$D325)>0,IF($D325>0,VLOOKUP(RIGHT($C325,2)&\"-\"&$D325,Rankings!$B:$G,6,FALSE),\"\"),0)","v":0},{"$f":"IF($D325>0,VLOOKUP($D325,Μητρώο!$A:$F,4,FALSE),\"\")","v":""}]
[324,323,null,null,{"$f":"IF($D326>0,VLOOKUP($D326,Μητρώο!$A:$F,3,FALSE),\"\")","v":""},{"$f":"IF($D326>0,VLOOKUP($D326,Μητρώο!$A:$F,5,FALSE),\"\")","v":""},{"$f":"IF(COUNTIF(Rankings!$B:$B,RIGHT($C326,2)&\"-\"&$D326)>0,IF($D326>0,VLOOKUP(RIGHT($C326,2)&\"-\"&$D326,Rankings!$B:$G,6,FALSE),\"\"),0)","v":0},{"$f":"IF($D326>0,VLOOKUP($D326,Μητρώο!$A:$F,4,FALSE),\"\")","v":""}]
[325,324,null,null,{"$f":"IF($D327>0,VLOOKUP($D327,Μητρώο!$A:$F,3,FALSE),\"\")","v":""},{"$f":"IF($D327>0,VLOOKUP($D327,Μητρώο!$A:$F,5,FALSE),\"\")","v":""},{"$f":"IF(COUNTIF(Rankings!$B:$B,RIGHT($C327,2)&\"-\"&$D327)>0,IF($D327>0,VLOOKUP(RIGHT($C327,2)&\"-\"&$D327,Rankings!$B:$G,6,FALSE),\"\"),0)","v":0},{"$f":"IF($D327>0,VLOOKUP($D327,Μητρώο!$A:$F,4,FALSE),\"\")","v":""}]
[326,325,null,null,{"$f":"IF($D328>0,VLOOKUP($D328,Μητρώο!$A:$F,3,FALSE),\"\")","v":""},{"$f":"IF($D328>0,VLOOKUP($D328,Μητρώο!$A:$F,5,FALSE),\"\")","v":""},{"$f":"IF(COUNTIF(Rankings!$B:$B,RIGHT($C328,2)&\"-\"&$D328)>0,IF($D328>0,VLOOKUP(RIGHT($C328,2)&\"-\"&$D328,Rankings!$B:$G,6,FALSE),\"\"),0)","v":0},{"$f":"IF($D328>0,VLOOKUP($D328,Μητρώο!$A:$F,4,FALSE),\"\")","v":""}]
[327,326,null,null,{"$f":"IF($D329>0,VLOOKUP($D329,Μητρώο!$A:$F,3,FALSE),\"\")","v":""},{"$f":"IF($D329>0,VLOOKUP($D329,Μητρώο!$A:$F,5,FALSE),\"\")","v":""},{"$f":"IF(COUNTIF(Rankings!$B:$B,RIGHT($C329,2)&\"-\"&$D329)>0,IF($D329>0,VLOOKUP(RIGHT($C329,2)&\"-\"&$D329,Rankings!$B:$G,6,FALSE),\"\"),0)","v":0},{"$f":"IF($D329>0,VLOOKUP($D329,Μητρώο!$A:$F,4,FALSE),\"\")","v":""}]
[328,327,null,null,{"$f":"IF($D330>0,VLOOKUP($D330,Μητρώο!$A:$F,3,FALSE),\"\")","v":""},{"$f":"IF($D330>0,VLOOKUP($D330,Μητρώο!$A:$F,5,FALSE),\"\")","v":""},{"$f":"IF(COUNTIF(Rankings!$B:$B,RIGHT($C330,2)&\"-\"&$D330)>0,IF($D330>0,VLOOKUP(RIGHT($C330,2)&\"-\"&$D330,Rankings!$B:$G,6,FALSE),\"\"),0)","v":0},{"$f":"IF($D330>0,VLOOKUP($D330,Μητρώο!$A:$F,4,FALSE),\"\")","v":""}]
[329,328,null,null,{"$f":"IF($D331>0,VLOOKUP($D331,Μητρώο!$A:$F,3,FALSE),\"\")","v":""},{"$f":"IF($D331>0,VLOOKUP($D331,Μητρώο!$A:$F,5,FALSE),\"\")","v":""},{"$f":"IF(COUNTIF(Rankings!$B:$B,RIGHT($C331,2)&\"-\"&$D331)>0,IF($D331>0,VLOOKUP(RIGHT($C331,2)&\"-\"&$D331,Rankings!$B:$G,6,FALSE),\"\"),0)","v":0},{"$f":"IF($D331>0,VLOOKUP($D331,Μητρώο!$A:$F,4,FALSE),\"\")","v":""}]
[330,329,null,null,{"$f":"IF($D332>0,VLOOKUP($D332,Μητρώο!$A:$F,3,FALSE),\"\")","v":""},{"$f":"IF($D332>0,VLOOKUP($D332,Μητρώο!$A:$F,5,FALSE),\"\")","v":""},{"$f":"IF(COUNTIF(Rankings!$B:$B,RIGHT($C332,2)&\"-\"&$D332)>0,IF($D332>0,VLOOKUP(RIGHT($C332,2)&\"-\"&$D332,Rankings!$B:$G,6,FALSE),\"\"),0)","v":0},{"$f":"IF($D332>0,VLOOKUP($D332,Μητρώο!$A:$F,4,FALSE),\"\")","v":""}]
[331,330,null,null,{"$f":"IF($D333>0,VLOOKUP($D333,Μητρώο!$A:$F,3,FALSE),\"\")","v":""},{"$f":"IF($D333>0,VLOOKUP($D333,Μητρώο!$A:$F,5,FALSE),\"\")","v":""},{"$f":"IF(COUNTIF(Rankings!$B:$B,RIGHT($C333,2)&\"-\"&$D333)>0,IF($D333>0,VLOOKUP(RIGHT($C333,2)&\"-\"&$D333,Rankings!$B:$G,6,FALSE),\"\"),0)","v":0},{"$f":"IF($D333>0,VLOOKUP($D333,Μητρώο!$A:$F,4,FALSE),\"\")","v":""}]
[332,331,null,null,{"$f":"IF($D334>0,VLOOKUP($D334,Μητρώο!$A:$F,3,FALSE),\"\")","v":""},{"$f":"IF($D334>0,VLOOKUP($D334,Μητρώο!$A:$F,5,FALSE),\"\")","v":""},{"$f":"IF(COUNTIF(Rankings!$B:$B,RIGHT($C334,2)&\"-\"&$D334)>0,IF($D334>0,VLOOKUP(RIGHT($C334,2)&\"-\"&$D334,Rankings!$B:$G,6,FALSE),\"\"),0)","v":0},{"$f":"IF($D334>0,VLOOKUP($D334,Μητρώο!$A:$F,4,FALSE),\"\")","v":""}]
[333,332,null,null,{"$f":"IF($D335>0,VLOOKUP($D335,Μητρώο!$A:$F,3,FALSE),\"\")","v":""},{"$f":"IF($D335>0,VLOOKUP($D335,Μητρώο!$A:$F,5,FALSE),\"\")","v":""},{"$f":"IF(COUNTIF(Rankings!$B:$B,RIGHT($C335,2)&\"-\"&$D335)>0,IF($D335>0,VLOOKUP(RIGHT($C335,2)&\"-\"&$D335,Rankings!$B:$G,6,FALSE),\"\"),0)","v":0},{"$f":"IF($D335>0,VLOOKUP($D335,Μητρώο!$A:$F,4,FALSE),\"\")","v":""}]
[334,333,null,null,{"$f":"IF($D336>0,VLOOKUP($D336,Μητρώο!$A:$F,3,FALSE),\"\")","v":""},{"$f":"IF($D336>0,VLOOKUP($D336,Μητρώο!$A:$F,5,FALSE),\"\")","v":""},{"$f":"IF(COUNTIF(Rankings!$B:$B,RIGHT($C336,2)&\"-\"&$D336)>0,IF($D336>0,VLOOKUP(RIGHT($C336,2)&\"-\"&$D336,Rankings!$B:$G,6,FALSE),\"\"),0)","v":0},{"$f":"IF($D336>0,VLOOKUP($D336,Μητρώο!$A:$F,4,FALSE),\"\")","v":""}]
[335,334,null,null,{"$f":"IF($D337>0,VLOOKUP($D337,Μητρώο!$A:$F,3,FALSE),\"\")","v":""},{"$f":"IF($D337>0,VLOOKUP($D337,Μητρώο!$A:$F,5,FALSE),\"\")","v":""},{"$f":"IF(COUNTIF(Rankings!$B:$B,RIGHT($C337,2)&\"-\"&$D337)>0,IF($D337>0,VLOOKUP(RIGHT($C337,2)&\"-\"&$D337,Rankings!$B:$G,6,FALSE),\"\"),0)","v":0},{"$f":"IF($D337>0,VLOOKUP($D337,Μητρώο!$A:$F,4,FALSE),\"\")","v":""}]
[336,335,null,null,{"$f":"IF($D338>0,VLOOKUP($D338,Μητρώο!$A:$F,3,FALSE),\"\")","v":""},{"$f":"IF($D338>0,VLOOKUP($D338,Μητρώο!$A:$F,5,FALSE),\"\")","v":""},{"$f":"IF(COUNTIF(Rankings!$B:$B,RIGHT($C338,2)&\"-\"&$D338)>0,IF($D338>0,VLOOKUP(RIGHT($C338,2)&\"-\"&$D338,Rankings!$B:$G,6,FALSE),\"\"),0)","v":0},{"$f":"IF($D338>0,VLOOKUP($D338,Μητρώο!$A:$F,4,FALSE),\"\")","v":""}]
[337,336,null,null,{"$f":"IF($D339>0,VLOOKUP($D339,Μητρώο!$A:$F,3,FALSE),\"\")","v":""},{"$f":"IF($D339>0,VLOOKUP($D339,Μητρώο!$A:$F,5,FALSE),\"\")","v":""},{"$f":"IF(COUNTIF(Rankings!$B:$B,RIGHT($C339,2)&\"-\"&$D339)>0,IF($D339>0,VLOOKUP(RIGHT($C339,2)&\"-\"&$D339,Rankings!$B:$G,6,FALSE),\"\"),0)","v":0},{"$f":"IF($D339>0,VLOOKUP($D339,Μητρώο!$A:$F,4,FALSE),\"\")","v":""}]
[338,337,null,null,{"$f":"IF($D340>0,VLOOKUP($D340,Μητρώο!$A:$F,3,FALSE),\"\")","v":""},{"$f":"IF($D340>0,VLOOKUP($D340,Μητρώο!$A:$F,5,FALSE),\"\")","v":""},{"$f":"IF(COUNTIF(Rankings!$B:$B,RIGHT($C340,2)&\"-\"&$D340)>0,IF($D340>0,VLOOKUP(RIGHT($C340,2)&\"-\"&$D340,Rankings!$B:$G,6,FALSE),\"\"),0)","v":0},{"$f":"IF($D340>0,VLOOKUP($D340,Μητρώο!$A:$F,4,FALSE),\"\")","v":""}]
[339,338,null,null,{"$f":"IF($D341>0,VLOOKUP($D341,Μητρώο!$A:$F,3,FALSE),\"\")","v":""},{"$f":"IF($D341>0,VLOOKUP($D341,Μητρώο!$A:$F,5,FALSE),\"\")","v":""},{"$f":"IF(COUNTIF(Rankings!$B:$B,RIGHT($C341,2)&\"-\"&$D341)>0,IF($D341>0,VLOOKUP(RIGHT($C341,2)&\"-\"&$D341,Rankings!$B:$G,6,FALSE),\"\"),0)","v":0},{"$f":"IF($D341>0,VLOOKUP($D341,Μητρώο!$A:$F,4,FALSE),\"\")","v":""}]
[340,339,null,null,{"$f":"IF($D342>0,VLOOKUP($D342,Μητρώο!$A:$F,3,FALSE),\"\")","v":""},{"$f":"IF($D342>0,VLOOKUP($D342,Μητρώο!$A:$F,5,FALSE),\"\")","v":""},{"$f":"IF(COUNTIF(Rankings!$B:$B,RIGHT($C342,2)&\"-\"&$D342)>0,IF($D342>0,VLOOKUP(RIGHT($C342,2)&\"-\"&$D342,Rankings!$B:$G,6,FALSE),\"\"),0)","v":0},{"$f":"IF($D342>0,VLOOKUP($D342,Μητρώο!$A:$F,4,FALSE),\"\")","v":""}]
[341,340,null,null,{"$f":"IF($D343>0,VLOOKUP($D343,Μητρώο!$A:$F,3,FALSE),\"\")","v":""},{"$f":"IF($D343>0,VLOOKUP($D343,Μητρώο!$A:$F,5,FALSE),\"\")","v":""},{"$f":"IF(COUNTIF(Rankings!$B:$B,RIGHT($C343,2)&\"-\"&$D343)>0,IF($D343>0,VLOOKUP(RIGHT($C343,2)&\"-\"&$D343,Rankings!$B:$G,6,FALSE),\"\"),0)","v":0},{"$f":"IF($D343>0,VLOOKUP($D343,Μητρώο!$A:$F,4,FALSE),\"\")","v":""}]
[342,341,null,null,{"$f":"IF($D344>0,VLOOKUP($D344,Μητρώο!$A:$F,3,FALSE),\"\")","v":""},{"$f":"IF($D344>0,VLOOKUP($D344,Μητρώο!$A:$F,5,FALSE),\"\")","v":""},{"$f":"IF(COUNTIF(Rankings!$B:$B,RIGHT($C344,2)&\"-\"&$D344)>0,IF($D344>0,VLOOKUP(RIGHT($C344,2)&\"-\"&$D344,Rankings!$B:$G,6,FALSE),\"\"),0)","v":0},{"$f":"IF($D344>0,VLOOKUP($D344,Μητρώο!$A:$F,4,FALSE),\"\")","v":""}]
[343,342,null,null,{"$f":"IF($D345>0,VLOOKUP($D345,Μητρώο!$A:$F,3,FALSE),\"\")","v":""},{"$f":"IF($D345>0,VLOOKUP($D345,Μητρώο!$A:$F,5,FALSE),\"\")","v":""},{"$f":"IF(COUNTIF(Rankings!$B:$B,RIGHT($C345,2)&\"-\"&$D345)>0,IF($D345>0,VLOOKUP(RIGHT($C345,2)&\"-\"&$D345,Rankings!$B:$G,6,FALSE),\"\"),0)","v":0},{"$f":"IF($D345>0,VLOOKUP($D345,Μητρώο!$A:$F,4,FALSE),\"\")","v":""}]
[344,343,null,null,{"$f":"IF($D346>0,VLOOKUP($D346,Μητρώο!$A:$F,3,FALSE),\"\")","v":""},{"$f":"IF($D346>0,VLOOKUP($D346,Μητρώο!$A:$F,5,FALSE),\"\")","v":""},{"$f":"IF(COUNTIF(Rankings!$B:$B,RIGHT($C346,2)&\"-\"&$D346)>0,IF($D346>0,VLOOKUP(RIGHT($C346,2)&\"-\"&$D346,Rankings!$B:$G,6,FALSE),\"\"),0)","v":0},{"$f":"IF($D346>0,VLOOKUP($D346,Μητρώο!$A:$F,4,FALSE),\"\")","v":""}]
[345,344,null,null,{"$f":"IF($D347>0,VLOOKUP($D347,Μητρώο!$A:$F,3,FALSE),\"\")","v":""},{"$f":"IF($D347>0,VLOOKUP($D347,Μητρώο!$A:$F,5,FALSE),\"\")","v":""},{"$f":"IF(COUNTIF(Rankings!$B:$B,RIGHT($C347,2)&\"-\"&$D347)>0,IF($D347>0,VLOOKUP(RIGHT($C347,2)&\"-\"&$D347,Rankings!$B:$G,6,FALSE),\"\"),0)","v":0},{"$f":"IF($D347>0,VLOOKUP($D347,Μητρώο!$A:$F,4,FALSE),\"\")","v":""}]
[346,345,null,null,{"$f":"IF($D348>0,VLOOKUP($D348,Μητρώο!$A:$F,3,FALSE),\"\")","v":""},{"$f":"IF($D348>0,VLOOKUP($D348,Μητρώο!$A:$F,5,FALSE),\"\")","v":""},{"$f":"IF(COUNTIF(Rankings!$B:$B,RIGHT($C348,2)&\"-\"&$D348)>0,IF($D348>0,VLOOKUP(RIGHT($C348,2)&\"-\"&$D348,Rankings!$B:$G,6,FALSE),\"\"),0)","v":0},{"$f":"IF($D348>0,VLOOKUP($D348,Μητρώο!$A:$F,4,FALSE),\"\")","v":""}]
[347,346,null,null,{"$f":"IF($D349>0,VLOOKUP($D349,Μητρώο!$A:$F,3,FALSE),\"\")","v":""},{"$f":"IF($D349>0,VLOOKUP($D349,Μητρώο!$A:$F,5,FALSE),\"\")","v":""},{"$f":"IF(COUNTIF(Rankings!$B:$B,RIGHT($C349,2)&\"-\"&$D349)>0,IF($D349>0,VLOOKUP(RIGHT($C349,2)&\"-\"&$D349,Rankings!$B:$G,6,FALSE),\"\"),0)","v":0},{"$f":"IF($D349>0,VLOOKUP($D349,Μητρώο!$A:$F,4,FALSE),\"\")","v":""}]
[348,347,null,null,{"$f":"IF($D350>0,VLOOKUP($D350,Μητρώο!$A:$F,3,FALSE),\"\")","v":""},{"$f":"IF($D350>0,VLOOKUP($D350,Μητρώο!$A:$F,5,FALSE),\"\")","v":""},{"$f":"IF(COUNTIF(Rankings!$B:$B,RIGHT($C350,2)&\"-\"&$D350)>0,IF($D350>0,VLOOKUP(RIGHT($C350,2)&\"-\"&$D350,Rankings!$B:$G,6,FALSE),\"\"),0)","v":0},{"$f":"IF($D350>0,VLOOKUP($D350,Μητρώο!$A:$F,4,FALSE),\"\")","v":""}]
[349,348,null,null,{"$f":"IF($D351>0,VLOOKUP($D351,Μητρώο!$A:$F,3,FALSE),\"\")","v":""},{"$f":"IF($D351>0,VLOOKUP($D351,Μητρώο!$A:$F,5,FALSE),\"\")","v":""},{"$f":"IF(COUNTIF(Rankings!$B:$B,RIGHT($C351,2)&\"-\"&$D351)>0,IF($D351>0,VLOOKUP(RIGHT($C351,2)&\"-\"&$D351,Rankings!$B:$G,6,FALSE),\"\"),0)","v":0},{"$f":"IF($D351>0,VLOOKUP($D351,Μητρώο!$A:$F,4,FALSE),\"\")","v":""}]
[350,349,null,null,{"$f":"IF($D352>0,VLOOKUP($D352,Μητρώο!$A:$F,3,FALSE),\"\")","v":""},{"$f":"IF($D352>0,VLOOKUP($D352,Μητρώο!$A:$F,5,FALSE),\"\")","v":""},{"$f":"IF(COUNTIF(Rankings!$B:$B,RIGHT($C352,2)&\"-\"&$D352)>0,IF($D352>0,VLOOKUP(RIGHT($C352,2)&\"-\"&$D352,Rankings!$B:$G,6,FALSE),\"\"),0)","v":0},{"$f":"IF($D352>0,VLOOKUP($D352,Μητρώο!$A:$F,4,FALSE),\"\")","v":""}]
[351,350,null,null,{"$f":"IF($D353>0,VLOOKUP($D353,Μητρώο!$A:$F,3,FALSE),\"\")","v":""},{"$f":"IF($D353>0,VLOOKUP($D353,Μητρώο!$A:$F,5,FALSE),\"\")","v":""},{"$f":"IF(COUNTIF(Rankings!$B:$B,RIGHT($C353,2)&\"-\"&$D353)>0,IF($D353>0,VLOOKUP(RIGHT($C353,2)&\"-\"&$D353,Rankings!$B:$G,6,FALSE),\"\"),0)","v":0},{"$f":"IF($D353>0,VLOOKUP($D353,Μητρώο!$A:$F,4,FALSE),\"\")","v":""}]
[352,351,null,null,{"$f":"IF($D354>0,VLOOKUP($D354,Μητρώο!$A:$F,3,FALSE),\"\")","v":""},{"$f":"IF($D354>0,VLOOKUP($D354,Μητρώο!$A:$F,5,FALSE),\"\")","v":""},{"$f":"IF(COUNTIF(Rankings!$B:$B,RIGHT($C354,2)&\"-\"&$D354)>0,IF($D354>0,VLOOKUP(RIGHT($C354,2)&\"-\"&$D354,Rankings!$B:$G,6,FALSE),\"\"),0)","v":0},{"$f":"IF($D354>0,VLOOKUP($D354,Μητρώο!$A:$F,4,FALSE),\"\")","v":""}]
[353,352,null,null,{"$f":"IF($D355>0,VLOOKUP($D355,Μητρώο!$A:$F,3,FALSE),\"\")","v":""},{"$f":"IF($D355>0,VLOOKUP($D355,Μητρώο!$A:$F,5,FALSE),\"\")","v":""},{"$f":"IF(COUNTIF(Rankings!$B:$B,RIGHT($C355,2)&\"-\"&$D355)>0,IF($D355>0,VLOOKUP(RIGHT($C355,2)&\"-\"&$D355,Rankings!$B:$G,6,FALSE),\"\"),0)","v":0},{"$f":"IF($D355>0,VLOOKUP($D355,Μητρώο!$A:$F,4,FALSE),\"\")","v":""}]
[354,353,null,null,{"$f":"IF($D356>0,VLOOKUP($D356,Μητρώο!$A:$F,3,FALSE),\"\")","v":""},{"$f":"IF($D356>0,VLOOKUP($D356,Μητρώο!$A:$F,5,FALSE),\"\")","v":""},{"$f":"IF(COUNTIF(Rankings!$B:$B,RIGHT($C356,2)&\"-\"&$D356)>0,IF($D356>0,VLOOKUP(RIGHT($C356,2)&\"-\"&$D356,Rankings!$B:$G,6,FALSE),\"\"),0)","v":0},{"$f":"IF($D356>0,VLOOKUP($D356,Μητρώο!$A:$F,4,FALSE),\"\")","v":""}]
[355,354,null,null,{"$f":"IF($D357>0,VLOOKUP($D357,Μητρώο!$A:$F,3,FALSE),\"\")","v":""},{"$f":"IF($D357>0,VLOOKUP($D357,Μητρώο!$A:$F,5,FALSE),\"\")","v":""},{"$f":"IF(COUNTIF(Rankings!$B:$B,RIGHT($C357,2)&\"-\"&$D357)>0,IF($D357>0,VLOOKUP(RIGHT($C357,2)&\"-\"&$D357,Rankings!$B:$G,6,FALSE),\"\"),0)","v":0},{"$f":"IF($D357>0,VLOOKUP($D357,Μητρώο!$A:$F,4,FALSE),\"\")","v":""}]
[356,355,null,null,{"$f":"IF($D358>0,VLOOKUP($D358,Μητρώο!$A:$F,3,FALSE),\"\")","v":""},{"$f":"IF($D358>0,VLOOKUP($D358,Μητρώο!$A:$F,5,FALSE),\"\")","v":""},{"$f":"IF(COUNTIF(Rankings!$B:$B,RIGHT($C358,2)&\"-\"&$D358)>0,IF($D358>0,VLOOKUP(RIGHT($C358,2)&\"-\"&$D358,Rankings!$B:$G,6,FALSE),\"\"),0)","v":0},{"$f":"IF($D358>0,VLOOKUP($D358,Μητρώο!$A:$F,4,FALSE),\"\")","v":""}]
[357,356,null,null,{"$f":"IF($D359>0,VLOOKUP($D359,Μητρώο!$A:$F,3,FALSE),\"\")","v":""},{"$f":"IF($D359>0,VLOOKUP($D359,Μητρώο!$A:$F,5,FALSE),\"\")","v":""},{"$f":"IF(COUNTIF(Rankings!$B:$B,RIGHT($C359,2)&\"-\"&$D359)>0,IF($D359>0,VLOOKUP(RIGHT($C359,2)&\"-\"&$D359,Rankings!$B:$G,6,FALSE),\"\"),0)","v":0},{"$f":"IF($D359>0,VLOOKUP($D359,Μητρώο!$A:$F,4,FALSE),\"\")","v":""}]
[358,357,null,null,{"$f":"IF($D360>0,VLOOKUP($D360,Μητρώο!$A:$F,3,FALSE),\"\")","v":""},{"$f":"IF($D360>0,VLOOKUP($D360,Μητρώο!$A:$F,5,FALSE),\"\")","v":""},{"$f":"IF(COUNTIF(Rankings!$B:$B,RIGHT($C360,2)&\"-\"&$D360)>0,IF($D360>0,VLOOKUP(RIGHT($C360,2)&\"-\"&$D360,Rankings!$B:$G,6,FALSE),\"\"),0)","v":0},{"$f":"IF($D360>0,VLOOKUP($D360,Μητρώο!$A:$F,4,FALSE),\"\")","v":""}]
[359,358,null,null,{"$f":"IF($D361>0,VLOOKUP($D361,Μητρώο!$A:$F,3,FALSE),\"\")","v":""},{"$f":"IF($D361>0,VLOOKUP($D361,Μητρώο!$A:$F,5,FALSE),\"\")","v":""},{"$f":"IF(COUNTIF(Rankings!$B:$B,RIGHT($C361,2)&\"-\"&$D361)>0,IF($D361>0,VLOOKUP(RIGHT($C361,2)&\"-\"&$D361,Rankings!$B:$G,6,FALSE),\"\"),0)","v":0},{"$f":"IF($D361>0,VLOOKUP($D361,Μητρώο!$A:$F,4,FALSE),\"\")","v":""}]
[360,359,null,null,{"$f":"IF($D362>0,VLOOKUP($D362,Μητρώο!$A:$F,3,FALSE),\"\")","v":""},{"$f":"IF($D362>0,VLOOKUP($D362,Μητρώο!$A:$F,5,FALSE),\"\")","v":""},{"$f":"IF(COUNTIF(Rankings!$B:$B,RIGHT($C362,2)&\"-\"&$D362)>0,IF($D362>0,VLOOKUP(RIGHT($C362,2)&\"-\"&$D362,Rankings!$B:$G,6,FALSE),\"\"),0)","v":0},{"$f":"IF($D362>0,VLOOKUP($D362,Μητρώο!$A:$F,4,FALSE),\"\")","v":""}]
[361,360,null,null,{"$f":"IF($D363>0,VLOOKUP($D363,Μητρώο!$A:$F,3,FALSE),\"\")","v":""},{"$f":"IF($D363>0,VLOOKUP($D363,Μητρώο!$A:$F,5,FALSE),\"\")","v":""},{"$f":"IF(COUNTIF(Rankings!$B:$B,RIGHT($C363,2)&\"-\"&$D363)>0,IF($D363>0,VLOOKUP(RIGHT($C363,2)&\"-\"&$D363,Rankings!$B:$G,6,FALSE),\"\"),0)","v":0},{"$f":"IF($D363>0,VLOOKUP($D363,Μητρώο!$A:$F,4,FALSE),\"\")","v":""}]
[362,361,null,null,{"$f":"IF($D364>0,VLOOKUP($D364,Μητρώο!$A:$F,3,FALSE),\"\")","v":""},{"$f":"IF($D364>0,VLOOKUP($D364,Μητρώο!$A:$F,5,FALSE),\"\")","v":""},{"$f":"IF(COUNTIF(Rankings!$B:$B,RIGHT($C364,2)&\"-\"&$D364)>0,IF($D364>0,VLOOKUP(RIGHT($C364,2)&\"-\"&$D364,Rankings!$B:$G,6,FALSE),\"\"),0)","v":0},{"$f":"IF($D364>0,VLOOKUP($D364,Μητρώο!$A:$F,4,FALSE),\"\")","v":""}]
[363,362,null,null,{"$f":"IF($D365>0,VLOOKUP($D365,Μητρώο!$A:$F,3,FALSE),\"\")","v":""},{"$f":"IF($D365>0,VLOOKUP($D365,Μητρώο!$A:$F,5,FALSE),\"\")","v":""},{"$f":"IF(COUNTIF(Rankings!$B:$B,RIGHT($C365,2)&\"-\"&$D365)>0,IF($D365>0,VLOOKUP(RIGHT($C365,2)&\"-\"&$D365,Rankings!$B:$G,6,FALSE),\"\"),0)","v":0},{"$f":"IF($D365>0,VLOOKUP($D365,Μητρώο!$A:$F,4,FALSE),\"\")","v":""}]
[364,363,null,null,{"$f":"IF($D366>0,VLOOKUP($D366,Μητρώο!$A:$F,3,FALSE),\"\")","v":""},{"$f":"IF($D366>0,VLOOKUP($D366,Μητρώο!$A:$F,5,FALSE),\"\")","v":""},{"$f":"IF(COUNTIF(Rankings!$B:$B,RIGHT($C366,2)&\"-\"&$D366)>0,IF($D366>0,VLOOKUP(RIGHT($C366,2)&\"-\"&$D366,Rankings!$B:$G,6,FALSE),\"\"),0)","v":0},{"$f":"IF($D366>0,VLOOKUP($D366,Μητρώο!$A:$F,4,FALSE),\"\")","v":""}]
[365,364,null,null,{"$f":"IF($D367>0,VLOOKUP($D367,Μητρώο!$A:$F,3,FALSE),\"\")","v":""},{"$f":"IF($D367>0,VLOOKUP($D367,Μητρώο!$A:$F,5,FALSE),\"\")","v":""},{"$f":"IF(COUNTIF(Rankings!$B:$B,RIGHT($C367,2)&\"-\"&$D367)>0,IF($D367>0,VLOOKUP(RIGHT($C367,2)&\"-\"&$D367,Rankings!$B:$G,6,FALSE),\"\"),0)","v":0},{"$f":"IF($D367>0,VLOOKUP($D367,Μητρώο!$A:$F,4,FALSE),\"\")","v":""}]
[366,365,null,null,{"$f":"IF($D368>0,VLOOKUP($D368,Μητρώο!$A:$F,3,FALSE),\"\")","v":""},{"$f":"IF($D368>0,VLOOKUP($D368,Μητρώο!$A:$F,5,FALSE),\"\")","v":""},{"$f":"IF(COUNTIF(Rankings!$B:$B,RIGHT($C368,2)&\"-\"&$D368)>0,IF($D368>0,VLOOKUP(RIGHT($C368,2)&\"-\"&$D368,Rankings!$B:$G,6,FALSE),\"\"),0)","v":0},{"$f":"IF($D368>0,VLOOKUP($D368,Μητρώο!$A:$F,4,FALSE),\"\")","v":""}]
[367,366,null,null,{"$f":"IF($D369>0,VLOOKUP($D369,Μητρώο!$A:$F,3,FALSE),\"\")","v":""},{"$f":"IF($D369>0,VLOOKUP($D369,Μητρώο!$A:$F,5,FALSE),\"\")","v":""},{"$f":"IF(COUNTIF(Rankings!$B:$B,RIGHT($C369,2)&\"-\"&$D369)>0,IF($D369>0,VLOOKUP(RIGHT($C369,2)&\"-\"&$D369,Rankings!$B:$G,6,FALSE),\"\"),0)","v":0},{"$f":"IF($D369>0,VLOOKUP($D369,Μητρώο!$A:$F,4,FALSE),\"\")","v":""}]
[368,367,null,null,{"$f":"IF($D370>0,VLOOKUP($D370,Μητρώο!$A:$F,3,FALSE),\"\")","v":""},{"$f":"IF($D370>0,VLOOKUP($D370,Μητρώο!$A:$F,5,FALSE),\"\")","v":""},{"$f":"IF(COUNTIF(Rankings!$B:$B,RIGHT($C370,2)&\"-\"&$D370)>0,IF($D370>0,VLOOKUP(RIGHT($C370,2)&\"-\"&$D370,Rankings!$B:$G,6,FALSE),\"\"),0)","v":0},{"$f":"IF($D370>0,VLOOKUP($D370,Μητρώο!$A:$F,4,FALSE),\"\")","v":""}]
[369,368,null,null,{"$f":"IF($D371>0,VLOOKUP($D371,Μητρώο!$A:$F,3,FALSE),\"\")","v":""},{"$f":"IF($D371>0,VLOOKUP($D371,Μητρώο!$A:$F,5,FALSE),\"\")","v":""},{"$f":"IF(COUNTIF(Rankings!$B:$B,RIGHT($C371,2)&\"-\"&$D371)>0,IF($D371>0,VLOOKUP(RIGHT($C371,2)&\"-\"&$D371,Rankings!$B:$G,6,FALSE),\"\"),0)","v":0},{"$f":"IF($D371>0,VLOOKUP($D371,Μητρώο!$A:$F,4,FALSE),\"\")","v":""}]
[370,369,null,null,{"$f":"IF($D372>0,VLOOKUP($D372,Μητρώο!$A:$F,3,FALSE),\"\")","v":""},{"$f":"IF($D372>0,VLOOKUP($D372,Μητρώο!$A:$F,5,FALSE),\"\")","v":""},{"$f":"IF(COUNTIF(Rankings!$B:$B,RIGHT($C372,2)&\"-\"&$D372)>0,IF($D372>0,VLOOKUP(RIGHT($C372,2)&\"-\"&$D372,Rankings!$B:$G,6,FALSE),\"\"),0)","v":0},{"$f":"IF($D372>0,VLOOKUP($D372,Μητρώο!$A:$F,4,FALSE),\"\")","v":""}]
[371,370,null,null,{"$f":"IF($D373>0,VLOOKUP($D373,Μητρώο!$A:$F,3,FALSE),\"\")","v":""},{"$f":"IF($D373>0,VLOOKUP($D373,Μητρώο!$A:$F,5,FALSE),\"\")","v":""},{"$f":"IF(COUNTIF(Rankings!$B:$B,RIGHT($C373,2)&\"-\"&$D373)>0,IF($D373>0,VLOOKUP(RIGHT($C373,2)&\"-\"&$D373,Rankings!$B:$G,6,FALSE),\"\"),0)","v":0},{"$f":"IF($D373>0,VLOOKUP($D373,Μητρώο!$A:$F,4,FALSE),\"\")","v":""}]
[372,371,null,null,{"$f":"IF($D374>0,VLOOKUP($D374,Μητρώο!$A:$F,3,FALSE),\"\")","v":""},{"$f":"IF($D374>0,VLOOKUP($D374,Μητρώο!$A:$F,5,FALSE),\"\")","v":""},{"$f":"IF(COUNTIF(Rankings!$B:$B,RIGHT($C374,2)&\"-\"&$D374)>0,IF($D374>0,VLOOKUP(RIGHT($C374,2)&\"-\"&$D374,Rankings!$B:$G,6,FALSE),\"\"),0)","v":0},{"$f":"IF($D374>0,VLOOKUP($D374,Μητρώο!$A:$F,4,FALSE),\"\")","v":""}]
[373,372,null,null,{"$f":"IF($D375>0,VLOOKUP($D375,Μητρώο!$A:$F,3,FALSE),\"\")","v":""},{"$f":"IF($D375>0,VLOOKUP($D375,Μητρώο!$A:$F,5,FALSE),\"\")","v":""},{"$f":"IF(COUNTIF(Rankings!$B:$B,RIGHT($C375,2)&\"-\"&$D375)>0,IF($D375>0,VLOOKUP(RIGHT($C375,2)&\"-\"&$D375,Rankings!$B:$G,6,FALSE),\"\"),0)","v":0},{"$f":"IF($D375>0,VLOOKUP($D375,Μητρώο!$A:$F,4,FALSE),\"\")","v":""}]
[374,373,null,null,{"$f":"IF($D376>0,VLOOKUP($D376,Μητρώο!$A:$F,3,FALSE),\"\")","v":""},{"$f":"IF($D376>0,VLOOKUP($D376,Μητρώο!$A:$F,5,FALSE),\"\")","v":""},{"$f":"IF(COUNTIF(Rankings!$B:$B,RIGHT($C376,2)&\"-\"&$D376)>0,IF($D376>0,VLOOKUP(RIGHT($C376,2)&\"-\"&$D376,Rankings!$B:$G,6,FALSE),\"\"),0)","v":0},{"$f":"IF($D376>0,VLOOKUP($D376,Μητρώο!$A:$F,4,FALSE),\"\")","v":""}]
[375,374,null,null,{"$f":"IF($D377>0,VLOOKUP($D377,Μητρώο!$A:$F,3,FALSE),\"\")","v":""},{"$f":"IF($D377>0,VLOOKUP($D377,Μητρώο!$A:$F,5,FALSE),\"\")","v":""},{"$f":"IF(COUNTIF(Rankings!$B:$B,RIGHT($C377,2)&\"-\"&$D377)>0,IF($D377>0,VLOOKUP(RIGHT($C377,2)&\"-\"&$D377,Rankings!$B:$G,6,FALSE),\"\"),0)","v":0},{"$f":"IF($D377>0,VLOOKUP($D377,Μητρώο!$A:$F,4,FALSE),\"\")","v":""}]
[376,375,null,null,{"$f":"IF($D378>0,VLOOKUP($D378,Μητρώο!$A:$F,3,FALSE),\"\")","v":""},{"$f":"IF($D378>0,VLOOKUP($D378,Μητρώο!$A:$F,5,FALSE),\"\")","v":""},{"$f":"IF(COUNTIF(Rankings!$B:$B,RIGHT($C378,2)&\"-\"&$D378)>0,IF($D378>0,VLOOKUP(RIGHT($C378,2)&\"-\"&$D378,Rankings!$B:$G,6,FALSE),\"\"),0)","v":0},{"$f":"IF($D378>0,VLOOKUP($D378,Μητρώο!$A:$F,4,FALSE),\"\")","v":""}]
[377,376,null,null,{"$f":"IF($D379>0,VLOOKUP($D379,Μητρώο!$A:$F,3,FALSE),\"\")","v":""},{"$f":"IF($D379>0,VLOOKUP($D379,Μητρώο!$A:$F,5,FALSE),\"\")","v":""},{"$f":"IF(COUNTIF(Rankings!$B:$B,RIGHT($C379,2)&\"-\"&$D379)>0,IF($D379>0,VLOOKUP(RIGHT($C379,2)&\"-\"&$D379,Rankings!$B:$G,6,FALSE),\"\"),0)","v":0},{"$f":"IF($D379>0,VLOOKUP($D379,Μητρώο!$A:$F,4,FALSE),\"\")","v":""}]
[378,377,null,null,{"$f":"IF($D380>0,VLOOKUP($D380,Μητρώο!$A:$F,3,FALSE),\"\")","v":""},{"$f":"IF($D380>0,VLOOKUP($D380,Μητρώο!$A:$F,5,FALSE),\"\")","v":""},{"$f":"IF(COUNTIF(Rankings!$B:$B,RIGHT($C380,2)&\"-\"&$D380)>0,IF($D380>0,VLOOKUP(RIGHT($C380,2)&\"-\"&$D380,Rankings!$B:$G,6,FALSE),\"\"),0)","v":0},{"$f":"IF($D380>0,VLOOKUP($D380,Μητρώο!$A:$F,4,FALSE),\"\")","v":""}]
[379,378,null,null,{"$f":"IF($D381>0,VLOOKUP($D381,Μητρώο!$A:$F,3,FALSE),\"\")","v":""},{"$f":"IF($D381>0,VLOOKUP($D381,Μητρώο!$A:$F,5,FALSE),\"\")","v":""},{"$f":"IF(COUNTIF(Rankings!$B:$B,RIGHT($C381,2)&\"-\"&$D381)>0,IF($D381>0,VLOOKUP(RIGHT($C381,2)&\"-\"&$D381,Rankings!$B:$G,6,FALSE),\"\"),0)","v":0},{"$f":"IF($D381>0,VLOOKUP($D381,Μητρώο!$A:$F,4,FALSE),\"\")","v":""}]
[380,379,null,null,{"$f":"IF($D382>0,VLOOKUP($D382,Μητρώο!$A:$F,3,FALSE),\"\")","v":""},{"$f":"IF($D382>0,VLOOKUP($D382,Μητρώο!$A:$F,5,FALSE),\"\")","v":""},{"$f":"IF(COUNTIF(Rankings!$B:$B,RIGHT($C382,2)&\"-\"&$D382)>0,IF($D382>0,VLOOKUP(RIGHT($C382,2)&\"-\"&$D382,Rankings!$B:$G,6,FALSE),\"\"),0)","v":0},{"$f":"IF($D382>0,VLOOKUP($D382,Μητρώο!$A:$F,4,FALSE),\"\")","v":""}]
[381,380,null,null,{"$f":"IF($D383>0,VLOOKUP($D383,Μητρώο!$A:$F,3,FALSE),\"\")","v":""},{"$f":"IF($D383>0,VLOOKUP($D383,Μητρώο!$A:$F,5,FALSE),\"\")","v":""},{"$f":"IF(COUNTIF(Rankings!$B:$B,RIGHT($C383,2)&\"-\"&$D383)>0,IF($D383>0,VLOOKUP(RIGHT($C383,2)&\"-\"&$D383,Rankings!$B:$G,6,FALSE),\"\"),0)","v":0},{"$f":"IF($D383>0,VLOOKUP($D383,Μητρώο!$A:$F,4,FALSE),\"\")","v":""}]
[382,381,null,null,{"$f":"IF($D384>0,VLOOKUP($D384,Μητρώο!$A:$F,3,FALSE),\"\")","v":""},{"$f":"IF($D384>0,VLOOKUP($D384,Μητρώο!$A:$F,5,FALSE),\"\")","v":""},{"$f":"IF(COUNTIF(Rankings!$B:$B,RIGHT($C384,2)&\"-\"&$D384)>0,IF($D384>0,VLOOKUP(RIGHT($C384,2)&\"-\"&$D384,Rankings!$B:$G,6,FALSE),\"\"),0)","v":0},{"$f":"IF($D384>0,VLOOKUP($D384,Μητρώο!$A:$F,4,FALSE),\"\")","v":""}]
[383,382,null,null,{"$f":"IF($D385>0,VLOOKUP($D385,Μητρώο!$A:$F,3,FALSE),\"\")","v":""},{"$f":"IF($D385>0,VLOOKUP($D385,Μητρώο!$A:$F,5,FALSE),\"\")","v":""},{"$f":"IF(COUNTIF(Rankings!$B:$B,RIGHT($C385,2)&\"-\"&$D385)>0,IF($D385>0,VLOOKUP(RIGHT($C385,2)&\"-\"&$D385,Rankings!$B:$G,6,FALSE),\"\"),0)","v":0},{"$f":"IF($D385>0,VLOOKUP($D385,Μητρώο!$A:$F,4,FALSE),\"\")","v":""}]
[384,383,null,null,{"$f":"IF($D386>0,VLOOKUP($D386,Μητρώο!$A:$F,3,FALSE),\"\")","v":""},{"$f":"IF($D386>0,VLOOKUP($D386,Μητρώο!$A:$F,5,FALSE),\"\")","v":""},{"$f":"IF(COUNTIF(Rankings!$B:$B,RIGHT($C386,2)&\"-\"&$D386)>0,IF($D386>0,VLOOKUP(RIGHT($C386,2)&\"-\"&$D386,Rankings!$B:$G,6,FALSE),\"\"),0)","v":0},{"$f":"IF($D386>0,VLOOKUP($D386,Μητρώο!$A:$F,4,FALSE),\"\")","v":""}]
[385,384,null,null,{"$f":"IF($D387>0,VLOOKUP($D387,Μητρώο!$A:$F,3,FALSE),\"\")","v":""},{"$f":"IF($D387>0,VLOOKUP($D387,Μητρώο!$A:$F,5,FALSE),\"\")","v":""},{"$f":"IF(COUNTIF(Rankings!$B:$B,RIGHT($C387,2)&\"-\"&$D387)>0,IF($D387>0,VLOOKUP(RIGHT($C387,2)&\"-\"&$D387,Rankings!$B:$G,6,FALSE),\"\"),0)","v":0},{"$f":"IF($D387>0,VLOOKUP($D387,Μητρώο!$A:$F,4,FALSE),\"\")","v":""}]
[386,{"$f":"IF(C388=C387,B387+1,1)","v":385},null,null,{"$f":"IF($D388>0,VLOOKUP($D388,Μητρώο!$A:$F,3,FALSE),\"\")","v":""},{"$f":"IF($D388>0,VLOOKUP($D388,Μητρώο!$A:$F,5,FALSE),\"\")","v":""},{"$f":"IF(COUNTIF(Rankings!$B:$B,RIGHT($C388,2)&\"-\"&$D388)>0,IF($D388>0,VLOOKUP(RIGHT($C388,2)&\"-\"&$D388,Rankings!$B:$G,6,FALSE),\"\"),0)","v":0},{"$f":"IF($D388>0,VLOOKUP($D388,Μητρώο!$A:$F,4,FALSE),\"\")","v":""}]
[387,386,null,null,{"$f":"IF($D389>0,VLOOKUP($D389,Μητρώο!$A:$F,3,FALSE),\"\")","v":""},{"$f":"IF($D389>0,VLOOKUP($D389,Μητρώο!$A:$F,5,FALSE),\"\")","v":""},{"$f":"IF(COUNTIF(Rankings!$B:$B,RIGHT($C389,2)&\"-\"&$D389)>0,IF($D389>0,VLOOKUP(RIGHT($C389,2)&\"-\"&$D389,Rankings!$B:$G,6,FALSE),\"\"),0)","v":0},{"$f":"IF($D389>0,VLOOKUP($D389,Μητρώο!$A:$F,4,FALSE),\"\")","v":""}]
[388,387,null,null,{"$f":"IF($D390>0,VLOOKUP($D390,Μητρώο!$A:$F,3,FALSE),\"\")","v":""},{"$f":"IF($D390>0,VLOOKUP($D390,Μητρώο!$A:$F,5,FALSE),\"\")","v":""},{"$f":"IF(COUNTIF(Rankings!$B:$B,RIGHT($C390,2)&\"-\"&$D390)>0,IF($D390>0,VLOOKUP(RIGHT($C390,2)&\"-\"&$D390,Rankings!$B:$G,6,FALSE),\"\"),0)","v":0},{"$f":"IF($D390>0,VLOOKUP($D390,Μητρώο!$A:$F,4,FALSE),\"\")","v":""}]
[389,388,null,null,{"$f":"IF($D391>0,VLOOKUP($D391,Μητρώο!$A:$F,3,FALSE),\"\")","v":""},{"$f":"IF($D391>0,VLOOKUP($D391,Μητρώο!$A:$F,5,FALSE),\"\")","v":""},{"$f":"IF(COUNTIF(Rankings!$B:$B,RIGHT($C391,2)&\"-\"&$D391)>0,IF($D391>0,VLOOKUP(RIGHT($C391,2)&\"-\"&$D391,Rankings!$B:$G,6,FALSE),\"\"),0)","v":0},{"$f":"IF($D391>0,VLOOKUP($D391,Μητρώο!$A:$F,4,FALSE),\"\")","v":""}]
[390,389,null,null,{"$f":"IF($D392>0,VLOOKUP($D392,Μητρώο!$A:$F,3,FALSE),\"\")","v":""},{"$f":"IF($D392>0,VLOOKUP($D392,Μητρώο!$A:$F,5,FALSE),\"\")","v":""},{"$f":"IF(COUNTIF(Rankings!$B:$B,RIGHT($C392,2)&\"-\"&$D392)>0,IF($D392>0,VLOOKUP(RIGHT($C392,2)&\"-\"&$D392,Rankings!$B:$G,6,FALSE),\"\"),0)","v":0},{"$f":"IF($D392>0,VLOOKUP($D392,Μητρώο!$A:$F,4,FALSE),\"\")","v":""}]
[391,390,null,null,{"$f":"IF($D393>0,VLOOKUP($D393,Μητρώο!$A:$F,3,FALSE),\"\")","v":""},{"$f":"IF($D393>0,VLOOKUP($D393,Μητρώο!$A:$F,5,FALSE),\"\")","v":""},{"$f":"IF(COUNTIF(Rankings!$B:$B,RIGHT($C393,2)&\"-\"&$D393)>0,IF($D393>0,VLOOKUP(RIGHT($C393,2)&\"-\"&$D393,Rankings!$B:$G,6,FALSE),\"\"),0)","v":0},{"$f":"IF($D393>0,VLOOKUP($D393,Μητρώο!$A:$F,4,FALSE),\"\")","v":""}]
[392,391,null,null,{"$f":"IF($D394>0,VLOOKUP($D394,Μητρώο!$A:$F,3,FALSE),\"\")","v":""},{"$f":"IF($D394>0,VLOOKUP($D394,Μητρώο!$A:$F,5,FALSE),\"\")","v":""},{"$f":"IF(COUNTIF(Rankings!$B:$B,RIGHT($C394,2)&\"-\"&$D394)>0,IF($D394>0,VLOOKUP(RIGHT($C394,2)&\"-\"&$D394,Rankings!$B:$G,6,FALSE),\"\"),0)","v":0},{"$f":"IF($D394>0,VLOOKUP($D394,Μητρώο!$A:$F,4,FALSE),\"\")","v":""}]
[393,392,null,null,{"$f":"IF($D395>0,VLOOKUP($D395,Μητρώο!$A:$F,3,FALSE),\"\")","v":""},{"$f":"IF($D395>0,VLOOKUP($D395,Μητρώο!$A:$F,5,FALSE),\"\")","v":""},{"$f":"IF(COUNTIF(Rankings!$B:$B,RIGHT($C395,2)&\"-\"&$D395)>0,IF($D395>0,VLOOKUP(RIGHT($C395,2)&\"-\"&$D395,Rankings!$B:$G,6,FALSE),\"\"),0)","v":0},{"$f":"IF($D395>0,VLOOKUP($D395,Μητρώο!$A:$F,4,FALSE),\"\")","v":""}]
[394,393,null,null,{"$f":"IF($D396>0,VLOOKUP($D396,Μητρώο!$A:$F,3,FALSE),\"\")","v":""},{"$f":"IF($D396>0,VLOOKUP($D396,Μητρώο!$A:$F,5,FALSE),\"\")","v":""},{"$f":"IF(COUNTIF(Rankings!$B:$B,RIGHT($C396,2)&\"-\"&$D396)>0,IF($D396>0,VLOOKUP(RIGHT($C396,2)&\"-\"&$D396,Rankings!$B:$G,6,FALSE),\"\"),0)","v":0},{"$f":"IF($D396>0,VLOOKUP($D396,Μητρώο!$A:$F,4,FALSE),\"\")","v":""}]
[395,394,null,null,{"$f":"IF($D397>0,VLOOKUP($D397,Μητρώο!$A:$F,3,FALSE),\"\")","v":""},{"$f":"IF($D397>0,VLOOKUP($D397,Μητρώο!$A:$F,5,FALSE),\"\")","v":""},{"$f":"IF(COUNTIF(Rankings!$B:$B,RIGHT($C397,2)&\"-\"&$D397)>0,IF($D397>0,VLOOKUP(RIGHT($C397,2)&\"-\"&$D397,Rankings!$B:$G,6,FALSE),\"\"),0)","v":0},{"$f":"IF($D397>0,VLOOKUP($D397,Μητρώο!$A:$F,4,FALSE),\"\")","v":""}]
[396,395,null,null,{"$f":"IF($D398>0,VLOOKUP($D398,Μητρώο!$A:$F,3,FALSE),\"\")","v":""},{"$f":"IF($D398>0,VLOOKUP($D398,Μητρώο!$A:$F,5,FALSE),\"\")","v":""},{"$f":"IF(COUNTIF(Rankings!$B:$B,RIGHT($C398,2)&\"-\"&$D398)>0,IF($D398>0,VLOOKUP(RIGHT($C398,2)&\"-\"&$D398,Rankings!$B:$G,6,FALSE),\"\"),0)","v":0},{"$f":"IF($D398>0,VLOOKUP($D398,Μητρώο!$A:$F,4,FALSE),\"\")","v":""}]
[397,396,null,null,{"$f":"IF($D399>0,VLOOKUP($D399,Μητρώο!$A:$F,3,FALSE),\"\")","v":""},{"$f":"IF($D399>0,VLOOKUP($D399,Μητρώο!$A:$F,5,FALSE),\"\")","v":""},{"$f":"IF(COUNTIF(Rankings!$B:$B,RIGHT($C399,2)&\"-\"&$D399)>0,IF($D399>0,VLOOKUP(RIGHT($C399,2)&\"-\"&$D399,Rankings!$B:$G,6,FALSE),\"\"),0)","v":0},{"$f":"IF($D399>0,VLOOKUP($D399,Μητρώο!$A:$F,4,FALSE),\"\")","v":""}]
[398,397,null,null,{"$f":"IF($D400>0,VLOOKUP($D400,Μητρώο!$A:$F,3,FALSE),\"\")","v":""},{"$f":"IF($D400>0,VLOOKUP($D400,Μητρώο!$A:$F,5,FALSE),\"\")","v":""},{"$f":"IF(COUNTIF(Rankings!$B:$B,RIGHT($C400,2)&\"-\"&$D400)>0,IF($D400>0,VLOOKUP(RIGHT($C400,2)&\"-\"&$D400,Rankings!$B:$G,6,FALSE),\"\"),0)","v":0},{"$f":"IF($D400>0,VLOOKUP($D400,Μητρώο!$A:$F,4,FALSE),\"\")","v":""}]
[399,398,null,null,{"$f":"IF($D401>0,VLOOKUP($D401,Μητρώο!$A:$F,3,FALSE),\"\")","v":""},{"$f":"IF($D401>0,VLOOKUP($D401,Μητρώο!$A:$F,5,FALSE),\"\")","v":""},{"$f":"IF(COUNTIF(Rankings!$B:$B,RIGHT($C401,2)&\"-\"&$D401)>0,IF($D401>0,VLOOKUP(RIGHT($C401,2)&\"-\"&$D401,Rankings!$B:$G,6,FALSE),\"\"),0)","v":0},{"$f":"IF($D401>0,VLOOKUP($D401,Μητρώο!$A:$F,4,FALSE),\"\")","v":""}]
[400,399,null,null,{"$f":"IF($D402>0,VLOOKUP($D402,Μητρώο!$A:$F,3,FALSE),\"\")","v":""},{"$f":"IF($D402>0,VLOOKUP($D402,Μητρώο!$A:$F,5,FALSE),\"\")","v":""},{"$f":"IF(COUNTIF(Rankings!$B:$B,RIGHT($C402,2)&\"-\"&$D402)>0,IF($D402>0,VLOOKUP(RIGHT($C402,2)&\"-\"&$D402,Rankings!$B:$G,6,FALSE),\"\"),0)","v":0},{"$f":"IF($D402>0,VLOOKUP($D402,Μητρώο!$A:$F,4,FALSE),\"\")","v":""}]
[401,400,null,null,{"$f":"IF($D403>0,VLOOKUP($D403,Μητρώο!$A:$F,3,FALSE),\"\")","v":""},{"$f":"IF($D403>0,VLOOKUP($D403,Μητρώο!$A:$F,5,FALSE),\"\")","v":""},{"$f":"IF(COUNTIF(Rankings!$B:$B,RIGHT($C403,2)&\"-\"&$D403)>0,IF($D403>0,VLOOKUP(RIGHT($C403,2)&\"-\"&$D403,Rankings!$B:$G,6,FALSE),\"\"),0)","v":0},{"$f":"IF($D403>0,VLOOKUP($D403,Μητρώο!$A:$F,4,FALSE),\"\")","v":""}]
[402,401,null,null,{"$f":"IF($D404>0,VLOOKUP($D404,Μητρώο!$A:$F,3,FALSE),\"\")","v":""},{"$f":"IF($D404>0,VLOOKUP($D404,Μητρώο!$A:$F,5,FALSE),\"\")","v":""},{"$f":"IF(COUNTIF(Rankings!$B:$B,RIGHT($C404,2)&\"-\"&$D404)>0,IF($D404>0,VLOOKUP(RIGHT($C404,2)&\"-\"&$D404,Rankings!$B:$G,6,FALSE),\"\"),0)","v":0},{"$f":"IF($D404>0,VLOOKUP($D404,Μητρώο!$A:$F,4,FALSE),\"\")","v":""}]
[403,402,null,null,{"$f":"IF($D405>0,VLOOKUP($D405,Μητρώο!$A:$F,3,FALSE),\"\")","v":""},{"$f":"IF($D405>0,VLOOKUP($D405,Μητρώο!$A:$F,5,FALSE),\"\")","v":""},{"$f":"IF(COUNTIF(Rankings!$B:$B,RIGHT($C405,2)&\"-\"&$D405)>0,IF($D405>0,VLOOKUP(RIGHT($C405,2)&\"-\"&$D405,Rankings!$B:$G,6,FALSE),\"\"),0)","v":0},{"$f":"IF($D405>0,VLOOKUP($D405,Μητρώο!$A:$F,4,FALSE),\"\")","v":""}]
[404,403,null,null,{"$f":"IF($D406>0,VLOOKUP($D406,Μητρώο!$A:$F,3,FALSE),\"\")","v":""},{"$f":"IF($D406>0,VLOOKUP($D406,Μητρώο!$A:$F,5,FALSE),\"\")","v":""},{"$f":"IF(COUNTIF(Rankings!$B:$B,RIGHT($C406,2)&\"-\"&$D406)>0,IF($D406>0,VLOOKUP(RIGHT($C406,2)&\"-\"&$D406,Rankings!$B:$G,6,FALSE),\"\"),0)","v":0},{"$f":"IF($D406>0,VLOOKUP($D406,Μητρώο!$A:$F,4,FALSE),\"\")","v":""}]
[405,404,null,null,{"$f":"IF($D407>0,VLOOKUP($D407,Μητρώο!$A:$F,3,FALSE),\"\")","v":""},{"$f":"IF($D407>0,VLOOKUP($D407,Μητρώο!$A:$F,5,FALSE),\"\")","v":""},{"$f":"IF(COUNTIF(Rankings!$B:$B,RIGHT($C407,2)&\"-\"&$D407)>0,IF($D407>0,VLOOKUP(RIGHT($C407,2)&\"-\"&$D407,Rankings!$B:$G,6,FALSE),\"\"),0)","v":0},{"$f":"IF($D407>0,VLOOKUP($D407,Μητρώο!$A:$F,4,FALSE),\"\")","v":""}]
[406,405,null,null,{"$f":"IF($D408>0,VLOOKUP($D408,Μητρώο!$A:$F,3,FALSE),\"\")","v":""},{"$f":"IF($D408>0,VLOOKUP($D408,Μητρώο!$A:$F,5,FALSE),\"\")","v":""},{"$f":"IF(COUNTIF(Rankings!$B:$B,RIGHT($C408,2)&\"-\"&$D408)>0,IF($D408>0,VLOOKUP(RIGHT($C408,2)&\"-\"&$D408,Rankings!$B:$G,6,FALSE),\"\"),0)","v":0},{"$f":"IF($D408>0,VLOOKUP($D408,Μητρώο!$A:$F,4,FALSE),\"\")","v":""}]
[407,406,null,null,{"$f":"IF($D409>0,VLOOKUP($D409,Μητρώο!$A:$F,3,FALSE),\"\")","v":""},{"$f":"IF($D409>0,VLOOKUP($D409,Μητρώο!$A:$F,5,FALSE),\"\")","v":""},{"$f":"IF(COUNTIF(Rankings!$B:$B,RIGHT($C409,2)&\"-\"&$D409)>0,IF($D409>0,VLOOKUP(RIGHT($C409,2)&\"-\"&$D409,Rankings!$B:$G,6,FALSE),\"\"),0)","v":0},{"$f":"IF($D409>0,VLOOKUP($D409,Μητρώο!$A:$F,4,FALSE),\"\")","v":""}]
[408,407,null,null,{"$f":"IF($D410>0,VLOOKUP($D410,Μητρώο!$A:$F,3,FALSE),\"\")","v":""},{"$f":"IF($D410>0,VLOOKUP($D410,Μητρώο!$A:$F,5,FALSE),\"\")","v":""},{"$f":"IF(COUNTIF(Rankings!$B:$B,RIGHT($C410,2)&\"-\"&$D410)>0,IF($D410>0,VLOOKUP(RIGHT($C410,2)&\"-\"&$D410,Rankings!$B:$G,6,FALSE),\"\"),0)","v":0},{"$f":"IF($D410>0,VLOOKUP($D410,Μητρώο!$A:$F,4,FALSE),\"\")","v":""}]
[409,408,null,null,{"$f":"IF($D411>0,VLOOKUP($D411,Μητρώο!$A:$F,3,FALSE),\"\")","v":""},{"$f":"IF($D411>0,VLOOKUP($D411,Μητρώο!$A:$F,5,FALSE),\"\")","v":""},{"$f":"IF(COUNTIF(Rankings!$B:$B,RIGHT($C411,2)&\"-\"&$D411)>0,IF($D411>0,VLOOKUP(RIGHT($C411,2)&\"-\"&$D411,Rankings!$B:$G,6,FALSE),\"\"),0)","v":0},{"$f":"IF($D411>0,VLOOKUP($D411,Μητρώο!$A:$F,4,FALSE),\"\")","v":""}]
[410,409,null,null,{"$f":"IF($D412>0,VLOOKUP($D412,Μητρώο!$A:$F,3,FALSE),\"\")","v":""},{"$f":"IF($D412>0,VLOOKUP($D412,Μητρώο!$A:$F,5,FALSE),\"\")","v":""},{"$f":"IF(COUNTIF(Rankings!$B:$B,RIGHT($C412,2)&\"-\"&$D412)>0,IF($D412>0,VLOOKUP(RIGHT($C412,2)&\"-\"&$D412,Rankings!$B:$G,6,FALSE),\"\"),0)","v":0},{"$f":"IF($D412>0,VLOOKUP($D412,Μητρώο!$A:$F,4,FALSE),\"\")","v":""}]
[411,410,null,null,{"$f":"IF($D413>0,VLOOKUP($D413,Μητρώο!$A:$F,3,FALSE),\"\")","v":""},{"$f":"IF($D413>0,VLOOKUP($D413,Μητρώο!$A:$F,5,FALSE),\"\")","v":""},{"$f":"IF(COUNTIF(Rankings!$B:$B,RIGHT($C413,2)&\"-\"&$D413)>0,IF($D413>0,VLOOKUP(RIGHT($C413,2)&\"-\"&$D413,Rankings!$B:$G,6,FALSE),\"\"),0)","v":0},{"$f":"IF($D413>0,VLOOKUP($D413,Μητρώο!$A:$F,4,FALSE),\"\")","v":""}]
[412,411,null,null,{"$f":"IF($D414>0,VLOOKUP($D414,Μητρώο!$A:$F,3,FALSE),\"\")","v":""},{"$f":"IF($D414>0,VLOOKUP($D414,Μητρώο!$A:$F,5,FALSE),\"\")","v":""},{"$f":"IF(COUNTIF(Rankings!$B:$B,RIGHT($C414,2)&\"-\"&$D414)>0,IF($D414>0,VLOOKUP(RIGHT($C414,2)&\"-\"&$D414,Rankings!$B:$G,6,FALSE),\"\"),0)","v":0},{"$f":"IF($D414>0,VLOOKUP($D414,Μητρώο!$A:$F,4,FALSE),\"\")","v":""}]
[413,412,null,null,{"$f":"IF($D415>0,VLOOKUP($D415,Μητρώο!$A:$F,3,FALSE),\"\")","v":""},{"$f":"IF($D415>0,VLOOKUP($D415,Μητρώο!$A:$F,5,FALSE),\"\")","v":""},{"$f":"IF(COUNTIF(Rankings!$B:$B,RIGHT($C415,2)&\"-\"&$D415)>0,IF($D415>0,VLOOKUP(RIGHT($C415,2)&\"-\"&$D415,Rankings!$B:$G,6,FALSE),\"\"),0)","v":0},{"$f":"IF($D415>0,VLOOKUP($D415,Μητρώο!$A:$F,4,FALSE),\"\")","v":""}]
[414,413,null,null,{"$f":"IF($D416>0,VLOOKUP($D416,Μητρώο!$A:$F,3,FALSE),\"\")","v":""},{"$f":"IF($D416>0,VLOOKUP($D416,Μητρώο!$A:$F,5,FALSE),\"\")","v":""},{"$f":"IF(COUNTIF(Rankings!$B:$B,RIGHT($C416,2)&\"-\"&$D416)>0,IF($D416>0,VLOOKUP(RIGHT($C416,2)&\"-\"&$D416,Rankings!$B:$G,6,FALSE),\"\"),0)","v":0},{"$f":"IF($D416>0,VLOOKUP($D416,Μητρώο!$A:$F,4,FALSE),\"\")","v":""}]
[415,414,null,null,{"$f":"IF($D417>0,VLOOKUP($D417,Μητρώο!$A:$F,3,FALSE),\"\")","v":""},{"$f":"IF($D417>0,VLOOKUP($D417,Μητρώο!$A:$F,5,FALSE),\"\")","v":""},{"$f":"IF(COUNTIF(Rankings!$B:$B,RIGHT($C417,2)&\"-\"&$D417)>0,IF($D417>0,VLOOKUP(RIGHT($C417,2)&\"-\"&$D417,Rankings!$B:$G,6,FALSE),\"\"),0)","v":0},{"$f":"IF($D417>0,VLOOKUP($D417,Μητρώο!$A:$F,4,FALSE),\"\")","v":""}]
[416,415,null,null,{"$f":"IF($D418>0,VLOOKUP($D418,Μητρώο!$A:$F,3,FALSE),\"\")","v":""},{"$f":"IF($D418>0,VLOOKUP($D418,Μητρώο!$A:$F,5,FALSE),\"\")","v":""},{"$f":"IF(COUNTIF(Rankings!$B:$B,RIGHT($C418,2)&\"-\"&$D418)>0,IF($D418>0,VLOOKUP(RIGHT($C418,2)&\"-\"&$D418,Rankings!$B:$G,6,FALSE),\"\"),0)","v":0},{"$f":"IF($D418>0,VLOOKUP($D418,Μητρώο!$A:$F,4,FALSE),\"\")","v":""}]
[417,416,null,null,{"$f":"IF($D419>0,VLOOKUP($D419,Μητρώο!$A:$F,3,FALSE),\"\")","v":""},{"$f":"IF($D419>0,VLOOKUP($D419,Μητρώο!$A:$F,5,FALSE),\"\")","v":""},{"$f":"IF(COUNTIF(Rankings!$B:$B,RIGHT($C419,2)&\"-\"&$D419)>0,IF($D419>0,VLOOKUP(RIGHT($C419,2)&\"-\"&$D419,Rankings!$B:$G,6,FALSE),\"\"),0)","v":0},{"$f":"IF($D419>0,VLOOKUP($D419,Μητρώο!$A:$F,4,FALSE),\"\")","v":""}]
[418,417,null,null,{"$f":"IF($D420>0,VLOOKUP($D420,Μητρώο!$A:$F,3,FALSE),\"\")","v":""},{"$f":"IF($D420>0,VLOOKUP($D420,Μητρώο!$A:$F,5,FALSE),\"\")","v":""},{"$f":"IF(COUNTIF(Rankings!$B:$B,RIGHT($C420,2)&\"-\"&$D420)>0,IF($D420>0,VLOOKUP(RIGHT($C420,2)&\"-\"&$D420,Rankings!$B:$G,6,FALSE),\"\"),0)","v":0},{"$f":"IF($D420>0,VLOOKUP($D420,Μητρώο!$A:$F,4,FALSE),\"\")","v":""}]
[419,418,null,null,{"$f":"IF($D421>0,VLOOKUP($D421,Μητρώο!$A:$F,3,FALSE),\"\")","v":""},{"$f":"IF($D421>0,VLOOKUP($D421,Μητρώο!$A:$F,5,FALSE),\"\")","v":""},{"$f":"IF(COUNTIF(Rankings!$B:$B,RIGHT($C421,2)&\"-\"&$D421)>0,IF($D421>0,VLOOKUP(RIGHT($C421,2)&\"-\"&$D421,Rankings!$B:$G,6,FALSE),\"\"),0)","v":0},{"$f":"IF($D421>0,VLOOKUP($D421,Μητρώο!$A:$F,4,FALSE),\"\")","v":""}]
[420,419,null,null,{"$f":"IF($D422>0,VLOOKUP($D422,Μητρώο!$A:$F,3,FALSE),\"\")","v":""},{"$f":"IF($D422>0,VLOOKUP($D422,Μητρώο!$A:$F,5,FALSE),\"\")","v":""},{"$f":"IF(COUNTIF(Rankings!$B:$B,RIGHT($C422,2)&\"-\"&$D422)>0,IF($D422>0,VLOOKUP(RIGHT($C422,2)&\"-\"&$D422,Rankings!$B:$G,6,FALSE),\"\"),0)","v":0},{"$f":"IF($D422>0,VLOOKUP($D422,Μητρώο!$A:$F,4,FALSE),\"\")","v":""}]
[421,420,null,null,{"$f":"IF($D423>0,VLOOKUP($D423,Μητρώο!$A:$F,3,FALSE),\"\")","v":""},{"$f":"IF($D423>0,VLOOKUP($D423,Μητρώο!$A:$F,5,FALSE),\"\")","v":""},{"$f":"IF(COUNTIF(Rankings!$B:$B,RIGHT($C423,2)&\"-\"&$D423)>0,IF($D423>0,VLOOKUP(RIGHT($C423,2)&\"-\"&$D423,Rankings!$B:$G,6,FALSE),\"\"),0)","v":0},{"$f":"IF($D423>0,VLOOKUP($D423,Μητρώο!$A:$F,4,FALSE),\"\")","v":""}]
[422,421,null,null,{"$f":"IF($D424>0,VLOOKUP($D424,Μητρώο!$A:$F,3,FALSE),\"\")","v":""},{"$f":"IF($D424>0,VLOOKUP($D424,Μητρώο!$A:$F,5,FALSE),\"\")","v":""},{"$f":"IF(COUNTIF(Rankings!$B:$B,RIGHT($C424,2)&\"-\"&$D424)>0,IF($D424>0,VLOOKUP(RIGHT($C424,2)&\"-\"&$D424,Rankings!$B:$G,6,FALSE),\"\"),0)","v":0},{"$f":"IF($D424>0,VLOOKUP($D424,Μητρώο!$A:$F,4,FALSE),\"\")","v":""}]
[423,422,null,null,{"$f":"IF($D425>0,VLOOKUP($D425,Μητρώο!$A:$F,3,FALSE),\"\")","v":""},{"$f":"IF($D425>0,VLOOKUP($D425,Μητρώο!$A:$F,5,FALSE),\"\")","v":""},{"$f":"IF(COUNTIF(Rankings!$B:$B,RIGHT($C425,2)&\"-\"&$D425)>0,IF($D425>0,VLOOKUP(RIGHT($C425,2)&\"-\"&$D425,Rankings!$B:$G,6,FALSE),\"\"),0)","v":0},{"$f":"IF($D425>0,VLOOKUP($D425,Μητρώο!$A:$F,4,FALSE),\"\")","v":""}]
[424,423,null,null,{"$f":"IF($D426>0,VLOOKUP($D426,Μητρώο!$A:$F,3,FALSE),\"\")","v":""},{"$f":"IF($D426>0,VLOOKUP($D426,Μητρώο!$A:$F,5,FALSE),\"\")","v":""},{"$f":"IF(COUNTIF(Rankings!$B:$B,RIGHT($C426,2)&\"-\"&$D426)>0,IF($D426>0,VLOOKUP(RIGHT($C426,2)&\"-\"&$D426,Rankings!$B:$G,6,FALSE),\"\"),0)","v":0},{"$f":"IF($D426>0,VLOOKUP($D426,Μητρώο!$A:$F,4,FALSE),\"\")","v":""}]
[425,424,null,null,{"$f":"IF($D427>0,VLOOKUP($D427,Μητρώο!$A:$F,3,FALSE),\"\")","v":""},{"$f":"IF($D427>0,VLOOKUP($D427,Μητρώο!$A:$F,5,FALSE),\"\")","v":""},{"$f":"IF(COUNTIF(Rankings!$B:$B,RIGHT($C427,2)&\"-\"&$D427)>0,IF($D427>0,VLOOKUP(RIGHT($C427,2)&\"-\"&$D427,Rankings!$B:$G,6,FALSE),\"\"),0)","v":0},{"$f":"IF($D427>0,VLOOKUP($D427,Μητρώο!$A:$F,4,FALSE),\"\")","v":""}]
[426,425,null,null,{"$f":"IF($D428>0,VLOOKUP($D428,Μητρώο!$A:$F,3,FALSE),\"\")","v":""},{"$f":"IF($D428>0,VLOOKUP($D428,Μητρώο!$A:$F,5,FALSE),\"\")","v":""},{"$f":"IF(COUNTIF(Rankings!$B:$B,RIGHT($C428,2)&\"-\"&$D428)>0,IF($D428>0,VLOOKUP(RIGHT($C428,2)&\"-\"&$D428,Rankings!$B:$G,6,FALSE),\"\"),0)","v":0},{"$f":"IF($D428>0,VLOOKUP($D428,Μητρώο!$A:$F,4,FALSE),\"\")","v":""}]
[427,426,null,null,{"$f":"IF($D429>0,VLOOKUP($D429,Μητρώο!$A:$F,3,FALSE),\"\")","v":""},{"$f":"IF($D429>0,VLOOKUP($D429,Μητρώο!$A:$F,5,FALSE),\"\")","v":""},{"$f":"IF(COUNTIF(Rankings!$B:$B,RIGHT($C429,2)&\"-\"&$D429)>0,IF($D429>0,VLOOKUP(RIGHT($C429,2)&\"-\"&$D429,Rankings!$B:$G,6,FALSE),\"\"),0)","v":0},{"$f":"IF($D429>0,VLOOKUP($D429,Μητρώο!$A:$F,4,FALSE),\"\")","v":""}]
[428,427,null,null,{"$f":"IF($D430>0,VLOOKUP($D430,Μητρώο!$A:$F,3,FALSE),\"\")","v":""},{"$f":"IF($D430>0,VLOOKUP($D430,Μητρώο!$A:$F,5,FALSE),\"\")","v":""},{"$f":"IF(COUNTIF(Rankings!$B:$B,RIGHT($C430,2)&\"-\"&$D430)>0,IF($D430>0,VLOOKUP(RIGHT($C430,2)&\"-\"&$D430,Rankings!$B:$G,6,FALSE),\"\"),0)","v":0},{"$f":"IF($D430>0,VLOOKUP($D430,Μητρώο!$A:$F,4,FALSE),\"\")","v":""}]
[429,428,null,null,{"$f":"IF($D431>0,VLOOKUP($D431,Μητρώο!$A:$F,3,FALSE),\"\")","v":""},{"$f":"IF($D431>0,VLOOKUP($D431,Μητρώο!$A:$F,5,FALSE),\"\")","v":""},{"$f":"IF(COUNTIF(Rankings!$B:$B,RIGHT($C431,2)&\"-\"&$D431)>0,IF($D431>0,VLOOKUP(RIGHT($C431,2)&\"-\"&$D431,Rankings!$B:$G,6,FALSE),\"\"),0)","v":0},{"$f":"IF($D431>0,VLOOKUP($D431,Μητρώο!$A:$F,4,FALSE),\"\")","v":""}]
[430,429,null,null,{"$f":"IF($D432>0,VLOOKUP($D432,Μητρώο!$A:$F,3,FALSE),\"\")","v":""},{"$f":"IF($D432>0,VLOOKUP($D432,Μητρώο!$A:$F,5,FALSE),\"\")","v":""},{"$f":"IF(COUNTIF(Rankings!$B:$B,RIGHT($C432,2)&\"-\"&$D432)>0,IF($D432>0,VLOOKUP(RIGHT($C432,2)&\"-\"&$D432,Rankings!$B:$G,6,FALSE),\"\"),0)","v":0},{"$f":"IF($D432>0,VLOOKUP($D432,Μητρώο!$A:$F,4,FALSE),\"\")","v":""}]
[431,430,null,null,{"$f":"IF($D433>0,VLOOKUP($D433,Μητρώο!$A:$F,3,FALSE),\"\")","v":""},{"$f":"IF($D433>0,VLOOKUP($D433,Μητρώο!$A:$F,5,FALSE),\"\")","v":""},{"$f":"IF(COUNTIF(Rankings!$B:$B,RIGHT($C433,2)&\"-\"&$D433)>0,IF($D433>0,VLOOKUP(RIGHT($C433,2)&\"-\"&$D433,Rankings!$B:$G,6,FALSE),\"\"),0)","v":0},{"$f":"IF($D433>0,VLOOKUP($D433,Μητρώο!$A:$F,4,FALSE),\"\")","v":""}]
[432,431,null,null,{"$f":"IF($D434>0,VLOOKUP($D434,Μητρώο!$A:$F,3,FALSE),\"\")","v":""},{"$f":"IF($D434>0,VLOOKUP($D434,Μητρώο!$A:$F,5,FALSE),\"\")","v":""},{"$f":"IF(COUNTIF(Rankings!$B:$B,RIGHT($C434,2)&\"-\"&$D434)>0,IF($D434>0,VLOOKUP(RIGHT($C434,2)&\"-\"&$D434,Rankings!$B:$G,6,FALSE),\"\"),0)","v":0},{"$f":"IF($D434>0,VLOOKUP($D434,Μητρώο!$A:$F,4,FALSE),\"\")","v":""}]
[433,432,null,null,{"$f":"IF($D435>0,VLOOKUP($D435,Μητρώο!$A:$F,3,FALSE),\"\")","v":""},{"$f":"IF($D435>0,VLOOKUP($D435,Μητρώο!$A:$F,5,FALSE),\"\")","v":""},{"$f":"IF(COUNTIF(Rankings!$B:$B,RIGHT($C435,2)&\"-\"&$D435)>0,IF($D435>0,VLOOKUP(RIGHT($C435,2)&\"-\"&$D435,Rankings!$B:$G,6,FALSE),\"\"),0)","v":0},{"$f":"IF($D435>0,VLOOKUP($D435,Μητρώο!$A:$F,4,FALSE),\"\")","v":""}]
[434,433,null,null,{"$f":"IF($D436>0,VLOOKUP($D436,Μητρώο!$A:$F,3,FALSE),\"\")","v":""},{"$f":"IF($D436>0,VLOOKUP($D436,Μητρώο!$A:$F,5,FALSE),\"\")","v":""},{"$f":"IF(COUNTIF(Rankings!$B:$B,RIGHT($C436,2)&\"-\"&$D436)>0,IF($D436>0,VLOOKUP(RIGHT($C436,2)&\"-\"&$D436,Rankings!$B:$G,6,FALSE),\"\"),0)","v":0},{"$f":"IF($D436>0,VLOOKUP($D436,Μητρώο!$A:$F,4,FALSE),\"\")","v":""}]
[435,434,null,null,{"$f":"IF($D437>0,VLOOKUP($D437,Μητρώο!$A:$F,3,FALSE),\"\")","v":""},{"$f":"IF($D437>0,VLOOKUP($D437,Μητρώο!$A:$F,5,FALSE),\"\")","v":""},{"$f":"IF(COUNTIF(Rankings!$B:$B,RIGHT($C437,2)&\"-\"&$D437)>0,IF($D437>0,VLOOKUP(RIGHT($C437,2)&\"-\"&$D437,Rankings!$B:$G,6,FALSE),\"\"),0)","v":0},{"$f":"IF($D437>0,VLOOKUP($D437,Μητρώο!$A:$F,4,FALSE),\"\")","v":""}]
[436,435,null,null,{"$f":"IF($D438>0,VLOOKUP($D438,Μητρώο!$A:$F,3,FALSE),\"\")","v":""},{"$f":"IF($D438>0,VLOOKUP($D438,Μητρώο!$A:$F,5,FALSE),\"\")","v":""},{"$f":"IF(COUNTIF(Rankings!$B:$B,RIGHT($C438,2)&\"-\"&$D438)>0,IF($D438>0,VLOOKUP(RIGHT($C438,2)&\"-\"&$D438,Rankings!$B:$G,6,FALSE),\"\"),0)","v":0},{"$f":"IF($D438>0,VLOOKUP($D438,Μητρώο!$A:$F,4,FALSE),\"\")","v":""}]
[437,436,null,null,{"$f":"IF($D439>0,VLOOKUP($D439,Μητρώο!$A:$F,3,FALSE),\"\")","v":""},{"$f":"IF($D439>0,VLOOKUP($D439,Μητρώο!$A:$F,5,FALSE),\"\")","v":""},{"$f":"IF(COUNTIF(Rankings!$B:$B,RIGHT($C439,2)&\"-\"&$D439)>0,IF($D439>0,VLOOKUP(RIGHT($C439,2)&\"-\"&$D439,Rankings!$B:$G,6,FALSE),\"\"),0)","v":0},{"$f":"IF($D439>0,VLOOKUP($D439,Μητρώο!$A:$F,4,FALSE),\"\")","v":""}]
[438,437,null,null,{"$f":"IF($D440>0,VLOOKUP($D440,Μητρώο!$A:$F,3,FALSE),\"\")","v":""},{"$f":"IF($D440>0,VLOOKUP($D440,Μητρώο!$A:$F,5,FALSE),\"\")","v":""},{"$f":"IF(COUNTIF(Rankings!$B:$B,RIGHT($C440,2)&\"-\"&$D440)>0,IF($D440>0,VLOOKUP(RIGHT($C440,2)&\"-\"&$D440,Rankings!$B:$G,6,FALSE),\"\"),0)","v":0},{"$f":"IF($D440>0,VLOOKUP($D440,Μητρώο!$A:$F,4,FALSE),\"\")","v":""}]
[439,438,null,null,{"$f":"IF($D441>0,VLOOKUP($D441,Μητρώο!$A:$F,3,FALSE),\"\")","v":""},{"$f":"IF($D441>0,VLOOKUP($D441,Μητρώο!$A:$F,5,FALSE),\"\")","v":""},{"$f":"IF(COUNTIF(Rankings!$B:$B,RIGHT($C441,2)&\"-\"&$D441)>0,IF($D441>0,VLOOKUP(RIGHT($C441,2)&\"-\"&$D441,Rankings!$B:$G,6,FALSE),\"\"),0)","v":0},{"$f":"IF($D441>0,VLOOKUP($D441,Μητρώο!$A:$F,4,FALSE),\"\")","v":""}]
[440,439,null,null,{"$f":"IF($D442>0,VLOOKUP($D442,Μητρώο!$A:$F,3,FALSE),\"\")","v":""},{"$f":"IF($D442>0,VLOOKUP($D442,Μητρώο!$A:$F,5,FALSE),\"\")","v":""},{"$f":"IF(COUNTIF(Rankings!$B:$B,RIGHT($C442,2)&\"-\"&$D442)>0,IF($D442>0,VLOOKUP(RIGHT($C442,2)&\"-\"&$D442,Rankings!$B:$G,6,FALSE),\"\"),0)","v":0},{"$f":"IF($D442>0,VLOOKUP($D442,Μητρώο!$A:$F,4,FALSE),\"\")","v":""}]
[441,440,null,null,{"$f":"IF($D443>0,VLOOKUP($D443,Μητρώο!$A:$F,3,FALSE),\"\")","v":""},{"$f":"IF($D443>0,VLOOKUP($D443,Μητρώο!$A:$F,5,FALSE),\"\")","v":""},{"$f":"IF(COUNTIF(Rankings!$B:$B,RIGHT($C443,2)&\"-\"&$D443)>0,IF($D443>0,VLOOKUP(RIGHT($C443,2)&\"-\"&$D443,Rankings!$B:$G,6,FALSE),\"\"),0)","v":0},{"$f":"IF($D443>0,VLOOKUP($D443,Μητρώο!$A:$F,4,FALSE),\"\")","v":""}]
[442,441,null,null,{"$f":"IF($D444>0,VLOOKUP($D444,Μητρώο!$A:$F,3,FALSE),\"\")","v":""},{"$f":"IF($D444>0,VLOOKUP($D444,Μητρώο!$A:$F,5,FALSE),\"\")","v":""},{"$f":"IF(COUNTIF(Rankings!$B:$B,RIGHT($C444,2)&\"-\"&$D444)>0,IF($D444>0,VLOOKUP(RIGHT($C444,2)&\"-\"&$D444,Rankings!$B:$G,6,FALSE),\"\"),0)","v":0},{"$f":"IF($D444>0,VLOOKUP($D444,Μητρώο!$A:$F,4,FALSE),\"\")","v":""}]
[443,442,null,null,{"$f":"IF($D445>0,VLOOKUP($D445,Μητρώο!$A:$F,3,FALSE),\"\")","v":""},{"$f":"IF($D445>0,VLOOKUP($D445,Μητρώο!$A:$F,5,FALSE),\"\")","v":""},{"$f":"IF(COUNTIF(Rankings!$B:$B,RIGHT($C445,2)&\"-\"&$D445)>0,IF($D445>0,VLOOKUP(RIGHT($C445,2)&\"-\"&$D445,Rankings!$B:$G,6,FALSE),\"\"),0)","v":0},{"$f":"IF($D445>0,VLOOKUP($D445,Μητρώο!$A:$F,4,FALSE),\"\")","v":""}]
[444,443,null,null,{"$f":"IF($D446>0,VLOOKUP($D446,Μητρώο!$A:$F,3,FALSE),\"\")","v":""},{"$f":"IF($D446>0,VLOOKUP($D446,Μητρώο!$A:$F,5,FALSE),\"\")","v":""},{"$f":"IF(COUNTIF(Rankings!$B:$B,RIGHT($C446,2)&\"-\"&$D446)>0,IF($D446>0,VLOOKUP(RIGHT($C446,2)&\"-\"&$D446,Rankings!$B:$G,6,FALSE),\"\"),0)","v":0},{"$f":"IF($D446>0,VLOOKUP($D446,Μητρώο!$A:$F,4,FALSE),\"\")","v":""}]
[445,444,null,null,{"$f":"IF($D447>0,VLOOKUP($D447,Μητρώο!$A:$F,3,FALSE),\"\")","v":""},{"$f":"IF($D447>0,VLOOKUP($D447,Μητρώο!$A:$F,5,FALSE),\"\")","v":""},{"$f":"IF(COUNTIF(Rankings!$B:$B,RIGHT($C447,2)&\"-\"&$D447)>0,IF($D447>0,VLOOKUP(RIGHT($C447,2)&\"-\"&$D447,Rankings!$B:$G,6,FALSE),\"\"),0)","v":0},{"$f":"IF($D447>0,VLOOKUP($D447,Μητρώο!$A:$F,4,FALSE),\"\")","v":""}]
[446,445,null,null,{"$f":"IF($D448>0,VLOOKUP($D448,Μητρώο!$A:$F,3,FALSE),\"\")","v":""},{"$f":"IF($D448>0,VLOOKUP($D448,Μητρώο!$A:$F,5,FALSE),\"\")","v":""},{"$f":"IF(COUNTIF(Rankings!$B:$B,RIGHT($C448,2)&\"-\"&$D448)>0,IF($D448>0,VLOOKUP(RIGHT($C448,2)&\"-\"&$D448,Rankings!$B:$G,6,FALSE),\"\"),0)","v":0},{"$f":"IF($D448>0,VLOOKUP($D448,Μητρώο!$A:$F,4,FALSE),\"\")","v":""}]
[447,446,null,null,{"$f":"IF($D449>0,VLOOKUP($D449,Μητρώο!$A:$F,3,FALSE),\"\")","v":""},{"$f":"IF($D449>0,VLOOKUP($D449,Μητρώο!$A:$F,5,FALSE),\"\")","v":""},{"$f":"IF(COUNTIF(Rankings!$B:$B,RIGHT($C449,2)&\"-\"&$D449)>0,IF($D449>0,VLOOKUP(RIGHT($C449,2)&\"-\"&$D449,Rankings!$B:$G,6,FALSE),\"\"),0)","v":0},{"$f":"IF($D449>0,VLOOKUP($D449,Μητρώο!$A:$F,4,FALSE),\"\")","v":""}]
[448,447,null,null,{"$f":"IF($D450>0,VLOOKUP($D450,Μητρώο!$A:$F,3,FALSE),\"\")","v":""},{"$f":"IF($D450>0,VLOOKUP($D450,Μητρώο!$A:$F,5,FALSE),\"\")","v":""},{"$f":"IF(COUNTIF(Rankings!$B:$B,RIGHT($C450,2)&\"-\"&$D450)>0,IF($D450>0,VLOOKUP(RIGHT($C450,2)&\"-\"&$D450,Rankings!$B:$G,6,FALSE),\"\"),0)","v":0},{"$f":"IF($D450>0,VLOOKUP($D450,Μητρώο!$A:$F,4,FALSE),\"\")","v":""}]
[449,448,null,null,{"$f":"IF($D451>0,VLOOKUP($D451,Μητρώο!$A:$F,3,FALSE),\"\")","v":""},{"$f":"IF($D451>0,VLOOKUP($D451,Μητρώο!$A:$F,5,FALSE),\"\")","v":""},{"$f":"IF(COUNTIF(Rankings!$B:$B,RIGHT($C451,2)&\"-\"&$D451)>0,IF($D451>0,VLOOKUP(RIGHT($C451,2)&\"-\"&$D451,Rankings!$B:$G,6,FALSE),\"\"),0)","v":0},{"$f":"IF($D451>0,VLOOKUP($D451,Μητρώο!$A:$F,4,FALSE),\"\")","v":""}]
[450,{"$f":"IF(C452=C451,B451+1,1)","v":449},null,null,{"$f":"IF($D452>0,VLOOKUP($D452,Μητρώο!$A:$F,3,FALSE),\"\")","v":""},{"$f":"IF($D452>0,VLOOKUP($D452,Μητρώο!$A:$F,5,FALSE),\"\")","v":""},{"$f":"IF(COUNTIF(Rankings!$B:$B,RIGHT($C452,2)&\"-\"&$D452)>0,IF($D452>0,VLOOKUP(RIGHT($C452,2)&\"-\"&$D452,Rankings!$B:$G,6,FALSE),\"\"),0)","v":0},{"$f":"IF($D452>0,VLOOKUP($D452,Μητρώο!$A:$F,4,FALSE),\"\")","v":""}]
[451,450,null,null,{"$f":"IF($D453>0,VLOOKUP($D453,Μητρώο!$A:$F,3,FALSE),\"\")","v":""},{"$f":"IF($D453>0,VLOOKUP($D453,Μητρώο!$A:$F,5,FALSE),\"\")","v":""},{"$f":"IF(COUNTIF(Rankings!$B:$B,RIGHT($C453,2)&\"-\"&$D453)>0,IF($D453>0,VLOOKUP(RIGHT($C453,2)&\"-\"&$D453,Rankings!$B:$G,6,FALSE),\"\"),0)","v":0},{"$f":"IF($D453>0,VLOOKUP($D453,Μητρώο!$A:$F,4,FALSE),\"\")","v":""}]
[452,451,null,null,{"$f":"IF($D454>0,VLOOKUP($D454,Μητρώο!$A:$F,3,FALSE),\"\")","v":""},{"$f":"IF($D454>0,VLOOKUP($D454,Μητρώο!$A:$F,5,FALSE),\"\")","v":""},{"$f":"IF(COUNTIF(Rankings!$B:$B,RIGHT($C454,2)&\"-\"&$D454)>0,IF($D454>0,VLOOKUP(RIGHT($C454,2)&\"-\"&$D454,Rankings!$B:$G,6,FALSE),\"\"),0)","v":0},{"$f":"IF($D454>0,VLOOKUP($D454,Μητρώο!$A:$F,4,FALSE),\"\")","v":""}]
[453,452,null,null,{"$f":"IF($D455>0,VLOOKUP($D455,Μητρώο!$A:$F,3,FALSE),\"\")","v":""},{"$f":"IF($D455>0,VLOOKUP($D455,Μητρώο!$A:$F,5,FALSE),\"\")","v":""},{"$f":"IF(COUNTIF(Rankings!$B:$B,RIGHT($C455,2)&\"-\"&$D455)>0,IF($D455>0,VLOOKUP(RIGHT($C455,2)&\"-\"&$D455,Rankings!$B:$G,6,FALSE),\"\"),0)","v":0},{"$f":"IF($D455>0,VLOOKUP($D455,Μητρώο!$A:$F,4,FALSE),\"\")","v":""}]
[454,453,null,null,{"$f":"IF($D456>0,VLOOKUP($D456,Μητρώο!$A:$F,3,FALSE),\"\")","v":""},{"$f":"IF($D456>0,VLOOKUP($D456,Μητρώο!$A:$F,5,FALSE),\"\")","v":""},{"$f":"IF(COUNTIF(Rankings!$B:$B,RIGHT($C456,2)&\"-\"&$D456)>0,IF($D456>0,VLOOKUP(RIGHT($C456,2)&\"-\"&$D456,Rankings!$B:$G,6,FALSE),\"\"),0)","v":0},{"$f":"IF($D456>0,VLOOKUP($D456,Μητρώο!$A:$F,4,FALSE),\"\")","v":""}]
[455,454,null,null,{"$f":"IF($D457>0,VLOOKUP($D457,Μητρώο!$A:$F,3,FALSE),\"\")","v":""},{"$f":"IF($D457>0,VLOOKUP($D457,Μητρώο!$A:$F,5,FALSE),\"\")","v":""},{"$f":"IF(COUNTIF(Rankings!$B:$B,RIGHT($C457,2)&\"-\"&$D457)>0,IF($D457>0,VLOOKUP(RIGHT($C457,2)&\"-\"&$D457,Rankings!$B:$G,6,FALSE),\"\"),0)","v":0},{"$f":"IF($D457>0,VLOOKUP($D457,Μητρώο!$A:$F,4,FALSE),\"\")","v":""}]
[456,455,null,null,{"$f":"IF($D458>0,VLOOKUP($D458,Μητρώο!$A:$F,3,FALSE),\"\")","v":""},{"$f":"IF($D458>0,VLOOKUP($D458,Μητρώο!$A:$F,5,FALSE),\"\")","v":""},{"$f":"IF(COUNTIF(Rankings!$B:$B,RIGHT($C458,2)&\"-\"&$D458)>0,IF($D458>0,VLOOKUP(RIGHT($C458,2)&\"-\"&$D458,Rankings!$B:$G,6,FALSE),\"\"),0)","v":0},{"$f":"IF($D458>0,VLOOKUP($D458,Μητρώο!$A:$F,4,FALSE),\"\")","v":""}]
[457,456,null,null,{"$f":"IF($D459>0,VLOOKUP($D459,Μητρώο!$A:$F,3,FALSE),\"\")","v":""},{"$f":"IF($D459>0,VLOOKUP($D459,Μητρώο!$A:$F,5,FALSE),\"\")","v":""},{"$f":"IF(COUNTIF(Rankings!$B:$B,RIGHT($C459,2)&\"-\"&$D459)>0,IF($D459>0,VLOOKUP(RIGHT($C459,2)&\"-\"&$D459,Rankings!$B:$G,6,FALSE),\"\"),0)","v":0},{"$f":"IF($D459>0,VLOOKUP($D459,Μητρώο!$A:$F,4,FALSE),\"\")","v":""}]
[458,457,null,null,{"$f":"IF($D460>0,VLOOKUP($D460,Μητρώο!$A:$F,3,FALSE),\"\")","v":""},{"$f":"IF($D460>0,VLOOKUP($D460,Μητρώο!$A:$F,5,FALSE),\"\")","v":""},{"$f":"IF(COUNTIF(Rankings!$B:$B,RIGHT($C460,2)&\"-\"&$D460)>0,IF($D460>0,VLOOKUP(RIGHT($C460,2)&\"-\"&$D460,Rankings!$B:$G,6,FALSE),\"\"),0)","v":0},{"$f":"IF($D460>0,VLOOKUP($D460,Μητρώο!$A:$F,4,FALSE),\"\")","v":""}]
[459,458,null,null,{"$f":"IF($D461>0,VLOOKUP($D461,Μητρώο!$A:$F,3,FALSE),\"\")","v":""},{"$f":"IF($D461>0,VLOOKUP($D461,Μητρώο!$A:$F,5,FALSE),\"\")","v":""},{"$f":"IF(COUNTIF(Rankings!$B:$B,RIGHT($C461,2)&\"-\"&$D461)>0,IF($D461>0,VLOOKUP(RIGHT($C461,2)&\"-\"&$D461,Rankings!$B:$G,6,FALSE),\"\"),0)","v":0},{"$f":"IF($D461>0,VLOOKUP($D461,Μητρώο!$A:$F,4,FALSE),\"\")","v":""}]
[460,459,null,null,{"$f":"IF($D462>0,VLOOKUP($D462,Μητρώο!$A:$F,3,FALSE),\"\")","v":""},{"$f":"IF($D462>0,VLOOKUP($D462,Μητρώο!$A:$F,5,FALSE),\"\")","v":""},{"$f":"IF(COUNTIF(Rankings!$B:$B,RIGHT($C462,2)&\"-\"&$D462)>0,IF($D462>0,VLOOKUP(RIGHT($C462,2)&\"-\"&$D462,Rankings!$B:$G,6,FALSE),\"\"),0)","v":0},{"$f":"IF($D462>0,VLOOKUP($D462,Μητρώο!$A:$F,4,FALSE),\"\")","v":""}]
[461,460,null,null,{"$f":"IF($D463>0,VLOOKUP($D463,Μητρώο!$A:$F,3,FALSE),\"\")","v":""},{"$f":"IF($D463>0,VLOOKUP($D463,Μητρώο!$A:$F,5,FALSE),\"\")","v":""},{"$f":"IF(COUNTIF(Rankings!$B:$B,RIGHT($C463,2)&\"-\"&$D463)>0,IF($D463>0,VLOOKUP(RIGHT($C463,2)&\"-\"&$D463,Rankings!$B:$G,6,FALSE),\"\"),0)","v":0},{"$f":"IF($D463>0,VLOOKUP($D463,Μητρώο!$A:$F,4,FALSE),\"\")","v":""}]
[462,461,null,null,{"$f":"IF($D464>0,VLOOKUP($D464,Μητρώο!$A:$F,3,FALSE),\"\")","v":""},{"$f":"IF($D464>0,VLOOKUP($D464,Μητρώο!$A:$F,5,FALSE),\"\")","v":""},{"$f":"IF(COUNTIF(Rankings!$B:$B,RIGHT($C464,2)&\"-\"&$D464)>0,IF($D464>0,VLOOKUP(RIGHT($C464,2)&\"-\"&$D464,Rankings!$B:$G,6,FALSE),\"\"),0)","v":0},{"$f":"IF($D464>0,VLOOKUP($D464,Μητρώο!$A:$F,4,FALSE),\"\")","v":""}]
[463,462,null,null,{"$f":"IF($D465>0,VLOOKUP($D465,Μητρώο!$A:$F,3,FALSE),\"\")","v":""},{"$f":"IF($D465>0,VLOOKUP($D465,Μητρώο!$A:$F,5,FALSE),\"\")","v":""},{"$f":"IF(COUNTIF(Rankings!$B:$B,RIGHT($C465,2)&\"-\"&$D465)>0,IF($D465>0,VLOOKUP(RIGHT($C465,2)&\"-\"&$D465,Rankings!$B:$G,6,FALSE),\"\"),0)","v":0},{"$f":"IF($D465>0,VLOOKUP($D465,Μητρώο!$A:$F,4,FALSE),\"\")","v":""}]
[464,463,null,null,{"$f":"IF($D466>0,VLOOKUP($D466,Μητρώο!$A:$F,3,FALSE),\"\")","v":""},{"$f":"IF($D466>0,VLOOKUP($D466,Μητρώο!$A:$F,5,FALSE),\"\")","v":""},{"$f":"IF(COUNTIF(Rankings!$B:$B,RIGHT($C466,2)&\"-\"&$D466)>0,IF($D466>0,VLOOKUP(RIGHT($C466,2)&\"-\"&$D466,Rankings!$B:$G,6,FALSE),\"\"),0)","v":0},{"$f":"IF($D466>0,VLOOKUP($D466,Μητρώο!$A:$F,4,FALSE),\"\")","v":""}]
[465,464,null,null,{"$f":"IF($D467>0,VLOOKUP($D467,Μητρώο!$A:$F,3,FALSE),\"\")","v":""},{"$f":"IF($D467>0,VLOOKUP($D467,Μητρώο!$A:$F,5,FALSE),\"\")","v":""},{"$f":"IF(COUNTIF(Rankings!$B:$B,RIGHT($C467,2)&\"-\"&$D467)>0,IF($D467>0,VLOOKUP(RIGHT($C467,2)&\"-\"&$D467,Rankings!$B:$G,6,FALSE),\"\"),0)","v":0},{"$f":"IF($D467>0,VLOOKUP($D467,Μητρώο!$A:$F,4,FALSE),\"\")","v":""}]
[466,465,null,null,{"$f":"IF($D468>0,VLOOKUP($D468,Μητρώο!$A:$F,3,FALSE),\"\")","v":""},{"$f":"IF($D468>0,VLOOKUP($D468,Μητρώο!$A:$F,5,FALSE),\"\")","v":""},{"$f":"IF(COUNTIF(Rankings!$B:$B,RIGHT($C468,2)&\"-\"&$D468)>0,IF($D468>0,VLOOKUP(RIGHT($C468,2)&\"-\"&$D468,Rankings!$B:$G,6,FALSE),\"\"),0)","v":0},{"$f":"IF($D468>0,VLOOKUP($D468,Μητρώο!$A:$F,4,FALSE),\"\")","v":""}]
[467,466,null,null,{"$f":"IF($D469>0,VLOOKUP($D469,Μητρώο!$A:$F,3,FALSE),\"\")","v":""},{"$f":"IF($D469>0,VLOOKUP($D469,Μητρώο!$A:$F,5,FALSE),\"\")","v":""},{"$f":"IF(COUNTIF(Rankings!$B:$B,RIGHT($C469,2)&\"-\"&$D469)>0,IF($D469>0,VLOOKUP(RIGHT($C469,2)&\"-\"&$D469,Rankings!$B:$G,6,FALSE),\"\"),0)","v":0},{"$f":"IF($D469>0,VLOOKUP($D469,Μητρώο!$A:$F,4,FALSE),\"\")","v":""}]
[468,467,null,null,{"$f":"IF($D470>0,VLOOKUP($D470,Μητρώο!$A:$F,3,FALSE),\"\")","v":""},{"$f":"IF($D470>0,VLOOKUP($D470,Μητρώο!$A:$F,5,FALSE),\"\")","v":""},{"$f":"IF(COUNTIF(Rankings!$B:$B,RIGHT($C470,2)&\"-\"&$D470)>0,IF($D470>0,VLOOKUP(RIGHT($C470,2)&\"-\"&$D470,Rankings!$B:$G,6,FALSE),\"\"),0)","v":0},{"$f":"IF($D470>0,VLOOKUP($D470,Μητρώο!$A:$F,4,FALSE),\"\")","v":""}]
[469,468,null,null,{"$f":"IF($D471>0,VLOOKUP($D471,Μητρώο!$A:$F,3,FALSE),\"\")","v":""},{"$f":"IF($D471>0,VLOOKUP($D471,Μητρώο!$A:$F,5,FALSE),\"\")","v":""},{"$f":"IF(COUNTIF(Rankings!$B:$B,RIGHT($C471,2)&\"-\"&$D471)>0,IF($D471>0,VLOOKUP(RIGHT($C471,2)&\"-\"&$D471,Rankings!$B:$G,6,FALSE),\"\"),0)","v":0},{"$f":"IF($D471>0,VLOOKUP($D471,Μητρώο!$A:$F,4,FALSE),\"\")","v":""}]
[470,469,null,null,{"$f":"IF($D472>0,VLOOKUP($D472,Μητρώο!$A:$F,3,FALSE),\"\")","v":""},{"$f":"IF($D472>0,VLOOKUP($D472,Μητρώο!$A:$F,5,FALSE),\"\")","v":""},{"$f":"IF(COUNTIF(Rankings!$B:$B,RIGHT($C472,2)&\"-\"&$D472)>0,IF($D472>0,VLOOKUP(RIGHT($C472,2)&\"-\"&$D472,Rankings!$B:$G,6,FALSE),\"\"),0)","v":0},{"$f":"IF($D472>0,VLOOKUP($D472,Μητρώο!$A:$F,4,FALSE),\"\")","v":""}]
[471,470,null,null,{"$f":"IF($D473>0,VLOOKUP($D473,Μητρώο!$A:$F,3,FALSE),\"\")","v":""},{"$f":"IF($D473>0,VLOOKUP($D473,Μητρώο!$A:$F,5,FALSE),\"\")","v":""},{"$f":"IF(COUNTIF(Rankings!$B:$B,RIGHT($C473,2)&\"-\"&$D473)>0,IF($D473>0,VLOOKUP(RIGHT($C473,2)&\"-\"&$D473,Rankings!$B:$G,6,FALSE),\"\"),0)","v":0},{"$f":"IF($D473>0,VLOOKUP($D473,Μητρώο!$A:$F,4,FALSE),\"\")","v":""}]
[472,471,null,null,{"$f":"IF($D474>0,VLOOKUP($D474,Μητρώο!$A:$F,3,FALSE),\"\")","v":""},{"$f":"IF($D474>0,VLOOKUP($D474,Μητρώο!$A:$F,5,FALSE),\"\")","v":""},{"$f":"IF(COUNTIF(Rankings!$B:$B,RIGHT($C474,2)&\"-\"&$D474)>0,IF($D474>0,VLOOKUP(RIGHT($C474,2)&\"-\"&$D474,Rankings!$B:$G,6,FALSE),\"\"),0)","v":0},{"$f":"IF($D474>0,VLOOKUP($D474,Μητρώο!$A:$F,4,FALSE),\"\")","v":""}]
[473,472,null,null,{"$f":"IF($D475>0,VLOOKUP($D475,Μητρώο!$A:$F,3,FALSE),\"\")","v":""},{"$f":"IF($D475>0,VLOOKUP($D475,Μητρώο!$A:$F,5,FALSE),\"\")","v":""},{"$f":"IF(COUNTIF(Rankings!$B:$B,RIGHT($C475,2)&\"-\"&$D475)>0,IF($D475>0,VLOOKUP(RIGHT($C475,2)&\"-\"&$D475,Rankings!$B:$G,6,FALSE),\"\"),0)","v":0},{"$f":"IF($D475>0,VLOOKUP($D475,Μητρώο!$A:$F,4,FALSE),\"\")","v":""}]
[474,473,null,null,{"$f":"IF($D476>0,VLOOKUP($D476,Μητρώο!$A:$F,3,FALSE),\"\")","v":""},{"$f":"IF($D476>0,VLOOKUP($D476,Μητρώο!$A:$F,5,FALSE),\"\")","v":""},{"$f":"IF(COUNTIF(Rankings!$B:$B,RIGHT($C476,2)&\"-\"&$D476)>0,IF($D476>0,VLOOKUP(RIGHT($C476,2)&\"-\"&$D476,Rankings!$B:$G,6,FALSE),\"\"),0)","v":0},{"$f":"IF($D476>0,VLOOKUP($D476,Μητρώο!$A:$F,4,FALSE),\"\")","v":""}]
[475,474,null,null,{"$f":"IF($D477>0,VLOOKUP($D477,Μητρώο!$A:$F,3,FALSE),\"\")","v":""},{"$f":"IF($D477>0,VLOOKUP($D477,Μητρώο!$A:$F,5,FALSE),\"\")","v":""},{"$f":"IF(COUNTIF(Rankings!$B:$B,RIGHT($C477,2)&\"-\"&$D477)>0,IF($D477>0,VLOOKUP(RIGHT($C477,2)&\"-\"&$D477,Rankings!$B:$G,6,FALSE),\"\"),0)","v":0},{"$f":"IF($D477>0,VLOOKUP($D477,Μητρώο!$A:$F,4,FALSE),\"\")","v":""}]
[476,475,null,null,{"$f":"IF($D478>0,VLOOKUP($D478,Μητρώο!$A:$F,3,FALSE),\"\")","v":""},{"$f":"IF($D478>0,VLOOKUP($D478,Μητρώο!$A:$F,5,FALSE),\"\")","v":""},{"$f":"IF(COUNTIF(Rankings!$B:$B,RIGHT($C478,2)&\"-\"&$D478)>0,IF($D478>0,VLOOKUP(RIGHT($C478,2)&\"-\"&$D478,Rankings!$B:$G,6,FALSE),\"\"),0)","v":0},{"$f":"IF($D478>0,VLOOKUP($D478,Μητρώο!$A:$F,4,FALSE),\"\")","v":""}]
[477,476,null,null,{"$f":"IF($D479>0,VLOOKUP($D479,Μητρώο!$A:$F,3,FALSE),\"\")","v":""},{"$f":"IF($D479>0,VLOOKUP($D479,Μητρώο!$A:$F,5,FALSE),\"\")","v":""},{"$f":"IF(COUNTIF(Rankings!$B:$B,RIGHT($C479,2)&\"-\"&$D479)>0,IF($D479>0,VLOOKUP(RIGHT($C479,2)&\"-\"&$D479,Rankings!$B:$G,6,FALSE),\"\"),0)","v":0},{"$f":"IF($D479>0,VLOOKUP($D479,Μητρώο!$A:$F,4,FALSE),\"\")","v":""}]
[478,477,null,null,{"$f":"IF($D480>0,VLOOKUP($D480,Μητρώο!$A:$F,3,FALSE),\"\")","v":""},{"$f":"IF($D480>0,VLOOKUP($D480,Μητρώο!$A:$F,5,FALSE),\"\")","v":""},{"$f":"IF(COUNTIF(Rankings!$B:$B,RIGHT($C480,2)&\"-\"&$D480)>0,IF($D480>0,VLOOKUP(RIGHT($C480,2)&\"-\"&$D480,Rankings!$B:$G,6,FALSE),\"\"),0)","v":0},{"$f":"IF($D480>0,VLOOKUP($D480,Μητρώο!$A:$F,4,FALSE),\"\")","v":""}]
[479,478,null,null,{"$f":"IF($D481>0,VLOOKUP($D481,Μητρώο!$A:$F,3,FALSE),\"\")","v":""},{"$f":"IF($D481>0,VLOOKUP($D481,Μητρώο!$A:$F,5,FALSE),\"\")","v":""},{"$f":"IF(COUNTIF(Rankings!$B:$B,RIGHT($C481,2)&\"-\"&$D481)>0,IF($D481>0,VLOOKUP(RIGHT($C481,2)&\"-\"&$D481,Rankings!$B:$G,6,FALSE),\"\"),0)","v":0},{"$f":"IF($D481>0,VLOOKUP($D481,Μητρώο!$A:$F,4,FALSE),\"\")","v":""}]
[480,479,null,null,{"$f":"IF($D482>0,VLOOKUP($D482,Μητρώο!$A:$F,3,FALSE),\"\")","v":""},{"$f":"IF($D482>0,VLOOKUP($D482,Μητρώο!$A:$F,5,FALSE),\"\")","v":""},{"$f":"IF(COUNTIF(Rankings!$B:$B,RIGHT($C482,2)&\"-\"&$D482)>0,IF($D482>0,VLOOKUP(RIGHT($C482,2)&\"-\"&$D482,Rankings!$B:$G,6,FALSE),\"\"),0)","v":0},{"$f":"IF($D482>0,VLOOKUP($D482,Μητρώο!$A:$F,4,FALSE),\"\")","v":""}]
[481,480,null,null,{"$f":"IF($D483>0,VLOOKUP($D483,Μητρώο!$A:$F,3,FALSE),\"\")","v":""},{"$f":"IF($D483>0,VLOOKUP($D483,Μητρώο!$A:$F,5,FALSE),\"\")","v":""},{"$f":"IF(COUNTIF(Rankings!$B:$B,RIGHT($C483,2)&\"-\"&$D483)>0,IF($D483>0,VLOOKUP(RIGHT($C483,2)&\"-\"&$D483,Rankings!$B:$G,6,FALSE),\"\"),0)","v":0},{"$f":"IF($D483>0,VLOOKUP($D483,Μητρώο!$A:$F,4,FALSE),\"\")","v":""}]
[482,481,null,null,{"$f":"IF($D484>0,VLOOKUP($D484,Μητρώο!$A:$F,3,FALSE),\"\")","v":""},{"$f":"IF($D484>0,VLOOKUP($D484,Μητρώο!$A:$F,5,FALSE),\"\")","v":""},{"$f":"IF(COUNTIF(Rankings!$B:$B,RIGHT($C484,2)&\"-\"&$D484)>0,IF($D484>0,VLOOKUP(RIGHT($C484,2)&\"-\"&$D484,Rankings!$B:$G,6,FALSE),\"\"),0)","v":0},{"$f":"IF($D484>0,VLOOKUP($D484,Μητρώο!$A:$F,4,FALSE),\"\")","v":""}]
[483,482,null,null,{"$f":"IF($D485>0,VLOOKUP($D485,Μητρώο!$A:$F,3,FALSE),\"\")","v":""},{"$f":"IF($D485>0,VLOOKUP($D485,Μητρώο!$A:$F,5,FALSE),\"\")","v":""},{"$f":"IF(COUNTIF(Rankings!$B:$B,RIGHT($C485,2)&\"-\"&$D485)>0,IF($D485>0,VLOOKUP(RIGHT($C485,2)&\"-\"&$D485,Rankings!$B:$G,6,FALSE),\"\"),0)","v":0},{"$f":"IF($D485>0,VLOOKUP($D485,Μητρώο!$A:$F,4,FALSE),\"\")","v":""}]
[484,483,null,null,{"$f":"IF($D486>0,VLOOKUP($D486,Μητρώο!$A:$F,3,FALSE),\"\")","v":""},{"$f":"IF($D486>0,VLOOKUP($D486,Μητρώο!$A:$F,5,FALSE),\"\")","v":""},{"$f":"IF(COUNTIF(Rankings!$B:$B,RIGHT($C486,2)&\"-\"&$D486)>0,IF($D486>0,VLOOKUP(RIGHT($C486,2)&\"-\"&$D486,Rankings!$B:$G,6,FALSE),\"\"),0)","v":0},{"$f":"IF($D486>0,VLOOKUP($D486,Μητρώο!$A:$F,4,FALSE),\"\")","v":""}]
[485,484,null,null,{"$f":"IF($D487>0,VLOOKUP($D487,Μητρώο!$A:$F,3,FALSE),\"\")","v":""},{"$f":"IF($D487>0,VLOOKUP($D487,Μητρώο!$A:$F,5,FALSE),\"\")","v":""},{"$f":"IF(COUNTIF(Rankings!$B:$B,RIGHT($C487,2)&\"-\"&$D487)>0,IF($D487>0,VLOOKUP(RIGHT($C487,2)&\"-\"&$D487,Rankings!$B:$G,6,FALSE),\"\"),0)","v":0},{"$f":"IF($D487>0,VLOOKUP($D487,Μητρώο!$A:$F,4,FALSE),\"\")","v":""}]
[486,485,null,null,{"$f":"IF($D488>0,VLOOKUP($D488,Μητρώο!$A:$F,3,FALSE),\"\")","v":""},{"$f":"IF($D488>0,VLOOKUP($D488,Μητρώο!$A:$F,5,FALSE),\"\")","v":""},{"$f":"IF(COUNTIF(Rankings!$B:$B,RIGHT($C488,2)&\"-\"&$D488)>0,IF($D488>0,VLOOKUP(RIGHT($C488,2)&\"-\"&$D488,Rankings!$B:$G,6,FALSE),\"\"),0)","v":0},{"$f":"IF($D488>0,VLOOKUP($D488,Μητρώο!$A:$F,4,FALSE),\"\")","v":""}]
[487,486,null,null,{"$f":"IF($D489>0,VLOOKUP($D489,Μητρώο!$A:$F,3,FALSE),\"\")","v":""},{"$f":"IF($D489>0,VLOOKUP($D489,Μητρώο!$A:$F,5,FALSE),\"\")","v":""},{"$f":"IF(COUNTIF(Rankings!$B:$B,RIGHT($C489,2)&\"-\"&$D489)>0,IF($D489>0,VLOOKUP(RIGHT($C489,2)&\"-\"&$D489,Rankings!$B:$G,6,FALSE),\"\"),0)","v":0},{"$f":"IF($D489>0,VLOOKUP($D489,Μητρώο!$A:$F,4,FALSE),\"\")","v":""}]
[488,487,null,null,{"$f":"IF($D490>0,VLOOKUP($D490,Μητρώο!$A:$F,3,FALSE),\"\")","v":""},{"$f":"IF($D490>0,VLOOKUP($D490,Μητρώο!$A:$F,5,FALSE),\"\")","v":""},{"$f":"IF(COUNTIF(Rankings!$B:$B,RIGHT($C490,2)&\"-\"&$D490)>0,IF($D490>0,VLOOKUP(RIGHT($C490,2)&\"-\"&$D490,Rankings!$B:$G,6,FALSE),\"\"),0)","v":0},{"$f":"IF($D490>0,VLOOKUP($D490,Μητρώο!$A:$F,4,FALSE),\"\")","v":""}]
[489,488,null,null,{"$f":"IF($D491>0,VLOOKUP($D491,Μητρώο!$A:$F,3,FALSE),\"\")","v":""},{"$f":"IF($D491>0,VLOOKUP($D491,Μητρώο!$A:$F,5,FALSE),\"\")","v":""},{"$f":"IF(COUNTIF(Rankings!$B:$B,RIGHT($C491,2)&\"-\"&$D491)>0,IF($D491>0,VLOOKUP(RIGHT($C491,2)&\"-\"&$D491,Rankings!$B:$G,6,FALSE),\"\"),0)","v":0},{"$f":"IF($D491>0,VLOOKUP($D491,Μητρώο!$A:$F,4,FALSE),\"\")","v":""}]
[490,489,null,null,{"$f":"IF($D492>0,VLOOKUP($D492,Μητρώο!$A:$F,3,FALSE),\"\")","v":""},{"$f":"IF($D492>0,VLOOKUP($D492,Μητρώο!$A:$F,5,FALSE),\"\")","v":""},{"$f":"IF(COUNTIF(Rankings!$B:$B,RIGHT($C492,2)&\"-\"&$D492)>0,IF($D492>0,VLOOKUP(RIGHT($C492,2)&\"-\"&$D492,Rankings!$B:$G,6,FALSE),\"\"),0)","v":0},{"$f":"IF($D492>0,VLOOKUP($D492,Μητρώο!$A:$F,4,FALSE),\"\")","v":""}]
[491,490,null,null,{"$f":"IF($D493>0,VLOOKUP($D493,Μητρώο!$A:$F,3,FALSE),\"\")","v":""},{"$f":"IF($D493>0,VLOOKUP($D493,Μητρώο!$A:$F,5,FALSE),\"\")","v":""},{"$f":"IF(COUNTIF(Rankings!$B:$B,RIGHT($C493,2)&\"-\"&$D493)>0,IF($D493>0,VLOOKUP(RIGHT($C493,2)&\"-\"&$D493,Rankings!$B:$G,6,FALSE),\"\"),0)","v":0},{"$f":"IF($D493>0,VLOOKUP($D493,Μητρώο!$A:$F,4,FALSE),\"\")","v":""}]
[492,491,null,null,{"$f":"IF($D494>0,VLOOKUP($D494,Μητρώο!$A:$F,3,FALSE),\"\")","v":""},{"$f":"IF($D494>0,VLOOKUP($D494,Μητρώο!$A:$F,5,FALSE),\"\")","v":""},{"$f":"IF(COUNTIF(Rankings!$B:$B,RIGHT($C494,2)&\"-\"&$D494)>0,IF($D494>0,VLOOKUP(RIGHT($C494,2)&\"-\"&$D494,Rankings!$B:$G,6,FALSE),\"\"),0)","v":0},{"$f":"IF($D494>0,VLOOKUP($D494,Μητρώο!$A:$F,4,FALSE),\"\")","v":""}]
[493,492,null,null,{"$f":"IF($D495>0,VLOOKUP($D495,Μητρώο!$A:$F,3,FALSE),\"\")","v":""},{"$f":"IF($D495>0,VLOOKUP($D495,Μητρώο!$A:$F,5,FALSE),\"\")","v":""},{"$f":"IF(COUNTIF(Rankings!$B:$B,RIGHT($C495,2)&\"-\"&$D495)>0,IF($D495>0,VLOOKUP(RIGHT($C495,2)&\"-\"&$D495,Rankings!$B:$G,6,FALSE),\"\"),0)","v":0},{"$f":"IF($D495>0,VLOOKUP($D495,Μητρώο!$A:$F,4,FALSE),\"\")","v":""}]
[494,493,null,null,{"$f":"IF($D496>0,VLOOKUP($D496,Μητρώο!$A:$F,3,FALSE),\"\")","v":""},{"$f":"IF($D496>0,VLOOKUP($D496,Μητρώο!$A:$F,5,FALSE),\"\")","v":""},{"$f":"IF(COUNTIF(Rankings!$B:$B,RIGHT($C496,2)&\"-\"&$D496)>0,IF($D496>0,VLOOKUP(RIGHT($C496,2)&\"-\"&$D496,Rankings!$B:$G,6,FALSE),\"\"),0)","v":0},{"$f":"IF($D496>0,VLOOKUP($D496,Μητρώο!$A:$F,4,FALSE),\"\")","v":""}]
[495,494,null,null,{"$f":"IF($D497>0,VLOOKUP($D497,Μητρώο!$A:$F,3,FALSE),\"\")","v":""},{"$f":"IF($D497>0,VLOOKUP($D497,Μητρώο!$A:$F,5,FALSE),\"\")","v":""},{"$f":"IF(COUNTIF(Rankings!$B:$B,RIGHT($C497,2)&\"-\"&$D497)>0,IF($D497>0,VLOOKUP(RIGHT($C497,2)&\"-\"&$D497,Rankings!$B:$G,6,FALSE),\"\"),0)","v":0},{"$f":"IF($D497>0,VLOOKUP($D497,Μητρώο!$A:$F,4,FALSE),\"\")","v":""}]
[496,495,null,null,{"$f":"IF($D498>0,VLOOKUP($D498,Μητρώο!$A:$F,3,FALSE),\"\")","v":""},{"$f":"IF($D498>0,VLOOKUP($D498,Μητρώο!$A:$F,5,FALSE),\"\")","v":""},{"$f":"IF(COUNTIF(Rankings!$B:$B,RIGHT($C498,2)&\"-\"&$D498)>0,IF($D498>0,VLOOKUP(RIGHT($C498,2)&\"-\"&$D498,Rankings!$B:$G,6,FALSE),\"\"),0)","v":0},{"$f":"IF($D498>0,VLOOKUP($D498,Μητρώο!$A:$F,4,FALSE),\"\")","v":""}]
[497,496,null,null,{"$f":"IF($D499>0,VLOOKUP($D499,Μητρώο!$A:$F,3,FALSE),\"\")","v":""},{"$f":"IF($D499>0,VLOOKUP($D499,Μητρώο!$A:$F,5,FALSE),\"\")","v":""},{"$f":"IF(COUNTIF(Rankings!$B:$B,RIGHT($C499,2)&\"-\"&$D499)>0,IF($D499>0,VLOOKUP(RIGHT($C499,2)&\"-\"&$D499,Rankings!$B:$G,6,FALSE),\"\"),0)","v":0},{"$f":"IF($D499>0,VLOOKUP($D499,Μητρώο!$A:$F,4,FALSE),\"\")","v":""}]
[498,497,null,null,{"$f":"IF($D500>0,VLOOKUP($D500,Μητρώο!$A:$F,3,FALSE),\"\")","v":""},{"$f":"IF($D500>0,VLOOKUP($D500,Μητρώο!$A:$F,5,FALSE),\"\")","v":""},{"$f":"IF(COUNTIF(Rankings!$B:$B,RIGHT($C500,2)&\"-\"&$D500)>0,IF($D500>0,VLOOKUP(RIGHT($C500,2)&\"-\"&$D500,Rankings!$B:$G,6,FALSE),\"\"),0)","v":0},{"$f":"IF($D500>0,VLOOKUP($D500,Μητρώο!$A:$F,4,FALSE),\"\")","v":""}]
[499,498,null,null,{"$f":"IF($D501>0,VLOOKUP($D501,Μητρώο!$A:$F,3,FALSE),\"\")","v":""},{"$f":"IF($D501>0,VLOOKUP($D501,Μητρώο!$A:$F,5,FALSE),\"\")","v":""},{"$f":"IF(COUNTIF(Rankings!$B:$B,RIGHT($C501,2)&\"-\"&$D501)>0,IF($D501>0,VLOOKUP(RIGHT($C501,2)&\"-\"&$D501,Rankings!$B:$G,6,FALSE),\"\"),0)","v":0},{"$f":"IF($D501>0,VLOOKUP($D501,Μητρώο!$A:$F,4,FALSE),\"\")","v":""}]
[500,499,null,null,{"$f":"IF($D502>0,VLOOKUP($D502,Μητρώο!$A:$F,3,FALSE),\"\")","v":""},{"$f":"IF($D502>0,VLOOKUP($D502,Μητρώο!$A:$F,5,FALSE),\"\")","v":""},{"$f":"IF(COUNTIF(Rankings!$B:$B,RIGHT($C502,2)&\"-\"&$D502)>0,IF($D502>0,VLOOKUP(RIGHT($C502,2)&\"-\"&$D502,Rankings!$B:$G,6,FALSE),\"\"),0)","v":0},{"$f":"IF($D502>0,VLOOKUP($D502,Μητρώο!$A:$F,4,FALSE),\"\")","v":""}]
[501,500,null,null,{"$f":"IF($D503>0,VLOOKUP($D503,Μητρώο!$A:$F,3,FALSE),\"\")","v":""},{"$f":"IF($D503>0,VLOOKUP($D503,Μητρώο!$A:$F,5,FALSE),\"\")","v":""},{"$f":"IF(COUNTIF(Rankings!$B:$B,RIGHT($C503,2)&\"-\"&$D503)>0,IF($D503>0,VLOOKUP(RIGHT($C503,2)&\"-\"&$D503,Rankings!$B:$G,6,FALSE),\"\"),0)","v":0},{"$f":"IF($D503>0,VLOOKUP($D503,Μητρώο!$A:$F,4,FALSE),\"\")","v":""}]
[502,501,null,null,{"$f":"IF($D504>0,VLOOKUP($D504,Μητρώο!$A:$F,3,FALSE),\"\")","v":""},{"$f":"IF($D504>0,VLOOKUP($D504,Μητρώο!$A:$F,5,FALSE),\"\")","v":""},{"$f":"IF(COUNTIF(Rankings!$B:$B,RIGHT($C504,2)&\"-\"&$D504)>0,IF($D504>0,VLOOKUP(RIGHT($C504,2)&\"-\"&$D504,Rankings!$B:$G,6,FALSE),\"\"),0)","v":0},{"$f":"IF($D504>0,VLOOKUP($D504,Μητρώο!$A:$F,4,FALSE),\"\")","v":""}]
[503,502,null,null,{"$f":"IF($D505>0,VLOOKUP($D505,Μητρώο!$A:$F,3,FALSE),\"\")","v":""},{"$f":"IF($D505>0,VLOOKUP($D505,Μητρώο!$A:$F,5,FALSE),\"\")","v":""},{"$f":"IF(COUNTIF(Rankings!$B:$B,RIGHT($C505,2)&\"-\"&$D505)>0,IF($D505>0,VLOOKUP(RIGHT($C505,2)&\"-\"&$D505,Rankings!$B:$G,6,FALSE),\"\"),0)","v":0},{"$f":"IF($D505>0,VLOOKUP($D505,Μητρώο!$A:$F,4,FALSE),\"\")","v":""}]
[504,503,null,null,{"$f":"IF($D506>0,VLOOKUP($D506,Μητρώο!$A:$F,3,FALSE),\"\")","v":""},{"$f":"IF($D506>0,VLOOKUP($D506,Μητρώο!$A:$F,5,FALSE),\"\")","v":""},{"$f":"IF(COUNTIF(Rankings!$B:$B,RIGHT($C506,2)&\"-\"&$D506)>0,IF($D506>0,VLOOKUP(RIGHT($C506,2)&\"-\"&$D506,Rankings!$B:$G,6,FALSE),\"\"),0)","v":0},{"$f":"IF($D506>0,VLOOKUP($D506,Μητρώο!$A:$F,4,FALSE),\"\")","v":""}]
[505,504,null,null,{"$f":"IF($D507>0,VLOOKUP($D507,Μητρώο!$A:$F,3,FALSE),\"\")","v":""},{"$f":"IF($D507>0,VLOOKUP($D507,Μητρώο!$A:$F,5,FALSE),\"\")","v":""},{"$f":"IF(COUNTIF(Rankings!$B:$B,RIGHT($C507,2)&\"-\"&$D507)>0,IF($D507>0,VLOOKUP(RIGHT($C507,2)&\"-\"&$D507,Rankings!$B:$G,6,FALSE),\"\"),0)","v":0},{"$f":"IF($D507>0,VLOOKUP($D507,Μητρώο!$A:$F,4,FALSE),\"\")","v":""}]
[506,505,null,null,{"$f":"IF($D508>0,VLOOKUP($D508,Μητρώο!$A:$F,3,FALSE),\"\")","v":""},{"$f":"IF($D508>0,VLOOKUP($D508,Μητρώο!$A:$F,5,FALSE),\"\")","v":""},{"$f":"IF(COUNTIF(Rankings!$B:$B,RIGHT($C508,2)&\"-\"&$D508)>0,IF($D508>0,VLOOKUP(RIGHT($C508,2)&\"-\"&$D508,Rankings!$B:$G,6,FALSE),\"\"),0)","v":0},{"$f":"IF($D508>0,VLOOKUP($D508,Μητρώο!$A:$F,4,FALSE),\"\")","v":""}]
[507,506,null,null,{"$f":"IF($D509>0,VLOOKUP($D509,Μητρώο!$A:$F,3,FALSE),\"\")","v":""},{"$f":"IF($D509>0,VLOOKUP($D509,Μητρώο!$A:$F,5,FALSE),\"\")","v":""},{"$f":"IF(COUNTIF(Rankings!$B:$B,RIGHT($C509,2)&\"-\"&$D509)>0,IF($D509>0,VLOOKUP(RIGHT($C509,2)&\"-\"&$D509,Rankings!$B:$G,6,FALSE),\"\"),0)","v":0},{"$f":"IF($D509>0,VLOOKUP($D509,Μητρώο!$A:$F,4,FALSE),\"\")","v":""}]
[508,507,null,null,{"$f":"IF($D510>0,VLOOKUP($D510,Μητρώο!$A:$F,3,FALSE),\"\")","v":""},{"$f":"IF($D510>0,VLOOKUP($D510,Μητρώο!$A:$F,5,FALSE),\"\")","v":""},{"$f":"IF(COUNTIF(Rankings!$B:$B,RIGHT($C510,2)&\"-\"&$D510)>0,IF($D510>0,VLOOKUP(RIGHT($C510,2)&\"-\"&$D510,Rankings!$B:$G,6,FALSE),\"\"),0)","v":0},{"$f":"IF($D510>0,VLOOKUP($D510,Μητρώο!$A:$F,4,FALSE),\"\")","v":""}]
[509,508,null,null,{"$f":"IF($D511>0,VLOOKUP($D511,Μητρώο!$A:$F,3,FALSE),\"\")","v":""},{"$f":"IF($D511>0,VLOOKUP($D511,Μητρώο!$A:$F,5,FALSE),\"\")","v":""},{"$f":"IF(COUNTIF(Rankings!$B:$B,RIGHT($C511,2)&\"-\"&$D511)>0,IF($D511>0,VLOOKUP(RIGHT($C511,2)&\"-\"&$D511,Rankings!$B:$G,6,FALSE),\"\"),0)","v":0},{"$f":"IF($D511>0,VLOOKUP($D511,Μητρώο!$A:$F,4,FALSE),\"\")","v":""}]
[510,509,null,null,{"$f":"IF($D512>0,VLOOKUP($D512,Μητρώο!$A:$F,3,FALSE),\"\")","v":""},{"$f":"IF($D512>0,VLOOKUP($D512,Μητρώο!$A:$F,5,FALSE),\"\")","v":""},{"$f":"IF(COUNTIF(Rankings!$B:$B,RIGHT($C512,2)&\"-\"&$D512)>0,IF($D512>0,VLOOKUP(RIGHT($C512,2)&\"-\"&$D512,Rankings!$B:$G,6,FALSE),\"\"),0)","v":0},{"$f":"IF($D512>0,VLOOKUP($D512,Μητρώο!$A:$F,4,FALSE),\"\")","v":""}]
[511,510,null,null,{"$f":"IF($D513>0,VLOOKUP($D513,Μητρώο!$A:$F,3,FALSE),\"\")","v":""},{"$f":"IF($D513>0,VLOOKUP($D513,Μητρώο!$A:$F,5,FALSE),\"\")","v":""},{"$f":"IF(COUNTIF(Rankings!$B:$B,RIGHT($C513,2)&\"-\"&$D513)>0,IF($D513>0,VLOOKUP(RIGHT($C513,2)&\"-\"&$D513,Rankings!$B:$G,6,FALSE),\"\"),0)","v":0},{"$f":"IF($D513>0,VLOOKUP($D513,Μητρώο!$A:$F,4,FALSE),\"\")","v":""}]
[512,511,null,null,{"$f":"IF($D514>0,VLOOKUP($D514,Μητρώο!$A:$F,3,FALSE),\"\")","v":""},{"$f":"IF($D514>0,VLOOKUP($D514,Μητρώο!$A:$F,5,FALSE),\"\")","v":""},{"$f":"IF(COUNTIF(Rankings!$B:$B,RIGHT($C514,2)&\"-\"&$D514)>0,IF($D514>0,VLOOKUP(RIGHT($C514,2)&\"-\"&$D514,Rankings!$B:$G,6,FALSE),\"\"),0)","v":0},{"$f":"IF($D514>0,VLOOKUP($D514,Μητρώο!$A:$F,4,FALSE),\"\")","v":""}]
[513,512,null,null,{"$f":"IF($D515>0,VLOOKUP($D515,Μητρώο!$A:$F,3,FALSE),\"\")","v":""},{"$f":"IF($D515>0,VLOOKUP($D515,Μητρώο!$A:$F,5,FALSE),\"\")","v":""},{"$f":"IF(COUNTIF(Rankings!$B:$B,RIGHT($C515,2)&\"-\"&$D515)>0,IF($D515>0,VLOOKUP(RIGHT($C515,2)&\"-\"&$D515,Rankings!$B:$G,6,FALSE),\"\"),0)","v":0},{"$f":"IF($D515>0,VLOOKUP($D515,Μητρώο!$A:$F,4,FALSE),\"\")","v":""}]
[514,{"$f":"IF(C516=C515,B515+1,1)","v":513},null,null,{"$f":"IF($D516>0,VLOOKUP($D516,Μητρώο!$A:$F,3,FALSE),\"\")","v":""},{"$f":"IF($D516>0,VLOOKUP($D516,Μητρώο!$A:$F,5,FALSE),\"\")","v":""},{"$f":"IF(COUNTIF(Rankings!$B:$B,RIGHT($C516,2)&\"-\"&$D516)>0,IF($D516>0,VLOOKUP(RIGHT($C516,2)&\"-\"&$D516,Rankings!$B:$G,6,FALSE),\"\"),0)","v":0},{"$f":"IF($D516>0,VLOOKUP($D516,Μητρώο!$A:$F,4,FALSE),\"\")","v":""}]
[515,514,null,null,{"$f":"IF($D517>0,VLOOKUP($D517,Μητρώο!$A:$F,3,FALSE),\"\")","v":""},{"$f":"IF($D517>0,VLOOKUP($D517,Μητρώο!$A:$F,5,FALSE),\"\")","v":""},{"$f":"IF(COUNTIF(Rankings!$B:$B,RIGHT($C517,2)&\"-\"&$D517)>0,IF($D517>0,VLOOKUP(RIGHT($C517,2)&\"-\"&$D517,Rankings!$B:$G,6,FALSE),\"\"),0)","v":0},{"$f":"IF($D517>0,VLOOKUP($D517,Μητρώο!$A:$F,4,FALSE),\"\")","v":""}]
[516,515,null,null,{"$f":"IF($D518>0,VLOOKUP($D518,Μητρώο!$A:$F,3,FALSE),\"\")","v":""},{"$f":"IF($D518>0,VLOOKUP($D518,Μητρώο!$A:$F,5,FALSE),\"\")","v":""},{"$f":"IF(COUNTIF(Rankings!$B:$B,RIGHT($C518,2)&\"-\"&$D518)>0,IF($D518>0,VLOOKUP(RIGHT($C518,2)&\"-\"&$D518,Rankings!$B:$G,6,FALSE),\"\"),0)","v":0},{"$f":"IF($D518>0,VLOOKUP($D518,Μητρώο!$A:$F,4,FALSE),\"\")","v":""}]
[517,516,null,null,{"$f":"IF($D519>0,VLOOKUP($D519,Μητρώο!$A:$F,3,FALSE),\"\")","v":""},{"$f":"IF($D519>0,VLOOKUP($D519,Μητρώο!$A:$F,5,FALSE),\"\")","v":""},{"$f":"IF(COUNTIF(Rankings!$B:$B,RIGHT($C519,2)&\"-\"&$D519)>0,IF($D519>0,VLOOKUP(RIGHT($C519,2)&\"-\"&$D519,Rankings!$B:$G,6,FALSE),\"\"),0)","v":0},{"$f":"IF($D519>0,VLOOKUP($D519,Μητρώο!$A:$F,4,FALSE),\"\")","v":""}]
[518,517,null,null,{"$f":"IF($D520>0,VLOOKUP($D520,Μητρώο!$A:$F,3,FALSE),\"\")","v":""},{"$f":"IF($D520>0,VLOOKUP($D520,Μητρώο!$A:$F,5,FALSE),\"\")","v":""},{"$f":"IF(COUNTIF(Rankings!$B:$B,RIGHT($C520,2)&\"-\"&$D520)>0,IF($D520>0,VLOOKUP(RIGHT($C520,2)&\"-\"&$D520,Rankings!$B:$G,6,FALSE),\"\"),0)","v":0},{"$f":"IF($D520>0,VLOOKUP($D520,Μητρώο!$A:$F,4,FALSE),\"\")","v":""}]
[519,518,null,null,{"$f":"IF($D521>0,VLOOKUP($D521,Μητρώο!$A:$F,3,FALSE),\"\")","v":""},{"$f":"IF($D521>0,VLOOKUP($D521,Μητρώο!$A:$F,5,FALSE),\"\")","v":""},{"$f":"IF(COUNTIF(Rankings!$B:$B,RIGHT($C521,2)&\"-\"&$D521)>0,IF($D521>0,VLOOKUP(RIGHT($C521,2)&\"-\"&$D521,Rankings!$B:$G,6,FALSE),\"\"),0)","v":0},{"$f":"IF($D521>0,VLOOKUP($D521,Μητρώο!$A:$F,4,FALSE),\"\")","v":""}]
[520,519,null,null,{"$f":"IF($D522>0,VLOOKUP($D522,Μητρώο!$A:$F,3,FALSE),\"\")","v":""},{"$f":"IF($D522>0,VLOOKUP($D522,Μητρώο!$A:$F,5,FALSE),\"\")","v":""},{"$f":"IF(COUNTIF(Rankings!$B:$B,RIGHT($C522,2)&\"-\"&$D522)>0,IF($D522>0,VLOOKUP(RIGHT($C522,2)&\"-\"&$D522,Rankings!$B:$G,6,FALSE),\"\"),0)","v":0},{"$f":"IF($D522>0,VLOOKUP($D522,Μητρώο!$A:$F,4,FALSE),\"\")","v":""}]
[521,520,null,null,{"$f":"IF($D523>0,VLOOKUP($D523,Μητρώο!$A:$F,3,FALSE),\"\")","v":""},{"$f":"IF($D523>0,VLOOKUP($D523,Μητρώο!$A:$F,5,FALSE),\"\")","v":""},{"$f":"IF(COUNTIF(Rankings!$B:$B,RIGHT($C523,2)&\"-\"&$D523)>0,IF($D523>0,VLOOKUP(RIGHT($C523,2)&\"-\"&$D523,Rankings!$B:$G,6,FALSE),\"\"),0)","v":0},{"$f":"IF($D523>0,VLOOKUP($D523,Μητρώο!$A:$F,4,FALSE),\"\")","v":""}]
[522,521,null,null,{"$f":"IF($D524>0,VLOOKUP($D524,Μητρώο!$A:$F,3,FALSE),\"\")","v":""},{"$f":"IF($D524>0,VLOOKUP($D524,Μητρώο!$A:$F,5,FALSE),\"\")","v":""},{"$f":"IF(COUNTIF(Rankings!$B:$B,RIGHT($C524,2)&\"-\"&$D524)>0,IF($D524>0,VLOOKUP(RIGHT($C524,2)&\"-\"&$D524,Rankings!$B:$G,6,FALSE),\"\"),0)","v":0},{"$f":"IF($D524>0,VLOOKUP($D524,Μητρώο!$A:$F,4,FALSE),\"\")","v":""}]
[523,522,null,null,{"$f":"IF($D525>0,VLOOKUP($D525,Μητρώο!$A:$F,3,FALSE),\"\")","v":""},{"$f":"IF($D525>0,VLOOKUP($D525,Μητρώο!$A:$F,5,FALSE),\"\")","v":""},{"$f":"IF(COUNTIF(Rankings!$B:$B,RIGHT($C525,2)&\"-\"&$D525)>0,IF($D525>0,VLOOKUP(RIGHT($C525,2)&\"-\"&$D525,Rankings!$B:$G,6,FALSE),\"\"),0)","v":0},{"$f":"IF($D525>0,VLOOKUP($D525,Μητρώο!$A:$F,4,FALSE),\"\")","v":""}]
[524,523,null,null,{"$f":"IF($D526>0,VLOOKUP($D526,Μητρώο!$A:$F,3,FALSE),\"\")","v":""},{"$f":"IF($D526>0,VLOOKUP($D526,Μητρώο!$A:$F,5,FALSE),\"\")","v":""},{"$f":"IF(COUNTIF(Rankings!$B:$B,RIGHT($C526,2)&\"-\"&$D526)>0,IF($D526>0,VLOOKUP(RIGHT($C526,2)&\"-\"&$D526,Rankings!$B:$G,6,FALSE),\"\"),0)","v":0},{"$f":"IF($D526>0,VLOOKUP($D526,Μητρώο!$A:$F,4,FALSE),\"\")","v":""}]
[525,524,null,null,{"$f":"IF($D527>0,VLOOKUP($D527,Μητρώο!$A:$F,3,FALSE),\"\")","v":""},{"$f":"IF($D527>0,VLOOKUP($D527,Μητρώο!$A:$F,5,FALSE),\"\")","v":""},{"$f":"IF(COUNTIF(Rankings!$B:$B,RIGHT($C527,2)&\"-\"&$D527)>0,IF($D527>0,VLOOKUP(RIGHT($C527,2)&\"-\"&$D527,Rankings!$B:$G,6,FALSE),\"\"),0)","v":0},{"$f":"IF($D527>0,VLOOKUP($D527,Μητρώο!$A:$F,4,FALSE),\"\")","v":""}]
[526,525,null,null,{"$f":"IF($D528>0,VLOOKUP($D528,Μητρώο!$A:$F,3,FALSE),\"\")","v":""},{"$f":"IF($D528>0,VLOOKUP($D528,Μητρώο!$A:$F,5,FALSE),\"\")","v":""},{"$f":"IF(COUNTIF(Rankings!$B:$B,RIGHT($C528,2)&\"-\"&$D528)>0,IF($D528>0,VLOOKUP(RIGHT($C528,2)&\"-\"&$D528,Rankings!$B:$G,6,FALSE),\"\"),0)","v":0},{"$f":"IF($D528>0,VLOOKUP($D528,Μητρώο!$A:$F,4,FALSE),\"\")","v":""}]
[527,526,null,null,{"$f":"IF($D529>0,VLOOKUP($D529,Μητρώο!$A:$F,3,FALSE),\"\")","v":""},{"$f":"IF($D529>0,VLOOKUP($D529,Μητρώο!$A:$F,5,FALSE),\"\")","v":""},{"$f":"IF(COUNTIF(Rankings!$B:$B,RIGHT($C529,2)&\"-\"&$D529)>0,IF($D529>0,VLOOKUP(RIGHT($C529,2)&\"-\"&$D529,Rankings!$B:$G,6,FALSE),\"\"),0)","v":0},{"$f":"IF($D529>0,VLOOKUP($D529,Μητρώο!$A:$F,4,FALSE),\"\")","v":""}]
[528,527,null,null,{"$f":"IF($D530>0,VLOOKUP($D530,Μητρώο!$A:$F,3,FALSE),\"\")","v":""},{"$f":"IF($D530>0,VLOOKUP($D530,Μητρώο!$A:$F,5,FALSE),\"\")","v":""},{"$f":"IF(COUNTIF(Rankings!$B:$B,RIGHT($C530,2)&\"-\"&$D530)>0,IF($D530>0,VLOOKUP(RIGHT($C530,2)&\"-\"&$D530,Rankings!$B:$G,6,FALSE),\"\"),0)","v":0},{"$f":"IF($D530>0,VLOOKUP($D530,Μητρώο!$A:$F,4,FALSE),\"\")","v":""}]
[529,528,null,null,{"$f":"IF($D531>0,VLOOKUP($D531,Μητρώο!$A:$F,3,FALSE),\"\")","v":""},{"$f":"IF($D531>0,VLOOKUP($D531,Μητρώο!$A:$F,5,FALSE),\"\")","v":""},{"$f":"IF(COUNTIF(Rankings!$B:$B,RIGHT($C531,2)&\"-\"&$D531)>0,IF($D531>0,VLOOKUP(RIGHT($C531,2)&\"-\"&$D531,Rankings!$B:$G,6,FALSE),\"\"),0)","v":0},{"$f":"IF($D531>0,VLOOKUP($D531,Μητρώο!$A:$F,4,FALSE),\"\")","v":""}]
[530,529,null,null,{"$f":"IF($D532>0,VLOOKUP($D532,Μητρώο!$A:$F,3,FALSE),\"\")","v":""},{"$f":"IF($D532>0,VLOOKUP($D532,Μητρώο!$A:$F,5,FALSE),\"\")","v":""},{"$f":"IF(COUNTIF(Rankings!$B:$B,RIGHT($C532,2)&\"-\"&$D532)>0,IF($D532>0,VLOOKUP(RIGHT($C532,2)&\"-\"&$D532,Rankings!$B:$G,6,FALSE),\"\"),0)","v":0},{"$f":"IF($D532>0,VLOOKUP($D532,Μητρώο!$A:$F,4,FALSE),\"\")","v":""}]
[531,530,null,null,{"$f":"IF($D533>0,VLOOKUP($D533,Μητρώο!$A:$F,3,FALSE),\"\")","v":""},{"$f":"IF($D533>0,VLOOKUP($D533,Μητρώο!$A:$F,5,FALSE),\"\")","v":""},{"$f":"IF(COUNTIF(Rankings!$B:$B,RIGHT($C533,2)&\"-\"&$D533)>0,IF($D533>0,VLOOKUP(RIGHT($C533,2)&\"-\"&$D533,Rankings!$B:$G,6,FALSE),\"\"),0)","v":0},{"$f":"IF($D533>0,VLOOKUP($D533,Μητρώο!$A:$F,4,FALSE),\"\")","v":""}]
[532,531,null,null,{"$f":"IF($D534>0,VLOOKUP($D534,Μητρώο!$A:$F,3,FALSE),\"\")","v":""},{"$f":"IF($D534>0,VLOOKUP($D534,Μητρώο!$A:$F,5,FALSE),\"\")","v":""},{"$f":"IF(COUNTIF(Rankings!$B:$B,RIGHT($C534,2)&\"-\"&$D534)>0,IF($D534>0,VLOOKUP(RIGHT($C534,2)&\"-\"&$D534,Rankings!$B:$G,6,FALSE),\"\"),0)","v":0},{"$f":"IF($D534>0,VLOOKUP($D534,Μητρώο!$A:$F,4,FALSE),\"\")","v":""}]
[533,532,null,null,{"$f":"IF($D535>0,VLOOKUP($D535,Μητρώο!$A:$F,3,FALSE),\"\")","v":""},{"$f":"IF($D535>0,VLOOKUP($D535,Μητρώο!$A:$F,5,FALSE),\"\")","v":""},{"$f":"IF(COUNTIF(Rankings!$B:$B,RIGHT($C535,2)&\"-\"&$D535)>0,IF($D535>0,VLOOKUP(RIGHT($C535,2)&\"-\"&$D535,Rankings!$B:$G,6,FALSE),\"\"),0)","v":0},{"$f":"IF($D535>0,VLOOKUP($D535,Μητρώο!$A:$F,4,FALSE),\"\")","v":""}]
[534,533,null,null,{"$f":"IF($D536>0,VLOOKUP($D536,Μητρώο!$A:$F,3,FALSE),\"\")","v":""},{"$f":"IF($D536>0,VLOOKUP($D536,Μητρώο!$A:$F,5,FALSE),\"\")","v":""},{"$f":"IF(COUNTIF(Rankings!$B:$B,RIGHT($C536,2)&\"-\"&$D536)>0,IF($D536>0,VLOOKUP(RIGHT($C536,2)&\"-\"&$D536,Rankings!$B:$G,6,FALSE),\"\"),0)","v":0},{"$f":"IF($D536>0,VLOOKUP($D536,Μητρώο!$A:$F,4,FALSE),\"\")","v":""}]
[535,534,null,null,{"$f":"IF($D537>0,VLOOKUP($D537,Μητρώο!$A:$F,3,FALSE),\"\")","v":""},{"$f":"IF($D537>0,VLOOKUP($D537,Μητρώο!$A:$F,5,FALSE),\"\")","v":""},{"$f":"IF(COUNTIF(Rankings!$B:$B,RIGHT($C537,2)&\"-\"&$D537)>0,IF($D537>0,VLOOKUP(RIGHT($C537,2)&\"-\"&$D537,Rankings!$B:$G,6,FALSE),\"\"),0)","v":0},{"$f":"IF($D537>0,VLOOKUP($D537,Μητρώο!$A:$F,4,FALSE),\"\")","v":""}]
[536,535,null,null,{"$f":"IF($D538>0,VLOOKUP($D538,Μητρώο!$A:$F,3,FALSE),\"\")","v":""},{"$f":"IF($D538>0,VLOOKUP($D538,Μητρώο!$A:$F,5,FALSE),\"\")","v":""},{"$f":"IF(COUNTIF(Rankings!$B:$B,RIGHT($C538,2)&\"-\"&$D538)>0,IF($D538>0,VLOOKUP(RIGHT($C538,2)&\"-\"&$D538,Rankings!$B:$G,6,FALSE),\"\"),0)","v":0},{"$f":"IF($D538>0,VLOOKUP($D538,Μητρώο!$A:$F,4,FALSE),\"\")","v":""}]
[537,536,null,null,{"$f":"IF($D539>0,VLOOKUP($D539,Μητρώο!$A:$F,3,FALSE),\"\")","v":""},{"$f":"IF($D539>0,VLOOKUP($D539,Μητρώο!$A:$F,5,FALSE),\"\")","v":""},{"$f":"IF(COUNTIF(Rankings!$B:$B,RIGHT($C539,2)&\"-\"&$D539)>0,IF($D539>0,VLOOKUP(RIGHT($C539,2)&\"-\"&$D539,Rankings!$B:$G,6,FALSE),\"\"),0)","v":0},{"$f":"IF($D539>0,VLOOKUP($D539,Μητρώο!$A:$F,4,FALSE),\"\")","v":""}]
[538,537,null,null,{"$f":"IF($D540>0,VLOOKUP($D540,Μητρώο!$A:$F,3,FALSE),\"\")","v":""},{"$f":"IF($D540>0,VLOOKUP($D540,Μητρώο!$A:$F,5,FALSE),\"\")","v":""},{"$f":"IF(COUNTIF(Rankings!$B:$B,RIGHT($C540,2)&\"-\"&$D540)>0,IF($D540>0,VLOOKUP(RIGHT($C540,2)&\"-\"&$D540,Rankings!$B:$G,6,FALSE),\"\"),0)","v":0},{"$f":"IF($D540>0,VLOOKUP($D540,Μητρώο!$A:$F,4,FALSE),\"\")","v":""}]
[539,538,null,null,{"$f":"IF($D541>0,VLOOKUP($D541,Μητρώο!$A:$F,3,FALSE),\"\")","v":""},{"$f":"IF($D541>0,VLOOKUP($D541,Μητρώο!$A:$F,5,FALSE),\"\")","v":""},{"$f":"IF(COUNTIF(Rankings!$B:$B,RIGHT($C541,2)&\"-\"&$D541)>0,IF($D541>0,VLOOKUP(RIGHT($C541,2)&\"-\"&$D541,Rankings!$B:$G,6,FALSE),\"\"),0)","v":0},{"$f":"IF($D541>0,VLOOKUP($D541,Μητρώο!$A:$F,4,FALSE),\"\")","v":""},null," "]
[540,539,null,null,{"$f":"IF($D542>0,VLOOKUP($D542,Μητρώο!$A:$F,3,FALSE),\"\")","v":""},{"$f":"IF($D542>0,VLOOKUP($D542,Μητρώο!$A:$F,5,FALSE),\"\")","v":""},{"$f":"IF(COUNTIF(Rankings!$B:$B,RIGHT($C542,2)&\"-\"&$D542)>0,IF($D542>0,VLOOKUP(RIGHT($C542,2)&\"-\"&$D542,Rankings!$B:$G,6,FALSE),\"\"),0)","v":0},{"$f":"IF($D542>0,VLOOKUP($D542,Μητρώο!$A:$F,4,FALSE),\"\")","v":""}]
[541,540,null,null,{"$f":"IF($D543>0,VLOOKUP($D543,Μητρώο!$A:$F,3,FALSE),\"\")","v":""},{"$f":"IF($D543>0,VLOOKUP($D543,Μητρώο!$A:$F,5,FALSE),\"\")","v":""},{"$f":"IF(COUNTIF(Rankings!$B:$B,RIGHT($C543,2)&\"-\"&$D543)>0,IF($D543>0,VLOOKUP(RIGHT($C543,2)&\"-\"&$D543,Rankings!$B:$G,6,FALSE),\"\"),0)","v":0},{"$f":"IF($D543>0,VLOOKUP($D543,Μητρώο!$A:$F,4,FALSE),\"\")","v":""}]
[542,541,null,null,{"$f":"IF($D544>0,VLOOKUP($D544,Μητρώο!$A:$F,3,FALSE),\"\")","v":""},{"$f":"IF($D544>0,VLOOKUP($D544,Μητρώο!$A:$F,5,FALSE),\"\")","v":""},{"$f":"IF(COUNTIF(Rankings!$B:$B,RIGHT($C544,2)&\"-\"&$D544)>0,IF($D544>0,VLOOKUP(RIGHT($C544,2)&\"-\"&$D544,Rankings!$B:$G,6,FALSE),\"\"),0)","v":0},{"$f":"IF($D544>0,VLOOKUP($D544,Μητρώο!$A:$F,4,FALSE),\"\")","v":""}]
[543,542,null,null,{"$f":"IF($D545>0,VLOOKUP($D545,Μητρώο!$A:$F,3,FALSE),\"\")","v":""},{"$f":"IF($D545>0,VLOOKUP($D545,Μητρώο!$A:$F,5,FALSE),\"\")","v":""},{"$f":"IF(COUNTIF(Rankings!$B:$B,RIGHT($C545,2)&\"-\"&$D545)>0,IF($D545>0,VLOOKUP(RIGHT($C545,2)&\"-\"&$D545,Rankings!$B:$G,6,FALSE),\"\"),0)","v":0},{"$f":"IF($D545>0,VLOOKUP($D545,Μητρώο!$A:$F,4,FALSE),\"\")","v":""}]
[544,543,null,null,{"$f":"IF($D546>0,VLOOKUP($D546,Μητρώο!$A:$F,3,FALSE),\"\")","v":""},{"$f":"IF($D546>0,VLOOKUP($D546,Μητρώο!$A:$F,5,FALSE),\"\")","v":""},{"$f":"IF(COUNTIF(Rankings!$B:$B,RIGHT($C546,2)&\"-\"&$D546)>0,IF($D546>0,VLOOKUP(RIGHT($C546,2)&\"-\"&$D546,Rankings!$B:$G,6,FALSE),\"\"),0)","v":0},{"$f":"IF($D546>0,VLOOKUP($D546,Μητρώο!$A:$F,4,FALSE),\"\")","v":""}]
[545,544,null,null,{"$f":"IF($D547>0,VLOOKUP($D547,Μητρώο!$A:$F,3,FALSE),\"\")","v":""},{"$f":"IF($D547>0,VLOOKUP($D547,Μητρώο!$A:$F,5,FALSE),\"\")","v":""},{"$f":"IF(COUNTIF(Rankings!$B:$B,RIGHT($C547,2)&\"-\"&$D547)>0,IF($D547>0,VLOOKUP(RIGHT($C547,2)&\"-\"&$D547,Rankings!$B:$G,6,FALSE),\"\"),0)","v":0},{"$f":"IF($D547>0,VLOOKUP($D547,Μητρώο!$A:$F,4,FALSE),\"\")","v":""}]
[546,545,null,null,{"$f":"IF($D548>0,VLOOKUP($D548,Μητρώο!$A:$F,3,FALSE),\"\")","v":""},{"$f":"IF($D548>0,VLOOKUP($D548,Μητρώο!$A:$F,5,FALSE),\"\")","v":""},{"$f":"IF(COUNTIF(Rankings!$B:$B,RIGHT($C548,2)&\"-\"&$D548)>0,IF($D548>0,VLOOKUP(RIGHT($C548,2)&\"-\"&$D548,Rankings!$B:$G,6,FALSE),\"\"),0)","v":0},{"$f":"IF($D548>0,VLOOKUP($D548,Μητρώο!$A:$F,4,FALSE),\"\")","v":""}]
[547,546,null,null,{"$f":"IF($D549>0,VLOOKUP($D549,Μητρώο!$A:$F,3,FALSE),\"\")","v":""},{"$f":"IF($D549>0,VLOOKUP($D549,Μητρώο!$A:$F,5,FALSE),\"\")","v":""},{"$f":"IF(COUNTIF(Rankings!$B:$B,RIGHT($C549,2)&\"-\"&$D549)>0,IF($D549>0,VLOOKUP(RIGHT($C549,2)&\"-\"&$D549,Rankings!$B:$G,6,FALSE),\"\"),0)","v":0},{"$f":"IF($D549>0,VLOOKUP($D549,Μητρώο!$A:$F,4,FALSE),\"\")","v":""},null," "]
[548,547,null,null,{"$f":"IF($D550>0,VLOOKUP($D550,Μητρώο!$A:$F,3,FALSE),\"\")","v":""},{"$f":"IF($D550>0,VLOOKUP($D550,Μητρώο!$A:$F,5,FALSE),\"\")","v":""},{"$f":"IF(COUNTIF(Rankings!$B:$B,RIGHT($C550,2)&\"-\"&$D550)>0,IF($D550>0,VLOOKUP(RIGHT($C550,2)&\"-\"&$D550,Rankings!$B:$G,6,FALSE),\"\"),0)","v":0},{"$f":"IF($D550>0,VLOOKUP($D550,Μητρώο!$A:$F,4,FALSE),\"\")","v":""}]
[549,548,null,null,{"$f":"IF($D551>0,VLOOKUP($D551,Μητρώο!$A:$F,3,FALSE),\"\")","v":""},{"$f":"IF($D551>0,VLOOKUP($D551,Μητρώο!$A:$F,5,FALSE),\"\")","v":""},{"$f":"IF(COUNTIF(Rankings!$B:$B,RIGHT($C551,2)&\"-\"&$D551)>0,IF($D551>0,VLOOKUP(RIGHT($C551,2)&\"-\"&$D551,Rankings!$B:$G,6,FALSE),\"\"),0)","v":0},{"$f":"IF($D551>0,VLOOKUP($D551,Μητρώο!$A:$F,4,FALSE),\"\")","v":""}]
[550,549,null,null,{"$f":"IF($D552>0,VLOOKUP($D552,Μητρώο!$A:$F,3,FALSE),\"\")","v":""},{"$f":"IF($D552>0,VLOOKUP($D552,Μητρώο!$A:$F,5,FALSE),\"\")","v":""},{"$f":"IF(COUNTIF(Rankings!$B:$B,RIGHT($C552,2)&\"-\"&$D552)>0,IF($D552>0,VLOOKUP(RIGHT($C552,2)&\"-\"&$D552,Rankings!$B:$G,6,FALSE),\"\"),0)","v":0},{"$f":"IF($D552>0,VLOOKUP($D552,Μητρώο!$A:$F,4,FALSE),\"\")","v":""}]
[551,550,null,null,{"$f":"IF($D553>0,VLOOKUP($D553,Μητρώο!$A:$F,3,FALSE),\"\")","v":""},{"$f":"IF($D553>0,VLOOKUP($D553,Μητρώο!$A:$F,5,FALSE),\"\")","v":""},{"$f":"IF(COUNTIF(Rankings!$B:$B,RIGHT($C553,2)&\"-\"&$D553)>0,IF($D553>0,VLOOKUP(RIGHT($C553,2)&\"-\"&$D553,Rankings!$B:$G,6,FALSE),\"\"),0)","v":0},{"$f":"IF($D553>0,VLOOKUP($D553,Μητρώο!$A:$F,4,FALSE),\"\")","v":""}]
[552,551,null,null,{"$f":"IF($D554>0,VLOOKUP($D554,Μητρώο!$A:$F,3,FALSE),\"\")","v":""},{"$f":"IF($D554>0,VLOOKUP($D554,Μητρώο!$A:$F,5,FALSE),\"\")","v":""},{"$f":"IF(COUNTIF(Rankings!$B:$B,RIGHT($C554,2)&\"-\"&$D554)>0,IF($D554>0,VLOOKUP(RIGHT($C554,2)&\"-\"&$D554,Rankings!$B:$G,6,FALSE),\"\"),0)","v":0},{"$f":"IF($D554>0,VLOOKUP($D554,Μητρώο!$A:$F,4,FALSE),\"\")","v":""}]
[553,552,null,null,{"$f":"IF($D555>0,VLOOKUP($D555,Μητρώο!$A:$F,3,FALSE),\"\")","v":""},{"$f":"IF($D555>0,VLOOKUP($D555,Μητρώο!$A:$F,5,FALSE),\"\")","v":""},{"$f":"IF(COUNTIF(Rankings!$B:$B,RIGHT($C555,2)&\"-\"&$D555)>0,IF($D555>0,VLOOKUP(RIGHT($C555,2)&\"-\"&$D555,Rankings!$B:$G,6,FALSE),\"\"),0)","v":0},{"$f":"IF($D555>0,VLOOKUP($D555,Μητρώο!$A:$F,4,FALSE),\"\")","v":""}]
[554,553,null,null,{"$f":"IF($D556>0,VLOOKUP($D556,Μητρώο!$A:$F,3,FALSE),\"\")","v":""},{"$f":"IF($D556>0,VLOOKUP($D556,Μητρώο!$A:$F,5,FALSE),\"\")","v":""},{"$f":"IF(COUNTIF(Rankings!$B:$B,RIGHT($C556,2)&\"-\"&$D556)>0,IF($D556>0,VLOOKUP(RIGHT($C556,2)&\"-\"&$D556,Rankings!$B:$G,6,FALSE),\"\"),0)","v":0},{"$f":"IF($D556>0,VLOOKUP($D556,Μητρώο!$A:$F,4,FALSE),\"\")","v":""}]
[555,554,null,null,{"$f":"IF($D557>0,VLOOKUP($D557,Μητρώο!$A:$F,3,FALSE),\"\")","v":""},{"$f":"IF($D557>0,VLOOKUP($D557,Μητρώο!$A:$F,5,FALSE),\"\")","v":""},{"$f":"IF(COUNTIF(Rankings!$B:$B,RIGHT($C557,2)&\"-\"&$D557)>0,IF($D557>0,VLOOKUP(RIGHT($C557,2)&\"-\"&$D557,Rankings!$B:$G,6,FALSE),\"\"),0)","v":0},{"$f":"IF($D557>0,VLOOKUP($D557,Μητρώο!$A:$F,4,FALSE),\"\")","v":""}]
[556,555,null,null,{"$f":"IF($D558>0,VLOOKUP($D558,Μητρώο!$A:$F,3,FALSE),\"\")","v":""},{"$f":"IF($D558>0,VLOOKUP($D558,Μητρώο!$A:$F,5,FALSE),\"\")","v":""},{"$f":"IF(COUNTIF(Rankings!$B:$B,RIGHT($C558,2)&\"-\"&$D558)>0,IF($D558>0,VLOOKUP(RIGHT($C558,2)&\"-\"&$D558,Rankings!$B:$G,6,FALSE),\"\"),0)","v":0},{"$f":"IF($D558>0,VLOOKUP($D558,Μητρώο!$A:$F,4,FALSE),\"\")","v":""}]
[557,556,null,null,{"$f":"IF($D559>0,VLOOKUP($D559,Μητρώο!$A:$F,3,FALSE),\"\")","v":""},{"$f":"IF($D559>0,VLOOKUP($D559,Μητρώο!$A:$F,5,FALSE),\"\")","v":""},{"$f":"IF(COUNTIF(Rankings!$B:$B,RIGHT($C559,2)&\"-\"&$D559)>0,IF($D559>0,VLOOKUP(RIGHT($C559,2)&\"-\"&$D559,Rankings!$B:$G,6,FALSE),\"\"),0)","v":0},{"$f":"IF($D559>0,VLOOKUP($D559,Μητρώο!$A:$F,4,FALSE),\"\")","v":""}]
[558,557,null,null,{"$f":"IF($D560>0,VLOOKUP($D560,Μητρώο!$A:$F,3,FALSE),\"\")","v":""},{"$f":"IF($D560>0,VLOOKUP($D560,Μητρώο!$A:$F,5,FALSE),\"\")","v":""},{"$f":"IF(COUNTIF(Rankings!$B:$B,RIGHT($C560,2)&\"-\"&$D560)>0,IF($D560>0,VLOOKUP(RIGHT($C560,2)&\"-\"&$D560,Rankings!$B:$G,6,FALSE),\"\"),0)","v":0},{"$f":"IF($D560>0,VLOOKUP($D560,Μητρώο!$A:$F,4,FALSE),\"\")","v":""}]
[559,558,null,null,{"$f":"IF($D561>0,VLOOKUP($D561,Μητρώο!$A:$F,3,FALSE),\"\")","v":""},{"$f":"IF($D561>0,VLOOKUP($D561,Μητρώο!$A:$F,5,FALSE),\"\")","v":""},{"$f":"IF(COUNTIF(Rankings!$B:$B,RIGHT($C561,2)&\"-\"&$D561)>0,IF($D561>0,VLOOKUP(RIGHT($C561,2)&\"-\"&$D561,Rankings!$B:$G,6,FALSE),\"\"),0)","v":0},{"$f":"IF($D561>0,VLOOKUP($D561,Μητρώο!$A:$F,4,FALSE),\"\")","v":""}]
[560,559,null,null,{"$f":"IF($D562>0,VLOOKUP($D562,Μητρώο!$A:$F,3,FALSE),\"\")","v":""},{"$f":"IF($D562>0,VLOOKUP($D562,Μητρώο!$A:$F,5,FALSE),\"\")","v":""},{"$f":"IF(COUNTIF(Rankings!$B:$B,RIGHT($C562,2)&\"-\"&$D562)>0,IF($D562>0,VLOOKUP(RIGHT($C562,2)&\"-\"&$D562,Rankings!$B:$G,6,FALSE),\"\"),0)","v":0},{"$f":"IF($D562>0,VLOOKUP($D562,Μητρώο!$A:$F,4,FALSE),\"\")","v":""}]
[561,560,null,null,{"$f":"IF($D563>0,VLOOKUP($D563,Μητρώο!$A:$F,3,FALSE),\"\")","v":""},{"$f":"IF($D563>0,VLOOKUP($D563,Μητρώο!$A:$F,5,FALSE),\"\")","v":""},{"$f":"IF(COUNTIF(Rankings!$B:$B,RIGHT($C563,2)&\"-\"&$D563)>0,IF($D563>0,VLOOKUP(RIGHT($C563,2)&\"-\"&$D563,Rankings!$B:$G,6,FALSE),\"\"),0)","v":0},{"$f":"IF($D563>0,VLOOKUP($D563,Μητρώο!$A:$F,4,FALSE),\"\")","v":""}]
[562,561,null,null,{"$f":"IF($D564>0,VLOOKUP($D564,Μητρώο!$A:$F,3,FALSE),\"\")","v":""},{"$f":"IF($D564>0,VLOOKUP($D564,Μητρώο!$A:$F,5,FALSE),\"\")","v":""},{"$f":"IF(COUNTIF(Rankings!$B:$B,RIGHT($C564,2)&\"-\"&$D564)>0,IF($D564>0,VLOOKUP(RIGHT($C564,2)&\"-\"&$D564,Rankings!$B:$G,6,FALSE),\"\"),0)","v":0},{"$f":"IF($D564>0,VLOOKUP($D564,Μητρώο!$A:$F,4,FALSE),\"\")","v":""}]
[563,562,null,null,{"$f":"IF($D565>0,VLOOKUP($D565,Μητρώο!$A:$F,3,FALSE),\"\")","v":""},{"$f":"IF($D565>0,VLOOKUP($D565,Μητρώο!$A:$F,5,FALSE),\"\")","v":""},{"$f":"IF(COUNTIF(Rankings!$B:$B,RIGHT($C565,2)&\"-\"&$D565)>0,IF($D565>0,VLOOKUP(RIGHT($C565,2)&\"-\"&$D565,Rankings!$B:$G,6,FALSE),\"\"),0)","v":0},{"$f":"IF($D565>0,VLOOKUP($D565,Μητρώο!$A:$F,4,FALSE),\"\")","v":""}]
[564,563,null,null,{"$f":"IF($D566>0,VLOOKUP($D566,Μητρώο!$A:$F,3,FALSE),\"\")","v":""},{"$f":"IF($D566>0,VLOOKUP($D566,Μητρώο!$A:$F,5,FALSE),\"\")","v":""},{"$f":"IF(COUNTIF(Rankings!$B:$B,RIGHT($C566,2)&\"-\"&$D566)>0,IF($D566>0,VLOOKUP(RIGHT($C566,2)&\"-\"&$D566,Rankings!$B:$G,6,FALSE),\"\"),0)","v":0},{"$f":"IF($D566>0,VLOOKUP($D566,Μητρώο!$A:$F,4,FALSE),\"\")","v":""}]
[565,564,null,null,{"$f":"IF($D567>0,VLOOKUP($D567,Μητρώο!$A:$F,3,FALSE),\"\")","v":""},{"$f":"IF($D567>0,VLOOKUP($D567,Μητρώο!$A:$F,5,FALSE),\"\")","v":""},{"$f":"IF(COUNTIF(Rankings!$B:$B,RIGHT($C567,2)&\"-\"&$D567)>0,IF($D567>0,VLOOKUP(RIGHT($C567,2)&\"-\"&$D567,Rankings!$B:$G,6,FALSE),\"\"),0)","v":0},{"$f":"IF($D567>0,VLOOKUP($D567,Μητρώο!$A:$F,4,FALSE),\"\")","v":""}]
[566,565,null,null,{"$f":"IF($D568>0,VLOOKUP($D568,Μητρώο!$A:$F,3,FALSE),\"\")","v":""},{"$f":"IF($D568>0,VLOOKUP($D568,Μητρώο!$A:$F,5,FALSE),\"\")","v":""},{"$f":"IF(COUNTIF(Rankings!$B:$B,RIGHT($C568,2)&\"-\"&$D568)>0,IF($D568>0,VLOOKUP(RIGHT($C568,2)&\"-\"&$D568,Rankings!$B:$G,6,FALSE),\"\"),0)","v":0},{"$f":"IF($D568>0,VLOOKUP($D568,Μητρώο!$A:$F,4,FALSE),\"\")","v":""}]
[567,566,null,null,{"$f":"IF($D569>0,VLOOKUP($D569,Μητρώο!$A:$F,3,FALSE),\"\")","v":""},{"$f":"IF($D569>0,VLOOKUP($D569,Μητρώο!$A:$F,5,FALSE),\"\")","v":""},{"$f":"IF(COUNTIF(Rankings!$B:$B,RIGHT($C569,2)&\"-\"&$D569)>0,IF($D569>0,VLOOKUP(RIGHT($C569,2)&\"-\"&$D569,Rankings!$B:$G,6,FALSE),\"\"),0)","v":0},{"$f":"IF($D569>0,VLOOKUP($D569,Μητρώο!$A:$F,4,FALSE),\"\")","v":""}]
[568,567,null,null,{"$f":"IF($D570>0,VLOOKUP($D570,Μητρώο!$A:$F,3,FALSE),\"\")","v":""},{"$f":"IF($D570>0,VLOOKUP($D570,Μητρώο!$A:$F,5,FALSE),\"\")","v":""},{"$f":"IF(COUNTIF(Rankings!$B:$B,RIGHT($C570,2)&\"-\"&$D570)>0,IF($D570>0,VLOOKUP(RIGHT($C570,2)&\"-\"&$D570,Rankings!$B:$G,6,FALSE),\"\"),0)","v":0},{"$f":"IF($D570>0,VLOOKUP($D570,Μητρώο!$A:$F,4,FALSE),\"\")","v":""}]
[569,568,null,null,{"$f":"IF($D571>0,VLOOKUP($D571,Μητρώο!$A:$F,3,FALSE),\"\")","v":""},{"$f":"IF($D571>0,VLOOKUP($D571,Μητρώο!$A:$F,5,FALSE),\"\")","v":""},{"$f":"IF(COUNTIF(Rankings!$B:$B,RIGHT($C571,2)&\"-\"&$D571)>0,IF($D571>0,VLOOKUP(RIGHT($C571,2)&\"-\"&$D571,Rankings!$B:$G,6,FALSE),\"\"),0)","v":0},{"$f":"IF($D571>0,VLOOKUP($D571,Μητρώο!$A:$F,4,FALSE),\"\")","v":""}]
[570,569,null,null,{"$f":"IF($D572>0,VLOOKUP($D572,Μητρώο!$A:$F,3,FALSE),\"\")","v":""},{"$f":"IF($D572>0,VLOOKUP($D572,Μητρώο!$A:$F,5,FALSE),\"\")","v":""},{"$f":"IF(COUNTIF(Rankings!$B:$B,RIGHT($C572,2)&\"-\"&$D572)>0,IF($D572>0,VLOOKUP(RIGHT($C572,2)&\"-\"&$D572,Rankings!$B:$G,6,FALSE),\"\"),0)","v":0},{"$f":"IF($D572>0,VLOOKUP($D572,Μητρώο!$A:$F,4,FALSE),\"\")","v":""}]
[571,570,null,null,{"$f":"IF($D573>0,VLOOKUP($D573,Μητρώο!$A:$F,3,FALSE),\"\")","v":""},{"$f":"IF($D573>0,VLOOKUP($D573,Μητρώο!$A:$F,5,FALSE),\"\")","v":""},{"$f":"IF(COUNTIF(Rankings!$B:$B,RIGHT($C573,2)&\"-\"&$D573)>0,IF($D573>0,VLOOKUP(RIGHT($C573,2)&\"-\"&$D573,Rankings!$B:$G,6,FALSE),\"\"),0)","v":0},{"$f":"IF($D573>0,VLOOKUP($D573,Μητρώο!$A:$F,4,FALSE),\"\")","v":""}]
[572,571,null,null,{"$f":"IF($D574>0,VLOOKUP($D574,Μητρώο!$A:$F,3,FALSE),\"\")","v":""},{"$f":"IF($D574>0,VLOOKUP($D574,Μητρώο!$A:$F,5,FALSE),\"\")","v":""},{"$f":"IF(COUNTIF(Rankings!$B:$B,RIGHT($C574,2)&\"-\"&$D574)>0,IF($D574>0,VLOOKUP(RIGHT($C574,2)&\"-\"&$D574,Rankings!$B:$G,6,FALSE),\"\"),0)","v":0},{"$f":"IF($D574>0,VLOOKUP($D574,Μητρώο!$A:$F,4,FALSE),\"\")","v":""}]
[573,572,null,null,{"$f":"IF($D575>0,VLOOKUP($D575,Μητρώο!$A:$F,3,FALSE),\"\")","v":""},{"$f":"IF($D575>0,VLOOKUP($D575,Μητρώο!$A:$F,5,FALSE),\"\")","v":""},{"$f":"IF(COUNTIF(Rankings!$B:$B,RIGHT($C575,2)&\"-\"&$D575)>0,IF($D575>0,VLOOKUP(RIGHT($C575,2)&\"-\"&$D575,Rankings!$B:$G,6,FALSE),\"\"),0)","v":0},{"$f":"IF($D575>0,VLOOKUP($D575,Μητρώο!$A:$F,4,FALSE),\"\")","v":""}]
[574,573,null,null,{"$f":"IF($D576>0,VLOOKUP($D576,Μητρώο!$A:$F,3,FALSE),\"\")","v":""},{"$f":"IF($D576>0,VLOOKUP($D576,Μητρώο!$A:$F,5,FALSE),\"\")","v":""},{"$f":"IF(COUNTIF(Rankings!$B:$B,RIGHT($C576,2)&\"-\"&$D576)>0,IF($D576>0,VLOOKUP(RIGHT($C576,2)&\"-\"&$D576,Rankings!$B:$G,6,FALSE),\"\"),0)","v":0},{"$f":"IF($D576>0,VLOOKUP($D576,Μητρώο!$A:$F,4,FALSE),\"\")","v":""}]
[575,574,null,null,{"$f":"IF($D577>0,VLOOKUP($D577,Μητρώο!$A:$F,3,FALSE),\"\")","v":""},{"$f":"IF($D577>0,VLOOKUP($D577,Μητρώο!$A:$F,5,FALSE),\"\")","v":""},{"$f":"IF(COUNTIF(Rankings!$B:$B,RIGHT($C577,2)&\"-\"&$D577)>0,IF($D577>0,VLOOKUP(RIGHT($C577,2)&\"-\"&$D577,Rankings!$B:$G,6,FALSE),\"\"),0)","v":0},{"$f":"IF($D577>0,VLOOKUP($D577,Μητρώο!$A:$F,4,FALSE),\"\")","v":""}]
[576,575,null,null,{"$f":"IF($D578>0,VLOOKUP($D578,Μητρώο!$A:$F,3,FALSE),\"\")","v":""},{"$f":"IF($D578>0,VLOOKUP($D578,Μητρώο!$A:$F,5,FALSE),\"\")","v":""},{"$f":"IF(COUNTIF(Rankings!$B:$B,RIGHT($C578,2)&\"-\"&$D578)>0,IF($D578>0,VLOOKUP(RIGHT($C578,2)&\"-\"&$D578,Rankings!$B:$G,6,FALSE),\"\"),0)","v":0},{"$f":"IF($D578>0,VLOOKUP($D578,Μητρώο!$A:$F,4,FALSE),\"\")","v":""}]
[577,576,null,null,{"$f":"IF($D579>0,VLOOKUP($D579,Μητρώο!$A:$F,3,FALSE),\"\")","v":""},{"$f":"IF($D579>0,VLOOKUP($D579,Μητρώο!$A:$F,5,FALSE),\"\")","v":""},{"$f":"IF(COUNTIF(Rankings!$B:$B,RIGHT($C579,2)&\"-\"&$D579)>0,IF($D579>0,VLOOKUP(RIGHT($C579,2)&\"-\"&$D579,Rankings!$B:$G,6,FALSE),\"\"),0)","v":0},{"$f":"IF($D579>0,VLOOKUP($D579,Μητρώο!$A:$F,4,FALSE),\"\")","v":""}]
[578,{"$f":"IF(C580=C579,B579+1,1)","v":577},null,null,{"$f":"IF($D580>0,VLOOKUP($D580,Μητρώο!$A:$F,3,FALSE),\"\")","v":""},{"$f":"IF($D580>0,VLOOKUP($D580,Μητρώο!$A:$F,5,FALSE),\"\")","v":""},{"$f":"IF(COUNTIF(Rankings!$B:$B,RIGHT($C580,2)&\"-\"&$D580)>0,IF($D580>0,VLOOKUP(RIGHT($C580,2)&\"-\"&$D580,Rankings!$B:$G,6,FALSE),\"\"),0)","v":0},{"$f":"IF($D580>0,VLOOKUP($D580,Μητρώο!$A:$F,4,FALSE),\"\")","v":""}]
[579,578,null,null,{"$f":"IF($D581>0,VLOOKUP($D581,Μητρώο!$A:$F,3,FALSE),\"\")","v":""},{"$f":"IF($D581>0,VLOOKUP($D581,Μητρώο!$A:$F,5,FALSE),\"\")","v":""},{"$f":"IF(COUNTIF(Rankings!$B:$B,RIGHT($C581,2)&\"-\"&$D581)>0,IF($D581>0,VLOOKUP(RIGHT($C581,2)&\"-\"&$D581,Rankings!$B:$G,6,FALSE),\"\"),0)","v":0},{"$f":"IF($D581>0,VLOOKUP($D581,Μητρώο!$A:$F,4,FALSE),\"\")","v":""}]
[580,579,null,null,{"$f":"IF($D582>0,VLOOKUP($D582,Μητρώο!$A:$F,3,FALSE),\"\")","v":""},{"$f":"IF($D582>0,VLOOKUP($D582,Μητρώο!$A:$F,5,FALSE),\"\")","v":""},{"$f":"IF(COUNTIF(Rankings!$B:$B,RIGHT($C582,2)&\"-\"&$D582)>0,IF($D582>0,VLOOKUP(RIGHT($C582,2)&\"-\"&$D582,Rankings!$B:$G,6,FALSE),\"\"),0)","v":0},{"$f":"IF($D582>0,VLOOKUP($D582,Μητρώο!$A:$F,4,FALSE),\"\")","v":""}]
[581,580,null,null,{"$f":"IF($D583>0,VLOOKUP($D583,Μητρώο!$A:$F,3,FALSE),\"\")","v":""},{"$f":"IF($D583>0,VLOOKUP($D583,Μητρώο!$A:$F,5,FALSE),\"\")","v":""},{"$f":"IF(COUNTIF(Rankings!$B:$B,RIGHT($C583,2)&\"-\"&$D583)>0,IF($D583>0,VLOOKUP(RIGHT($C583,2)&\"-\"&$D583,Rankings!$B:$G,6,FALSE),\"\"),0)","v":0},{"$f":"IF($D583>0,VLOOKUP($D583,Μητρώο!$A:$F,4,FALSE),\"\")","v":""}]
[582,581,null,null,{"$f":"IF($D584>0,VLOOKUP($D584,Μητρώο!$A:$F,3,FALSE),\"\")","v":""},{"$f":"IF($D584>0,VLOOKUP($D584,Μητρώο!$A:$F,5,FALSE),\"\")","v":""},{"$f":"IF(COUNTIF(Rankings!$B:$B,RIGHT($C584,2)&\"-\"&$D584)>0,IF($D584>0,VLOOKUP(RIGHT($C584,2)&\"-\"&$D584,Rankings!$B:$G,6,FALSE),\"\"),0)","v":0},{"$f":"IF($D584>0,VLOOKUP($D584,Μητρώο!$A:$F,4,FALSE),\"\")","v":""}]
[583,582,null,null,{"$f":"IF($D585>0,VLOOKUP($D585,Μητρώο!$A:$F,3,FALSE),\"\")","v":""},{"$f":"IF($D585>0,VLOOKUP($D585,Μητρώο!$A:$F,5,FALSE),\"\")","v":""},{"$f":"IF(COUNTIF(Rankings!$B:$B,RIGHT($C585,2)&\"-\"&$D585)>0,IF($D585>0,VLOOKUP(RIGHT($C585,2)&\"-\"&$D585,Rankings!$B:$G,6,FALSE),\"\"),0)","v":0},{"$f":"IF($D585>0,VLOOKUP($D585,Μητρώο!$A:$F,4,FALSE),\"\")","v":""}]
[584,583,null,null,{"$f":"IF($D586>0,VLOOKUP($D586,Μητρώο!$A:$F,3,FALSE),\"\")","v":""},{"$f":"IF($D586>0,VLOOKUP($D586,Μητρώο!$A:$F,5,FALSE),\"\")","v":""},{"$f":"IF(COUNTIF(Rankings!$B:$B,RIGHT($C586,2)&\"-\"&$D586)>0,IF($D586>0,VLOOKUP(RIGHT($C586,2)&\"-\"&$D586,Rankings!$B:$G,6,FALSE),\"\"),0)","v":0},{"$f":"IF($D586>0,VLOOKUP($D586,Μητρώο!$A:$F,4,FALSE),\"\")","v":""}]
[585,584,null,null,{"$f":"IF($D587>0,VLOOKUP($D587,Μητρώο!$A:$F,3,FALSE),\"\")","v":""},{"$f":"IF($D587>0,VLOOKUP($D587,Μητρώο!$A:$F,5,FALSE),\"\")","v":""},{"$f":"IF(COUNTIF(Rankings!$B:$B,RIGHT($C587,2)&\"-\"&$D587)>0,IF($D587>0,VLOOKUP(RIGHT($C587,2)&\"-\"&$D587,Rankings!$B:$G,6,FALSE),\"\"),0)","v":0},{"$f":"IF($D587>0,VLOOKUP($D587,Μητρώο!$A:$F,4,FALSE),\"\")","v":""}]
[586,585,null,null,{"$f":"IF($D588>0,VLOOKUP($D588,Μητρώο!$A:$F,3,FALSE),\"\")","v":""},{"$f":"IF($D588>0,VLOOKUP($D588,Μητρώο!$A:$F,5,FALSE),\"\")","v":""},{"$f":"IF(COUNTIF(Rankings!$B:$B,RIGHT($C588,2)&\"-\"&$D588)>0,IF($D588>0,VLOOKUP(RIGHT($C588,2)&\"-\"&$D588,Rankings!$B:$G,6,FALSE),\"\"),0)","v":0},{"$f":"IF($D588>0,VLOOKUP($D588,Μητρώο!$A:$F,4,FALSE),\"\")","v":""}]
[587,586,null,null,{"$f":"IF($D589>0,VLOOKUP($D589,Μητρώο!$A:$F,3,FALSE),\"\")","v":""},{"$f":"IF($D589>0,VLOOKUP($D589,Μητρώο!$A:$F,5,FALSE),\"\")","v":""},{"$f":"IF(COUNTIF(Rankings!$B:$B,RIGHT($C589,2)&\"-\"&$D589)>0,IF($D589>0,VLOOKUP(RIGHT($C589,2)&\"-\"&$D589,Rankings!$B:$G,6,FALSE),\"\"),0)","v":0},{"$f":"IF($D589>0,VLOOKUP($D589,Μητρώο!$A:$F,4,FALSE),\"\")","v":""}]
[588,587,null,null,{"$f":"IF($D590>0,VLOOKUP($D590,Μητρώο!$A:$F,3,FALSE),\"\")","v":""},{"$f":"IF($D590>0,VLOOKUP($D590,Μητρώο!$A:$F,5,FALSE),\"\")","v":""},{"$f":"IF(COUNTIF(Rankings!$B:$B,RIGHT($C590,2)&\"-\"&$D590)>0,IF($D590>0,VLOOKUP(RIGHT($C590,2)&\"-\"&$D590,Rankings!$B:$G,6,FALSE),\"\"),0)","v":0},{"$f":"IF($D590>0,VLOOKUP($D590,Μητρώο!$A:$F,4,FALSE),\"\")","v":""}]
[589,588,null,null,{"$f":"IF($D591>0,VLOOKUP($D591,Μητρώο!$A:$F,3,FALSE),\"\")","v":""},{"$f":"IF($D591>0,VLOOKUP($D591,Μητρώο!$A:$F,5,FALSE),\"\")","v":""},{"$f":"IF(COUNTIF(Rankings!$B:$B,RIGHT($C591,2)&\"-\"&$D591)>0,IF($D591>0,VLOOKUP(RIGHT($C591,2)&\"-\"&$D591,Rankings!$B:$G,6,FALSE),\"\"),0)","v":0},{"$f":"IF($D591>0,VLOOKUP($D591,Μητρώο!$A:$F,4,FALSE),\"\")","v":""}]
[590,589,null,null,{"$f":"IF($D592>0,VLOOKUP($D592,Μητρώο!$A:$F,3,FALSE),\"\")","v":""},{"$f":"IF($D592>0,VLOOKUP($D592,Μητρώο!$A:$F,5,FALSE),\"\")","v":""},{"$f":"IF(COUNTIF(Rankings!$B:$B,RIGHT($C592,2)&\"-\"&$D592)>0,IF($D592>0,VLOOKUP(RIGHT($C592,2)&\"-\"&$D592,Rankings!$B:$G,6,FALSE),\"\"),0)","v":0},{"$f":"IF($D592>0,VLOOKUP($D592,Μητρώο!$A:$F,4,FALSE),\"\")","v":""}]
[591,590,null,null,{"$f":"IF($D593>0,VLOOKUP($D593,Μητρώο!$A:$F,3,FALSE),\"\")","v":""},{"$f":"IF($D593>0,VLOOKUP($D593,Μητρώο!$A:$F,5,FALSE),\"\")","v":""},{"$f":"IF(COUNTIF(Rankings!$B:$B,RIGHT($C593,2)&\"-\"&$D593)>0,IF($D593>0,VLOOKUP(RIGHT($C593,2)&\"-\"&$D593,Rankings!$B:$G,6,FALSE),\"\"),0)","v":0},{"$f":"IF($D593>0,VLOOKUP($D593,Μητρώο!$A:$F,4,FALSE),\"\")","v":""}]
[592,591,null,null,{"$f":"IF($D594>0,VLOOKUP($D594,Μητρώο!$A:$F,3,FALSE),\"\")","v":""},{"$f":"IF($D594>0,VLOOKUP($D594,Μητρώο!$A:$F,5,FALSE),\"\")","v":""},{"$f":"IF(COUNTIF(Rankings!$B:$B,RIGHT($C594,2)&\"-\"&$D594)>0,IF($D594>0,VLOOKUP(RIGHT($C594,2)&\"-\"&$D594,Rankings!$B:$G,6,FALSE),\"\"),0)","v":0},{"$f":"IF($D594>0,VLOOKUP($D594,Μητρώο!$A:$F,4,FALSE),\"\")","v":""}]
[593,592,null,null,{"$f":"IF($D595>0,VLOOKUP($D595,Μητρώο!$A:$F,3,FALSE),\"\")","v":""},{"$f":"IF($D595>0,VLOOKUP($D595,Μητρώο!$A:$F,5,FALSE),\"\")","v":""},{"$f":"IF(COUNTIF(Rankings!$B:$B,RIGHT($C595,2)&\"-\"&$D595)>0,IF($D595>0,VLOOKUP(RIGHT($C595,2)&\"-\"&$D595,Rankings!$B:$G,6,FALSE),\"\"),0)","v":0},{"$f":"IF($D595>0,VLOOKUP($D595,Μητρώο!$A:$F,4,FALSE),\"\")","v":""}]
[594,593,null,null,{"$f":"IF($D596>0,VLOOKUP($D596,Μητρώο!$A:$F,3,FALSE),\"\")","v":""},{"$f":"IF($D596>0,VLOOKUP($D596,Μητρώο!$A:$F,5,FALSE),\"\")","v":""},{"$f":"IF(COUNTIF(Rankings!$B:$B,RIGHT($C596,2)&\"-\"&$D596)>0,IF($D596>0,VLOOKUP(RIGHT($C596,2)&\"-\"&$D596,Rankings!$B:$G,6,FALSE),\"\"),0)","v":0},{"$f":"IF($D596>0,VLOOKUP($D596,Μητρώο!$A:$F,4,FALSE),\"\")","v":""}]
[595,594,null,null,{"$f":"IF($D597>0,VLOOKUP($D597,Μητρώο!$A:$F,3,FALSE),\"\")","v":""},{"$f":"IF($D597>0,VLOOKUP($D597,Μητρώο!$A:$F,5,FALSE),\"\")","v":""},{"$f":"IF(COUNTIF(Rankings!$B:$B,RIGHT($C597,2)&\"-\"&$D597)>0,IF($D597>0,VLOOKUP(RIGHT($C597,2)&\"-\"&$D597,Rankings!$B:$G,6,FALSE),\"\"),0)","v":0},{"$f":"IF($D597>0,VLOOKUP($D597,Μητρώο!$A:$F,4,FALSE),\"\")","v":""}]
[596,595,null,null,{"$f":"IF($D598>0,VLOOKUP($D598,Μητρώο!$A:$F,3,FALSE),\"\")","v":""},{"$f":"IF($D598>0,VLOOKUP($D598,Μητρώο!$A:$F,5,FALSE),\"\")","v":""},{"$f":"IF(COUNTIF(Rankings!$B:$B,RIGHT($C598,2)&\"-\"&$D598)>0,IF($D598>0,VLOOKUP(RIGHT($C598,2)&\"-\"&$D598,Rankings!$B:$G,6,FALSE),\"\"),0)","v":0},{"$f":"IF($D598>0,VLOOKUP($D598,Μητρώο!$A:$F,4,FALSE),\"\")","v":""}]
[597,596,null,null,{"$f":"IF($D599>0,VLOOKUP($D599,Μητρώο!$A:$F,3,FALSE),\"\")","v":""},{"$f":"IF($D599>0,VLOOKUP($D599,Μητρώο!$A:$F,5,FALSE),\"\")","v":""},{"$f":"IF(COUNTIF(Rankings!$B:$B,RIGHT($C599,2)&\"-\"&$D599)>0,IF($D599>0,VLOOKUP(RIGHT($C599,2)&\"-\"&$D599,Rankings!$B:$G,6,FALSE),\"\"),0)","v":0},{"$f":"IF($D599>0,VLOOKUP($D599,Μητρώο!$A:$F,4,FALSE),\"\")","v":""}]
[598,597,null,null,{"$f":"IF($D600>0,VLOOKUP($D600,Μητρώο!$A:$F,3,FALSE),\"\")","v":""},{"$f":"IF($D600>0,VLOOKUP($D600,Μητρώο!$A:$F,5,FALSE),\"\")","v":""},{"$f":"IF(COUNTIF(Rankings!$B:$B,RIGHT($C600,2)&\"-\"&$D600)>0,IF($D600>0,VLOOKUP(RIGHT($C600,2)&\"-\"&$D600,Rankings!$B:$G,6,FALSE),\"\"),0)","v":0},{"$f":"IF($D600>0,VLOOKUP($D600,Μητρώο!$A:$F,4,FALSE),\"\")","v":""}]
[599,598,null,null,{"$f":"IF($D601>0,VLOOKUP($D601,Μητρώο!$A:$F,3,FALSE),\"\")","v":""},{"$f":"IF($D601>0,VLOOKUP($D601,Μητρώο!$A:$F,5,FALSE),\"\")","v":""},{"$f":"IF(COUNTIF(Rankings!$B:$B,RIGHT($C601,2)&\"-\"&$D601)>0,IF($D601>0,VLOOKUP(RIGHT($C601,2)&\"-\"&$D601,Rankings!$B:$G,6,FALSE),\"\"),0)","v":0},{"$f":"IF($D601>0,VLOOKUP($D601,Μητρώο!$A:$F,4,FALSE),\"\")","v":""}]
[600,599,null,null,{"$f":"IF($D602>0,VLOOKUP($D602,Μητρώο!$A:$F,3,FALSE),\"\")","v":""},{"$f":"IF($D602>0,VLOOKUP($D602,Μητρώο!$A:$F,5,FALSE),\"\")","v":""},{"$f":"IF(COUNTIF(Rankings!$B:$B,RIGHT($C602,2)&\"-\"&$D602)>0,IF($D602>0,VLOOKUP(RIGHT($C602,2)&\"-\"&$D602,Rankings!$B:$G,6,FALSE),\"\"),0)","v":0},{"$f":"IF($D602>0,VLOOKUP($D602,Μητρώο!$A:$F,4,FALSE),\"\")","v":""}]
[601,600,null,null,{"$f":"IF($D603>0,VLOOKUP($D603,Μητρώο!$A:$F,3,FALSE),\"\")","v":""},{"$f":"IF($D603>0,VLOOKUP($D603,Μητρώο!$A:$F,5,FALSE),\"\")","v":""},{"$f":"IF(COUNTIF(Rankings!$B:$B,RIGHT($C603,2)&\"-\"&$D603)>0,IF($D603>0,VLOOKUP(RIGHT($C603,2)&\"-\"&$D603,Rankings!$B:$G,6,FALSE),\"\"),0)","v":0},{"$f":"IF($D603>0,VLOOKUP($D603,Μητρώο!$A:$F,4,FALSE),\"\")","v":""}]
[602,601,null,null,{"$f":"IF($D604>0,VLOOKUP($D604,Μητρώο!$A:$F,3,FALSE),\"\")","v":""},{"$f":"IF($D604>0,VLOOKUP($D604,Μητρώο!$A:$F,5,FALSE),\"\")","v":""},{"$f":"IF(COUNTIF(Rankings!$B:$B,RIGHT($C604,2)&\"-\"&$D604)>0,IF($D604>0,VLOOKUP(RIGHT($C604,2)&\"-\"&$D604,Rankings!$B:$G,6,FALSE),\"\"),0)","v":0},{"$f":"IF($D604>0,VLOOKUP($D604,Μητρώο!$A:$F,4,FALSE),\"\")","v":""}]
[603,602,null,null,{"$f":"IF($D605>0,VLOOKUP($D605,Μητρώο!$A:$F,3,FALSE),\"\")","v":""},{"$f":"IF($D605>0,VLOOKUP($D605,Μητρώο!$A:$F,5,FALSE),\"\")","v":""},{"$f":"IF(COUNTIF(Rankings!$B:$B,RIGHT($C605,2)&\"-\"&$D605)>0,IF($D605>0,VLOOKUP(RIGHT($C605,2)&\"-\"&$D605,Rankings!$B:$G,6,FALSE),\"\"),0)","v":0},{"$f":"IF($D605>0,VLOOKUP($D605,Μητρώο!$A:$F,4,FALSE),\"\")","v":""}]
[604,603,null,null,{"$f":"IF($D606>0,VLOOKUP($D606,Μητρώο!$A:$F,3,FALSE),\"\")","v":""},{"$f":"IF($D606>0,VLOOKUP($D606,Μητρώο!$A:$F,5,FALSE),\"\")","v":""},{"$f":"IF(COUNTIF(Rankings!$B:$B,RIGHT($C606,2)&\"-\"&$D606)>0,IF($D606>0,VLOOKUP(RIGHT($C606,2)&\"-\"&$D606,Rankings!$B:$G,6,FALSE),\"\"),0)","v":0},{"$f":"IF($D606>0,VLOOKUP($D606,Μητρώο!$A:$F,4,FALSE),\"\")","v":""}]
[605,604,null,null,{"$f":"IF($D607>0,VLOOKUP($D607,Μητρώο!$A:$F,3,FALSE),\"\")","v":""},{"$f":"IF($D607>0,VLOOKUP($D607,Μητρώο!$A:$F,5,FALSE),\"\")","v":""},{"$f":"IF(COUNTIF(Rankings!$B:$B,RIGHT($C607,2)&\"-\"&$D607)>0,IF($D607>0,VLOOKUP(RIGHT($C607,2)&\"-\"&$D607,Rankings!$B:$G,6,FALSE),\"\"),0)","v":0},{"$f":"IF($D607>0,VLOOKUP($D607,Μητρώο!$A:$F,4,FALSE),\"\")","v":""}]
[606,605,null,null,{"$f":"IF($D608>0,VLOOKUP($D608,Μητρώο!$A:$F,3,FALSE),\"\")","v":""},{"$f":"IF($D608>0,VLOOKUP($D608,Μητρώο!$A:$F,5,FALSE),\"\")","v":""},{"$f":"IF(COUNTIF(Rankings!$B:$B,RIGHT($C608,2)&\"-\"&$D608)>0,IF($D608>0,VLOOKUP(RIGHT($C608,2)&\"-\"&$D608,Rankings!$B:$G,6,FALSE),\"\"),0)","v":0},{"$f":"IF($D608>0,VLOOKUP($D608,Μητρώο!$A:$F,4,FALSE),\"\")","v":""}]
[607,606,null,null,{"$f":"IF($D609>0,VLOOKUP($D609,Μητρώο!$A:$F,3,FALSE),\"\")","v":""},{"$f":"IF($D609>0,VLOOKUP($D609,Μητρώο!$A:$F,5,FALSE),\"\")","v":""},{"$f":"IF(COUNTIF(Rankings!$B:$B,RIGHT($C609,2)&\"-\"&$D609)>0,IF($D609>0,VLOOKUP(RIGHT($C609,2)&\"-\"&$D609,Rankings!$B:$G,6,FALSE),\"\"),0)","v":0},{"$f":"IF($D609>0,VLOOKUP($D609,Μητρώο!$A:$F,4,FALSE),\"\")","v":""}]
[608,607,null,null,{"$f":"IF($D610>0,VLOOKUP($D610,Μητρώο!$A:$F,3,FALSE),\"\")","v":""},{"$f":"IF($D610>0,VLOOKUP($D610,Μητρώο!$A:$F,5,FALSE),\"\")","v":""},{"$f":"IF(COUNTIF(Rankings!$B:$B,RIGHT($C610,2)&\"-\"&$D610)>0,IF($D610>0,VLOOKUP(RIGHT($C610,2)&\"-\"&$D610,Rankings!$B:$G,6,FALSE),\"\"),0)","v":0},{"$f":"IF($D610>0,VLOOKUP($D610,Μητρώο!$A:$F,4,FALSE),\"\")","v":""}]
[609,608,null,null,{"$f":"IF($D611>0,VLOOKUP($D611,Μητρώο!$A:$F,3,FALSE),\"\")","v":""},{"$f":"IF($D611>0,VLOOKUP($D611,Μητρώο!$A:$F,5,FALSE),\"\")","v":""},{"$f":"IF(COUNTIF(Rankings!$B:$B,RIGHT($C611,2)&\"-\"&$D611)>0,IF($D611>0,VLOOKUP(RIGHT($C611,2)&\"-\"&$D611,Rankings!$B:$G,6,FALSE),\"\"),0)","v":0},{"$f":"IF($D611>0,VLOOKUP($D611,Μητρώο!$A:$F,4,FALSE),\"\")","v":""}]
[610,609,null,null,{"$f":"IF($D612>0,VLOOKUP($D612,Μητρώο!$A:$F,3,FALSE),\"\")","v":""},{"$f":"IF($D612>0,VLOOKUP($D612,Μητρώο!$A:$F,5,FALSE),\"\")","v":""},{"$f":"IF(COUNTIF(Rankings!$B:$B,RIGHT($C612,2)&\"-\"&$D612)>0,IF($D612>0,VLOOKUP(RIGHT($C612,2)&\"-\"&$D612,Rankings!$B:$G,6,FALSE),\"\"),0)","v":0},{"$f":"IF($D612>0,VLOOKUP($D612,Μητρώο!$A:$F,4,FALSE),\"\")","v":""}," "]
[611,610,null,null,{"$f":"IF($D613>0,VLOOKUP($D613,Μητρώο!$A:$F,3,FALSE),\"\")","v":""},{"$f":"IF($D613>0,VLOOKUP($D613,Μητρώο!$A:$F,5,FALSE),\"\")","v":""},{"$f":"IF(COUNTIF(Rankings!$B:$B,RIGHT($C613,2)&\"-\"&$D613)>0,IF($D613>0,VLOOKUP(RIGHT($C613,2)&\"-\"&$D613,Rankings!$B:$G,6,FALSE),\"\"),0)","v":0},{"$f":"IF($D613>0,VLOOKUP($D613,Μητρώο!$A:$F,4,FALSE),\"\")","v":""}]
[612,611,null,null,{"$f":"IF($D614>0,VLOOKUP($D614,Μητρώο!$A:$F,3,FALSE),\"\")","v":""},{"$f":"IF($D614>0,VLOOKUP($D614,Μητρώο!$A:$F,5,FALSE),\"\")","v":""},{"$f":"IF(COUNTIF(Rankings!$B:$B,RIGHT($C614,2)&\"-\"&$D614)>0,IF($D614>0,VLOOKUP(RIGHT($C614,2)&\"-\"&$D614,Rankings!$B:$G,6,FALSE),\"\"),0)","v":0},{"$f":"IF($D614>0,VLOOKUP($D614,Μητρώο!$A:$F,4,FALSE),\"\")","v":""}]
[613,612,null,null,{"$f":"IF($D615>0,VLOOKUP($D615,Μητρώο!$A:$F,3,FALSE),\"\")","v":""},{"$f":"IF($D615>0,VLOOKUP($D615,Μητρώο!$A:$F,5,FALSE),\"\")","v":""},{"$f":"IF(COUNTIF(Rankings!$B:$B,RIGHT($C615,2)&\"-\"&$D615)>0,IF($D615>0,VLOOKUP(RIGHT($C615,2)&\"-\"&$D615,Rankings!$B:$G,6,FALSE),\"\"),0)","v":0},{"$f":"IF($D615>0,VLOOKUP($D615,Μητρώο!$A:$F,4,FALSE),\"\")","v":""}]
[614,613,null,null,{"$f":"IF($D616>0,VLOOKUP($D616,Μητρώο!$A:$F,3,FALSE),\"\")","v":""},{"$f":"IF($D616>0,VLOOKUP($D616,Μητρώο!$A:$F,5,FALSE),\"\")","v":""},{"$f":"IF(COUNTIF(Rankings!$B:$B,RIGHT($C616,2)&\"-\"&$D616)>0,IF($D616>0,VLOOKUP(RIGHT($C616,2)&\"-\"&$D616,Rankings!$B:$G,6,FALSE),\"\"),0)","v":0},{"$f":"IF($D616>0,VLOOKUP($D616,Μητρώο!$A:$F,4,FALSE),\"\")","v":""}]
[615,614,null,null,{"$f":"IF($D617>0,VLOOKUP($D617,Μητρώο!$A:$F,3,FALSE),\"\")","v":""},{"$f":"IF($D617>0,VLOOKUP($D617,Μητρώο!$A:$F,5,FALSE),\"\")","v":""},{"$f":"IF(COUNTIF(Rankings!$B:$B,RIGHT($C617,2)&\"-\"&$D617)>0,IF($D617>0,VLOOKUP(RIGHT($C617,2)&\"-\"&$D617,Rankings!$B:$G,6,FALSE),\"\"),0)","v":0},{"$f":"IF($D617>0,VLOOKUP($D617,Μητρώο!$A:$F,4,FALSE),\"\")","v":""}]
[616,615,null,null,{"$f":"IF($D618>0,VLOOKUP($D618,Μητρώο!$A:$F,3,FALSE),\"\")","v":""},{"$f":"IF($D618>0,VLOOKUP($D618,Μητρώο!$A:$F,5,FALSE),\"\")","v":""},{"$f":"IF(COUNTIF(Rankings!$B:$B,RIGHT($C618,2)&\"-\"&$D618)>0,IF($D618>0,VLOOKUP(RIGHT($C618,2)&\"-\"&$D618,Rankings!$B:$G,6,FALSE),\"\"),0)","v":0},{"$f":"IF($D618>0,VLOOKUP($D618,Μητρώο!$A:$F,4,FALSE),\"\")","v":""}]
[617,616,null,null,{"$f":"IF($D619>0,VLOOKUP($D619,Μητρώο!$A:$F,3,FALSE),\"\")","v":""},{"$f":"IF($D619>0,VLOOKUP($D619,Μητρώο!$A:$F,5,FALSE),\"\")","v":""},{"$f":"IF(COUNTIF(Rankings!$B:$B,RIGHT($C619,2)&\"-\"&$D619)>0,IF($D619>0,VLOOKUP(RIGHT($C619,2)&\"-\"&$D619,Rankings!$B:$G,6,FALSE),\"\"),0)","v":0},{"$f":"IF($D619>0,VLOOKUP($D619,Μητρώο!$A:$F,4,FALSE),\"\")","v":""}]
[618,617,null,null,{"$f":"IF($D620>0,VLOOKUP($D620,Μητρώο!$A:$F,3,FALSE),\"\")","v":""},{"$f":"IF($D620>0,VLOOKUP($D620,Μητρώο!$A:$F,5,FALSE),\"\")","v":""},{"$f":"IF(COUNTIF(Rankings!$B:$B,RIGHT($C620,2)&\"-\"&$D620)>0,IF($D620>0,VLOOKUP(RIGHT($C620,2)&\"-\"&$D620,Rankings!$B:$G,6,FALSE),\"\"),0)","v":0},{"$f":"IF($D620>0,VLOOKUP($D620,Μητρώο!$A:$F,4,FALSE),\"\")","v":""}]
[619,618,null,null,{"$f":"IF($D621>0,VLOOKUP($D621,Μητρώο!$A:$F,3,FALSE),\"\")","v":""},{"$f":"IF($D621>0,VLOOKUP($D621,Μητρώο!$A:$F,5,FALSE),\"\")","v":""},{"$f":"IF(COUNTIF(Rankings!$B:$B,RIGHT($C621,2)&\"-\"&$D621)>0,IF($D621>0,VLOOKUP(RIGHT($C621,2)&\"-\"&$D621,Rankings!$B:$G,6,FALSE),\"\"),0)","v":0},{"$f":"IF($D621>0,VLOOKUP($D621,Μητρώο!$A:$F,4,FALSE),\"\")","v":""}]
[620,619,null,null,{"$f":"IF($D622>0,VLOOKUP($D622,Μητρώο!$A:$F,3,FALSE),\"\")","v":""},{"$f":"IF($D622>0,VLOOKUP($D622,Μητρώο!$A:$F,5,FALSE),\"\")","v":""},{"$f":"IF(COUNTIF(Rankings!$B:$B,RIGHT($C622,2)&\"-\"&$D622)>0,IF($D622>0,VLOOKUP(RIGHT($C622,2)&\"-\"&$D622,Rankings!$B:$G,6,FALSE),\"\"),0)","v":0},{"$f":"IF($D622>0,VLOOKUP($D622,Μητρώο!$A:$F,4,FALSE),\"\")","v":""}]
[621,620,null,null,{"$f":"IF($D623>0,VLOOKUP($D623,Μητρώο!$A:$F,3,FALSE),\"\")","v":""},{"$f":"IF($D623>0,VLOOKUP($D623,Μητρώο!$A:$F,5,FALSE),\"\")","v":""},{"$f":"IF(COUNTIF(Rankings!$B:$B,RIGHT($C623,2)&\"-\"&$D623)>0,IF($D623>0,VLOOKUP(RIGHT($C623,2)&\"-\"&$D623,Rankings!$B:$G,6,FALSE),\"\"),0)","v":0},{"$f":"IF($D623>0,VLOOKUP($D623,Μητρώο!$A:$F,4,FALSE),\"\")","v":""}]
[622,621,null,null,{"$f":"IF($D624>0,VLOOKUP($D624,Μητρώο!$A:$F,3,FALSE),\"\")","v":""},{"$f":"IF($D624>0,VLOOKUP($D624,Μητρώο!$A:$F,5,FALSE),\"\")","v":""},{"$f":"IF(COUNTIF(Rankings!$B:$B,RIGHT($C624,2)&\"-\"&$D624)>0,IF($D624>0,VLOOKUP(RIGHT($C624,2)&\"-\"&$D624,Rankings!$B:$G,6,FALSE),\"\"),0)","v":0},{"$f":"IF($D624>0,VLOOKUP($D624,Μητρώο!$A:$F,4,FALSE),\"\")","v":""}]
[623,622,null,null,{"$f":"IF($D625>0,VLOOKUP($D625,Μητρώο!$A:$F,3,FALSE),\"\")","v":""},{"$f":"IF($D625>0,VLOOKUP($D625,Μητρώο!$A:$F,5,FALSE),\"\")","v":""},{"$f":"IF(COUNTIF(Rankings!$B:$B,RIGHT($C625,2)&\"-\"&$D625)>0,IF($D625>0,VLOOKUP(RIGHT($C625,2)&\"-\"&$D625,Rankings!$B:$G,6,FALSE),\"\"),0)","v":0},{"$f":"IF($D625>0,VLOOKUP($D625,Μητρώο!$A:$F,4,FALSE),\"\")","v":""}]
[624,623,null,null,{"$f":"IF($D626>0,VLOOKUP($D626,Μητρώο!$A:$F,3,FALSE),\"\")","v":""},{"$f":"IF($D626>0,VLOOKUP($D626,Μητρώο!$A:$F,5,FALSE),\"\")","v":""},{"$f":"IF(COUNTIF(Rankings!$B:$B,RIGHT($C626,2)&\"-\"&$D626)>0,IF($D626>0,VLOOKUP(RIGHT($C626,2)&\"-\"&$D626,Rankings!$B:$G,6,FALSE),\"\"),0)","v":0},{"$f":"IF($D626>0,VLOOKUP($D626,Μητρώο!$A:$F,4,FALSE),\"\")","v":""}]
[625,624,null,null,{"$f":"IF($D627>0,VLOOKUP($D627,Μητρώο!$A:$F,3,FALSE),\"\")","v":""},{"$f":"IF($D627>0,VLOOKUP($D627,Μητρώο!$A:$F,5,FALSE),\"\")","v":""},{"$f":"IF(COUNTIF(Rankings!$B:$B,RIGHT($C627,2)&\"-\"&$D627)>0,IF($D627>0,VLOOKUP(RIGHT($C627,2)&\"-\"&$D627,Rankings!$B:$G,6,FALSE),\"\"),0)","v":0},{"$f":"IF($D627>0,VLOOKUP($D627,Μητρώο!$A:$F,4,FALSE),\"\")","v":""}]
[626,625,null,null,{"$f":"IF($D628>0,VLOOKUP($D628,Μητρώο!$A:$F,3,FALSE),\"\")","v":""},{"$f":"IF($D628>0,VLOOKUP($D628,Μητρώο!$A:$F,5,FALSE),\"\")","v":""},{"$f":"IF(COUNTIF(Rankings!$B:$B,RIGHT($C628,2)&\"-\"&$D628)>0,IF($D628>0,VLOOKUP(RIGHT($C628,2)&\"-\"&$D628,Rankings!$B:$G,6,FALSE),\"\"),0)","v":0},{"$f":"IF($D628>0,VLOOKUP($D628,Μητρώο!$A:$F,4,FALSE),\"\")","v":""}]
[627,626,null,null,{"$f":"IF($D629>0,VLOOKUP($D629,Μητρώο!$A:$F,3,FALSE),\"\")","v":""},{"$f":"IF($D629>0,VLOOKUP($D629,Μητρώο!$A:$F,5,FALSE),\"\")","v":""},{"$f":"IF(COUNTIF(Rankings!$B:$B,RIGHT($C629,2)&\"-\"&$D629)>0,IF($D629>0,VLOOKUP(RIGHT($C629,2)&\"-\"&$D629,Rankings!$B:$G,6,FALSE),\"\"),0)","v":0},{"$f":"IF($D629>0,VLOOKUP($D629,Μητρώο!$A:$F,4,FALSE),\"\")","v":""}]
[628,627,null,null,{"$f":"IF($D630>0,VLOOKUP($D630,Μητρώο!$A:$F,3,FALSE),\"\")","v":""},{"$f":"IF($D630>0,VLOOKUP($D630,Μητρώο!$A:$F,5,FALSE),\"\")","v":""},{"$f":"IF(COUNTIF(Rankings!$B:$B,RIGHT($C630,2)&\"-\"&$D630)>0,IF($D630>0,VLOOKUP(RIGHT($C630,2)&\"-\"&$D630,Rankings!$B:$G,6,FALSE),\"\"),0)","v":0},{"$f":"IF($D630>0,VLOOKUP($D630,Μητρώο!$A:$F,4,FALSE),\"\")","v":""}]
[629,628,null,null,{"$f":"IF($D631>0,VLOOKUP($D631,Μητρώο!$A:$F,3,FALSE),\"\")","v":""},{"$f":"IF($D631>0,VLOOKUP($D631,Μητρώο!$A:$F,5,FALSE),\"\")","v":""},{"$f":"IF(COUNTIF(Rankings!$B:$B,RIGHT($C631,2)&\"-\"&$D631)>0,IF($D631>0,VLOOKUP(RIGHT($C631,2)&\"-\"&$D631,Rankings!$B:$G,6,FALSE),\"\"),0)","v":0},{"$f":"IF($D631>0,VLOOKUP($D631,Μητρώο!$A:$F,4,FALSE),\"\")","v":""}]
[630,629,null,null,{"$f":"IF($D632>0,VLOOKUP($D632,Μητρώο!$A:$F,3,FALSE),\"\")","v":""},{"$f":"IF($D632>0,VLOOKUP($D632,Μητρώο!$A:$F,5,FALSE),\"\")","v":""},{"$f":"IF(COUNTIF(Rankings!$B:$B,RIGHT($C632,2)&\"-\"&$D632)>0,IF($D632>0,VLOOKUP(RIGHT($C632,2)&\"-\"&$D632,Rankings!$B:$G,6,FALSE),\"\"),0)","v":0},{"$f":"IF($D632>0,VLOOKUP($D632,Μητρώο!$A:$F,4,FALSE),\"\")","v":""}]
[631,630,null,null,{"$f":"IF($D633>0,VLOOKUP($D633,Μητρώο!$A:$F,3,FALSE),\"\")","v":""},{"$f":"IF($D633>0,VLOOKUP($D633,Μητρώο!$A:$F,5,FALSE),\"\")","v":""},{"$f":"IF(COUNTIF(Rankings!$B:$B,RIGHT($C633,2)&\"-\"&$D633)>0,IF($D633>0,VLOOKUP(RIGHT($C633,2)&\"-\"&$D633,Rankings!$B:$G,6,FALSE),\"\"),0)","v":0},{"$f":"IF($D633>0,VLOOKUP($D633,Μητρώο!$A:$F,4,FALSE),\"\")","v":""}]
[632,631,null,null,{"$f":"IF($D634>0,VLOOKUP($D634,Μητρώο!$A:$F,3,FALSE),\"\")","v":""},{"$f":"IF($D634>0,VLOOKUP($D634,Μητρώο!$A:$F,5,FALSE),\"\")","v":""},{"$f":"IF(COUNTIF(Rankings!$B:$B,RIGHT($C634,2)&\"-\"&$D634)>0,IF($D634>0,VLOOKUP(RIGHT($C634,2)&\"-\"&$D634,Rankings!$B:$G,6,FALSE),\"\"),0)","v":0},{"$f":"IF($D634>0,VLOOKUP($D634,Μητρώο!$A:$F,4,FALSE),\"\")","v":""}]
[633,632,null,null,{"$f":"IF($D635>0,VLOOKUP($D635,Μητρώο!$A:$F,3,FALSE),\"\")","v":""},{"$f":"IF($D635>0,VLOOKUP($D635,Μητρώο!$A:$F,5,FALSE),\"\")","v":""},{"$f":"IF(COUNTIF(Rankings!$B:$B,RIGHT($C635,2)&\"-\"&$D635)>0,IF($D635>0,VLOOKUP(RIGHT($C635,2)&\"-\"&$D635,Rankings!$B:$G,6,FALSE),\"\"),0)","v":0},{"$f":"IF($D635>0,VLOOKUP($D635,Μητρώο!$A:$F,4,FALSE),\"\")","v":""}]
[634,633,null,null,{"$f":"IF($D636>0,VLOOKUP($D636,Μητρώο!$A:$F,3,FALSE),\"\")","v":""},{"$f":"IF($D636>0,VLOOKUP($D636,Μητρώο!$A:$F,5,FALSE),\"\")","v":""},{"$f":"IF(COUNTIF(Rankings!$B:$B,RIGHT($C636,2)&\"-\"&$D636)>0,IF($D636>0,VLOOKUP(RIGHT($C636,2)&\"-\"&$D636,Rankings!$B:$G,6,FALSE),\"\"),0)","v":0},{"$f":"IF($D636>0,VLOOKUP($D636,Μητρώο!$A:$F,4,FALSE),\"\")","v":""}]
[635,634,null,null,{"$f":"IF($D637>0,VLOOKUP($D637,Μητρώο!$A:$F,3,FALSE),\"\")","v":""},{"$f":"IF($D637>0,VLOOKUP($D637,Μητρώο!$A:$F,5,FALSE),\"\")","v":""},{"$f":"IF(COUNTIF(Rankings!$B:$B,RIGHT($C637,2)&\"-\"&$D637)>0,IF($D637>0,VLOOKUP(RIGHT($C637,2)&\"-\"&$D637,Rankings!$B:$G,6,FALSE),\"\"),0)","v":0},{"$f":"IF($D637>0,VLOOKUP($D637,Μητρώο!$A:$F,4,FALSE),\"\")","v":""}]
[636,635,null,null,{"$f":"IF($D638>0,VLOOKUP($D638,Μητρώο!$A:$F,3,FALSE),\"\")","v":""},{"$f":"IF($D638>0,VLOOKUP($D638,Μητρώο!$A:$F,5,FALSE),\"\")","v":""},{"$f":"IF(COUNTIF(Rankings!$B:$B,RIGHT($C638,2)&\"-\"&$D638)>0,IF($D638>0,VLOOKUP(RIGHT($C638,2)&\"-\"&$D638,Rankings!$B:$G,6,FALSE),\"\"),0)","v":0},{"$f":"IF($D638>0,VLOOKUP($D638,Μητρώο!$A:$F,4,FALSE),\"\")","v":""}]
[637,636,null,null,{"$f":"IF($D639>0,VLOOKUP($D639,Μητρώο!$A:$F,3,FALSE),\"\")","v":""},{"$f":"IF($D639>0,VLOOKUP($D639,Μητρώο!$A:$F,5,FALSE),\"\")","v":""},{"$f":"IF(COUNTIF(Rankings!$B:$B,RIGHT($C639,2)&\"-\"&$D639)>0,IF($D639>0,VLOOKUP(RIGHT($C639,2)&\"-\"&$D639,Rankings!$B:$G,6,FALSE),\"\"),0)","v":0},{"$f":"IF($D639>0,VLOOKUP($D639,Μητρώο!$A:$F,4,FALSE),\"\")","v":""}]
[638,637,null,null,{"$f":"IF($D640>0,VLOOKUP($D640,Μητρώο!$A:$F,3,FALSE),\"\")","v":""},{"$f":"IF($D640>0,VLOOKUP($D640,Μητρώο!$A:$F,5,FALSE),\"\")","v":""},{"$f":"IF(COUNTIF(Rankings!$B:$B,RIGHT($C640,2)&\"-\"&$D640)>0,IF($D640>0,VLOOKUP(RIGHT($C640,2)&\"-\"&$D640,Rankings!$B:$G,6,FALSE),\"\"),0)","v":0},{"$f":"IF($D640>0,VLOOKUP($D640,Μητρώο!$A:$F,4,FALSE),\"\")","v":""}]
[639,638,null,null,{"$f":"IF($D641>0,VLOOKUP($D641,Μητρώο!$A:$F,3,FALSE),\"\")","v":""},{"$f":"IF($D641>0,VLOOKUP($D641,Μητρώο!$A:$F,5,FALSE),\"\")","v":""},{"$f":"IF(COUNTIF(Rankings!$B:$B,RIGHT($C641,2)&\"-\"&$D641)>0,IF($D641>0,VLOOKUP(RIGHT($C641,2)&\"-\"&$D641,Rankings!$B:$G,6,FALSE),\"\"),0)","v":0},{"$f":"IF($D641>0,VLOOKUP($D641,Μητρώο!$A:$F,4,FALSE),\"\")","v":""}]
[640,639,null,null,{"$f":"IF($D642>0,VLOOKUP($D642,Μητρώο!$A:$F,3,FALSE),\"\")","v":""},{"$f":"IF($D642>0,VLOOKUP($D642,Μητρώο!$A:$F,5,FALSE),\"\")","v":""},{"$f":"IF(COUNTIF(Rankings!$B:$B,RIGHT($C642,2)&\"-\"&$D642)>0,IF($D642>0,VLOOKUP(RIGHT($C642,2)&\"-\"&$D642,Rankings!$B:$G,6,FALSE),\"\"),0)","v":0},{"$f":"IF($D642>0,VLOOKUP($D642,Μητρώο!$A:$F,4,FALSE),\"\")","v":""}]
[641,640,null,null,{"$f":"IF($D643>0,VLOOKUP($D643,Μητρώο!$A:$F,3,FALSE),\"\")","v":""},{"$f":"IF($D643>0,VLOOKUP($D643,Μητρώο!$A:$F,5,FALSE),\"\")","v":""},{"$f":"IF(COUNTIF(Rankings!$B:$B,RIGHT($C643,2)&\"-\"&$D643)>0,IF($D643>0,VLOOKUP(RIGHT($C643,2)&\"-\"&$D643,Rankings!$B:$G,6,FALSE),\"\"),0)","v":0},{"$f":"IF($D643>0,VLOOKUP($D643,Μητρώο!$A:$F,4,FALSE),\"\")","v":""}]
[642,{"$f":"IF(C644=C643,B643+1,1)","v":641},null,null,{"$f":"IF($D644>0,VLOOKUP($D644,Μητρώο!$A:$F,3,FALSE),\"\")","v":""},{"$f":"IF($D644>0,VLOOKUP($D644,Μητρώο!$A:$F,5,FALSE),\"\")","v":""},{"$f":"IF(COUNTIF(Rankings!$B:$B,RIGHT($C644,2)&\"-\"&$D644)>0,IF($D644>0,VLOOKUP(RIGHT($C644,2)&\"-\"&$D644,Rankings!$B:$G,6,FALSE),\"\"),0)","v":0},{"$f":"IF($D644>0,VLOOKUP($D644,Μητρώο!$A:$F,4,FALSE),\"\")","v":""}]
[643,642,null,null,{"$f":"IF($D645>0,VLOOKUP($D645,Μητρώο!$A:$F,3,FALSE),\"\")","v":""},{"$f":"IF($D645>0,VLOOKUP($D645,Μητρώο!$A:$F,5,FALSE),\"\")","v":""},{"$f":"IF(COUNTIF(Rankings!$B:$B,RIGHT($C645,2)&\"-\"&$D645)>0,IF($D645>0,VLOOKUP(RIGHT($C645,2)&\"-\"&$D645,Rankings!$B:$G,6,FALSE),\"\"),0)","v":0},{"$f":"IF($D645>0,VLOOKUP($D645,Μητρώο!$A:$F,4,FALSE),\"\")","v":""}]
[644,643,null,null,{"$f":"IF($D646>0,VLOOKUP($D646,Μητρώο!$A:$F,3,FALSE),\"\")","v":""},{"$f":"IF($D646>0,VLOOKUP($D646,Μητρώο!$A:$F,5,FALSE),\"\")","v":""},{"$f":"IF(COUNTIF(Rankings!$B:$B,RIGHT($C646,2)&\"-\"&$D646)>0,IF($D646>0,VLOOKUP(RIGHT($C646,2)&\"-\"&$D646,Rankings!$B:$G,6,FALSE),\"\"),0)","v":0},{"$f":"IF($D646>0,VLOOKUP($D646,Μητρώο!$A:$F,4,FALSE),\"\")","v":""}]
[645,644,null,null,{"$f":"IF($D647>0,VLOOKUP($D647,Μητρώο!$A:$F,3,FALSE),\"\")","v":""},{"$f":"IF($D647>0,VLOOKUP($D647,Μητρώο!$A:$F,5,FALSE),\"\")","v":""},{"$f":"IF(COUNTIF(Rankings!$B:$B,RIGHT($C647,2)&\"-\"&$D647)>0,IF($D647>0,VLOOKUP(RIGHT($C647,2)&\"-\"&$D647,Rankings!$B:$G,6,FALSE),\"\"),0)","v":0},{"$f":"IF($D647>0,VLOOKUP($D647,Μητρώο!$A:$F,4,FALSE),\"\")","v":""}]
[646,645,null,null,{"$f":"IF($D648>0,VLOOKUP($D648,Μητρώο!$A:$F,3,FALSE),\"\")","v":""},{"$f":"IF($D648>0,VLOOKUP($D648,Μητρώο!$A:$F,5,FALSE),\"\")","v":""},{"$f":"IF(COUNTIF(Rankings!$B:$B,RIGHT($C648,2)&\"-\"&$D648)>0,IF($D648>0,VLOOKUP(RIGHT($C648,2)&\"-\"&$D648,Rankings!$B:$G,6,FALSE),\"\"),0)","v":0},{"$f":"IF($D648>0,VLOOKUP($D648,Μητρώο!$A:$F,4,FALSE),\"\")","v":""}]
[647,646,null,null,{"$f":"IF($D649>0,VLOOKUP($D649,Μητρώο!$A:$F,3,FALSE),\"\")","v":""},{"$f":"IF($D649>0,VLOOKUP($D649,Μητρώο!$A:$F,5,FALSE),\"\")","v":""},{"$f":"IF(COUNTIF(Rankings!$B:$B,RIGHT($C649,2)&\"-\"&$D649)>0,IF($D649>0,VLOOKUP(RIGHT($C649,2)&\"-\"&$D649,Rankings!$B:$G,6,FALSE),\"\"),0)","v":0},{"$f":"IF($D649>0,VLOOKUP($D649,Μητρώο!$A:$F,4,FALSE),\"\")","v":""}]
[648,647,null,null,{"$f":"IF($D650>0,VLOOKUP($D650,Μητρώο!$A:$F,3,FALSE),\"\")","v":""},{"$f":"IF($D650>0,VLOOKUP($D650,Μητρώο!$A:$F,5,FALSE),\"\")","v":""},{"$f":"IF(COUNTIF(Rankings!$B:$B,RIGHT($C650,2)&\"-\"&$D650)>0,IF($D650>0,VLOOKUP(RIGHT($C650,2)&\"-\"&$D650,Rankings!$B:$G,6,FALSE),\"\"),0)","v":0},{"$f":"IF($D650>0,VLOOKUP($D650,Μητρώο!$A:$F,4,FALSE),\"\")","v":""}]
[649,648,null,null,{"$f":"IF($D651>0,VLOOKUP($D651,Μητρώο!$A:$F,3,FALSE),\"\")","v":""},{"$f":"IF($D651>0,VLOOKUP($D651,Μητρώο!$A:$F,5,FALSE),\"\")","v":""},{"$f":"IF(COUNTIF(Rankings!$B:$B,RIGHT($C651,2)&\"-\"&$D651)>0,IF($D651>0,VLOOKUP(RIGHT($C651,2)&\"-\"&$D651,Rankings!$B:$G,6,FALSE),\"\"),0)","v":0},{"$f":"IF($D651>0,VLOOKUP($D651,Μητρώο!$A:$F,4,FALSE),\"\")","v":""}]
[650,649,null,null,{"$f":"IF($D652>0,VLOOKUP($D652,Μητρώο!$A:$F,3,FALSE),\"\")","v":""},{"$f":"IF($D652>0,VLOOKUP($D652,Μητρώο!$A:$F,5,FALSE),\"\")","v":""},{"$f":"IF(COUNTIF(Rankings!$B:$B,RIGHT($C652,2)&\"-\"&$D652)>0,IF($D652>0,VLOOKUP(RIGHT($C652,2)&\"-\"&$D652,Rankings!$B:$G,6,FALSE),\"\"),0)","v":0},{"$f":"IF($D652>0,VLOOKUP($D652,Μητρώο!$A:$F,4,FALSE),\"\")","v":""}]
[651,650,null,null,{"$f":"IF($D653>0,VLOOKUP($D653,Μητρώο!$A:$F,3,FALSE),\"\")","v":""},{"$f":"IF($D653>0,VLOOKUP($D653,Μητρώο!$A:$F,5,FALSE),\"\")","v":""},{"$f":"IF(COUNTIF(Rankings!$B:$B,RIGHT($C653,2)&\"-\"&$D653)>0,IF($D653>0,VLOOKUP(RIGHT($C653,2)&\"-\"&$D653,Rankings!$B:$G,6,FALSE),\"\"),0)","v":0},{"$f":"IF($D653>0,VLOOKUP($D653,Μητρώο!$A:$F,4,FALSE),\"\")","v":""}]
[652,651,null,null,{"$f":"IF($D654>0,VLOOKUP($D654,Μητρώο!$A:$F,3,FALSE),\"\")","v":""},{"$f":"IF($D654>0,VLOOKUP($D654,Μητρώο!$A:$F,5,FALSE),\"\")","v":""},{"$f":"IF(COUNTIF(Rankings!$B:$B,RIGHT($C654,2)&\"-\"&$D654)>0,IF($D654>0,VLOOKUP(RIGHT($C654,2)&\"-\"&$D654,Rankings!$B:$G,6,FALSE),\"\"),0)","v":0},{"$f":"IF($D654>0,VLOOKUP($D654,Μητρώο!$A:$F,4,FALSE),\"\")","v":""}]
[653,652,null,null,{"$f":"IF($D655>0,VLOOKUP($D655,Μητρώο!$A:$F,3,FALSE),\"\")","v":""},{"$f":"IF($D655>0,VLOOKUP($D655,Μητρώο!$A:$F,5,FALSE),\"\")","v":""},{"$f":"IF(COUNTIF(Rankings!$B:$B,RIGHT($C655,2)&\"-\"&$D655)>0,IF($D655>0,VLOOKUP(RIGHT($C655,2)&\"-\"&$D655,Rankings!$B:$G,6,FALSE),\"\"),0)","v":0},{"$f":"IF($D655>0,VLOOKUP($D655,Μητρώο!$A:$F,4,FALSE),\"\")","v":""}]
[654,653,null,null,{"$f":"IF($D656>0,VLOOKUP($D656,Μητρώο!$A:$F,3,FALSE),\"\")","v":""},{"$f":"IF($D656>0,VLOOKUP($D656,Μητρώο!$A:$F,5,FALSE),\"\")","v":""},{"$f":"IF(COUNTIF(Rankings!$B:$B,RIGHT($C656,2)&\"-\"&$D656)>0,IF($D656>0,VLOOKUP(RIGHT($C656,2)&\"-\"&$D656,Rankings!$B:$G,6,FALSE),\"\"),0)","v":0},{"$f":"IF($D656>0,VLOOKUP($D656,Μητρώο!$A:$F,4,FALSE),\"\")","v":""}]
[655,654,null,null,{"$f":"IF($D657>0,VLOOKUP($D657,Μητρώο!$A:$F,3,FALSE),\"\")","v":""},{"$f":"IF($D657>0,VLOOKUP($D657,Μητρώο!$A:$F,5,FALSE),\"\")","v":""},{"$f":"IF(COUNTIF(Rankings!$B:$B,RIGHT($C657,2)&\"-\"&$D657)>0,IF($D657>0,VLOOKUP(RIGHT($C657,2)&\"-\"&$D657,Rankings!$B:$G,6,FALSE),\"\"),0)","v":0},{"$f":"IF($D657>0,VLOOKUP($D657,Μητρώο!$A:$F,4,FALSE),\"\")","v":""}]
[656,655,null,null,{"$f":"IF($D658>0,VLOOKUP($D658,Μητρώο!$A:$F,3,FALSE),\"\")","v":""},{"$f":"IF($D658>0,VLOOKUP($D658,Μητρώο!$A:$F,5,FALSE),\"\")","v":""},{"$f":"IF(COUNTIF(Rankings!$B:$B,RIGHT($C658,2)&\"-\"&$D658)>0,IF($D658>0,VLOOKUP(RIGHT($C658,2)&\"-\"&$D658,Rankings!$B:$G,6,FALSE),\"\"),0)","v":0},{"$f":"IF($D658>0,VLOOKUP($D658,Μητρώο!$A:$F,4,FALSE),\"\")","v":""}]
[657,656,null,null,{"$f":"IF($D659>0,VLOOKUP($D659,Μητρώο!$A:$F,3,FALSE),\"\")","v":""},{"$f":"IF($D659>0,VLOOKUP($D659,Μητρώο!$A:$F,5,FALSE),\"\")","v":""},{"$f":"IF(COUNTIF(Rankings!$B:$B,RIGHT($C659,2)&\"-\"&$D659)>0,IF($D659>0,VLOOKUP(RIGHT($C659,2)&\"-\"&$D659,Rankings!$B:$G,6,FALSE),\"\"),0)","v":0},{"$f":"IF($D659>0,VLOOKUP($D659,Μητρώο!$A:$F,4,FALSE),\"\")","v":""}]
[658,657,null,null,{"$f":"IF($D660>0,VLOOKUP($D660,Μητρώο!$A:$F,3,FALSE),\"\")","v":""},{"$f":"IF($D660>0,VLOOKUP($D660,Μητρώο!$A:$F,5,FALSE),\"\")","v":""},{"$f":"IF(COUNTIF(Rankings!$B:$B,RIGHT($C660,2)&\"-\"&$D660)>0,IF($D660>0,VLOOKUP(RIGHT($C660,2)&\"-\"&$D660,Rankings!$B:$G,6,FALSE),\"\"),0)","v":0},{"$f":"IF($D660>0,VLOOKUP($D660,Μητρώο!$A:$F,4,FALSE),\"\")","v":""}]
[659,658,null,null,{"$f":"IF($D661>0,VLOOKUP($D661,Μητρώο!$A:$F,3,FALSE),\"\")","v":""},{"$f":"IF($D661>0,VLOOKUP($D661,Μητρώο!$A:$F,5,FALSE),\"\")","v":""},{"$f":"IF(COUNTIF(Rankings!$B:$B,RIGHT($C661,2)&\"-\"&$D661)>0,IF($D661>0,VLOOKUP(RIGHT($C661,2)&\"-\"&$D661,Rankings!$B:$G,6,FALSE),\"\"),0)","v":0},{"$f":"IF($D661>0,VLOOKUP($D661,Μητρώο!$A:$F,4,FALSE),\"\")","v":""}]
[660,659,null,null,{"$f":"IF($D662>0,VLOOKUP($D662,Μητρώο!$A:$F,3,FALSE),\"\")","v":""},{"$f":"IF($D662>0,VLOOKUP($D662,Μητρώο!$A:$F,5,FALSE),\"\")","v":""},{"$f":"IF(COUNTIF(Rankings!$B:$B,RIGHT($C662,2)&\"-\"&$D662)>0,IF($D662>0,VLOOKUP(RIGHT($C662,2)&\"-\"&$D662,Rankings!$B:$G,6,FALSE),\"\"),0)","v":0},{"$f":"IF($D662>0,VLOOKUP($D662,Μητρώο!$A:$F,4,FALSE),\"\")","v":""}]
[661,660,null,null,{"$f":"IF($D663>0,VLOOKUP($D663,Μητρώο!$A:$F,3,FALSE),\"\")","v":""},{"$f":"IF($D663>0,VLOOKUP($D663,Μητρώο!$A:$F,5,FALSE),\"\")","v":""},{"$f":"IF(COUNTIF(Rankings!$B:$B,RIGHT($C663,2)&\"-\"&$D663)>0,IF($D663>0,VLOOKUP(RIGHT($C663,2)&\"-\"&$D663,Rankings!$B:$G,6,FALSE),\"\"),0)","v":0},{"$f":"IF($D663>0,VLOOKUP($D663,Μητρώο!$A:$F,4,FALSE),\"\")","v":""}]
[662,661,null,null,{"$f":"IF($D664>0,VLOOKUP($D664,Μητρώο!$A:$F,3,FALSE),\"\")","v":""},{"$f":"IF($D664>0,VLOOKUP($D664,Μητρώο!$A:$F,5,FALSE),\"\")","v":""},{"$f":"IF(COUNTIF(Rankings!$B:$B,RIGHT($C664,2)&\"-\"&$D664)>0,IF($D664>0,VLOOKUP(RIGHT($C664,2)&\"-\"&$D664,Rankings!$B:$G,6,FALSE),\"\"),0)","v":0},{"$f":"IF($D664>0,VLOOKUP($D664,Μητρώο!$A:$F,4,FALSE),\"\")","v":""}]
[663,662,null,null,{"$f":"IF($D665>0,VLOOKUP($D665,Μητρώο!$A:$F,3,FALSE),\"\")","v":""},{"$f":"IF($D665>0,VLOOKUP($D665,Μητρώο!$A:$F,5,FALSE),\"\")","v":""},{"$f":"IF(COUNTIF(Rankings!$B:$B,RIGHT($C665,2)&\"-\"&$D665)>0,IF($D665>0,VLOOKUP(RIGHT($C665,2)&\"-\"&$D665,Rankings!$B:$G,6,FALSE),\"\"),0)","v":0},{"$f":"IF($D665>0,VLOOKUP($D665,Μητρώο!$A:$F,4,FALSE),\"\")","v":""}]
[664,663,null,null,{"$f":"IF($D666>0,VLOOKUP($D666,Μητρώο!$A:$F,3,FALSE),\"\")","v":""},{"$f":"IF($D666>0,VLOOKUP($D666,Μητρώο!$A:$F,5,FALSE),\"\")","v":""},{"$f":"IF(COUNTIF(Rankings!$B:$B,RIGHT($C666,2)&\"-\"&$D666)>0,IF($D666>0,VLOOKUP(RIGHT($C666,2)&\"-\"&$D666,Rankings!$B:$G,6,FALSE),\"\"),0)","v":0},{"$f":"IF($D666>0,VLOOKUP($D666,Μητρώο!$A:$F,4,FALSE),\"\")","v":""}]
[665,664,null,null,{"$f":"IF($D667>0,VLOOKUP($D667,Μητρώο!$A:$F,3,FALSE),\"\")","v":""},{"$f":"IF($D667>0,VLOOKUP($D667,Μητρώο!$A:$F,5,FALSE),\"\")","v":""},{"$f":"IF(COUNTIF(Rankings!$B:$B,RIGHT($C667,2)&\"-\"&$D667)>0,IF($D667>0,VLOOKUP(RIGHT($C667,2)&\"-\"&$D667,Rankings!$B:$G,6,FALSE),\"\"),0)","v":0},{"$f":"IF($D667>0,VLOOKUP($D667,Μητρώο!$A:$F,4,FALSE),\"\")","v":""}]
[666,665,null,null,{"$f":"IF($D668>0,VLOOKUP($D668,Μητρώο!$A:$F,3,FALSE),\"\")","v":""},{"$f":"IF($D668>0,VLOOKUP($D668,Μητρώο!$A:$F,5,FALSE),\"\")","v":""},{"$f":"IF(COUNTIF(Rankings!$B:$B,RIGHT($C668,2)&\"-\"&$D668)>0,IF($D668>0,VLOOKUP(RIGHT($C668,2)&\"-\"&$D668,Rankings!$B:$G,6,FALSE),\"\"),0)","v":0},{"$f":"IF($D668>0,VLOOKUP($D668,Μητρώο!$A:$F,4,FALSE),\"\")","v":""}]
[667,666,null,null,{"$f":"IF($D669>0,VLOOKUP($D669,Μητρώο!$A:$F,3,FALSE),\"\")","v":""},{"$f":"IF($D669>0,VLOOKUP($D669,Μητρώο!$A:$F,5,FALSE),\"\")","v":""},{"$f":"IF(COUNTIF(Rankings!$B:$B,RIGHT($C669,2)&\"-\"&$D669)>0,IF($D669>0,VLOOKUP(RIGHT($C669,2)&\"-\"&$D669,Rankings!$B:$G,6,FALSE),\"\"),0)","v":0},{"$f":"IF($D669>0,VLOOKUP($D669,Μητρώο!$A:$F,4,FALSE),\"\")","v":""}]
[668,667,null,null,{"$f":"IF($D670>0,VLOOKUP($D670,Μητρώο!$A:$F,3,FALSE),\"\")","v":""},{"$f":"IF($D670>0,VLOOKUP($D670,Μητρώο!$A:$F,5,FALSE),\"\")","v":""},{"$f":"IF(COUNTIF(Rankings!$B:$B,RIGHT($C670,2)&\"-\"&$D670)>0,IF($D670>0,VLOOKUP(RIGHT($C670,2)&\"-\"&$D670,Rankings!$B:$G,6,FALSE),\"\"),0)","v":0},{"$f":"IF($D670>0,VLOOKUP($D670,Μητρώο!$A:$F,4,FALSE),\"\")","v":""}]
[669,668,null,null,{"$f":"IF($D671>0,VLOOKUP($D671,Μητρώο!$A:$F,3,FALSE),\"\")","v":""},{"$f":"IF($D671>0,VLOOKUP($D671,Μητρώο!$A:$F,5,FALSE),\"\")","v":""},{"$f":"IF(COUNTIF(Rankings!$B:$B,RIGHT($C671,2)&\"-\"&$D671)>0,IF($D671>0,VLOOKUP(RIGHT($C671,2)&\"-\"&$D671,Rankings!$B:$G,6,FALSE),\"\"),0)","v":0},{"$f":"IF($D671>0,VLOOKUP($D671,Μητρώο!$A:$F,4,FALSE),\"\")","v":""}]
[670,669,null,null,{"$f":"IF($D672>0,VLOOKUP($D672,Μητρώο!$A:$F,3,FALSE),\"\")","v":""},{"$f":"IF($D672>0,VLOOKUP($D672,Μητρώο!$A:$F,5,FALSE),\"\")","v":""},{"$f":"IF(COUNTIF(Rankings!$B:$B,RIGHT($C672,2)&\"-\"&$D672)>0,IF($D672>0,VLOOKUP(RIGHT($C672,2)&\"-\"&$D672,Rankings!$B:$G,6,FALSE),\"\"),0)","v":0},{"$f":"IF($D672>0,VLOOKUP($D672,Μητρώο!$A:$F,4,FALSE),\"\")","v":""}]
[671,670,null,null,{"$f":"IF($D673>0,VLOOKUP($D673,Μητρώο!$A:$F,3,FALSE),\"\")","v":""},{"$f":"IF($D673>0,VLOOKUP($D673,Μητρώο!$A:$F,5,FALSE),\"\")","v":""},{"$f":"IF(COUNTIF(Rankings!$B:$B,RIGHT($C673,2)&\"-\"&$D673)>0,IF($D673>0,VLOOKUP(RIGHT($C673,2)&\"-\"&$D673,Rankings!$B:$G,6,FALSE),\"\"),0)","v":0},{"$f":"IF($D673>0,VLOOKUP($D673,Μητρώο!$A:$F,4,FALSE),\"\")","v":""}]
[672,671,null,null,{"$f":"IF($D674>0,VLOOKUP($D674,Μητρώο!$A:$F,3,FALSE),\"\")","v":""},{"$f":"IF($D674>0,VLOOKUP($D674,Μητρώο!$A:$F,5,FALSE),\"\")","v":""},{"$f":"IF(COUNTIF(Rankings!$B:$B,RIGHT($C674,2)&\"-\"&$D674)>0,IF($D674>0,VLOOKUP(RIGHT($C674,2)&\"-\"&$D674,Rankings!$B:$G,6,FALSE),\"\"),0)","v":0},{"$f":"IF($D674>0,VLOOKUP($D674,Μητρώο!$A:$F,4,FALSE),\"\")","v":""}]
[673,672,null,null,{"$f":"IF($D675>0,VLOOKUP($D675,Μητρώο!$A:$F,3,FALSE),\"\")","v":""},{"$f":"IF($D675>0,VLOOKUP($D675,Μητρώο!$A:$F,5,FALSE),\"\")","v":""},{"$f":"IF(COUNTIF(Rankings!$B:$B,RIGHT($C675,2)&\"-\"&$D675)>0,IF($D675>0,VLOOKUP(RIGHT($C675,2)&\"-\"&$D675,Rankings!$B:$G,6,FALSE),\"\"),0)","v":0},{"$f":"IF($D675>0,VLOOKUP($D675,Μητρώο!$A:$F,4,FALSE),\"\")","v":""}]
[674,673,null,null,{"$f":"IF($D676>0,VLOOKUP($D676,Μητρώο!$A:$F,3,FALSE),\"\")","v":""},{"$f":"IF($D676>0,VLOOKUP($D676,Μητρώο!$A:$F,5,FALSE),\"\")","v":""},{"$f":"IF(COUNTIF(Rankings!$B:$B,RIGHT($C676,2)&\"-\"&$D676)>0,IF($D676>0,VLOOKUP(RIGHT($C676,2)&\"-\"&$D676,Rankings!$B:$G,6,FALSE),\"\"),0)","v":0},{"$f":"IF($D676>0,VLOOKUP($D676,Μητρώο!$A:$F,4,FALSE),\"\")","v":""}]
[675,674,null,null,{"$f":"IF($D677>0,VLOOKUP($D677,Μητρώο!$A:$F,3,FALSE),\"\")","v":""},{"$f":"IF($D677>0,VLOOKUP($D677,Μητρώο!$A:$F,5,FALSE),\"\")","v":""},{"$f":"IF(COUNTIF(Rankings!$B:$B,RIGHT($C677,2)&\"-\"&$D677)>0,IF($D677>0,VLOOKUP(RIGHT($C677,2)&\"-\"&$D677,Rankings!$B:$G,6,FALSE),\"\"),0)","v":0},{"$f":"IF($D677>0,VLOOKUP($D677,Μητρώο!$A:$F,4,FALSE),\"\")","v":""}]
[676,675,null,null,{"$f":"IF($D678>0,VLOOKUP($D678,Μητρώο!$A:$F,3,FALSE),\"\")","v":""},{"$f":"IF($D678>0,VLOOKUP($D678,Μητρώο!$A:$F,5,FALSE),\"\")","v":""},{"$f":"IF(COUNTIF(Rankings!$B:$B,RIGHT($C678,2)&\"-\"&$D678)>0,IF($D678>0,VLOOKUP(RIGHT($C678,2)&\"-\"&$D678,Rankings!$B:$G,6,FALSE),\"\"),0)","v":0},{"$f":"IF($D678>0,VLOOKUP($D678,Μητρώο!$A:$F,4,FALSE),\"\")","v":""}]
[677,676,null,null,{"$f":"IF($D679>0,VLOOKUP($D679,Μητρώο!$A:$F,3,FALSE),\"\")","v":""},{"$f":"IF($D679>0,VLOOKUP($D679,Μητρώο!$A:$F,5,FALSE),\"\")","v":""},{"$f":"IF(COUNTIF(Rankings!$B:$B,RIGHT($C679,2)&\"-\"&$D679)>0,IF($D679>0,VLOOKUP(RIGHT($C679,2)&\"-\"&$D679,Rankings!$B:$G,6,FALSE),\"\"),0)","v":0},{"$f":"IF($D679>0,VLOOKUP($D679,Μητρώο!$A:$F,4,FALSE),\"\")","v":""}]
[678,677,null,null,{"$f":"IF($D680>0,VLOOKUP($D680,Μητρώο!$A:$F,3,FALSE),\"\")","v":""},{"$f":"IF($D680>0,VLOOKUP($D680,Μητρώο!$A:$F,5,FALSE),\"\")","v":""},{"$f":"IF(COUNTIF(Rankings!$B:$B,RIGHT($C680,2)&\"-\"&$D680)>0,IF($D680>0,VLOOKUP(RIGHT($C680,2)&\"-\"&$D680,Rankings!$B:$G,6,FALSE),\"\"),0)","v":0},{"$f":"IF($D680>0,VLOOKUP($D680,Μητρώο!$A:$F,4,FALSE),\"\")","v":""}]
[679,678,null,null,{"$f":"IF($D681>0,VLOOKUP($D681,Μητρώο!$A:$F,3,FALSE),\"\")","v":""},{"$f":"IF($D681>0,VLOOKUP($D681,Μητρώο!$A:$F,5,FALSE),\"\")","v":""},{"$f":"IF(COUNTIF(Rankings!$B:$B,RIGHT($C681,2)&\"-\"&$D681)>0,IF($D681>0,VLOOKUP(RIGHT($C681,2)&\"-\"&$D681,Rankings!$B:$G,6,FALSE),\"\"),0)","v":0},{"$f":"IF($D681>0,VLOOKUP($D681,Μητρώο!$A:$F,4,FALSE),\"\")","v":""}]
[680,679,null,null,{"$f":"IF($D682>0,VLOOKUP($D682,Μητρώο!$A:$F,3,FALSE),\"\")","v":""},{"$f":"IF($D682>0,VLOOKUP($D682,Μητρώο!$A:$F,5,FALSE),\"\")","v":""},{"$f":"IF(COUNTIF(Rankings!$B:$B,RIGHT($C682,2)&\"-\"&$D682)>0,IF($D682>0,VLOOKUP(RIGHT($C682,2)&\"-\"&$D682,Rankings!$B:$G,6,FALSE),\"\"),0)","v":0},{"$f":"IF($D682>0,VLOOKUP($D682,Μητρώο!$A:$F,4,FALSE),\"\")","v":""}]
[681,680,null,null,{"$f":"IF($D683>0,VLOOKUP($D683,Μητρώο!$A:$F,3,FALSE),\"\")","v":""},{"$f":"IF($D683>0,VLOOKUP($D683,Μητρώο!$A:$F,5,FALSE),\"\")","v":""},{"$f":"IF(COUNTIF(Rankings!$B:$B,RIGHT($C683,2)&\"-\"&$D683)>0,IF($D683>0,VLOOKUP(RIGHT($C683,2)&\"-\"&$D683,Rankings!$B:$G,6,FALSE),\"\"),0)","v":0},{"$f":"IF($D683>0,VLOOKUP($D683,Μητρώο!$A:$F,4,FALSE),\"\")","v":""}]
[682,681,null,null,{"$f":"IF($D684>0,VLOOKUP($D684,Μητρώο!$A:$F,3,FALSE),\"\")","v":""},{"$f":"IF($D684>0,VLOOKUP($D684,Μητρώο!$A:$F,5,FALSE),\"\")","v":""},{"$f":"IF(COUNTIF(Rankings!$B:$B,RIGHT($C684,2)&\"-\"&$D684)>0,IF($D684>0,VLOOKUP(RIGHT($C684,2)&\"-\"&$D684,Rankings!$B:$G,6,FALSE),\"\"),0)","v":0},{"$f":"IF($D684>0,VLOOKUP($D684,Μητρώο!$A:$F,4,FALSE),\"\")","v":""}]
[683,682,null,null,{"$f":"IF($D685>0,VLOOKUP($D685,Μητρώο!$A:$F,3,FALSE),\"\")","v":""},{"$f":"IF($D685>0,VLOOKUP($D685,Μητρώο!$A:$F,5,FALSE),\"\")","v":""},{"$f":"IF(COUNTIF(Rankings!$B:$B,RIGHT($C685,2)&\"-\"&$D685)>0,IF($D685>0,VLOOKUP(RIGHT($C685,2)&\"-\"&$D685,Rankings!$B:$G,6,FALSE),\"\"),0)","v":0},{"$f":"IF($D685>0,VLOOKUP($D685,Μητρώο!$A:$F,4,FALSE),\"\")","v":""}]
[684,683,null,null,{"$f":"IF($D686>0,VLOOKUP($D686,Μητρώο!$A:$F,3,FALSE),\"\")","v":""},{"$f":"IF($D686>0,VLOOKUP($D686,Μητρώο!$A:$F,5,FALSE),\"\")","v":""},{"$f":"IF(COUNTIF(Rankings!$B:$B,RIGHT($C686,2)&\"-\"&$D686)>0,IF($D686>0,VLOOKUP(RIGHT($C686,2)&\"-\"&$D686,Rankings!$B:$G,6,FALSE),\"\"),0)","v":0},{"$f":"IF($D686>0,VLOOKUP($D686,Μητρώο!$A:$F,4,FALSE),\"\")","v":""}]
[685,684,null,null,{"$f":"IF($D687>0,VLOOKUP($D687,Μητρώο!$A:$F,3,FALSE),\"\")","v":""},{"$f":"IF($D687>0,VLOOKUP($D687,Μητρώο!$A:$F,5,FALSE),\"\")","v":""},{"$f":"IF(COUNTIF(Rankings!$B:$B,RIGHT($C687,2)&\"-\"&$D687)>0,IF($D687>0,VLOOKUP(RIGHT($C687,2)&\"-\"&$D687,Rankings!$B:$G,6,FALSE),\"\"),0)","v":0},{"$f":"IF($D687>0,VLOOKUP($D687,Μητρώο!$A:$F,4,FALSE),\"\")","v":""}]
[686,685,null,null,{"$f":"IF($D688>0,VLOOKUP($D688,Μητρώο!$A:$F,3,FALSE),\"\")","v":""},{"$f":"IF($D688>0,VLOOKUP($D688,Μητρώο!$A:$F,5,FALSE),\"\")","v":""},{"$f":"IF(COUNTIF(Rankings!$B:$B,RIGHT($C688,2)&\"-\"&$D688)>0,IF($D688>0,VLOOKUP(RIGHT($C688,2)&\"-\"&$D688,Rankings!$B:$G,6,FALSE),\"\"),0)","v":0},{"$f":"IF($D688>0,VLOOKUP($D688,Μητρώο!$A:$F,4,FALSE),\"\")","v":""}]
[687,686,null,null,{"$f":"IF($D689>0,VLOOKUP($D689,Μητρώο!$A:$F,3,FALSE),\"\")","v":""},{"$f":"IF($D689>0,VLOOKUP($D689,Μητρώο!$A:$F,5,FALSE),\"\")","v":""},{"$f":"IF(COUNTIF(Rankings!$B:$B,RIGHT($C689,2)&\"-\"&$D689)>0,IF($D689>0,VLOOKUP(RIGHT($C689,2)&\"-\"&$D689,Rankings!$B:$G,6,FALSE),\"\"),0)","v":0},{"$f":"IF($D689>0,VLOOKUP($D689,Μητρώο!$A:$F,4,FALSE),\"\")","v":""}]
[688,687,null,null,{"$f":"IF($D690>0,VLOOKUP($D690,Μητρώο!$A:$F,3,FALSE),\"\")","v":""},{"$f":"IF($D690>0,VLOOKUP($D690,Μητρώο!$A:$F,5,FALSE),\"\")","v":""},{"$f":"IF(COUNTIF(Rankings!$B:$B,RIGHT($C690,2)&\"-\"&$D690)>0,IF($D690>0,VLOOKUP(RIGHT($C690,2)&\"-\"&$D690,Rankings!$B:$G,6,FALSE),\"\"),0)","v":0},{"$f":"IF($D690>0,VLOOKUP($D690,Μητρώο!$A:$F,4,FALSE),\"\")","v":""}]
[689,688,null,null,{"$f":"IF($D691>0,VLOOKUP($D691,Μητρώο!$A:$F,3,FALSE),\"\")","v":""},{"$f":"IF($D691>0,VLOOKUP($D691,Μητρώο!$A:$F,5,FALSE),\"\")","v":""},{"$f":"IF(COUNTIF(Rankings!$B:$B,RIGHT($C691,2)&\"-\"&$D691)>0,IF($D691>0,VLOOKUP(RIGHT($C691,2)&\"-\"&$D691,Rankings!$B:$G,6,FALSE),\"\"),0)","v":0},{"$f":"IF($D691>0,VLOOKUP($D691,Μητρώο!$A:$F,4,FALSE),\"\")","v":""}]
[690,689,null,null,{"$f":"IF($D692>0,VLOOKUP($D692,Μητρώο!$A:$F,3,FALSE),\"\")","v":""},{"$f":"IF($D692>0,VLOOKUP($D692,Μητρώο!$A:$F,5,FALSE),\"\")","v":""},{"$f":"IF(COUNTIF(Rankings!$B:$B,RIGHT($C692,2)&\"-\"&$D692)>0,IF($D692>0,VLOOKUP(RIGHT($C692,2)&\"-\"&$D692,Rankings!$B:$G,6,FALSE),\"\"),0)","v":0},{"$f":"IF($D692>0,VLOOKUP($D692,Μητρώο!$A:$F,4,FALSE),\"\")","v":""}]
[691,690,null,null,{"$f":"IF($D693>0,VLOOKUP($D693,Μητρώο!$A:$F,3,FALSE),\"\")","v":""},{"$f":"IF($D693>0,VLOOKUP($D693,Μητρώο!$A:$F,5,FALSE),\"\")","v":""},{"$f":"IF(COUNTIF(Rankings!$B:$B,RIGHT($C693,2)&\"-\"&$D693)>0,IF($D693>0,VLOOKUP(RIGHT($C693,2)&\"-\"&$D693,Rankings!$B:$G,6,FALSE),\"\"),0)","v":0},{"$f":"IF($D693>0,VLOOKUP($D693,Μητρώο!$A:$F,4,FALSE),\"\")","v":""},null," "]
[692,691,null,null,{"$f":"IF($D694>0,VLOOKUP($D694,Μητρώο!$A:$F,3,FALSE),\"\")","v":""},{"$f":"IF($D694>0,VLOOKUP($D694,Μητρώο!$A:$F,5,FALSE),\"\")","v":""},{"$f":"IF(COUNTIF(Rankings!$B:$B,RIGHT($C694,2)&\"-\"&$D694)>0,IF($D694>0,VLOOKUP(RIGHT($C694,2)&\"-\"&$D694,Rankings!$B:$G,6,FALSE),\"\"),0)","v":0},{"$f":"IF($D694>0,VLOOKUP($D694,Μητρώο!$A:$F,4,FALSE),\"\")","v":""}]
[693,692,null,null,{"$f":"IF($D695>0,VLOOKUP($D695,Μητρώο!$A:$F,3,FALSE),\"\")","v":""},{"$f":"IF($D695>0,VLOOKUP($D695,Μητρώο!$A:$F,5,FALSE),\"\")","v":""},{"$f":"IF(COUNTIF(Rankings!$B:$B,RIGHT($C695,2)&\"-\"&$D695)>0,IF($D695>0,VLOOKUP(RIGHT($C695,2)&\"-\"&$D695,Rankings!$B:$G,6,FALSE),\"\"),0)","v":0},{"$f":"IF($D695>0,VLOOKUP($D695,Μητρώο!$A:$F,4,FALSE),\"\")","v":""}]
[694,693,null,null,{"$f":"IF($D696>0,VLOOKUP($D696,Μητρώο!$A:$F,3,FALSE),\"\")","v":""},{"$f":"IF($D696>0,VLOOKUP($D696,Μητρώο!$A:$F,5,FALSE),\"\")","v":""},{"$f":"IF(COUNTIF(Rankings!$B:$B,RIGHT($C696,2)&\"-\"&$D696)>0,IF($D696>0,VLOOKUP(RIGHT($C696,2)&\"-\"&$D696,Rankings!$B:$G,6,FALSE),\"\"),0)","v":0},{"$f":"IF($D696>0,VLOOKUP($D696,Μητρώο!$A:$F,4,FALSE),\"\")","v":""}]
[695,694,null,null,{"$f":"IF($D697>0,VLOOKUP($D697,Μητρώο!$A:$F,3,FALSE),\"\")","v":""},{"$f":"IF($D697>0,VLOOKUP($D697,Μητρώο!$A:$F,5,FALSE),\"\")","v":""},{"$f":"IF(COUNTIF(Rankings!$B:$B,RIGHT($C697,2)&\"-\"&$D697)>0,IF($D697>0,VLOOKUP(RIGHT($C697,2)&\"-\"&$D697,Rankings!$B:$G,6,FALSE),\"\"),0)","v":0},{"$f":"IF($D697>0,VLOOKUP($D697,Μητρώο!$A:$F,4,FALSE),\"\")","v":""}]
[696,695,null,null,{"$f":"IF($D698>0,VLOOKUP($D698,Μητρώο!$A:$F,3,FALSE),\"\")","v":""},{"$f":"IF($D698>0,VLOOKUP($D698,Μητρώο!$A:$F,5,FALSE),\"\")","v":""},{"$f":"IF(COUNTIF(Rankings!$B:$B,RIGHT($C698,2)&\"-\"&$D698)>0,IF($D698>0,VLOOKUP(RIGHT($C698,2)&\"-\"&$D698,Rankings!$B:$G,6,FALSE),\"\"),0)","v":0},{"$f":"IF($D698>0,VLOOKUP($D698,Μητρώο!$A:$F,4,FALSE),\"\")","v":""}]
[697,696,null,null,{"$f":"IF($D699>0,VLOOKUP($D699,Μητρώο!$A:$F,3,FALSE),\"\")","v":""},{"$f":"IF($D699>0,VLOOKUP($D699,Μητρώο!$A:$F,5,FALSE),\"\")","v":""},{"$f":"IF(COUNTIF(Rankings!$B:$B,RIGHT($C699,2)&\"-\"&$D699)>0,IF($D699>0,VLOOKUP(RIGHT($C699,2)&\"-\"&$D699,Rankings!$B:$G,6,FALSE),\"\"),0)","v":0},{"$f":"IF($D699>0,VLOOKUP($D699,Μητρώο!$A:$F,4,FALSE),\"\")","v":""}]
[698,697,null,null,{"$f":"IF($D700>0,VLOOKUP($D700,Μητρώο!$A:$F,3,FALSE),\"\")","v":""},{"$f":"IF($D700>0,VLOOKUP($D700,Μητρώο!$A:$F,5,FALSE),\"\")","v":""},{"$f":"IF(COUNTIF(Rankings!$B:$B,RIGHT($C700,2)&\"-\"&$D700)>0,IF($D700>0,VLOOKUP(RIGHT($C700,2)&\"-\"&$D700,Rankings!$B:$G,6,FALSE),\"\"),0)","v":0},{"$f":"IF($D700>0,VLOOKUP($D700,Μητρώο!$A:$F,4,FALSE),\"\")","v":""}]
[699,698,null,null,{"$f":"IF($D701>0,VLOOKUP($D701,Μητρώο!$A:$F,3,FALSE),\"\")","v":""},{"$f":"IF($D701>0,VLOOKUP($D701,Μητρώο!$A:$F,5,FALSE),\"\")","v":""},{"$f":"IF(COUNTIF(Rankings!$B:$B,RIGHT($C701,2)&\"-\"&$D701)>0,IF($D701>0,VLOOKUP(RIGHT($C701,2)&\"-\"&$D701,Rankings!$B:$G,6,FALSE),\"\"),0)","v":0},{"$f":"IF($D701>0,VLOOKUP($D701,Μητρώο!$A:$F,4,FALSE),\"\")","v":""}]
[700,699,null,null,{"$f":"IF($D702>0,VLOOKUP($D702,Μητρώο!$A:$F,3,FALSE),\"\")","v":""},{"$f":"IF($D702>0,VLOOKUP($D702,Μητρώο!$A:$F,5,FALSE),\"\")","v":""},{"$f":"IF(COUNTIF(Rankings!$B:$B,RIGHT($C702,2)&\"-\"&$D702)>0,IF($D702>0,VLOOKUP(RIGHT($C702,2)&\"-\"&$D702,Rankings!$B:$G,6,FALSE),\"\"),0)","v":0},{"$f":"IF($D702>0,VLOOKUP($D702,Μητρώο!$A:$F,4,FALSE),\"\")","v":""}]
[701,700,null,null,{"$f":"IF($D703>0,VLOOKUP($D703,Μητρώο!$A:$F,3,FALSE),\"\")","v":""},{"$f":"IF($D703>0,VLOOKUP($D703,Μητρώο!$A:$F,5,FALSE),\"\")","v":""},{"$f":"IF(COUNTIF(Rankings!$B:$B,RIGHT($C703,2)&\"-\"&$D703)>0,IF($D703>0,VLOOKUP(RIGHT($C703,2)&\"-\"&$D703,Rankings!$B:$G,6,FALSE),\"\"),0)","v":0},{"$f":"IF($D703>0,VLOOKUP($D703,Μητρώο!$A:$F,4,FALSE),\"\")","v":""}]
[702,701,null,null,{"$f":"IF($D704>0,VLOOKUP($D704,Μητρώο!$A:$F,3,FALSE),\"\")","v":""},{"$f":"IF($D704>0,VLOOKUP($D704,Μητρώο!$A:$F,5,FALSE),\"\")","v":""},{"$f":"IF(COUNTIF(Rankings!$B:$B,RIGHT($C704,2)&\"-\"&$D704)>0,IF($D704>0,VLOOKUP(RIGHT($C704,2)&\"-\"&$D704,Rankings!$B:$G,6,FALSE),\"\"),0)","v":0},{"$f":"IF($D704>0,VLOOKUP($D704,Μητρώο!$A:$F,4,FALSE),\"\")","v":""}]
[703,702,null,null,{"$f":"IF($D705>0,VLOOKUP($D705,Μητρώο!$A:$F,3,FALSE),\"\")","v":""},{"$f":"IF($D705>0,VLOOKUP($D705,Μητρώο!$A:$F,5,FALSE),\"\")","v":""},{"$f":"IF(COUNTIF(Rankings!$B:$B,RIGHT($C705,2)&\"-\"&$D705)>0,IF($D705>0,VLOOKUP(RIGHT($C705,2)&\"-\"&$D705,Rankings!$B:$G,6,FALSE),\"\"),0)","v":0},{"$f":"IF($D705>0,VLOOKUP($D705,Μητρώο!$A:$F,4,FALSE),\"\")","v":""}]
[704,703,null,null,{"$f":"IF($D706>0,VLOOKUP($D706,Μητρώο!$A:$F,3,FALSE),\"\")","v":""},{"$f":"IF($D706>0,VLOOKUP($D706,Μητρώο!$A:$F,5,FALSE),\"\")","v":""},{"$f":"IF(COUNTIF(Rankings!$B:$B,RIGHT($C706,2)&\"-\"&$D706)>0,IF($D706>0,VLOOKUP(RIGHT($C706,2)&\"-\"&$D706,Rankings!$B:$G,6,FALSE),\"\"),0)","v":0},{"$f":"IF($D706>0,VLOOKUP($D706,Μητρώο!$A:$F,4,FALSE),\"\")","v":""}]
[705,704,null,null,{"$f":"IF($D707>0,VLOOKUP($D707,Μητρώο!$A:$F,3,FALSE),\"\")","v":""},{"$f":"IF($D707>0,VLOOKUP($D707,Μητρώο!$A:$F,5,FALSE),\"\")","v":""},{"$f":"IF(COUNTIF(Rankings!$B:$B,RIGHT($C707,2)&\"-\"&$D707)>0,IF($D707>0,VLOOKUP(RIGHT($C707,2)&\"-\"&$D707,Rankings!$B:$G,6,FALSE),\"\"),0)","v":0},{"$f":"IF($D707>0,VLOOKUP($D707,Μητρώο!$A:$F,4,FALSE),\"\")","v":""}]
[706,{"$f":"IF(C708=C707,B707+1,1)","v":705},null,null,{"$f":"IF($D708>0,VLOOKUP($D708,Μητρώο!$A:$F,3,FALSE),\"\")","v":""},{"$f":"IF($D708>0,VLOOKUP($D708,Μητρώο!$A:$F,5,FALSE),\"\")","v":""},{"$f":"IF(COUNTIF(Rankings!$B:$B,RIGHT($C708,2)&\"-\"&$D708)>0,IF($D708>0,VLOOKUP(RIGHT($C708,2)&\"-\"&$D708,Rankings!$B:$G,6,FALSE),\"\"),0)","v":0},{"$f":"IF($D708>0,VLOOKUP($D708,Μητρώο!$A:$F,4,FALSE),\"\")","v":""}]
[707,706,null,null,{"$f":"IF($D709>0,VLOOKUP($D709,Μητρώο!$A:$F,3,FALSE),\"\")","v":""},{"$f":"IF($D709>0,VLOOKUP($D709,Μητρώο!$A:$F,5,FALSE),\"\")","v":""},{"$f":"IF(COUNTIF(Rankings!$B:$B,RIGHT($C709,2)&\"-\"&$D709)>0,IF($D709>0,VLOOKUP(RIGHT($C709,2)&\"-\"&$D709,Rankings!$B:$G,6,FALSE),\"\"),0)","v":0},{"$f":"IF($D709>0,VLOOKUP($D709,Μητρώο!$A:$F,4,FALSE),\"\")","v":""}]
[708,707,null,null,{"$f":"IF($D710>0,VLOOKUP($D710,Μητρώο!$A:$F,3,FALSE),\"\")","v":""},{"$f":"IF($D710>0,VLOOKUP($D710,Μητρώο!$A:$F,5,FALSE),\"\")","v":""},{"$f":"IF(COUNTIF(Rankings!$B:$B,RIGHT($C710,2)&\"-\"&$D710)>0,IF($D710>0,VLOOKUP(RIGHT($C710,2)&\"-\"&$D710,Rankings!$B:$G,6,FALSE),\"\"),0)","v":0},{"$f":"IF($D710>0,VLOOKUP($D710,Μητρώο!$A:$F,4,FALSE),\"\")","v":""}]
[709,708,null,null,{"$f":"IF($D711>0,VLOOKUP($D711,Μητρώο!$A:$F,3,FALSE),\"\")","v":""},{"$f":"IF($D711>0,VLOOKUP($D711,Μητρώο!$A:$F,5,FALSE),\"\")","v":""},{"$f":"IF(COUNTIF(Rankings!$B:$B,RIGHT($C711,2)&\"-\"&$D711)>0,IF($D711>0,VLOOKUP(RIGHT($C711,2)&\"-\"&$D711,Rankings!$B:$G,6,FALSE),\"\"),0)","v":0},{"$f":"IF($D711>0,VLOOKUP($D711,Μητρώο!$A:$F,4,FALSE),\"\")","v":""}]
[710,709,null,null,{"$f":"IF($D712>0,VLOOKUP($D712,Μητρώο!$A:$F,3,FALSE),\"\")","v":""},{"$f":"IF($D712>0,VLOOKUP($D712,Μητρώο!$A:$F,5,FALSE),\"\")","v":""},{"$f":"IF(COUNTIF(Rankings!$B:$B,RIGHT($C712,2)&\"-\"&$D712)>0,IF($D712>0,VLOOKUP(RIGHT($C712,2)&\"-\"&$D712,Rankings!$B:$G,6,FALSE),\"\"),0)","v":0},{"$f":"IF($D712>0,VLOOKUP($D712,Μητρώο!$A:$F,4,FALSE),\"\")","v":""}]
[711,710,null,null,{"$f":"IF($D713>0,VLOOKUP($D713,Μητρώο!$A:$F,3,FALSE),\"\")","v":""},{"$f":"IF($D713>0,VLOOKUP($D713,Μητρώο!$A:$F,5,FALSE),\"\")","v":""},{"$f":"IF(COUNTIF(Rankings!$B:$B,RIGHT($C713,2)&\"-\"&$D713)>0,IF($D713>0,VLOOKUP(RIGHT($C713,2)&\"-\"&$D713,Rankings!$B:$G,6,FALSE),\"\"),0)","v":0},{"$f":"IF($D713>0,VLOOKUP($D713,Μητρώο!$A:$F,4,FALSE),\"\")","v":""}]
[712,711,null,null,{"$f":"IF($D714>0,VLOOKUP($D714,Μητρώο!$A:$F,3,FALSE),\"\")","v":""},{"$f":"IF($D714>0,VLOOKUP($D714,Μητρώο!$A:$F,5,FALSE),\"\")","v":""},{"$f":"IF(COUNTIF(Rankings!$B:$B,RIGHT($C714,2)&\"-\"&$D714)>0,IF($D714>0,VLOOKUP(RIGHT($C714,2)&\"-\"&$D714,Rankings!$B:$G,6,FALSE),\"\"),0)","v":0},{"$f":"IF($D714>0,VLOOKUP($D714,Μητρώο!$A:$F,4,FALSE),\"\")","v":""}]
[713,712,null,null,{"$f":"IF($D715>0,VLOOKUP($D715,Μητρώο!$A:$F,3,FALSE),\"\")","v":""},{"$f":"IF($D715>0,VLOOKUP($D715,Μητρώο!$A:$F,5,FALSE),\"\")","v":""},{"$f":"IF(COUNTIF(Rankings!$B:$B,RIGHT($C715,2)&\"-\"&$D715)>0,IF($D715>0,VLOOKUP(RIGHT($C715,2)&\"-\"&$D715,Rankings!$B:$G,6,FALSE),\"\"),0)","v":0},{"$f":"IF($D715>0,VLOOKUP($D715,Μητρώο!$A:$F,4,FALSE),\"\")","v":""}]
[714,713,null,null,{"$f":"IF($D716>0,VLOOKUP($D716,Μητρώο!$A:$F,3,FALSE),\"\")","v":""},{"$f":"IF($D716>0,VLOOKUP($D716,Μητρώο!$A:$F,5,FALSE),\"\")","v":""},{"$f":"IF(COUNTIF(Rankings!$B:$B,RIGHT($C716,2)&\"-\"&$D716)>0,IF($D716>0,VLOOKUP(RIGHT($C716,2)&\"-\"&$D716,Rankings!$B:$G,6,FALSE),\"\"),0)","v":0},{"$f":"IF($D716>0,VLOOKUP($D716,Μητρώο!$A:$F,4,FALSE),\"\")","v":""}]
[715,714,null,null,{"$f":"IF($D717>0,VLOOKUP($D717,Μητρώο!$A:$F,3,FALSE),\"\")","v":""},{"$f":"IF($D717>0,VLOOKUP($D717,Μητρώο!$A:$F,5,FALSE),\"\")","v":""},{"$f":"IF(COUNTIF(Rankings!$B:$B,RIGHT($C717,2)&\"-\"&$D717)>0,IF($D717>0,VLOOKUP(RIGHT($C717,2)&\"-\"&$D717,Rankings!$B:$G,6,FALSE),\"\"),0)","v":0},{"$f":"IF($D717>0,VLOOKUP($D717,Μητρώο!$A:$F,4,FALSE),\"\")","v":""}]
[716,715,null,null,{"$f":"IF($D718>0,VLOOKUP($D718,Μητρώο!$A:$F,3,FALSE),\"\")","v":""},{"$f":"IF($D718>0,VLOOKUP($D718,Μητρώο!$A:$F,5,FALSE),\"\")","v":""},{"$f":"IF(COUNTIF(Rankings!$B:$B,RIGHT($C718,2)&\"-\"&$D718)>0,IF($D718>0,VLOOKUP(RIGHT($C718,2)&\"-\"&$D718,Rankings!$B:$G,6,FALSE),\"\"),0)","v":0},{"$f":"IF($D718>0,VLOOKUP($D718,Μητρώο!$A:$F,4,FALSE),\"\")","v":""}]
[717,716,null,null,{"$f":"IF($D719>0,VLOOKUP($D719,Μητρώο!$A:$F,3,FALSE),\"\")","v":""},{"$f":"IF($D719>0,VLOOKUP($D719,Μητρώο!$A:$F,5,FALSE),\"\")","v":""},{"$f":"IF(COUNTIF(Rankings!$B:$B,RIGHT($C719,2)&\"-\"&$D719)>0,IF($D719>0,VLOOKUP(RIGHT($C719,2)&\"-\"&$D719,Rankings!$B:$G,6,FALSE),\"\"),0)","v":0},{"$f":"IF($D719>0,VLOOKUP($D719,Μητρώο!$A:$F,4,FALSE),\"\")","v":""}]
[718,717,null,null,{"$f":"IF($D720>0,VLOOKUP($D720,Μητρώο!$A:$F,3,FALSE),\"\")","v":""},{"$f":"IF($D720>0,VLOOKUP($D720,Μητρώο!$A:$F,5,FALSE),\"\")","v":""},{"$f":"IF(COUNTIF(Rankings!$B:$B,RIGHT($C720,2)&\"-\"&$D720)>0,IF($D720>0,VLOOKUP(RIGHT($C720,2)&\"-\"&$D720,Rankings!$B:$G,6,FALSE),\"\"),0)","v":0},{"$f":"IF($D720>0,VLOOKUP($D720,Μητρώο!$A:$F,4,FALSE),\"\")","v":""}]
[719,718,null,null,{"$f":"IF($D721>0,VLOOKUP($D721,Μητρώο!$A:$F,3,FALSE),\"\")","v":""},{"$f":"IF($D721>0,VLOOKUP($D721,Μητρώο!$A:$F,5,FALSE),\"\")","v":""},{"$f":"IF(COUNTIF(Rankings!$B:$B,RIGHT($C721,2)&\"-\"&$D721)>0,IF($D721>0,VLOOKUP(RIGHT($C721,2)&\"-\"&$D721,Rankings!$B:$G,6,FALSE),\"\"),0)","v":0},{"$f":"IF($D721>0,VLOOKUP($D721,Μητρώο!$A:$F,4,FALSE),\"\")","v":""}]
[720,719,null,null,{"$f":"IF($D722>0,VLOOKUP($D722,Μητρώο!$A:$F,3,FALSE),\"\")","v":""},{"$f":"IF($D722>0,VLOOKUP($D722,Μητρώο!$A:$F,5,FALSE),\"\")","v":""},{"$f":"IF(COUNTIF(Rankings!$B:$B,RIGHT($C722,2)&\"-\"&$D722)>0,IF($D722>0,VLOOKUP(RIGHT($C722,2)&\"-\"&$D722,Rankings!$B:$G,6,FALSE),\"\"),0)","v":0},{"$f":"IF($D722>0,VLOOKUP($D722,Μητρώο!$A:$F,4,FALSE),\"\")","v":""}]
[721,720,null,null,{"$f":"IF($D723>0,VLOOKUP($D723,Μητρώο!$A:$F,3,FALSE),\"\")","v":""},{"$f":"IF($D723>0,VLOOKUP($D723,Μητρώο!$A:$F,5,FALSE),\"\")","v":""},{"$f":"IF(COUNTIF(Rankings!$B:$B,RIGHT($C723,2)&\"-\"&$D723)>0,IF($D723>0,VLOOKUP(RIGHT($C723,2)&\"-\"&$D723,Rankings!$B:$G,6,FALSE),\"\"),0)","v":0},{"$f":"IF($D723>0,VLOOKUP($D723,Μητρώο!$A:$F,4,FALSE),\"\")","v":""}]
[722,721,null,null,{"$f":"IF($D724>0,VLOOKUP($D724,Μητρώο!$A:$F,3,FALSE),\"\")","v":""},{"$f":"IF($D724>0,VLOOKUP($D724,Μητρώο!$A:$F,5,FALSE),\"\")","v":""},{"$f":"IF(COUNTIF(Rankings!$B:$B,RIGHT($C724,2)&\"-\"&$D724)>0,IF($D724>0,VLOOKUP(RIGHT($C724,2)&\"-\"&$D724,Rankings!$B:$G,6,FALSE),\"\"),0)","v":0},{"$f":"IF($D724>0,VLOOKUP($D724,Μητρώο!$A:$F,4,FALSE),\"\")","v":""}]
[723,722,null,null,{"$f":"IF($D725>0,VLOOKUP($D725,Μητρώο!$A:$F,3,FALSE),\"\")","v":""},{"$f":"IF($D725>0,VLOOKUP($D725,Μητρώο!$A:$F,5,FALSE),\"\")","v":""},{"$f":"IF(COUNTIF(Rankings!$B:$B,RIGHT($C725,2)&\"-\"&$D725)>0,IF($D725>0,VLOOKUP(RIGHT($C725,2)&\"-\"&$D725,Rankings!$B:$G,6,FALSE),\"\"),0)","v":0},{"$f":"IF($D725>0,VLOOKUP($D725,Μητρώο!$A:$F,4,FALSE),\"\")","v":""}]
[724,723,null,null,{"$f":"IF($D726>0,VLOOKUP($D726,Μητρώο!$A:$F,3,FALSE),\"\")","v":""},{"$f":"IF($D726>0,VLOOKUP($D726,Μητρώο!$A:$F,5,FALSE),\"\")","v":""},{"$f":"IF(COUNTIF(Rankings!$B:$B,RIGHT($C726,2)&\"-\"&$D726)>0,IF($D726>0,VLOOKUP(RIGHT($C726,2)&\"-\"&$D726,Rankings!$B:$G,6,FALSE),\"\"),0)","v":0},{"$f":"IF($D726>0,VLOOKUP($D726,Μητρώο!$A:$F,4,FALSE),\"\")","v":""}]
[725,724,null,null,{"$f":"IF($D727>0,VLOOKUP($D727,Μητρώο!$A:$F,3,FALSE),\"\")","v":""},{"$f":"IF($D727>0,VLOOKUP($D727,Μητρώο!$A:$F,5,FALSE),\"\")","v":""},{"$f":"IF(COUNTIF(Rankings!$B:$B,RIGHT($C727,2)&\"-\"&$D727)>0,IF($D727>0,VLOOKUP(RIGHT($C727,2)&\"-\"&$D727,Rankings!$B:$G,6,FALSE),\"\"),0)","v":0},{"$f":"IF($D727>0,VLOOKUP($D727,Μητρώο!$A:$F,4,FALSE),\"\")","v":""}]
[726,725,null,null,{"$f":"IF($D728>0,VLOOKUP($D728,Μητρώο!$A:$F,3,FALSE),\"\")","v":""},{"$f":"IF($D728>0,VLOOKUP($D728,Μητρώο!$A:$F,5,FALSE),\"\")","v":""},{"$f":"IF(COUNTIF(Rankings!$B:$B,RIGHT($C728,2)&\"-\"&$D728)>0,IF($D728>0,VLOOKUP(RIGHT($C728,2)&\"-\"&$D728,Rankings!$B:$G,6,FALSE),\"\"),0)","v":0},{"$f":"IF($D728>0,VLOOKUP($D728,Μητρώο!$A:$F,4,FALSE),\"\")","v":""}]
[727,726,null,null,{"$f":"IF($D729>0,VLOOKUP($D729,Μητρώο!$A:$F,3,FALSE),\"\")","v":""},{"$f":"IF($D729>0,VLOOKUP($D729,Μητρώο!$A:$F,5,FALSE),\"\")","v":""},{"$f":"IF(COUNTIF(Rankings!$B:$B,RIGHT($C729,2)&\"-\"&$D729)>0,IF($D729>0,VLOOKUP(RIGHT($C729,2)&\"-\"&$D729,Rankings!$B:$G,6,FALSE),\"\"),0)","v":0},{"$f":"IF($D729>0,VLOOKUP($D729,Μητρώο!$A:$F,4,FALSE),\"\")","v":""}]
[728,727,null,null,{"$f":"IF($D730>0,VLOOKUP($D730,Μητρώο!$A:$F,3,FALSE),\"\")","v":""},{"$f":"IF($D730>0,VLOOKUP($D730,Μητρώο!$A:$F,5,FALSE),\"\")","v":""},{"$f":"IF(COUNTIF(Rankings!$B:$B,RIGHT($C730,2)&\"-\"&$D730)>0,IF($D730>0,VLOOKUP(RIGHT($C730,2)&\"-\"&$D730,Rankings!$B:$G,6,FALSE),\"\"),0)","v":0},{"$f":"IF($D730>0,VLOOKUP($D730,Μητρώο!$A:$F,4,FALSE),\"\")","v":""}]
[729,728,null,null,{"$f":"IF($D731>0,VLOOKUP($D731,Μητρώο!$A:$F,3,FALSE),\"\")","v":""},{"$f":"IF($D731>0,VLOOKUP($D731,Μητρώο!$A:$F,5,FALSE),\"\")","v":""},{"$f":"IF(COUNTIF(Rankings!$B:$B,RIGHT($C731,2)&\"-\"&$D731)>0,IF($D731>0,VLOOKUP(RIGHT($C731,2)&\"-\"&$D731,Rankings!$B:$G,6,FALSE),\"\"),0)","v":0},{"$f":"IF($D731>0,VLOOKUP($D731,Μητρώο!$A:$F,4,FALSE),\"\")","v":""}]
[730,729,null,null,{"$f":"IF($D732>0,VLOOKUP($D732,Μητρώο!$A:$F,3,FALSE),\"\")","v":""},{"$f":"IF($D732>0,VLOOKUP($D732,Μητρώο!$A:$F,5,FALSE),\"\")","v":""},{"$f":"IF(COUNTIF(Rankings!$B:$B,RIGHT($C732,2)&\"-\"&$D732)>0,IF($D732>0,VLOOKUP(RIGHT($C732,2)&\"-\"&$D732,Rankings!$B:$G,6,FALSE),\"\"),0)","v":0},{"$f":"IF($D732>0,VLOOKUP($D732,Μητρώο!$A:$F,4,FALSE),\"\")","v":""}]
[731,730,null,null,{"$f":"IF($D733>0,VLOOKUP($D733,Μητρώο!$A:$F,3,FALSE),\"\")","v":""},{"$f":"IF($D733>0,VLOOKUP($D733,Μητρώο!$A:$F,5,FALSE),\"\")","v":""},{"$f":"IF(COUNTIF(Rankings!$B:$B,RIGHT($C733,2)&\"-\"&$D733)>0,IF($D733>0,VLOOKUP(RIGHT($C733,2)&\"-\"&$D733,Rankings!$B:$G,6,FALSE),\"\"),0)","v":0},{"$f":"IF($D733>0,VLOOKUP($D733,Μητρώο!$A:$F,4,FALSE),\"\")","v":""}]
[732,731,null,null,{"$f":"IF($D734>0,VLOOKUP($D734,Μητρώο!$A:$F,3,FALSE),\"\")","v":""},{"$f":"IF($D734>0,VLOOKUP($D734,Μητρώο!$A:$F,5,FALSE),\"\")","v":""},{"$f":"IF(COUNTIF(Rankings!$B:$B,RIGHT($C734,2)&\"-\"&$D734)>0,IF($D734>0,VLOOKUP(RIGHT($C734,2)&\"-\"&$D734,Rankings!$B:$G,6,FALSE),\"\"),0)","v":0},{"$f":"IF($D734>0,VLOOKUP($D734,Μητρώο!$A:$F,4,FALSE),\"\")","v":""}]
[733,732,null,null,{"$f":"IF($D735>0,VLOOKUP($D735,Μητρώο!$A:$F,3,FALSE),\"\")","v":""},{"$f":"IF($D735>0,VLOOKUP($D735,Μητρώο!$A:$F,5,FALSE),\"\")","v":""},{"$f":"IF(COUNTIF(Rankings!$B:$B,RIGHT($C735,2)&\"-\"&$D735)>0,IF($D735>0,VLOOKUP(RIGHT($C735,2)&\"-\"&$D735,Rankings!$B:$G,6,FALSE),\"\"),0)","v":0},{"$f":"IF($D735>0,VLOOKUP($D735,Μητρώο!$A:$F,4,FALSE),\"\")","v":""}]
[734,733,null,null,{"$f":"IF($D736>0,VLOOKUP($D736,Μητρώο!$A:$F,3,FALSE),\"\")","v":""},{"$f":"IF($D736>0,VLOOKUP($D736,Μητρώο!$A:$F,5,FALSE),\"\")","v":""},{"$f":"IF(COUNTIF(Rankings!$B:$B,RIGHT($C736,2)&\"-\"&$D736)>0,IF($D736>0,VLOOKUP(RIGHT($C736,2)&\"-\"&$D736,Rankings!$B:$G,6,FALSE),\"\"),0)","v":0},{"$f":"IF($D736>0,VLOOKUP($D736,Μητρώο!$A:$F,4,FALSE),\"\")","v":""}]
[735,734,null,null,{"$f":"IF($D737>0,VLOOKUP($D737,Μητρώο!$A:$F,3,FALSE),\"\")","v":""},{"$f":"IF($D737>0,VLOOKUP($D737,Μητρώο!$A:$F,5,FALSE),\"\")","v":""},{"$f":"IF(COUNTIF(Rankings!$B:$B,RIGHT($C737,2)&\"-\"&$D737)>0,IF($D737>0,VLOOKUP(RIGHT($C737,2)&\"-\"&$D737,Rankings!$B:$G,6,FALSE),\"\"),0)","v":0},{"$f":"IF($D737>0,VLOOKUP($D737,Μητρώο!$A:$F,4,FALSE),\"\")","v":""}]
[736,735,null,null,{"$f":"IF($D738>0,VLOOKUP($D738,Μητρώο!$A:$F,3,FALSE),\"\")","v":""},{"$f":"IF($D738>0,VLOOKUP($D738,Μητρώο!$A:$F,5,FALSE),\"\")","v":""},{"$f":"IF(COUNTIF(Rankings!$B:$B,RIGHT($C738,2)&\"-\"&$D738)>0,IF($D738>0,VLOOKUP(RIGHT($C738,2)&\"-\"&$D738,Rankings!$B:$G,6,FALSE),\"\"),0)","v":0},{"$f":"IF($D738>0,VLOOKUP($D738,Μητρώο!$A:$F,4,FALSE),\"\")","v":""}]
[737,736,null,null,{"$f":"IF($D739>0,VLOOKUP($D739,Μητρώο!$A:$F,3,FALSE),\"\")","v":""},{"$f":"IF($D739>0,VLOOKUP($D739,Μητρώο!$A:$F,5,FALSE),\"\")","v":""},{"$f":"IF(COUNTIF(Rankings!$B:$B,RIGHT($C739,2)&\"-\"&$D739)>0,IF($D739>0,VLOOKUP(RIGHT($C739,2)&\"-\"&$D739,Rankings!$B:$G,6,FALSE),\"\"),0)","v":0},{"$f":"IF($D739>0,VLOOKUP($D739,Μητρώο!$A:$F,4,FALSE),\"\")","v":""}]
[738,737,null,null,{"$f":"IF($D740>0,VLOOKUP($D740,Μητρώο!$A:$F,3,FALSE),\"\")","v":""},{"$f":"IF($D740>0,VLOOKUP($D740,Μητρώο!$A:$F,5,FALSE),\"\")","v":""},{"$f":"IF(COUNTIF(Rankings!$B:$B,RIGHT($C740,2)&\"-\"&$D740)>0,IF($D740>0,VLOOKUP(RIGHT($C740,2)&\"-\"&$D740,Rankings!$B:$G,6,FALSE),\"\"),0)","v":0},{"$f":"IF($D740>0,VLOOKUP($D740,Μητρώο!$A:$F,4,FALSE),\"\")","v":""}]
[739,738,null,null,{"$f":"IF($D741>0,VLOOKUP($D741,Μητρώο!$A:$F,3,FALSE),\"\")","v":""},{"$f":"IF($D741>0,VLOOKUP($D741,Μητρώο!$A:$F,5,FALSE),\"\")","v":""},{"$f":"IF(COUNTIF(Rankings!$B:$B,RIGHT($C741,2)&\"-\"&$D741)>0,IF($D741>0,VLOOKUP(RIGHT($C741,2)&\"-\"&$D741,Rankings!$B:$G,6,FALSE),\"\"),0)","v":0},{"$f":"IF($D741>0,VLOOKUP($D741,Μητρώο!$A:$F,4,FALSE),\"\")","v":""}]
[740,739,null,null,{"$f":"IF($D742>0,VLOOKUP($D742,Μητρώο!$A:$F,3,FALSE),\"\")","v":""},{"$f":"IF($D742>0,VLOOKUP($D742,Μητρώο!$A:$F,5,FALSE),\"\")","v":""},{"$f":"IF(COUNTIF(Rankings!$B:$B,RIGHT($C742,2)&\"-\"&$D742)>0,IF($D742>0,VLOOKUP(RIGHT($C742,2)&\"-\"&$D742,Rankings!$B:$G,6,FALSE),\"\"),0)","v":0},{"$f":"IF($D742>0,VLOOKUP($D742,Μητρώο!$A:$F,4,FALSE),\"\")","v":""}]
[741,740,null,null,{"$f":"IF($D743>0,VLOOKUP($D743,Μητρώο!$A:$F,3,FALSE),\"\")","v":""},{"$f":"IF($D743>0,VLOOKUP($D743,Μητρώο!$A:$F,5,FALSE),\"\")","v":""},{"$f":"IF(COUNTIF(Rankings!$B:$B,RIGHT($C743,2)&\"-\"&$D743)>0,IF($D743>0,VLOOKUP(RIGHT($C743,2)&\"-\"&$D743,Rankings!$B:$G,6,FALSE),\"\"),0)","v":0},{"$f":"IF($D743>0,VLOOKUP($D743,Μητρώο!$A:$F,4,FALSE),\"\")","v":""}]
[742,741,null,null,{"$f":"IF($D744>0,VLOOKUP($D744,Μητρώο!$A:$F,3,FALSE),\"\")","v":""},{"$f":"IF($D744>0,VLOOKUP($D744,Μητρώο!$A:$F,5,FALSE),\"\")","v":""},{"$f":"IF(COUNTIF(Rankings!$B:$B,RIGHT($C744,2)&\"-\"&$D744)>0,IF($D744>0,VLOOKUP(RIGHT($C744,2)&\"-\"&$D744,Rankings!$B:$G,6,FALSE),\"\"),0)","v":0},{"$f":"IF($D744>0,VLOOKUP($D744,Μητρώο!$A:$F,4,FALSE),\"\")","v":""}]
[743,742,null,null,{"$f":"IF($D745>0,VLOOKUP($D745,Μητρώο!$A:$F,3,FALSE),\"\")","v":""},{"$f":"IF($D745>0,VLOOKUP($D745,Μητρώο!$A:$F,5,FALSE),\"\")","v":""},{"$f":"IF(COUNTIF(Rankings!$B:$B,RIGHT($C745,2)&\"-\"&$D745)>0,IF($D745>0,VLOOKUP(RIGHT($C745,2)&\"-\"&$D745,Rankings!$B:$G,6,FALSE),\"\"),0)","v":0},{"$f":"IF($D745>0,VLOOKUP($D745,Μητρώο!$A:$F,4,FALSE),\"\")","v":""}]
[744,743,null,null,{"$f":"IF($D746>0,VLOOKUP($D746,Μητρώο!$A:$F,3,FALSE),\"\")","v":""},{"$f":"IF($D746>0,VLOOKUP($D746,Μητρώο!$A:$F,5,FALSE),\"\")","v":""},{"$f":"IF(COUNTIF(Rankings!$B:$B,RIGHT($C746,2)&\"-\"&$D746)>0,IF($D746>0,VLOOKUP(RIGHT($C746,2)&\"-\"&$D746,Rankings!$B:$G,6,FALSE),\"\"),0)","v":0},{"$f":"IF($D746>0,VLOOKUP($D746,Μητρώο!$A:$F,4,FALSE),\"\")","v":""}]
[745,744,null,null,{"$f":"IF($D747>0,VLOOKUP($D747,Μητρώο!$A:$F,3,FALSE),\"\")","v":""},{"$f":"IF($D747>0,VLOOKUP($D747,Μητρώο!$A:$F,5,FALSE),\"\")","v":""},{"$f":"IF(COUNTIF(Rankings!$B:$B,RIGHT($C747,2)&\"-\"&$D747)>0,IF($D747>0,VLOOKUP(RIGHT($C747,2)&\"-\"&$D747,Rankings!$B:$G,6,FALSE),\"\"),0)","v":0},{"$f":"IF($D747>0,VLOOKUP($D747,Μητρώο!$A:$F,4,FALSE),\"\")","v":""}]
[746,745,null,null,{"$f":"IF($D748>0,VLOOKUP($D748,Μητρώο!$A:$F,3,FALSE),\"\")","v":""},{"$f":"IF($D748>0,VLOOKUP($D748,Μητρώο!$A:$F,5,FALSE),\"\")","v":""},{"$f":"IF(COUNTIF(Rankings!$B:$B,RIGHT($C748,2)&\"-\"&$D748)>0,IF($D748>0,VLOOKUP(RIGHT($C748,2)&\"-\"&$D748,Rankings!$B:$G,6,FALSE),\"\"),0)","v":0},{"$f":"IF($D748>0,VLOOKUP($D748,Μητρώο!$A:$F,4,FALSE),\"\")","v":""}]
[747,746,null,null,{"$f":"IF($D749>0,VLOOKUP($D749,Μητρώο!$A:$F,3,FALSE),\"\")","v":""},{"$f":"IF($D749>0,VLOOKUP($D749,Μητρώο!$A:$F,5,FALSE),\"\")","v":""},{"$f":"IF(COUNTIF(Rankings!$B:$B,RIGHT($C749,2)&\"-\"&$D749)>0,IF($D749>0,VLOOKUP(RIGHT($C749,2)&\"-\"&$D749,Rankings!$B:$G,6,FALSE),\"\"),0)","v":0},{"$f":"IF($D749>0,VLOOKUP($D749,Μητρώο!$A:$F,4,FALSE),\"\")","v":""}]
[748,747,null,null,{"$f":"IF($D750>0,VLOOKUP($D750,Μητρώο!$A:$F,3,FALSE),\"\")","v":""},{"$f":"IF($D750>0,VLOOKUP($D750,Μητρώο!$A:$F,5,FALSE),\"\")","v":""},{"$f":"IF(COUNTIF(Rankings!$B:$B,RIGHT($C750,2)&\"-\"&$D750)>0,IF($D750>0,VLOOKUP(RIGHT($C750,2)&\"-\"&$D750,Rankings!$B:$G,6,FALSE),\"\"),0)","v":0},{"$f":"IF($D750>0,VLOOKUP($D750,Μητρώο!$A:$F,4,FALSE),\"\")","v":""}]
[749,748,null,null,{"$f":"IF($D751>0,VLOOKUP($D751,Μητρώο!$A:$F,3,FALSE),\"\")","v":""},{"$f":"IF($D751>0,VLOOKUP($D751,Μητρώο!$A:$F,5,FALSE),\"\")","v":""},{"$f":"IF(COUNTIF(Rankings!$B:$B,RIGHT($C751,2)&\"-\"&$D751)>0,IF($D751>0,VLOOKUP(RIGHT($C751,2)&\"-\"&$D751,Rankings!$B:$G,6,FALSE),\"\"),0)","v":0},{"$f":"IF($D751>0,VLOOKUP($D751,Μητρώο!$A:$F,4,FALSE),\"\")","v":""}]
[750,749,null,null,{"$f":"IF($D752>0,VLOOKUP($D752,Μητρώο!$A:$F,3,FALSE),\"\")","v":""},{"$f":"IF($D752>0,VLOOKUP($D752,Μητρώο!$A:$F,5,FALSE),\"\")","v":""},{"$f":"IF(COUNTIF(Rankings!$B:$B,RIGHT($C752,2)&\"-\"&$D752)>0,IF($D752>0,VLOOKUP(RIGHT($C752,2)&\"-\"&$D752,Rankings!$B:$G,6,FALSE),\"\"),0)","v":0},{"$f":"IF($D752>0,VLOOKUP($D752,Μητρώο!$A:$F,4,FALSE),\"\")","v":""}]

{"sheet":"Validations","index":1,"n_rows":3,"n_cols":1,"rows_kept":3,"cut":false,"hidden":false,"merged":[]}
["Groups"]
[]
["MS"]

{"sheet":"Rankings","index":2,"n_rows":313,"n_cols":7,"rows_kept":313,"cut":false,"hidden":true,"merged":[]}
["ΑΜ","Group+ΑΜ","Ονοματεπώνυμο","Έτος","Σύλλογος","ΕΝ","w30"]
[25681,"WD-25681","ΑΓΓΕΛΑΤΟΥ-ΡΑΦΤΟΠΟΥΛΟΥ ΑΝΑΣΤΑΣΙΑ",1999,"Α.Ο.Α.ΗΛΙΟΥΠΟΛΗΣ","ΙΑ",6]
[10759,"MD-10759","ΑΓΓΕΛΙΝΟΣ ΘΕΟΔΩΡΟΣ",1984,"Ο.Α.ΓΛΥΦΑΔΑΣ","ΙΑ",10]
[10759,"MS-10759","ΑΓΓΕΛΙΝΟΣ ΘΕΟΔΩΡΟΣ",1984,"Ο.Α.ΓΛΥΦΑΔΑΣ","ΙΑ",32.75]
[26297,"MS-26297","ΑΓΙΟΥΣ ΓΕΩΡΓΙΟΣ",1999,"ΚΕΡΚΥΡΑΪΚΗ Λ.Τ.","Δ",0.75]
[22833,"WS-22833","ΑΔΑΛΟΓΛΟΥ ΜΑΓΔΑΛΗΝΗ",1999,"Ο.Α.ΠΕΤΡΟΥΠΟΛΗΣ","Θ",0.5]
[14203,"MS-14203","ΑΛΕΞΟΠΟΥΛΟΣ ΠΑΝΑΓΙΩΤΗΣ",1988,"Α.Ο.Α.ΑΙΓΑΛΕΩ 92","Θ",0.1]
[29942,"WS-29942","ΑΛΦΑΝΤΗ ΑΝΑΣΤΑΣΙΑ",2000,"Ο.Α.ΠΕΤΡΟΥΠΟΛΗΣ","Θ",0.75]
[5006,"MS-5006","ΑΝΑΣΤΑΣΙΟΥ ΓΙΩΡΓΗΣ",1980,"Α.Σ.ΟΡΦΕΑΣ ΛΑΡΙΣΑΣ","Ε",1.5]
[30563,"WS-30563","ΑΝΔΡΙΟΠΟΥΛΟΥ ΑΓΓΕΛΙΚΗ-ΑΘΑΝΑΣΙΑ",2002,"Α.Ε.Τ.ΝΙΚΗ ΠΑΤΡΩΝ","ΣΤ",1]
[23357,"MS-23357","ΑΝΔΡΟΥΤΣΕΛΗΣ ΑΛΕΞΙΟΣ",1996,"Α.Ο.Α.ΠΑΤΡΩΝ","ΣΤ",0.5]
[17656,"MD-17656","ΑΝΔΡΟΥΤΣΕΛΗΣ ΙΩΑΝΝΗΣ",1992,"Α.Ο.Α.ΠΑΤΡΩΝ","ΣΤ",6]
[17656,"MS-17656","ΑΝΔΡΟΥΤΣΕΛΗΣ ΙΩΑΝΝΗΣ",1992,"Α.Ο.Α.ΠΑΤΡΩΝ","ΣΤ",0.5]
[549,"MS-549","ΑΝΤΖΟΥΛΑΚΟΣ ΝΙΚΟΛΑΟΣ",1964,"Ο.Α.ΛΑΡΙΣΑΣ","Ε",0.75]
[26107,"WD-26107","ΑΝΤΩΝΑΚΗ ΕΜΜΑΝΟΥΕΛΑ",2000,"Α.Ο.Α.ΑΤΤΙΚΟΣ ΗΛΙΟΣ","Η",12]
[26107,"WS-26107","ΑΝΤΩΝΑΚΗ ΕΜΜΑΝΟΥΕΛΑ",2000,"Α.Ο.Α.ΑΤΤΙΚΟΣ ΗΛΙΟΣ","Η",3]
[22546,"WD-22546","ΑΝΤΩΝΙΟΥ ΑΝΑΣΤΑΣΙΑ",1999,"Α.Ε.Κ.ΤΡΙΠΟΛΗΣ","ΣΤ",1]
[22546,"WS-22546","ΑΝΤΩΝΙΟΥ ΑΝΑΣΤΑΣΙΑ",1999,"Α.Ε.Κ.ΤΡΙΠΟΛΗΣ","ΣΤ",0.75]
[28937,"WD-28937","ΑΝΤΩΝΙΟΥ ΘΕΟΔΩΡΑ",1999,"Ο.Α.ΜΑΓΝΗΣΙΑΣ","Ε",1]
[23775,"MD-23775","ΑΝΤΩΝΟΠΟΥΛΟΣ ΧΡΗΣΤΟΣ",1998,"Ο.Α.ΚΕΡΑΤΣΙΝΙΟΥ","Θ",12]
[23775,"MS-23775","ΑΝΤΩΝΟΠΟΥΛΟΣ ΧΡΗΣΤΟΣ",1998,"Ο.Α.ΚΕΡΑΤΣΙΝΙΟΥ","Θ",13]
[36678,"WS-36678","ΑΝΤΩΝΟΠΟΥΛΟΥ ΕΥΑΓΓΕΛΙΑ",2000,"Α.Ο.Α.ΧΑΪΔΑΡΙΟΥ","Θ",0.5]
[26457,"MS-26457","ΑΡΕΤΑΚΗΣ ΙΩΑΝΝΗΣ",1999,"Ο.Α.ΧΑΝΙΩΝ","Ζ",0.75]
[30051,"WD-30051","ΑΡΚΑΔΙΑΝΟΥ ΑΝΝΑ",2001,"Α.Ο.Α.ΧΑΪΔΑΡΙΟΥ","Θ",3]
[30051,"WS-30051","ΑΡΚΑΔΙΑΝΟΥ ΑΝΝΑ",2001,"Α.Ο.Α.ΧΑΪΔΑΡΙΟΥ","Θ",6]
[24938,"WD-24938","ΑΥΓΕΡΗ ΑΣΠΑΣΙΑ",1998,"Α.Ο.Α.ΗΛΙΟΥΠΟΛΗΣ","ΙΑ",1]
[38570,"WS-38570","ΒΑΛΑΖΙΩΤΗ ΧΡΙΣΤΟΥΛΑ",2000,"Α.Σ.Α.ΠΑΡΝΗΘΑΣ","Η",0.1]
[23935,"MS-23935","ΒΑΝΙΔΗΣ ΙΩΑΝΝΗΣ",1989,"Α.Σ.ΤΕΝΙΣ ΚΛΑΜΠ ΚΟΖΑΝΗΣ","Γ",1.5]
[26389,"MD-26389","ΒΑΡΔΑΚΗΣ ΒΑΣΙΛΕΙΟΣ",1999,"Ο.Α.ΙΩΑΝΝΙΝΩΝ","Δ",1.5]
[26389,"MS-26389","ΒΑΡΔΑΚΗΣ ΒΑΣΙΛΕΙΟΣ",1999,"Ο.Α.ΙΩΑΝΝΙΝΩΝ","Δ",1]
[17604,"MD-17604","ΒΑΡΦΗΣ ΙΑΣΩΝ",1992,"Ο.Α.ΓΟΥΔΙΟΥ","ΙΑ",1]
[17604,"MS-17604","ΒΑΡΦΗΣ ΙΑΣΩΝ",1992,"Ο.Α.ΓΟΥΔΙΟΥ","ΙΑ",1]
[31641,"WS-31641","ΒΑΣΙΛΕΙΑΔΗ ΔΕΣΠΟΙΝΑ",2001,"Α.Σ.ΚΟΛΛΕΓΙΟΥ ΝΤΕΡΗ","Η",0.75]
[22007,"WD-22007","ΒΑΣΙΛΕΙΟΥ ΑΝΑΣΤΑΣΙΑ",1996,"Α.Ο.Α.ΗΛΙΟΥΠΟΛΗΣ","ΙΑ",3]
[22007,"WS-22007","ΒΑΣΙΛΕΙΟΥ ΑΝΑΣΤΑΣΙΑ",1996,"Α.Ο.Α.ΗΛΙΟΥΠΟΛΗΣ","ΙΑ",0.75]
[16767,"MS-16767","ΒΛΑΒΙΑΝΟΣ ΙΑΣΩΝ",1991,"Α.Ο.Α.ΠΑΠΑΓΟΥ","ΙΑ",0.1]
[20649,"WD-20649","ΒΟΓΑΣΑΡΗ ΔΕΣΠΟΙΝΑ",1995,"Ο.Α.ΑΘΗΝΩΝ","Η",12]
[31372,"MS-31372","ΒΟΓΙΑΤΖΗΣ ΙΩΑΝΝΗΣ",2000,"Α.Σ.ΟΡΦΕΑΣ ΛΑΡΙΣΑΣ","Ε",0.5]
[24516,"MD-24516","ΒΟΙΝΕΑ ΑΛΕΞΑΝΔΡΟΣ",1998,"Α.Ο.Α.ΗΛΙΟΥΠΟΛΗΣ","ΙΑ",6]
[24516,"MS-24516","ΒΟΪΝΕΑ ΑΛΕΞΑΝΔΡΟΣ",1998,"Α.Ο.Α.ΗΛΙΟΥΠΟΛΗΣ","ΙΑ",1.25]
[29038,"WD-29038","ΓΑΚΗ ΕΛΕΝΑ",2000,"Α.Ο.Α.ΠΑΠΑΓΟΥ","ΙΑ",6]
[29038,"WS-29038","ΓΑΚΗ ΕΛΕΝΑ",2000,"Α.Ο.Α.ΠΑΠΑΓΟΥ","ΙΑ",1]
[14059,"MD-14059","ΓΕΜΟΥΧΙΔΗΣ ΠΑΡΙΣ",1988,"Ο.Α.ΓΛΥΦΑΔΑΣ","ΙΑ",3]
[14059,"MS-14059","ΓΕΜΟΥΧΙΔΗΣ ΠΑΡΙΣ",1988,"Ο.Α.ΓΛΥΦΑΔΑΣ","ΙΑ",6]
[22914,"WS-22914","ΓΕΝΝΗΜΑΤΑ ΜΑΡΙΝΑ",1997,"Α.Κ.Α.ΜΑΡΑΘΩΝΑ","Η",0.75]
[36928,"MS-36928","ΓΕΡΑΡΔΟΣ ΠΑΥΛΟΣ",1975,"Ο.Α.ΚΟΡΙΝΘΟΥ","ΣΤ",0.5]
[22876,"MS-22876","ΓΕΡΟΥΚΗΣ ΒΑΣΙΛΕΙΟΣ",1998,"Ο.Α.ΝΙΚΑΙΑ ΛΑΡΙΣΑΣ","Ε",0.75]
[16731,"MD-16731","ΓΕΩΡΓΟΥΔΑΣ ΑΛΕΞΑΝΔΡΟΣ-ΦΕΡΔΙΝΑΝΔΟΣ",1991,"ΗΡΑΚΛΕΙΟ Ο.Α.& Α.","Ζ",3]
[16731,"MS-16731","ΓΕΩΡΓΟΥΔΑΣ ΑΛΕΞΑΝΔΡΟΣ-ΦΕΡΔΙΝΑΝΔΟΣ",1991,"ΗΡΑΚΛΕΙΟ Ο.Α.& Α.","Ζ",0.75]
[33530,"MD-33530","ΓΙΑΚΟΥΜΑΚΗΣ ΙΩΑΝΝΗΣ",1999,"Ο.Α.ΧΑΝΙΩΝ","Ζ",0.75]
[33530,"MS-33530","ΓΙΑΚΟΥΜΑΚΗΣ ΙΩΑΝΝΗΣ",1999,"Ο.Α.ΧΑΝΙΩΝ","Ζ",0.5]
[6655,"MD-6655","ΓΙΑΚΟΥΜΠΟΒΙΤΣ ΑΛΕΞΑΝΔΡΟΣ",1981,"Ο.Α.ΑΘΗΝΩΝ","Η",26]
[6655,"MS-6655","ΓΙΑΚΟΥΜΠΟΒΙΤΣ ΑΛΕΞΑΝΔΡΟΣ",1981,"Ο.Α.ΑΘΗΝΩΝ","Η",1]
[15522,"MD-15522","ΓΙΑΝΝΑΚΑΚΗΣ ΗΛΙΑΣ",1991,"Ο.Α.ΑΘΗΝΩΝ","Η",6]
[15522,"MS-15522","ΓΙΑΝΝΑΚΑΚΗΣ ΗΛΙΑΣ",1991,"Ο.Α.ΑΘΗΝΩΝ","Η",1]
[22549,"WD-22549","ΓΚΟΥΝΤΑΝΗ ΓΕΩΡΓΙΑ",1992,"Α.Ε.Κ.ΤΡΙΠΟΛΗΣ","ΣΤ",1]
[22549,"WS-22549","ΓΚΟΥΝΤΑΝΗ ΓΕΩΡΓΙΑ",1992,"Α.Ε.Κ.ΤΡΙΠΟΛΗΣ","ΣΤ",0.5]
[28284,"WD-28284","ΓΚΟΥΣΚΟΥ ΚΑΛΛΙΟΠΗ",2000,"Α.Ο.Α.ΦΙΛΟΘΕΗΣ","Η",1]
[28284,"WS-28284","ΓΚΟΥΣΚΟΥ ΚΑΛΛΙΟΠΗ",2000,"Α.Ο.Α.ΦΙΛΟΘΕΗΣ","Η",0.5]
[36184,"WS-36184","ΓΚΡΕΚΑ ΓΕΩΡΓΙΑ-ΕΙΡΗΝΗ",2001,"Ο.Α.ΑΓΙΑΣ ΠΑΡΑΣΚΕΥΗΣ","Η",0.5]
[14657,"MS-14657","ΓΛΕΖΟΣ ΜΑΝΩΛΗΣ",1990,"Α.Ο.Α.ΦΙΛΟΘΕΗΣ","Η",1]
[23953,"WD-23953","ΓΡΑΜΜΑΤΙΚΟΠΟΥΛΟΥ ΒΑΛΕΝΤΙΝΗ",1997,"Ο.Α.ΘΕΣΣΑΛΟΝΙΚΗΣ","Β",80]
[23953,"WS-23953","ΓΡΑΜΜΑΤΙΚΟΠΟΥΛΟΥ ΒΑΛΕΝΤΙΝΗ",1997,"Ο.Α.ΘΕΣΣΑΛΟΝΙΚΗΣ","Β",112]
[28631,"WD-28631","ΓΡΙΒΑ ΒΑΡΒΑΡΑ",2000,"ΑΙΟΛΟΣ Α.Λ.ΙΛΙΟΥ","Θ",6]
[28631,"WS-28631","ΓΡΙΒΑ ΒΑΡΒΑΡΑ",2000,"ΑΙΟΛΟΣ Α.Λ.ΙΛΙΟΥ","Θ",0.5]
[38608,"WS-38608","ΔΑΝΙΑ ΠΑΝΑΓΙΩΤΑ",1986,"Ο.Α.ΑΓΡΙΝΙΟΥ","Δ",0.1]
[5845,"WD-5845","ΔΑΝΙΗΛΙΔΟΥ ΕΛΕΝΗ",1982,"Ο.Α.ΘΕΣΣΑΛΟΝΙΚΗΣ","Β",37]
[5845,"WS-5845","ΔΑΝΙΗΛΙΔΟΥ ΕΛΕΝΗ",1982,"Ο.Α.ΘΕΣΣΑΛΟΝΙΚΗΣ","Β",14]
[26603,"MD-26603","ΔΕΛΗΣ ΑΝΔΡΕΑΣ-ΑΛΕΞΑΝΔΡΟΣ",1997,"Α.Ο.Α.ΦΙΛΟΘΕΗΣ","Η",1]
[26603,"MS-26603","ΔΕΛΗΣ ΑΝΔΡΕΑΣ-ΑΛΕΞΑΝΔΡΟΣ",1997,"Α.Ο.Α.ΦΙΛΟΘΕΗΣ","Η",2]
[24142,"WD-24142","ΔΕΜΕΝΕΓΑ ΔΑΦΝΗ",1998,"Α.Κ.Α.ΜΑΡΑΘΩΝΑ","Η",3]
[27414,"WD-27414","ΔΕΤΣΗ ΜΑΡΙΑΝ",2000,"Α.Ο.ΒΟΥΛΙΑΓΜΕΝΗΣ","ΙΑ",12]
[27414,"WS-27414","ΔΕΤΣΗ ΜΑΡΙΑΝ",2000,"Α.Ο.ΒΟΥΛΙΑΓΜΕΝΗΣ","ΙΑ",0.5]
[18875,"MD-18875","ΔΗΜΑΣ ΑΛΕΞΙΟΣ",1992,"Α.Ο.Α.ΦΙΛΟΘΕΗΣ","Η",6]
[32158,"WS-32158","ΔΙΟΛΗ ΣΤΑΜΑΤΙΝΑ",2001,"Ο.Α.ΣΑΛΑΜΙΝΑΣ","Θ",0.5]
[2254,"MS-2254","ΔΟΥΒΗΣ ΙΩΑΝΝΗΣ",1974,"Α.Σ.ΠΕΡΑ","ΙΑ",0.5]
[27264,"WS-27264","ΔΟΥΚΑ ΜΑΡΙΑ",2001,"Α.Α.ΑΙΓΑΛΕΩ","Θ",0.1]
[10341,"MD-10341","ΔΟΥΛΓΕΡΑΚΗΣ ΣΤΑΥΡΟΣ",1984,"Α.Ο.ΚΥΔΩΝΙΑΣ","Ζ",0.75]
[10341,"MS-10341","ΔΟΥΛΓΕΡΑΚΗΣ ΣΤΑΥΡΟΣ",1984,"Α.Ο.ΚΥΔΩΝΙΑΣ","Ζ",0.75]
[30043,"WD-30043","ΔΟΥΡΟΥ ΑΝΑΣΤΑΣΙΑ",1999,"Ο.Α.ΤΟΥΜΠΑΣ","Β",1]
[30043,"WS-30043","ΔΟΥΡΟΥ ΑΝΑΣΤΑΣΙΑ",1999,"Ο.Α.ΤΟΥΜΠΑΣ","Β",0.5]
[31476,"MS-31476","ΔΡΑΚΟΣ ΑΘΑΝΑΣΙΟΣ",2001,"Ο.Α.ΑΘΗΝΩΝ","Η",0.1]
[22611,"MS-22611","ΕΠΙΒΑΤΙΝΟΣ ΚΩΝΣΤΑΝΤΙΝΟΣ",1994,"Ο.Α.ΚΟΡΙΝΘΟΥ","ΣΤ",0.5]
[31693,"MS-31693","ΕΣΚΙΟΓΛΟΥ ΣΤΕΦΑΝΟΣ",1999,"Α.Π.Ο.ΣΑΝΝΥ ΣΠΟΡΤΣ ΚΛΑΜΠ","Η",0.75]
[32623,"MS-32623","ΖΑΧΙΩΤΗΣ ΦΙΛΙΠΠΟΣ",2002,"Γ.Ο.ΠΕΡΙΣΤΕΡΙΟΥ Γ.ΠΑΛΑΣΚΑΣ","Θ",0.5]
[22576,"WD-22576","ΖΑΧΟΠΟΥΛΟΥ ΑΘΑΝΑΣΙΑ",1998,"Ο.Α.ΦΟΙΒΟΣ ΛΑΡΙΣΑΣ","Ε",18]
[22576,"WS-22576","ΖΑΧΟΠΟΥΛΟΥ ΑΘΑΝΑΣΙΑ",1998,"Ο.Α.ΦΟΙΒΟΣ ΛΑΡΙΣΑΣ","Ε",0.75]
[26533,"MS-26533","ΖΕΡΔΙΛΑΣ ΑΙΤΟΡ",2000,"Α.Ο.ΑΡΓΥΡΟΥΠΟΛΗΣ","ΙΑ",0.5]
[13432,"MS-13432","ΖΗΣΗΣ ΔΗΜΗΤΡΗΣ",1989,"Ο.Α.ΑΓΡΙΝΙΟΥ","Δ",0.6]
[25602,"MS-25602","ΖΩΓΡΑΦΑΚΗΣ ΔΑΥΙΔ",1977,"Α.Ε.Κ.ΤΡΙΠΟΛΗΣ","ΣΤ",0.5]
[24845,"MD-24845","ΗΛΙΟΠΟΥΛΟΣ ΒΑΣΙΛΗΣ",1998,"Α.Ο.Α.ΦΙΛΟΘΕΗΣ","Η",1]
[24845,"MS-24845","ΗΛΙΟΠΟΥΛΟΣ ΒΑΣΙΛΗΣ",1998,"Α.Ο.Α.ΦΙΛΟΘΕΗΣ","Η",3]
[21565,"MD-21565","ΘΕΟΔΩΡΟΥ ΕΛΕΥΘΕΡΙΟΣ",1996,"Α.Ο.Α.ΦΙΛΟΘΕΗΣ","Η",20]
[21565,"MS-21565","ΘΕΟΔΩΡΟΥ ΕΛΕΥΘΕΡΙΟΣ",1996,"Α.Ο.Α.ΦΙΛΟΘΕΗΣ","Η",1]
[14611,"MD-14611","ΙΑΤΡΟΠΟΥΛΟΣ ΔΗΜΗΤΡΗΣ",1988,"Σ.Α.ΡΑΦΗΝΑΣ","Η",1]
[14611,"MS-14611","ΙΑΤΡΟΠΟΥΛΟΣ ΔΗΜΗΤΡΗΣ",1988,"Σ.Α.ΡΑΦΗΝΑΣ","Η",0.5]
[24053,"MD-24053","ΙΩΑΝΝΙΔΗΣ ΙΩΑΝΝΗΣ",1997,"Ο.Α.ΑΓΙΑΣ ΠΑΡΑΣΚΕΥΗΣ","Η",1.5]
[24053,"MS-24053","ΙΩΑΝΝΙΔΗΣ ΙΩΑΝΝΗΣ",1997,"Ο.Α.ΑΓΙΑΣ ΠΑΡΑΣΚΕΥΗΣ","Η",1]
[24054,"MD-24054","ΙΩΑΝΝΙΔΗΣ ΠΑΝΤΕΛΕΗΜΩΝ",1996,"Ο.Α.ΑΓΙΑΣ ΠΑΡΑΣΚΕΥΗΣ","Η",1.5]
[24054,"MS-24054","ΙΩΑΝΝΙΔΗΣ ΠΑΝΤΕΛΕΗΜΩΝ",1996,"Ο.Α.ΑΓΙΑΣ ΠΑΡΑΣΚΕΥΗΣ","Η",1]
[14594,"MD-14594","ΚΑΖΑΝΙΔΗΣ ΠΑΝΑΓΙΩΤΗΣ",1989,"Ο.Α.ΚΕΡΚΥΡΑΣ","Δ",23]
[14594,"MS-14594","ΚΑΖΑΝΙΔΗΣ ΠΑΝΑΓΙΩΤΗΣ",1989,"Ο.Α.ΚΕΡΚΥΡΑΣ","Δ",2.25]
[21937,"WD-21937","ΚΑΪΡΗ ΑΓΓΕΛΙΚΗ",1996,"Ο.Α.ΑΘΗΝΩΝ","Η",8]
[21937,"WS-21937","ΚΑΪΡΗ ΑΓΓΕΛΙΚΗ",1996,"Ο.Α.ΑΘΗΝΩΝ","Η",4.5]
[17433,"MS-17433","ΚΑΛΛΙΝΙΚΟΣ ΝΙΚΟΛΑΟΣ",1993,"Α.Ο.ΑΤΛΑΝΤΙΣ","Η",1]
[22999,"MS-22999","ΚΑΛΝΤΓΟΥΕΛ ΑΛΕΞΑΝΔΡΟΣ-ΒΑΣΙΛΕΙΟΣ",1997,"Α.Κ.Α.ΜΑΡΑΘΩΝΑ","Η",0.5]
[21744,"MD-21744","ΚΑΛΟΒΕΛΩΝΗΣ ΜΑΡΚΟΣ",1994,"Ο.Α.ΑΘΗΝΩΝ","Η",70]
[33389,"MS-33389","ΚΑΜΗΛΑΡΑΚΗΣ ΙΩΑΝΝΗΣ",1996,"Ο.Α.ΝΙΚΑΙΑ ΛΑΡΙΣΑΣ","Ε",0.75]
[27702,"WS-27702","ΚΑΜΠΑΝΤΑΗ ΕΛΕΝΗ",2000,"Α.Ο.ΜΕΓΑΣ ΑΛΕΞΑΝΔΡΟΣ","ΙΑ",0.75]
[18758,"MS-18758","ΚΑΝΑΡΗΣ ΑΛΕΞΑΝΔΡΟΣ",1993,"Α.Ο.ΚΑΒΑΛΑΣ ΜΑΚΕΔΟΝΙΚΟΣ","Α",1.5]
[26982,"WS-26982","ΚΑΝΕΛΛΟΠΟΥΛΟΥ ΜΑΡΙΛΗ",2000,"Α.Ο.ΤΑΤΟΪΟΥ","Η",0.5]
[25297,"MD-25297","ΚΑΠΙΡΗΣ ΣΤΑΜΑΤΗΣ",1999,"Α.Ο.Α.ΗΛΙΟΥΠΟΛΗΣ","ΙΑ",6]
[25297,"MS-25297","ΚΑΠΙΡΗΣ ΣΤΑΜΑΤΗΣ",1999,"Α.Ο.Α.ΗΛΙΟΥΠΟΛΗΣ","ΙΑ",1.25]
[4835,"WS-4835","ΚΑΠΙΤΣΑΚΗ ΕΛΕΝΗ",1972,"Ο.Α.ΚΕΡΑΤΣΙΝΙΟΥ","Θ",0.1]
[5514,"WD-5514","ΚΑΠΛΑΝΗ ΑΣΗΜΙΝΑ",1983,"Α.Ο.Α.ΦΙΛΟΘΕΗΣ","Η",12]
[15691,"MD-15691","ΚΑΠΟΓΙΑΝΝΗΣ ΧΑΡΗΣ",1990,"ΗΡΑΚΛΕΙΟ Ο.Α.& Α.","Ζ",6.75]
[15691,"MS-15691","ΚΑΠΟΓΙΑΝΝΗΣ ΧΑΡΗΣ",1990,"ΗΡΑΚΛΕΙΟ Ο.Α.& Α.","Ζ",26]
[34093,"MS-34093","ΚΑΠΠΑΤΟΣ-ΧΑΛΙΩΤΗΣ ΑΝΤΩΝΗΣ",1992,"ΚΕΦΑΛΛΗΝΙΑΚΟΣ Ο.Α.","ΣΤ",0.75]
[22951,"MD-22951","ΚΑΠΤΕΚΙ-ΚΑΠΑΝΔΡΙΤΟΥ ΑΛΕΞΑΝΔΡΟΣ",1995,"Ο.Α.ΑΘΗΝΩΝ","Η",6]
[28387,"WS-28387","ΚΑΡΒΟΥΝΗ ΒΑΣΙΛΙΚΗ",2000,"Α.Σ.ΑΚΡΟΠΟΛΙΣ","Η",18]
[28092,"WS-28092","ΚΑΡΠΟΥΖΗ ΟΛΥΜΠΙΑ",1999,"Α.Σ.ΠΕΡΑ","ΙΑ",1]
[24335,"WD-24335","ΚΑΦΦΕ ΖΩΗ",1998,"Ο.Α.ΝΙΚΑΙΑ ΛΑΡΙΣΑΣ","Ε",1]
[24335,"WS-24335","ΚΑΦΦΕ ΖΩΗ",1998,"Ο.Α.ΝΙΚΑΙΑ ΛΑΡΙΣΑΣ","Ε",0.75]
[28903,"MS-28903","ΚΕΪΣΙΔΗΣ ΧΡΙΣΤΟΣ",1992,"Α.Σ.ΟΡΦΕΑΣ ΛΑΡΙΣΑΣ","Ε",8]
[29128,"MS-29128","ΚΕΜΕΡΛΗΣ ΑΡΓΥΡΗΣ",1995,"Ο.Α.ΚΟΡΙΝΘΟΥ","ΣΤ",0.75]
[29201,"WD-29201","ΚΙΖΙΡΑΚΟΥ ΔΗΜΗΤΡΑ",2000,"Α.Ο.ΜΕΓΑΣ ΑΛΕΞΑΝΔΡΟΣ","ΙΑ",3]
[29201,"WS-29201","ΚΙΖΙΡΑΚΟΥ ΔΗΜΗΤΡΑ",2000,"Α.Ο.ΜΕΓΑΣ ΑΛΕΞΑΝΔΡΟΣ","ΙΑ",0.5]
[27879,"MS-27879","ΚΙΣΣΑΣ ΧΡΗΣΤΟΣ-ΕΥΑΓΓΕΛΟΣ",1998,"Α.Ο.ΣΙΚΥΩΝΟΣ ΚΙΑΤΟΥ","ΣΤ",0.75]
[24078,"MS-24078","ΚΟΚΚΑΛΗΣ ΕΜΜΑΝΟΥΗΛ",1978,"Γ.Σ.ΛΙΒΥΚΟΣ ΙΕΡΑΠΕΤΡΑΣ","Ζ",0.5]
[27857,"WS-27857","ΚΟΚΚΙΝΑΚΗ ΕΥΑΓΓΕΛΙΑ",2000,"Ο.Α.ΧΑΝΙΩΝ","Ζ",0.5]
[27858,"WS-27858","ΚΟΚΚΙΝΑΚΗ ΕΥΓΕΝΙΑ",2000,"Ο.Α.ΧΑΝΙΩΝ","Ζ",0.5]
[32201,"WS-32201","ΚΟΚΚΟΡΗ ΕΙΡΗΝΗ-ΕΛΕΝΗ",2000,"Ο.Α.ΣΥΡΟΥ","Η",0.1]
[20527,"WD-20527","ΚΟΚΚΟΤΑ ΑΓΓΕΛΙΚΗ",1995,"Α.Ο.Α.ΧΑΪΔΑΡΙΟΥ","Θ",6]
[20527,"WS-20527","ΚΟΚΚΟΤΑ ΑΓΓΕΛΙΚΗ",1995,"Α.Ο.Α.ΧΑΪΔΑΡΙΟΥ","Θ",3]
[17595,"MD-17595","ΚΟΚΚΟΤΑΣ ΝΙΚΟΛΑΟΣ",1992,"Α.Ο.Α.ΦΙΛΟΘΕΗΣ","Η",6]
[17595,"MS-17595","ΚΟΚΚΟΤΑΣ ΝΙΚΟΛΑΟΣ",1992,"Α.Ο.Α.ΦΙΛΟΘΕΗΣ","Η",3]
[28477,"WS-28477","ΚΟΛΛΙΟΥ ΝΙΚΗ",2000,"Ο.Α.ΑΓΙΑΣ ΠΑΡΑΣΚΕΥΗΣ","Η",0.1]
[26824,"WD-26824","ΚΟΛΟΥΤΣΟΥ ΜΑΡΙΑ-ΕΥΑΓΓΕΛΙΑ",1998,"Ο.Α.ΚΕΡΑΤΣΙΝΙΟΥ","Θ",4]
[26824,"WS-26824","ΚΟΛΟΥΤΣΟΥ ΜΑΡΙΑ-ΕΥΑΓΓΕΛΙΑ",1998,"Ο.Α.ΚΕΡΑΤΣΙΝΙΟΥ","Θ",0.5]
[13378,"MS-13378","ΚΟΝΤΑΞΑΚΗΣ ΤΑΣΟΣ",1981,"Ο.Α.ΣΟΥΔΑΣ","Ζ",0.75]
[22866,"MD-22866","ΚΟΝΤΟΠΟΥΛΟΣ ΘΕΟΦΑΝΗΣ",1998,"Ο.Α.ΚΕΡΑΤΣΙΝΙΟΥ","Θ",12]
[22866,"MS-22866","ΚΟΝΤΟΠΟΥΛΟΣ ΘΕΟΦΑΝΗΣ",1998,"Ο.Α.ΚΕΡΑΤΣΙΝΙΟΥ","Θ",1.5]
[26210,"MS-26210","ΚΟΝΤΩΣΗΣ ΓΕΩΡΓΙΟΣ",1997,"Α.Ο.Α.ΦΙΛΟΘΕΗΣ","Η",0.1]
[11302,"MD-11302","ΚΟΡΑΚΑΣ ΑΝΑΣΤΑΣΙΟΣ",1985,"Ο.Α.ΑΘΛΗΤ.ΠΑΙΔΕΙΑ","Η",1]
[16262,"WD-16262","ΚΟΡΔΟΛΑΙΜΗ ΕΛΕΝΗ",1993,"ΦΘΙΩΤΙΚΟΣ Ο.Α.","Ε",47]
[16262,"WS-16262","ΚΟΡΔΟΛΑΙΜΗ ΕΛΕΝΗ",1993,"ΦΘΙΩΤΙΚΟΣ Ο.Α.","Ε",26]
[23214,"MS-23214","ΚΟΡΩΝΙΟΣ ΑΝΤΩΝΙΟΣ",1997,"Α.Ο.ΑΡΓΥΡΟΥΠΟΛΗΣ","ΙΑ",0.1]
[28465,"MD-28465","ΚΟΥΔΟΥΝΑΣ ΜΙΛΤΙΑΔΗΣ",2000,"Α.Ο.Α.ΦΙΛΟΘΕΗΣ","Η",1]
[28465,"MS-28465","ΚΟΥΔΟΥΝΑΣ ΜΙΛΤΙΑΔΗΣ",2000,"Α.Ο.Α.ΦΙΛΟΘΕΗΣ","Η",0.5]
[23033,"WD-23033","ΚΟΥΚΟΥΒΙΤΑΚΗ ΕΛΕΝΗ-ΑΝΝΑ",1997,"Ο.Α.ΑΘΛΗΤ.ΠΑΙΔΕΙΑ","Η",1]
[23033,"WS-23033","ΚΟΥΚΟΥΒΙΤΑΚΗ ΕΛΕΝΗ-ΑΝΝΑ",1997,"Ο.Α.ΑΘΛΗΤ.ΠΑΙΔΕΙΑ","Η",0.5]
[38607,"MS-38607","ΚΟΥΚΟΥΝΙΑΣ ΧΡΗΣΤΟΣ",1984,"Ο.Α.ΑΓΡΙΝΙΟΥ","Δ",0.5]
[11402,"MS-11402","ΚΥΡΙΑΚΑΚΗΣ ΦΙΛΑΡΕΤΟΣ",1980,"Α.Σ.Α.ΛΑΡΙΣΑΣ","Ε",0.75]
[26219,"WS-26219","ΚΩΣΤΑ ΑΓΓΕΛΙΚΗ",1999,"ΚΕΦΑΛΛΗΝΙΑΚΟΣ Ο.Α.","ΣΤ",0.5]
[26317,"MS-26317","ΚΩΣΤΑΡΑΣ ΠΑΝΑΓΙΩΤΗΣ",1999,"Ο.Α.ΠΕΤΡΟΥΠΟΛΗΣ","Θ",0.75]
[29544,"MD-29544","ΚΩΣΤΙΚΟΓΛΟΥ ΜΙΧΑΛΗΣ",1995,"Α.Ο.Α.ΦΙΛΟΘΕΗΣ","Η",0.75]
[29544,"MS-29544","ΚΩΣΤΙΚΟΓΛΟΥ ΜΙΧΑΛΗΣ",1995,"Α.Ο.Α.ΦΙΛΟΘΕΗΣ","Η",2]
[24169,"WD-24169","ΛΑΘΟΥΡΗ ΙΩΑΝΝΑ",1999,"Α.Ο.ΑΡΓΥΡΟΥΠΟΛΗΣ","ΙΑ",18]
[37030,"MD-37030","ΛΑΜΠΡΟΚΩΣΤΟΠΟΥΛΟΣ ΝΙΚΟΑΛΟΣ",1999,"Α.Τ.ΧΑΝΙΩΝ","Ζ",0.75]
[29863,"WS-29863","ΛΑΝΤΖΗ ΛΟΥΙΖΑ",2000,"Ο.Α.ΓΛΥΦΑΔΑΣ","ΙΑ",0.5]
[28593,"WS-28593","ΜΑΓΓΙΝΑ ΔΗΜΗΤΡΑ",2000,"Α.Κ.Α.ΜΑΡΑΘΩΝΑ","Η",0.5]
[26506,"WD-26506","ΜΑΓΚΛΑΡΑ ΣΤΑΥΡΟΥΛΑ",1999,"Α.Γ.Ο.ΦΙΛΙΠΠΙΑΔΑΣ","Δ",3]
[31862,"MS-31862","ΜΑΛΑΚΗΣ ΝΙΚΟΛΑΟΣ",1977,"Α.Σ.ΟΡΦΕΑΣ ΛΑΡΙΣΑΣ","Ε",0.75]
[20548,"WS-20548","ΜΑΝΕΚΑ ΑΡΤΕΜΙΣ",1995,"Ο.Α.ΙΩΑΝΝΙΝΩΝ","Δ",0.75]
[24547,"MD-24547","ΜΑΝΕΚΑΣ ΑΘΑΝΑΣΙΟΣ",1998,"Ο.Α.ΙΩΑΝΝΙΝΩΝ","Δ",19.5]
[24547,"MS-24547","ΜΑΝΕΚΑΣ ΑΘΑΝΑΣΙΟΣ",1998,"Ο.Α.ΙΩΑΝΝΙΝΩΝ","Δ",2.5]
[32472,"MS-32472","ΜΑΝΟΥΣΑΚΗΣ ΔΗΜΗΤΡΙΟΣ-ΠΑΝΑΓΙΩΤΗΣ",2000,"Α.Κ.Α.ΜΑΡΑΘΩΝΑ","Η",1.25]
[23838,"WD-23838","ΜΑΤΟΥΛΑ ΜΑΡΘΑ",1997,"Ο.Α.ΤΟΥΜΠΑΣ","Β",6]
[30530,"MD-30530","ΜΑΥΡΟΜΜΑΤΗΣ ΚΩΝΣΤΑΝΤΙΝΟΣ",2002,"Α.Τ.ΧΑΝΙΩΝ","Ζ",0.75]
[30530,"MS-30530","ΜΑΥΡΟΜΜΑΤΗΣ ΚΩΝΣΤΑΝΤΙΝΟΣ",2002,"Α.Τ.ΧΑΝΙΩΝ","Ζ",0.5]
[25128,"MD-25128","ΜΑΥΡΟΝΙΚΟΛΑΣ ΛΟΥΔΟΒΙΚΟΣ",1991,"Α.Ο.Α.ΦΙΛΟΘΕΗΣ","Η",0.75]
[25128,"MS-25128","ΜΑΥΡΟΝΙΚΟΛΑΣ ΛΟΥΔΟΒΙΚΟΣ",1991,"Α.Ο.Α.ΦΙΛΟΘΕΗΣ","Η",0.75]
[25584,"WS-25584","ΜΑΥΡΟΠΟΥΛΟΥ ΕΛΕΝΗ",1997,"Ο.Α.ΑΝΑΦΛΥΣΤΟΣ ΣΑΡΩΝΙΔΑΣ","Η",0.5]
[18333,"MS-18333","ΜΕΣΟΡΟΠΙΑΝ ΘΗΣΕΑΣ",1992,"ΚΕΦΑΛΛΗΝΙΑΚΟΣ Ο.Α.","ΣΤ",0.5]
[29694,"WD-29694","ΜΕΤΑΞΑ ΔΙΟΝΥΣΙΑ-ΜΥΡΤΩ",2000,"Α.Σ.ΚΟΛΛΕΓΙΟΥ ΝΤΕΡΗ","Η",1]
[29694,"WS-29694","ΜΕΤΑΞΑ ΔΙΟΝΥΣΙΑ-ΜΥΡΤΩ",2000,"Α.Σ.ΚΟΛΛΕΓΙΟΥ ΝΤΕΡΗ","Η",0.5]
[29695,"WD-29695","ΜΕΤΑΞΑ ΚΛΕΙΩ",2000,"Α.Σ.ΚΟΛΛΕΓΙΟΥ ΝΤΕΡΗ","Η",1]
[29695,"WS-29695","ΜΕΤΑΞΑ ΚΛΕΙΩ",2000,"Α.Σ.ΚΟΛΛΕΓΙΟΥ ΝΤΕΡΗ","Η",0.5]
[17568,"MD-17568","ΜΙΚΟΣ ΚΩΝΣΤΑΝΤΙΝΟΣ",1992,"Α.Ο.Α.ΦΙΛΟΘΕΗΣ","Η",20]
[17568,"MS-17568","ΜΙΚΟΣ ΚΩΝΣΤΑΝΤΙΝΟΣ",1992,"Α.Ο.Α.ΦΙΛΟΘΕΗΣ","Η",3]
[10888,"MS-10888","ΜΟΥΡΑΤΟΓΛΟΥ ΑΡΙΣΤΟΤΕΛΗΣ",1984,"Α.Κ.Α.ΜΑΡΑΘΩΝΑ","Η",0.75]
[28378,"MD-28378","ΜΟΥΣΑΣ ΔΗΜΟΣΘΕΝΗΣ",1999,"Α.Ο.Α.ΦΙΛΟΘΕΗΣ","Η",3]
[20127,"WD-20127","ΜΠΑΚΑ ΑΙΚΑΤΕΡΙΝΗ",1995,"Ο.Α.ΠΕΤΡΟΥΠΟΛΗΣ","Θ",3]
[23777,"MS-23777","ΜΠΙΚΑΣ ΑΝΤΩΝΙΟΣ",1997,"Ο.Α.ΚΕΡΑΤΣΙΝΙΟΥ","Θ",0.75]
[7335,"MS-7335","ΜΠΙΛΙΑΛΗΣ ΕΛΕΥΘΕΡΙΟΣ",1980,"Ο.Α.ΤΡΙΚΑΛΩΝ","Ε",0.5]
[16369,"MS-16369","ΜΠΙΣΜΠΙΚΟΣ ΠΙΕΡ",1990,"Ο.Α.ΑΓΙΑΣ ΠΑΡΑΣΚΕΥΗΣ","Η",0.75]
[31475,"WD-31475","ΜΥΛΩΝΑ ΛΗΔΑ-ΣΤΥΛΙΑΝΗ",2000,"Ο.Α.ΓΛΥΦΑΔΑΣ","ΙΑ",1]
[26455,"WD-26455","ΝΑΟΥΜ ΜΑΡΙΑ",1999,"Ο.Α.ΧΑΝΙΩΝ","Ζ",3]
[34979,"WS-34979","ΝΑΟΥΜ ΝΕΦΕΛΗ-ΙΦΙΓΕΝΕΙΑ",2001,"Ο.Α.ΑΓΙΑΣ ΠΑΡΑΣΚΕΥΗΣ","Η",0.5]
[26459,"MD-26459","ΝΑΟΥΜ ΣΠΥΡΙΔΩΝ",1999,"Ο.Α.ΧΑΝΙΩΝ","Ζ",0.75]
[26459,"MS-26459","ΝΑΟΥΜ ΣΠΥΡΙΔΩΝ",1999,"Ο.Α.ΧΑΝΙΩΝ","Ζ",1]
[27657,"WD-27657","ΝΑΣΙΟΠΟΥΛΟΥ ΑΓΓΕΛΙΚΗ",1999,"Ο.Α.ΑΘΗΝΩΝ","Η",1]
[29817,"MS-29817","ΝΙΑΡΧΟΣ ΝΙΚΗΤΑΣ",1999,"Α.Σ.ΚΟΛΛΕΓΙΟΥ ΝΤΕΡΗ","Η",0.75]
[28259,"MS-28259","ΝΙΚΟΛΑΚΟΠΟΥΛΟΣ ΒΑΣΙΛΕΙΟΣ",1999,"Σ.Α.ΣΕΡΡΩΝ","Α",0.75]
[27688,"WD-27688","ΝΙΚΟΛΟΠΟΥΛΟΥ ΝΑΤΑΛΙΑ",2000,"Α.Ο.Α.ΦΙΛΟΘΕΗΣ","Η",24]
[27688,"WS-27688","ΝΙΚΟΛΟΠΟΥΛΟΥ ΝΑΤΑΛΙΑ",2000,"Α.Ο.Α.ΦΙΛΟΘΕΗΣ","Η",3]
[29169,"WS-29169","ΝΤΑΝΟΥ ΧΡΙΣΤΙΝΑ",2002,"Ο.Α.ΓΟΥΔΙΟΥ","ΙΑ",0.1]
[16350,"MD-16350","ΝΤΙΡΖΟΥ ΑΝΤΡΕΙ",1987,"Σ.Φ.Α.ΜΕΛΙΣΣΙΩΝ Ο ΦΟΙΒΟΣ","Η",1]
[25728,"WS-25728","ΝΤΟΥΜΑ ΔΑΦΝΗ",1998,"Α.Ο.Α.ΦΙΛΟΘΕΗΣ","Η",0.75]
[2515,"MD-2515","ΟΙΚΟΝΟΜΙΔΗΣ ΚΩΝΣΤΑΝΤΙΝΟΣ",1977,"Ο.Α.ΘΕΣΣΑΛΟΝΙΚΗΣ","Β",113]
[2515,"MS-2515","ΟΙΚΟΝΟΜΙΔΗΣ ΚΩΝΣΤΑΝΤΙΝΟΣ",1977,"Ο.Α.ΘΕΣΣΑΛΟΝΙΚΗΣ","Β",8]
[5813,"MS-5813","ΟΡΦΑΝΙΔΗΣ ΜΙΧΑΗΛ",1978,"Α.Ο.ΚΗΦΙΣΙΑΣ","Η",0.1]
[16393,"WD-16393","ΠΑΪΣΙΟΥ ΚΑΤΕΡΙΝΑ",1989,"Α.Ο.ΒΑΡΗΣ ΑΝΑΓΥΡΟΥΣ","Η",1]
[25497,"WS-25497","ΠΑΛΑΣΚΑ ΑΝΑΣΤΑΣΙΑ-ΜΑΡΙΑ",1998,"Ο.Α.ΜΑΓΝΗΣΙΑΣ","Ε",6]
[28687,"WS-28687","ΠΑΛΛΗ ΧΡΙΣΤΙΝΑ",2000,"Γ.Ο.ΠΕΡΙΣΤΕΡΙΟΥ Γ.ΠΑΛΑΣΚΑΣ","Θ",0.5]
[7915,"MS-7915","ΠΑΝΤΟΠΟΥΛΟΣ ΑΘΑΝΑΣΙΟΣ",1980,"Ο.Α.ΚΟΡΙΝΘΟΥ","ΣΤ",1.5]
[22027,"MS-22027","ΠΑΠΑΓΕΩΡΓΙΟΥ ΓΙΩΡΓΟΣ",1996,"Α.Ο.Α.ΧΑΪΔΑΡΙΟΥ","Θ",0.75]
[16368,"MD-16368","ΠΑΠΑΓΙΑΝΝΑΚΗΣ ΑΝΤΩΝΙΟΣ",1991,"Ο.Α.ΧΑΝΙΩΝ","Ζ",0.75]
[16368,"MS-16368","ΠΑΠΑΓΙΑΝΝΑΚΗΣ ΑΝΤΩΝΙΟΣ",1991,"Ο.Α.ΧΑΝΙΩΝ","Ζ",0.6]
[19598,"MS-19598","ΠΑΠΑΔΑΚΗΣ ΝΙΚΟΛΑΟΣ",1993,"Α.Ο.ΠΟΣΕΙΔΩΝ ΛΟΥΤΡΑΚΙΟΥ","ΣΤ",0.5]
[28104,"WD-28104","ΠΑΠΑΔΗΜΗΤΡΙΟΥ ΑΘΑΝΑΣΙΑ",1998,"Ο.Α.ΝΙΚΑΙΑ ΛΑΡΙΣΑΣ","Ε",1]
[28104,"WS-28104","ΠΑΠΑΔΗΜΗΤΡΙΟΥ ΑΘΑΝΑΣΙΑ",1998,"Ο.Α.ΝΙΚΑΙΑ ΛΑΡΙΣΑΣ","Ε",0.5]
[32768,"MS-32768","ΠΑΠΑΔΟΠΟΥΛΟΣ ΠΑΝΑΓΙΩΤΗΣ",1999,"Ο.Α.ΑΘΗΝΩΝ","Η",1.75]
[22341,"MS-22341","ΠΑΠΑΪΩΑΝΝΟΥ ΙΩΑΝΝΗΣ",1996,"Α.Ο.Α.ΧΑΪΔΑΡΙΟΥ","Θ",0.5]
[18671,"WD-18671","ΠΑΠΑΜΙΧΑΗΛ ΔΕΣΠΟΙΝΑ",1993,"Α.Ο.Α.ΦΙΛΟΘΕΗΣ","Η",276]
[18671,"WS-18671","ΠΑΠΑΜΙΧΑΗΛ ΔΕΣΠΟΙΝΑ",1993,"Α.Ο.Α.ΦΙΛΟΘΕΗΣ","Η",57]
[38562,"WS-38562","ΠΑΠΑΦΙΛΙΠΠΟΥ ΑΡΓΥΡΩ",2001,"Α.Σ.Α.ΠΑΡΝΗΘΑΣ","Η",0.1]
[7243,"MD-7243","ΠΑΠΑΧΡΙΣΤΟΠΟΥΛΟΣ ΦΙΛΙΠΠΑΣ",1978,"Α.Ο.Α.ΦΙΛΟΘΕΗΣ","Η",1]
[7243,"MS-7243","ΠΑΠΑΧΡΙΣΤΟΠΟΥΛΟΣ ΦΙΛΙΠΠΑΣ",1978,"Α.Ο.Α.ΦΙΛΟΘΕΗΣ","Η",0.5]
[35870,"MS-35870","ΠΑΡΑΣΚΕΥΑΣ ΜΑΡΙΝΟΣ",1999,"Α.Π.Μ.Σ.ΑΣΚΗΣΗ ΗΡΑΚΛΕΙΟΥ","Ζ",0.5]
[21763,"MS-21763","ΠΑΤΡΙΚΙΟΣ ΝΙΚΟΛΑΟΣ",1997,"Σ.Α.ΣΕΡΡΩΝ","Α",1]
[17675,"MD-17675","ΠΑΥΛΗΣ ΑΝΑΣΤΑΣΙΟΣ",1993,"Ο.Α.ΑΘΗΝΩΝ","Η",3]
[17675,"MS-17675","ΠΑΥΛΗΣ ΑΝΑΣΤΑΣΙΟΣ",1993,"Ο.Α.ΑΘΗΝΩΝ","Η",1]
[24165,"MD-24165","ΠΕΡΔΙΚΟΓΙΑΝΝΗΣ ΣΤΥΛΙΑΝΟΣ",1997,"Ο.Α.ΑΘΗΝΩΝ","Η",1.75]
[24165,"MS-24165","ΠΕΡΔΙΚΟΓΙΑΝΝΗΣ ΣΤΥΛΙΑΝΟΣ",1997,"Ο.Α.ΑΘΗΝΩΝ","Η",2]
[30186,"MS-30186","ΠΙΤΣΙΝΗΣ ΔΗΜΗΤΡΙΟΣ",1999,"Ο.Α.ΚΕΡΑΤΣΙΝΙΟΥ","Θ",0.5]
[21593,"WS-21593","ΠΡΕΖΑΝΗ ΑΓΓΕΛΙΚΗ",1994,"Α.Ο.ΒΑΡΗΣ ΑΝΑΓΥΡΟΥΣ","Η",0.1]
[20240,"MS-20240","ΠΡΟΚΟΠΑΚΗΣ ΧΑΡΙΔΗΜΟΣ",1994,"Ο.Α.ΧΑΝΙΩΝ","Ζ",1]
[24635,"MD-24635","ΠΡΩΤΟΝΟΤΑΡΙΟΣ ΓΙΩΡΓΟΣ",1993,"Α.Ο.Α.ΚΑΙΣΑΡΙΑΝΗΣ","Θ",0.75]
[24635,"MS-24635","ΠΡΩΤΟΝΟΤΑΡΙΟΣ ΓΙΩΡΓΟΣ",1993,"Α.Ο.Α.ΚΑΙΣΑΡΙΑΝΗΣ","Θ",0.5]
[23650,"WD-23650","ΡΕΝΤΟΥΛΗ ΑΝΑΣΤΑΣΙΑ",1997,"Α.Ο.Α.ΗΛΙΟΥΠΟΛΗΣ","ΙΑ",18]
[23650,"WS-23650","ΡΕΝΤΟΥΛΗ ΑΝΑΣΤΑΣΙΑ",1997,"Α.Ο.Α.ΗΛΙΟΥΠΟΛΗΣ","ΙΑ",12]
[30774,"WS-30774","ΡΕΝΤΟΥΜΗ ΜΑΡΙΑ",2001,"Α.Κ.Α.Κ.Α.ΜΑΡΑΘΩΝΑ","Η",1]
[30060,"MD-30060","ΡΟΥΜΠΗΣ ΑΛΕΞΑΝΔΡΟΣ",2001,"Ο.Α.ΧΑΛΚΙΔΑΣ","Θ",1]
[30060,"MS-30060","ΡΟΥΜΠΗΣ ΑΛΕΞΑΝΔΡΟΣ",2001,"Ο.Α.ΧΑΛΚΙΔΑΣ","Θ",0.1]
[5891,"WD-5891","ΡΟΥΣΣΗ ΕΥΑΓΓΕΛΙΑ",1979,"Α.Ο.Α.ΦΙΛΟΘΕΗΣ","Η",12]
[30054,"MS-30054","ΣΑΚΕΛΛΑΡΙΔΗΣ ΜΙΧΑΛΗΣ",2001,"Ο.Α.ΑΓΙΑΣ ΠΑΡΑΣΚΕΥΗΣ","Η",2]
[22937,"WD-22937","ΣΑΚΚΑΡΗ ΜΑΡΙΑ",1995,"Ο.Α.ΑΘΗΝΩΝ","Η",148]
[22937,"WS-22937","ΣΑΚΚΑΡΗ ΜΑΡΙΑ",1995,"Ο.Α.ΑΘΗΝΩΝ","Η",550]
[14628,"WS-14628","ΣΑΡΛΗ ΟΛΓΑ",1988,"Α.Ο.Α.ΠΑΠΑΓΟΥ","ΙΑ",3]
[29274,"MS-29274","ΣΗΜΑΙΟΦΟΡΙΔΗΣ ΧΑΡΑΛΑΜΠΟΣ",1999,"ΠΕΥΚΗ Γ.ΚΑΛΟΒΕΛΩΝΗΣ","Ζ",0.5]
[34997,"WS-34997","ΣΙΑΦΛΑ ΜΑΡΙΑ-ΕΛΕΝΗ",1997,"Α.Ο.ΑΙΓΙΟΥ ΜΟΡΕΑΣ","ΣΤ",0.5]
[6256,"MS-6256","ΣΙΔΕΡΑΚΟΣ ΑΛΕΞΑΝΔΡΟΣ",1981,"Α.Σ.ΟΡΦΕΑΣ ΛΑΡΙΣΑΣ","Ε",5.25]
[33798,"WS-33798","ΣΙΟΥΝΑ ΑΘΗΝΑ",2001,"Ο.Α.ΑΓΙΑΣ ΠΑΡΑΣΚΕΥΗΣ","Η",0.5]
[29895,"MS-29895","ΣΙΤΑΡΙΔΗΣ ΚΥΡΙΑΚΟΣ",2001,"Α.Ο.Α.ΠΑΤΡΩΝ","ΣΤ",0.5]
[23042,"MD-23042","ΣΚΑΛΙΔΑΚΗΣ ΔΗΜΗΤΡΙΟΣ",1997,"Ο.Α.ΧΑΝΙΩΝ","Ζ",0.75]
[23042,"MS-23042","ΣΚΑΛΙΔΑΚΗΣ ΔΗΜΗΤΡΙΟΣ",1997,"Ο.Α.ΧΑΝΙΩΝ","Ζ",0.5]
[30709,"WD-30709","ΣΜΥΡΛΟΓΛΟΥ ΧΡΙΣΤΙΝΑ-ΙΩΑΝΝΑ",2000,"Σ.Α.ΡΑΦΗΝΑΣ","Η",3]
[30709,"WS-30709","ΣΜΥΡΛΟΓΛΟΥ ΧΡΙΣΤΙΝΑ-ΙΩΑΝΝΑ",2000,"Σ.Α.ΡΑΦΗΝΑΣ","Η",0.5]
[27381,"WS-27381","ΣΟΛΔΑΤΟΥ ΘΕΟΔΩΡΑ",1998,"Α.Σ.ΚΟΛΛΕΓΙΟΥ ΝΤΕΡΗ","Η",1]
[32292,"WS-32292","ΣΠΕΝΤΖΑ ΕΛΕΝΗ",2001,"Α.Α.ΑΙΓΑΛΕΩ","Θ",0.1]
[24080,"MD-24080","ΣΠΗΛΙΟΠΟΥΛΟΣ ΑΘΑΝΑΣΙΟΣ",1993,"Α.Ο.Α.ΚΑΙΣΑΡΙΑΝΗΣ","Θ",0.75]
[24080,"MS-24080","ΣΠΗΛΙΟΠΟΥΛΟΣ ΑΘΑΝΑΣΙΟΣ",1993,"Α.Ο.Α.ΚΑΙΣΑΡΙΑΝΗΣ","Θ",1]
[27690,"MS-27690","ΣΠΥΡΟΠΟΥΛΟΣ ΑΘΑΝΑΣΙΟΣ",2000,"Α.Ο.Α.ΦΙΛΟΘΕΗΣ","Η",0.1]
[30873,"WS-30873","ΣΠΥΡΟΠΟΥΛΟΥ ΗΡΩ-ΧΡΙΣΤΙΝΑ",2001,"Ο.Α.ΑΘΗΝΩΝ","Η",0.5]
[13691,"MS-13691","ΣΠΥΡΟΥ ΝΙΚΟΣ",1988,"Ο.Α.ΓΛΥΦΑΔΑΣ","ΙΑ",0.75]
[24764,"WS-24764","ΣΤΑΜΑΤΙΑΔΟΥ ΕΛΕΝΑ",1998,"Ο.Α.ΘΕΣΣΑΛΟΝΙΚΗΣ","Β",0.5]
[28688,"WD-28688","ΣΤΑΜΑΤΟΓΙΑΝΝΟΠΟΥΛΟΥ ΒΑΣΙΛΙΚΗ",2001,"Ο.Α.ΚΕΡΑΤΣΙΝΙΟΥ","Θ",3]
[28688,"WS-28688","ΣΤΑΜΑΤΟΓΙΑΝΝΟΠΟΥΛΟΥ ΒΑΣΙΛΙΚΗ",2001,"Ο.Α.ΚΕΡΑΤΣΙΝΙΟΥ","Θ",0.75]
[27180,"MS-27180","ΣΤΑΥΡΑΚΑΣ ΜΙΝΩΣ-ΚΙΜΩΝ",1998,"Α.Ο.ΚΗΦΙΣΙΑΣ","Η",4]
[33453,"MS-33453","ΣΤΑΥΡΟΠΟΥΛΟΣ ΜΑΡΙΟΣ-ΦΩΤΙΟΣ",1997,"Α.Ο.Α.ΦΙΛΟΘΕΗΣ","Η",1]
[17591,"MD-17591","ΣΤΕΡΓΙΟΥ ΑΘΑΝΑΣΙΟΣ",1993,"Ο.Α.ΑΘΗΝΩΝ","Η",3]
[17591,"MS-17591","ΣΤΕΡΓΙΟΥ ΑΘΑΝΑΣΙΟΣ",1993,"Ο.Α.ΑΘΗΝΩΝ","Η",0.75]
[17593,"MD-17593","ΣΤΕΡΓΙΟΥ ΙΩΑΝΝΗΣ",1995,"Ο.Α.ΑΘΗΝΩΝ","Η",13.75]
[17593,"MS-17593","ΣΤΕΡΓΙΟΥ ΙΩΑΝΝΗΣ",1995,"Ο.Α.ΑΘΗΝΩΝ","Η",18]
[4974,"MS-4974","ΣΤΕΡΓΙΟΥΛΑΣ ΧΡΗΣΤΟΣ",1981,"Α.Γ.Ο.ΦΙΛΙΠΠΙΑΔΑΣ","Δ",0.75]
[22277,"MS-22277","ΣΤΕΡΓΙΟΥΛΗΣ ΛΑΜΠΡΟΣ",1982,"Α.Ν.Σ.ΕΛΛΗΝΙΚΙΩΤΩΝ","ΙΑ",3]
[15744,"WD-15744","ΣΤΕΦΑΝΟΥ ΑΓΝΗ",1989,"Α.Ο.Α.ΦΙΛΟΘΕΗΣ","Η",8]
[15744,"WS-15744","ΣΤΕΦΑΝΟΥ ΑΓΝΗ",1989,"Α.Ο.Α.ΦΙΛΟΘΕΗΣ","Η",1]
[20351,"MS-20351","ΣΤΕΦΟΣ ΑΛΕΞΙΟΣ",1993,"Α.Ε.Τ.ΝΙΚΗ ΠΑΤΡΩΝ","ΣΤ",1]
[22979,"MS-22979","ΣΧΙΝΑΣ ΣΤΕΦΑΝΟΣ",1997,"Α.Ο.Α.ΦΙΛΟΘΕΗΣ","Η",0.5]
[7426,"MS-7426","ΤΕΡΜΑΤΖΙΔΗΣ ΓΕΩΡΓΙΟΣ",1983,"Α.Ψ.Λ.ΜΕΔΕΩΝ","Ε",0.5]
[27014,"WD-27014","ΤΖΑΝΟΠΟΥΛΟΥ ΑΦΡΟΔΙΤΗ",1999,"Ο.Α.ΚΕΡΑΤΣΙΝΙΟΥ","Θ",6]
[27014,"WS-27014","ΤΖΑΝΟΠΟΥΛΟΥ ΑΦΡΟΔΙΤΗ",1999,"Ο.Α.ΚΕΡΑΤΣΙΝΙΟΥ","Θ",1]
[32256,"WS-32256","ΤΖΙΒΕΛΕΚΗ ΕΛΕΝΗ-ΘΕΟΔΩΡΑ",2001,"Γ.Ο.ΠΕΡΙΣΤΕΡΙΟΥ Γ.ΠΑΛΑΣΚΑΣ","Θ",0.5]
[33187,"WS-33187","ΤΟΜΑΖΑΝΗ ΜΑΡΙΑ-ΜΑΓΔΑΛΗΝΗ",2001,"Ο.Α.ΓΛΥΦΑΔΑΣ","ΙΑ",0.1]
[15237,"MD-15237","ΤΡΙΑΝΤΗΣ ΦΩΤΗΣ",1990,"Α.Ο.Α.ΦΙΛΟΘΕΗΣ","Η",1]
[15237,"MS-15237","ΤΡΙΑΝΤΗΣ ΦΩΤΗΣ",1990,"Α.Ο.Α.ΦΙΛΟΘΕΗΣ","Η",0.5]
[27408,"WD-27408","ΤΣΑΓΚΑΡΑΚΗ ΑΘΗΝΑ",1999,"ΗΡΑΚΛΕΙΟ Ο.Α.& Α.","Ζ",1]
[27408,"WS-27408","ΤΣΑΓΚΑΡΑΚΗ ΑΘΗΝΑ",1999,"ΗΡΑΚΛΕΙΟ Ο.Α.& Α.","Ζ",0.5]
[30318,"WS-30318","ΤΣΑΔΑΡΗ ΙΩΑΝΝΑ-ΔΗΜΗΤΡΑ",2001,"Ο.Α.ΠΕΤΡΟΥΠΟΛΗΣ","Θ",0.75]
[28170,"WD-28170","ΤΣΕΛΟΥ ΑΘΑΝΑΣΙΑ",1999,"Α.Ο.Α.ΠΑΠΑΓΟΥ","ΙΑ",6]
[28170,"WS-28170","ΤΣΕΛΟΥ ΑΘΑΝΑΣΙΑ",1999,"Α.Ο.Α.ΠΑΠΑΓΟΥ","ΙΑ",1]
[29589,"WD-29589","ΤΣΕΡΕΓΚΟΥΝΗ ΑΝΑΣΤΑΣΙΑ-ΑΓΑΘΗ",1999,"Α.Ο.Α.ΠΑΠΑΓΟΥ","ΙΑ",1]
[25973,"WD-25973","ΤΣΙΑΡΑ ΙΩΑΝΝΑ",1999,"Ο.Α.ΠΕΤΡΟΥΠΟΛΗΣ","Θ",3]
[25973,"WS-25973","ΤΣΙΑΡΑ ΙΩΑΝΝΑ",1999,"Ο.Α.ΠΕΤΡΟΥΠΟΛΗΣ","Θ",0.75]
[30157,"WS-30157","ΤΣΙΟΛΑΚΙΔΟΥ ΒΑΣΙΛΙΚΗ",2001,"Α.Ο.ΒΟΥΛΙΑΓΜΕΝΗΣ","ΙΑ",0.1]
[23517,"MD-23517","ΤΣΙΡΑΝΙΔΗΣ ΕΥΣΤΑΘΙΟΣ",1998,"Ο.Α.ΘΕΣΣΑΛΟΝΙΚΗΣ","Β",5]
[23517,"MS-23517","ΤΣΙΡΑΝΙΔΗΣ ΕΥΣΤΑΘΙΟΣ",1998,"Ο.Α.ΘΕΣΣΑΛΟΝΙΚΗΣ","Β",0.75]
[27371,"MD-27371","ΤΣΙΤΣΙΠΑΣ ΠΕΤΡΟΣ",2000,"Ο.Α.ΓΛΥΦΑΔΑΣ","ΙΑ",10]
[27371,"MS-27371","ΤΣΙΤΣΙΠΑΣ ΠΕΤΡΟΣ",2000,"Ο.Α.ΓΛΥΦΑΔΑΣ","ΙΑ",0.75]
[25438,"MD-25438","ΤΣΙΤΣΙΠΑΣ ΣΤΕΦΑΝΟΣ",1998,"Ο.Α.ΓΛΥΦΑΔΑΣ","ΙΑ",155]
[25438,"MS-25438","ΤΣΙΤΣΙΠΑΣ ΣΤΕΦΑΝΟΣ",1998,"Ο.Α.ΓΛΥΦΑΔΑΣ","ΙΑ",127]
[29789,"MS-29789","ΤΣΟΜΛΕΚΤΣΟΓΛΟΥ ΝΙΚΟΛΑΟΣ",1999,"Α.Ο.Α.ΦΙΛΟΘΕΗΣ","Η",0.1]
[11877,"WD-11877","ΦΑΦΑΛΙΟΥ ΣΤΑΜΑΤΙΑ",1986,"Α.Ο.Α.ΦΙΛΟΘΕΗΣ","Η",18]
[11877,"WS-11877","ΦΑΦΑΛΙΟΥ ΣΤΑΜΑΤΙΑ",1986,"Α.Ο.Α.ΦΙΛΟΘΕΗΣ","Η",3]
[28958,"MS-28958","ΦΟΥΖΑΣ ΧΑΡΑΛΑΜΠΟΣ",2002,"ΠΕΥΚΗ Γ.ΚΑΛΟΒΕΛΩΝΗΣ","Η",0.5]
[31213,"MS-31213","ΦΡΑΓΚΙΣΤΑΣ ΕΥΑΓΓΕΛΟΣ",2000,"Α.Ο.ΜΕΓΑΣ ΑΛΕΞΑΝΔΡΟΣ","ΙΑ",0.1]
[23025,"MS-23025","ΦΡΑΓΚΟΥΛΗΣ ΒΑΣΙΛΗΣ",1996,"Α.Ο.ΑΡΓΥΡΟΥΠΟΛΗΣ","ΙΑ",0.5]
[28426,"MS-28426","ΦΩΤΕΙΝΟΠΟΥΛΟΣ ΙΩΑΝΝΗΣ",2000,"Α.Ο.Α.ΗΛΙΟΥΠΟΛΗΣ","ΙΑ",0.5]
[10902,"MD-10902","ΧΑΜΑΜΗΣ ΝΙΚΟΛΑΟΣ",1987,"Α.Ο.ΑΤΛΑΝΤΙΣ","Η",6]
[17627,"MD-17627","ΧΑΜΠΕΡΗΣ ΣΤΕΦΑΝΟΣ",1992,"Ο.Α.ΓΟΥΔΙΟΥ","ΙΑ",1]
[29877,"WD-29877","ΧΑΡΑΛΑΜΠΙΔΗ ΓΑΒΡΙΕΛΛΑ",2001,"Α.Ο.Α.ΠΑΤΡΩΝ","ΣΤ",3]
[29877,"WS-29877","ΧΑΡΑΛΑΜΠΙΔΗ ΓΑΒΡΙΕΛΛΑ",2001,"Α.Ο.Α.ΠΑΤΡΩΝ","ΣΤ",0.5]
[25809,"MS-25809","ΧΑΡΑΤΣΗΣ ΑΝΑΣΤΑΣΙΟΣ",1976,"Α.Σ.ΟΡΦΕΑΣ ΛΑΡΙΣΑΣ","Ε",1]
[11403,"MS-11403","ΧΕΛΙΔΩΝΗΣ ΣΩΤΗΡΙΟΣ",1982,"Α.Σ.Α.ΛΑΡΙΣΑΣ","Ε",0.5]
[24340,"MS-24340","ΧΟΝΔΡΟΣ ΙΑΣΩΝ-ΣΤΥΛΙΑΝΟΣ",1999,"Ο.Α.ΚΕΡΑΤΣΙΝΙΟΥ","Θ",4]
[30785,"WS-30785","ΧΟΥΛΙΑΡΑ ΜΑΡΓΑΡΙΤΑ",2002,"Α.Ο.Α.ΑΤΤΙΚΟΣ ΗΛΙΟΣ","Η",0.5]
[27444,"MS-27444","ΧΡΙΣΤΑΝΑΣ ΔΗΜΗΤΡΗΣ",2002,"Α.Ο.Α.ΑΙΓΑΛΕΩ 92","Θ",0.1]
[18959,"WD-18959","ΧΡΙΣΤΟΠΟΥΛΟΥ ΑΝΔΡIΑΝNΑ",1993,"Α.Ο.ΒΑΡΗΣ ΑΝΑΓΥΡΟΥΣ","Η",12]
[18959,"WS-18959","ΧΡΙΣΤΟΠΟΥΛΟΥ ΑΝΔΡIΑΝNΑ",1993,"Α.Ο.ΒΑΡΗΣ ΑΝΑΓΥΡΟΥΣ","Η",0.75]
[24422,"WD-24422","ΧΡΙΣΤΟΦΗ ΕΛΕΝΗ",1998,"Α.Ο.Α.ΦΙΛΟΘΕΗΣ","Η",24]
[28575,"MS-28575","ΨΑΡΙΑΔΗΣ ΜΙΧΑΛΗΣ",2000,"Ο.Α.ΑΙΓΙΑΛΕΙΑΣ","ΣΤ",1.25]

{"sheet":"Μητρώο","index":3,"n_rows":32373,"n_cols":6,"rows_kept":4500,"cut":true,"hidden":true,"merged":[],"bounds":{"rows_first":2000,"rows_last":500,"rows_between":2000,"halvings":0}}
["ΑΜ","Φ","Ονοματεπώνυμο","YOB","Σύλλογος","Εν"]
[12680,"F","ALTHAUS DIANA",1983,"Α.Ο.Α.ΡΕΘΥΜΝΟ Τ.Κ.","Ζ"]
[15178,"F","BILENNE ANNE-LAURENCE",1978,"Ε.Φ.Τ.ΑΙΟΛΙΚΗ","Β"]
[13913,"F","GRAIG EMILI-ΑΛΕΞΑΝΔΡΑ",1988,"Ο.Α.ΣΚΙΑΘΟΥ","Ε"]
[13912,"F","GRAIG ΛΩΡΑ-ΘΕΟΔΩΡΑ",1986,"Ο.Α.ΣΚΙΑΘΟΥ","Ε"]
[6250,"F","JELIAZKOVA VESSELINA",1973,"Ο.Α.ΧΑΝΙΩΝ","Ζ"]
[3616,"M","LINDSTROM-THORSTEN GRAHAM",1975,"Ο.Α.ΓΛΥΦΑΔΑΣ","ΙΑ"]
[3692,"F","MAFFRE SANDRINE",1977,"Ο.Α.ΖΩΓΡΑΦΟΥ","Η"]
[3660,"M","OHAYON SAMUEL",1972,"Ο.Α.ΖΩΓΡΑΦΟΥ","Η"]
[14695,"M","RANDELL ΜΑΡΚΟΣ",1984,"ΖΑΚΥΝΘΙΝΟΣ Α.Ο.","ΣΤ"]
[15069,"M","SAVINO STEVEN-JASON",1975,"Ο.Α.ΘΕΣΣΑΛΟΝΙΚΗΣ","Β"]
[14954,"M","SCIDONE PAOLO",1967,"Ο.Α.ΣΥΡΟΥ","Η"]
[10846,"M","SHLUTER THOMAS",1966,"Ε.Φ.Τ.ΑΙΟΛΙΚΗ","Β"]
[8425,"M","VAN-SEEGELEN JAN",1982,"Α.Ν.Ο.ΓΛΥΦΑΔΑΣ","ΙΑ"]
[11669,"F","WOODCOCK MICAH",1988,"Α.Ε.ΠΟΡΤΟ ΡΑΦΤΗ","Η"]
[11668,"M","WOODCOCK STEPHEN-MICHEL",1985,"Α.Ε.ΠΟΡΤΟ ΡΑΦΤΗ","Η"]
[33811,"M","ΑΑΡΩΝ ΙΩΣΗΦ",1999,"Α.Ο.ΤΑΤΟΪΟΥ","Η"]
[1401,"F","ΑΒΑΒΙΑΝ ΣΙΡΑΡΠΗ",1968,"Α.Κ.ΖΩΓΡΑΦΟΥ","ΙΑ"]
[7294,"M","ΑΒΑΓΙΑΝΝΟΣ ΔΗΜΗΤΡΙΟΣ",1967,"Α.Ο.ΜΥΤΙΛΗΝΗΣ","Θ"]
[9164,"M","ΑΒΑΓΙΑΝΟΣ ΧΡΗΣΤΟΣ",1980,"Ο.Α.ΑΘΗΝΩΝ","Η"]
[12943,"F","ΑΒΑΓΙΑΝΟΥ ΘΑΛΙΑ",1983,"Α.Ο.ΜΥΤΙΛΗΝΗΣ","Θ"]
[37876,"F","ΑΒΑΓΙΑΝΟΥ ΜΑΡΙΑ",2001,"Α.Ο.ΜΕΓΑΣ ΑΛΕΞΑΝΔΡΟΣ","ΙΑ"]
[33258,"F","ΑΒΑΚΙΑΝ ΙΩΑΝΝΑ",1996,"Α.Ο.Α.ΚΑΤΕΡΙΝΗΣ","Γ"]
[33257,"F","ΑΒΑΚΙΑΝ ΜΑΡΙΑ",1991,"Α.Ο.Α.ΚΑΤΕΡΙΝΗΣ","Γ"]
[31383,"M","ΑΒΑΤΑΓΓΕΛΟΣ ΓΕΩΡΓΙΟΣ",2002,"Σ.Α.ΣΕΡΡΩΝ","Α"]
[32009,"M","ΑΒΑΤΑΓΓΕΛΟΣ ΧΡΗΣΤΟΣ",1998,"Σ.Α.ΣΕΡΡΩΝ","Α"]
[2975,"M","ΑΒΒΟΤΤ ΦΙΛΙΠΠΟΣ",1976,"Ο.Α.ΚΑΣΤΟΡΙΑΣ ΚΕΛΕΤΡΟΝ","Γ"]
[15896,"M","ΑΒΔΑΛΑΣ ΙΩΑΝΝΗΣ",1988,"Ο.Α.ΙΩΛΚΟΣ ΒΟΛΟΥ","Ε"]
[28282,"M","ΑΒΔΗΜΙΩΤΗΣ ΔΗΜΗΤΡΙΟΣ",1998,"Ο.Α.ΤΟΥΜΠΑΣ","Β"]
[22676,"M","ΑΒΔΗΜΙΩΤΗΣ ΘΩΜΑΣ",1997,"Ο.Α.ΤΟΥΜΠΑΣ","Β"]
[28281,"M","ΑΒΔΗΜΙΩΤΗΣ ΚΩΝΣΤΑΝΤΙΝΟΣ",1994,"Ο.Α.ΤΟΥΜΠΑΣ","Β"]
[25780,"F","ΑΒΔΙΚΟΥ ΜΑΤΙΝΑ",1993,"Γ.Ο.ΠΕΡΙΣΤΕΡΙΟΥ Γ.ΠΑΛΑΣΚΑΣ","Θ"]
[7672,"M","ΑΒΟΥΡΗΣ ΕΜΜΑΝΟΥΗΛ",1976,"ΖΑΚΥΝΘΙΝΟΣ Α.Ο.","ΣΤ"]
[33755,"M","ΑΒΟΥΡΗΣ ΕΥΡΙΠΙΔΗΣ",1997,"Ο.Α.ΡΙΟΥ","ΣΤ"]
[30634,"F","ΑΒΡΑΑΜ ΕΛΕΥΘΕΡΙΑ",2001,"Α.Ο.Α.ΠΡΩΤΑΘΛ.ΚΑΒΑΛΑΣ","Α"]
[18558,"F","ΑΒΡΑΜΑΚΟΥ ΑΓΓΕΛΙΚΗ",1992,"Γ.Ο.ΠΕΡΙΣΤΕΡΙΟΥ Γ.ΠΑΛΑΣΚΑΣ","Θ"]
[19612,"F","ΑΒΡΑΜΑΚΟΥ ΑΓΓΕΛΙΚΗ",1992,"Γ.Ο.ΠΕΡΙΣΤΕΡΙΟΥ Γ.ΠΑΛΑΣΚΑΣ","Θ"]
[39107,"M","ΑΒΡΑΜΙΔΗΣ ΑΛΚΙΒΙΑΔΗΣ",2001,"Α.Σ.Α.ΓΡΕΒΕΝΩΝ","Γ"]
[33543,"M","ΑΒΡΑΜΙΔΗΣ ΑΝΑΣΤΑΣΙΟΣ",1997,"Ν.Ο.ΘΕΣΣΑΛΟΝΙΚΗΣ","Β"]
[25111,"M","ΑΒΡΑΜΙΔΗΣ ΒΥΡΩΝ",1996,"Ο.Α.ΕΥΟΣΜΟΥ ΘΕΣΣΑΛΟΝΙΚΗΣ","Β"]
[6154,"M","ΑΒΡΑΜΙΔΗΣ ΓΕΩΡΓΙΟΣ",1967,"Α.Ο.ΚΗΦΙΣΙΑΣ","Η"]
[32805,"M","ΑΒΡΑΜΙΔΗΣ ΙΩΑΝΝΗΣ",2002,"Ο.Α.ΑΛΕΞΑΝΔΡΟΣ ΒΕΡΟΙΑΣ","Γ"]
[24892,"M","ΑΒΡΑΜΙΔΗΣ ΚΩΝΣΤΑΝΤΙΝΟΣ",1996,"Σ.Α.ΔΡΑΜΑΣ","Α"]
[5691,"M","ΑΒΡΑΜΙΔΗΣ ΜΑΡΙΟΣ",1974,"Ο.Α.ΒΙΚΕΛΑΣ ΒΕΡΟΙΑΣ","Γ"]
[4801,"M","ΑΒΡΑΜΙΔΗΣ ΝΙΚΟΛΑΟΣ",1981,"Σ.Α.ΣΕΡΡΩΝ","Α"]
[9994,"M","ΑΒΡΑΜΙΔΗΣ ΠΑΝΤΕΛΗΣ-ΑΡΗΣ",1983,"Λ.Α.ΚΟΜΟΤΗΝΗΣ","Α"]
[32724,"F","ΑΒΡΑΜΙΔΟΥ ΕΛΕΝΗ",2001,"Ο.Α.ΠΑΝΟΡΑΜΑΤΟΣ","Β"]
[3326,"F","ΑΒΡΑΜΙΔΟΥ ΘΕΟΔΩΡΑ",1975,"Ε.Φ.Τ.ΑΙΟΛΙΚΗ","Β"]
[8254,"F","ΑΒΡΑΜΙΔΟΥ ΙΩΑΝΝΑ",1985,"Σ.Α.ΣΕΡΡΩΝ","Α"]
[15171,"F","ΑΒΡΑΜΙΔΟΥ ΜΑΡΙΑ",1988,"Σ.Α.ΔΡΑΜΑΣ","Α"]
[26619,"F","ΑΒΡΑΜΙΔΟΥ ΜΑΡΙΑ",1998,"Ο.Α.ΚΑΒΑΛΑΣ ΑΛΕΞΑΝΔΡΟΣ","Α"]
[34868,"F","ΑΒΡΑΜΙΔΟΥ ΠΑΝΑΓΙΩΤΑ",2001,"Α.Ο.Α.ΣΤΑΥΡΟΥΠΟΛΗΣ ΙΦΙΤΟΣ","Β"]
[24893,"F","ΑΒΡΑΜΙΔΟΥ ΣΟΦΙΑ",1997,"Σ.Α.ΔΡΑΜΑΣ","Α"]
[7368,"F","ΑΒΡΑΜΙΔΟΥ ΦΩΤΕΙΝΗ-ΜΑΡΙΑ",1981,"Ο.Α.ΚΙΛΚΙΣ","Β"]
[18892,"F","ΑΒΡΑΜΙΩΤΗ ΕΛΕΝΗ",1993,"Ο.Α.ΤΡΙΚΑΛΩΝ","Ε"]
[1982,"M","ΑΒΡΑΜΟΠΟΥΛΟΣ ΓΙΩΡΓΟΣ",1969,"Ο.Α.ΚΑΛΑΜΑΤΑΣ","ΣΤ"]
[8748,"F","ΑΒΡΑΜΟΠΟΥΛΟΥ ΑΝΔΡΟΜΑΧΗ",1984,"Ο.Α.ΕΔΕΣΣΑΣ","Γ"]
[21056,"M","ΑΒΡΑΜΟΥΔΗΣ ΧΡΗΣΤΟΣ",1989,"Α.Ο.ΜΕΓΑΣ ΑΛΕΞΑΝΔΡΟΣ","ΙΑ"]
[9232,"F","ΑΒΡΑΝΑ ΑΓΛΑΪΑ",1983,"Σ.Α.ΕΛΑΣΣΟΝΑΣ","Ε"]
[9230,"F","ΑΒΡΑΝΑ ΣΟΦΙΑ",1983,"Σ.Α.ΕΛΑΣΣΟΝΑΣ","Ε"]
[9231,"M","ΑΒΡΑΝΑΣ ΔΗΜΗΤΡΙΟΣ",1982,"Σ.Α.ΕΛΑΣΣΟΝΑΣ","Ε"]
[12202,"F","ΑΒΡΑΝΤΙΝΗ ΕΛΕΝΗ",1987,"Α.Ο.Α.ΠΑΤΡΩΝ","ΣΤ"]
[9395,"F","ΑΒΡΑΠΟΓΛΟΥ ΕΙΡΗΝΗ",1987,"Ο.Α.ΑΓΙΑΣ ΠΑΡΑΣΚΕΥΗΣ","Η"]
[16554,"M","ΑΒΡΑΤΟΓΛΟΥ ΜΙΧΑΗΛ",1989,"Α.Ο.ΔΙΛΟΦΟ ΒΑΡΗΣ","Η"]
[3935,"M","ΑΒΡΟΝΙΔΑΚΗΣ ΚΩΝΣΤΑΝΤΙΝΟΣ",1978,"Α.Σ.ΣΠΑΡΤΑΚΟΣ ΓΛΥΦΑΔΑΣ","ΙΑ"]
[26266,"M","ΑΒΤΖΗΣ ΘΕΟΔΩΡΟΣ",1970,"Ο.Α.Ο ΦΙΛΑΘΛΟΣ","Η"]
[29846,"M","ΑΓΑΖΑΝΗΣ ΠΕΤΡΟΣ",1982,"Ο.Α.ΚΑΙΣΑΡΙΑΝΗΣ","Θ"]
[38828,"M","ΑΓΑΘΑΓΓΕΛΙΔΗΣ ΚΩΝΣΤΑΝΤΙΝΟΣ",2001,"Α.Σ.ΠΑΡΝΗΘΑΣ","Θ"]
[31453,"F","ΑΓΑΘΑΓΓΕΛΙΔΟΥ ΖΗΝΟΒΙΑ",2000,"Γ.Α.Σ.ΚΑΡΑΤΕ ΕΡΜΗΣ","Γ"]
[37370,"F","ΑΓΑΘΑΓΓΕΛΟΥ ΜΑΡΙΑ",2001,"Α.Σ.Α.ΖΕΦΥΡΟΣ","Γ"]
[7700,"F","ΑΓΑΘΟΝΙΚΙΑΔΟΥ ΑΝΝΑ",1980,"Α.Ο.ΑΜΥΝΤΑΣ ΥΜΗΤΤΟΥ","ΙΑ"]
[26293,"M","ΑΓΑΘΟΣ ΔΗΜΗΤΡΙΟΣ",1995,"ΚΕΡΚΥΡΑΪΚΗ Λ.Τ.","Δ"]
[29661,"M","ΑΓΑΘΟΣ ΙΩΑΝΝΗΣ",2000,"Ο.Α.ΚΕΡΚΥΡΑΣ","Δ"]
[11715,"M","ΑΓΑΘΟΣ ΣΠΥΡΟΣ",1987,"ΚΕΡΚΥΡΑΪΚΗ Λ.Τ.","Δ"]
[15403,"F","ΑΓΑΘΟΥ ΕΛΕΝΗ-ΑΛΙΚΗ",1985,"Ο.Α.ΚΕΡΚΥΡΑΣ","Δ"]
[18725,"F","ΑΓΑΘΟΥ ΕΛΙΣΑΒΕΤ",1987,"Α.Γ.Σ.ΜΥΛΩΝ Ο ΛΕΡΝΟΣ","ΣΤ"]
[12997,"F","ΑΓΑΘΟΥ ΝΑΤΑΛΙ",1985,"Α.Α.Α.ΑΛΙΜΟΥ","ΙΑ"]
[12996,"F","ΑΓΑΘΟΥ ΣΥΛΒΙΑ",1988,"Α.Α.Α.ΑΛΙΜΟΥ","ΙΑ"]
[30178,"F","ΑΓΑΚΕΧΑΓΙΑ ΖΩΗ",2001,"Α.Ο.Α.ΣΤΑΥΡΟΥΠΟΛΗΣ ΙΦΙΤΟΣ","Β"]
[38610,"F","ΑΓΑΛΙΑ ΕΛΙΣΑΒΕΤ",2002,"Ο.Α.ΑΓΡΙΝΙΟΥ","Δ"]
[18903,"M","ΑΓΑΛΙΑΝΟΣ ΑΘΑΝΑΣΙΟΣ",1989,"ΖΑΚΥΝΘΙΝΟΣ Α.Ο.","ΣΤ"]
[28051,"M","ΑΓΑΛΙΑΝΟΣ ΑΛΕΞΑΝΔΡΟΣ",1966,"ΦΙΛΑΘΛ.ΟΜΙΛΟΣ ΠΥΡΓΟΥ","ΣΤ"]
[14685,"M","ΑΓΑΛΙΑΝΟΣ ΣΠΥΡΟΣ",1986,"ΖΑΚΥΝΘΙΝΟΣ Α.Ο.","ΣΤ"]
[11852,"F","ΑΓΑΛΙΑΝΟΥ ΕΥΔΟΚΙΑ",1984,"ΖΑΚΥΝΘΙΝΟΣ Α.Ο.","ΣΤ"]
[29987,"F","ΑΓΑΛΙΩΤΗ ΣΟΦΙΑ",2000,"Α.Ε.Τ.ΝΙΚΗ ΠΑΤΡΩΝ","ΣΤ"]
[25670,"M","ΑΓΑΛΙΩΤΗΣ ΓΕΡΑΣΙΜΟΣ",1997,"ΖΑΚΥΝΘΙΝΟΣ Α.Ο.","ΣΤ"]
[28542,"M","ΑΓΑΛΙΩΤΗΣ ΘΕΟΔΟΣΗΣ",1999,"Α.Ε.Τ.ΝΙΚΗ ΠΑΤΡΩΝ","ΣΤ"]
[18811,"M","ΑΓΑΛΙΩΤΗΣ ΧΑΡΑΛΑΜΠΟΣ",1991,"Ο.Α.ΓΛΥΦΑΔΑΣ","ΙΑ"]
[6254,"F","ΑΓΑΠΑΚΗ ΟΡΣΑΛΙΑ",1982,"Ο.Α.ΖΩΓΡΑΦΟΥ","Η"]
[38748,"M","ΑΓΑΠΑΚΗΣ ΧΡΗΣΤΟΣ",2000,"Α.Σ.Α.ΛΑΡΙΣΑΣ","Ε"]
[9745,"M","ΑΓΑΠΗΤΟΣ ΓΕΩΡΓΙΟΣ",1977,"Α.Κ.Α.ΜΑΡΑΘΩΝΑ","Η"]
[6336,"M","ΑΓΑΠΗΤΟΣ ΔΗΜΗΤΡΙΟΣ",1981,"Α.Σ.Α.ΜΥΤΙΛΗΝΗΣ","Θ"]
[12099,"M","ΑΓΑΠΗΤΟΣ ΝΙΚΟΛΑΟΣ",1982,"Α.Σ.Α.ΛΑΡΙΣΑΣ","Ε"]
[6334,"F","ΑΓΑΠΗΤΟΥ ΦΛΩΡΑ",1976,"Α.Σ.Α.ΜΥΤΙΛΗΝΗΣ","Θ"]
[15064,"F","ΑΓΑΠΗΤΟΥ ΧΡΥΣΑ",1979,"Ε.Φ.Τ.ΑΙΟΛΙΚΗ","Β"]
[11261,"F","ΑΓΑΠΙΟΥ ΗΡΩ",1986,"Ο.Α.ΣΑΛΑΜΙΝΑΣ","Θ"]
[8226,"M","ΑΓΑΠΙΟΥ ΙΩΑΝΝΗΣ",1977,"Ο.Α.ΣΑΛΑΜΙΝΑΣ","Θ"]
[8227,"M","ΑΓΑΠΙΟΥ ΣΤΑΥΡΟΣ",1977,"Ο.Α.ΣΑΛΑΜΙΝΑΣ","Θ"]
[28008,"M","ΑΓΑΣ ΑΝΤΩΝΗΣ",1999,"Σ.Φ.Α.ΜΕΛΙΣΣΙΩΝ Ο ΦΟΙΒΟΣ","Η"]
[18238,"M","ΑΓΑΤΣΙΩΤΗΣ ΑΝΤΩΝΙΟΣ",1992,"Ο.Α.ΕΥΟΣΜΟΥ ΘΕΣΣΑΛΟΝΙΚΗΣ","Β"]
[24755,"F","ΑΓΓΕΛΑΚΗ ΑΝΝΑ",1999,"Α.Σ.Α.ΛΑΡΙΣΑΣ","Ε"]
[21915,"F","ΑΓΓΕΛΑΚΗ ΓΑΡΕΦΑΛΙΑ",1996,"Γ.Σ.ΛΙΒΥΚΟΣ ΙΕΡΑΠΕΤΡΑΣ","Ζ"]
[23628,"F","ΑΓΓΕΛΑΚΗ ΕΥΑΣΤΑΘΙΑ",1994,"Γ.Σ.ΛΙΒΥΚΟΣ ΙΕΡΑΠΕΤΡΑΣ","Ζ"]
[23653,"F","ΑΓΓΕΛΑΚΗ ΙΩΑΝΝΑ",1996,"Ο.Α.ΣΟΥΔΑΣ","Ζ"]
[37875,"F","ΑΓΓΕΛΑΚΗ ΚΑΤΕΡΙΝΑ",1980,"Α.Ο.ΤΑΤΟΪΟΥ","Η"]
[22996,"F","ΑΓΓΕΛΑΚΗ ΚΥΡΙΑΚΗ-ΑΛΕΞΑΝΔΡΑ",1995,"Α.Κ.Α.ΜΑΡΑΘΩΝΑ","Η"]
[7739,"F","ΑΓΓΕΛΑΚΗ ΜΑΡΙΑ",1982,"Α.Ο.Α.ΗΛΙΟΥΠΟΛΗΣ","ΙΑ"]
[35117,"F","ΑΓΓΕΛΑΚΗ ΝΕΦΕΛΗ",2001,"Α.Ο.ΤΑΤΟΪΟΥ","Η"]
[24748,"F","ΑΓΓΕΛΑΚΗ ΝΙΚΟΛΕΤΤΑ",2001,"Ο.Α.ΝΙΚΑΙΑ ΛΑΡΙΣΑΣ","Ε"]
[16983,"F","ΑΓΓΕΛΑΚΗ ΣΟΦΙΑ",1990,"Γ.Σ.ΛΙΒΥΚΟΣ ΙΕΡΑΠΕΤΡΑΣ","Ζ"]
[35118,"F","ΑΓΓΕΛΑΚΗ ΦΑΙΔΡΑ",2001,"Α.Ο.ΤΑΤΟΪΟΥ","Η"]
[28187,"M","ΑΓΓΕΛΑΚΗΣ ΑΓΓΕΛΟΣ-ΣΑΒΒΑΣ",2000,"Γ.Σ.ΛΙΒΥΚΟΣ ΙΕΡΑΠΕΤΡΑΣ","Ζ"]
[31175,"M","ΑΓΓΕΛΑΚΗΣ ΑΛΕΞΑΝΔΡΟΣ",1997,"Α.Μ.Ε.Σ.Ν.ΕΡΥΘΡΑΙΑΣ","Η"]
[15785,"M","ΑΓΓΕΛΑΚΗΣ ΕΥΑΓΓΕΛΟΣ-ΣΤΥΛΙΑΝΟΣ",1991,"Σ.Α.ΣΕΡΡΩΝ","Α"]
[24170,"M","ΑΓΓΕΛΑΚΗΣ ΙΩΣΗΦ",1995,"Σ.Α.ΓΑΛΑΤΣΙΟΥ","Θ"]
[13170,"M","ΑΓΓΕΛΑΚΗΣ ΚΩΝΣΤΑΝΤΙΝΟΣ",1987,"Α.Ο.ΒΑΡΗΣ ΑΝΑΓΥΡΟΥΣ","Η"]
[22997,"M","ΑΓΓΕΛΑΚΗΣ ΚΩΝΣΤΑΝΤΙΝΟΣ",1997,"Α.Κ.Α.ΜΑΡΑΘΩΝΑ","Η"]
[17744,"M","ΑΓΓΕΛΑΚΗΣ ΚΩΝΣΤΑΝΤΙΝΟΣ-ΑΝΤΩΝΙΟΣ",1987,"Α.Ο.Π.ΦΑΛΗΡΟΥ","ΙΑ"]
[18172,"M","ΑΓΓΕΛΑΚΗΣ ΜΙΛΤΙΑΔΗΣ",1994,"Γ.Α.Σ.ΝΙΓΡΙΤΑΣ ΒΙΣΑΛΤΗΣ","Α"]
[34875,"M","ΑΓΓΕΛΑΚΗΣ ΝΙΚΟΛΑΟΣ",1969,"Α.Ο.ΤΑΤΟΪΟΥ","Η"]
[22727,"M","ΑΓΓΕΛΑΚΗΣ ΟΡΕΣΤΗΣ",1994,"Γ.Σ.ΛΙΒΥΚΟΣ ΙΕΡΑΠΕΤΡΑΣ","Ζ"]
[4226,"M","ΑΓΓΕΛΑΚΗΣ ΣΠΥΡΙΔΩΝ",1979,"Ο.Α.ΞΑΝΘΗΣ","Α"]
[25034,"F","ΑΓΓΕΛΑΚΟΥ ΑΙΚΑΤΕΡΙΝΗ",1999,"Ο.Α.ΠΕΙΡΑΙΑ","Θ"]
[31891,"F","ΑΓΓΕΛΑΚΟΥ ΠΑΡΑΣΚΕΥΗ",2001,"Ο.Α.ΣΠΑΡΤΗΣ","ΣΤ"]
[11617,"F","ΑΓΓΕΛΑΣΟΠΟΥΛΟΥ ΕΥΑΓΓΕΛΙΑ",1982,"Ο.Α.ΑΓΙΑΣ ΠΑΡΑΣΚΕΥΗΣ","Η"]
[25681,"F","ΑΓΓΕΛΑΤΟΥ-ΡΑΦΤΟΠΟΥΛΟΥ ΑΝΑΣΤΑΣΙΑ-ΑΛΕΞΑΝΔΡΑ",1999,"Α.Ο.Α.ΗΛΙΟΥΠΟΛΗΣ","ΙΑ"]
[23858,"M","ΑΓΓΕΛΕΤΟΣ ΔΗΜΗΤΡΗΣ",1995,"Σ.Φ.Α.ΜΕΛΙΣΣΙΩΝ Ο ΦΟΙΒΟΣ","Η"]
[24647,"M","ΑΓΓΕΛΕΤΟΣ ΛΕΩΝΙΔΑΣ",1996,"Γ.Ο.ΠΕΡΙΣΤΕΡΙΟΥ Γ.ΠΑΛΑΣΚΑΣ","Θ"]
[3139,"F","ΑΓΓΕΛΗ ΑΘΗΝΑ",1974,"Α.Κ.ΖΩΓΡΑΦΟΥ","ΙΑ"]
[24724,"F","ΑΓΓΕΛΗ ΑΛΚΜΗΝΗ",1999,"Α.Σ.Α.ΛΑΡΙΣΑΣ","Ε"]
[3834,"F","ΑΓΓΕΛΗ ΑΡΓΥΡΟΥΛΑ",1980,"Α.Ο.ΑΡΓΥΡΟΥΠΟΛΗΣ","ΙΑ"]
[12860,"F","ΑΓΓΕΛΗ ΒΑΣΙΛΙΚΗ",1985,"Ο.Α.ΣΟΦΑΔΩΝ & ΚΑΡΔΙΤΣΑΣ ΟΛΥΜΠΙΑΔΑ","Ε"]
[9944,"F","ΑΓΓΕΛΗ ΓΕΩΡΓΙΑ",1977,"Γ.Ε.ΑΤΑΛΑΝΤΗΣ","Ε"]
[32835,"F","ΑΓΓΕΛΗ ΔΑΝΑΗ",2000,"Ο.Α.ΑΡΤΑΣ","Δ"]
[10646,"F","ΑΓΓΕΛΗ ΕΛΙΣΣΑΒΕΤ",1986,"ΦΘΙΩΤΙΚΟΣ Ο.Α.","Ε"]
[5199,"F","ΑΓΓΕΛΗ ΕΥΑΓΓΕΛΙΑ",1979,"Α.Γ.Ο.ΦΙΛΙΠΠΙΑΔΑΣ","Δ"]
[22654,"F","ΑΓΓΕΛΗ ΕΥΑΓΓΕΛΙΑ",1995,"Α.Ο.Α.ΣΤΑΥΡΟΥΠΟΛΗΣ ΙΦΙΤΟΣ","Β"]
[16940,"F","ΑΓΓΕΛΗ ΙΟΥΛΙΑ",1987,"Α.Σ.Α.ΛΑΡΙΣΑΣ","Ε"]
[24185,"F","ΑΓΓΕΛΗ ΜΑΡΙΑ",1993,"Ο.Α.ΚΑΛΑΜΑΤΑΣ","ΣΤ"]
[10649,"F","ΑΓΓΕΛΗ ΠΑΝΑΓΙΩΤΑ",1985,"ΦΘΙΩΤΙΚΟΣ Ο.Α.","Ε"]
[24186,"F","ΑΓΓΕΛΗ ΣΟΦΙΑ",1992,"Ο.Α.ΚΑΛΑΜΑΤΑΣ","ΣΤ"]
[9624,"F","ΑΓΓΕΛΗ ΦΩΤΕΙΝΗ",1983,"Α.Ο.Α.ΠΑΠΑΓΟΥ","ΙΑ"]
[1366,"F","ΑΓΓΕΛΗ ΧΑΡΙΚΛΕΙΑ",1968,"Α.Κ.ΖΩΓΡΑΦΟΥ","ΙΑ"]
[25185,"M","ΑΓΓΕΛΗΣ ΑΛΕΞΑΝΔΡΟΣ",1994,"Ο.Α.ΑΛΕΞΑΝΔΡΟΥΠΟΛΗΣ","Α"]
[17190,"M","ΑΓΓΕΛΗΣ ΒΑΪΟΣ",1990,"Ο.Α.ΑΓ.ΣΟΥΛΑ ΣΟΡΩΝΗΣ ΡΟΔΟΥ","Θ"]
[19688,"M","ΑΓΓΕΛΗΣ ΒΑΣΙΛΕΙΟΣ",1995,"ΑΚΑΔ.ΑΝΤΙΣΦ.ΙΩΑΝΝΙΝΩΝ","Δ"]
[11969,"M","ΑΓΓΕΛΗΣ ΓΙΩΡΓΟΣ",1982,"Ο.Α.ΛΑΜΙΑΣ","Ε"]
[13824,"M","ΑΓΓΕΛΗΣ ΓΙΩΡΓΟΣ",1975,"Α.Ο.Π.ΦΑΛΗΡΟΥ","ΙΑ"]
[19946,"M","ΑΓΓΕΛΗΣ ΔΗΜΗΤΡΙΟΣ",1993,"Α.Ε.ΠΟΡΤΟ ΡΑΦΤΗ","Η"]
[6513,"M","ΑΓΓΕΛΗΣ ΕΥΑΓΓΕΛΟΣ",1978,"Ο.Α.ΑΡΤΑΣ","Δ"]
[17189,"M","ΑΓΓΕΛΗΣ ΕΥΑΓΓΕΛΟΣ",1990,"Ο.Α.ΑΓ.ΣΟΥΛΑ ΣΟΡΩΝΗΣ ΡΟΔΟΥ","Θ"]
[24666,"M","ΑΓΓΕΛΗΣ ΕΥΑΓΓΕΛΟΣ",1996,"Α.Σ.Α.ΛΑΡΙΣΑΣ","Ε"]
[3137,"M","ΑΓΓΕΛΗΣ ΚΩΝΣΤΑΝΤΙΝΟΣ",1973,"Α.Κ.ΖΩΓΡΑΦΟΥ","ΙΑ"]
[11831,"M","ΑΓΓΕΛΗΣ ΚΩΝΣΤΑΝΤΙΝΟΣ",1986,"Α.Ο.Α.ΠΑΠΑΓΟΥ","ΙΑ"]
[32837,"M","ΑΓΓΕΛΗΣ ΚΩΝΣΤΑΝΤΙΝΟΣ",2002,"Ο.Α.ΑΡΤΑΣ","Δ"]
[34371,"M","ΑΓΓΕΛΗΣ ΜΙΧΑΗΛ",2002,"Α.Ο.Α.ΑΙΓΑΛΕΩ 92","Θ"]
[28430,"M","ΑΓΓΕΛΗΣ ΣΠΥΡΙΔΩΝ",1969,"ΚΕΝΤΡΟ ΑΝΤΙΣΦΑΙΡΙΣΗΣ ΛΙΒΑΔΕΙΑΣ","Ε"]
[22778,"F","ΑΓΓΕΛΙΔΗ ΓΑΒΡΙΕΛΑ-ΦΑΝΗ",1995,"Α.Ν.Ο.ΓΛΥΦΑΔΑΣ","ΙΑ"]
[27981,"F","ΑΓΓΕΛΙΔΗ ΕΥΓΕΝΙΑ",1999,"Γ.Σ.ΙΤΕΑΣ","Ε"]
[12622,"F","ΑΓΓΕΛΙΔΗ ΤΑΤΙΑΝΑ",1981,"Α.Ο.ΤΑΤΑΥΛΑ ΚΩΝΣΤΑΝΤΙΝΟΥΠΟΛΕΩΣ","ΙΑ"]
[25237,"M","ΑΓΓΕΛΙΔΗΣ ΑΓΓΕΛΟΣ",1997,"Ο.Α.ΑΘΗΝΩΝ","Η"]
[7120,"M","ΑΓΓΕΛΙΔΗΣ ΑΘΑΝΑΣΙΟΣ",1982,"Α.Α.ΙΩΑΝΝΙΝΩΝ","Δ"]
[12621,"M","ΑΓΓΕΛΙΔΗΣ ΔΗΜΗΤΡΗΣ",1983,"Α.Ο.ΤΑΤΑΥΛΑ ΚΩΝΣΤΑΝΤΙΝΟΥΠΟΛΕΩΣ","ΙΑ"]
[9787,"M","ΑΓΓΕΛΙΔΗΣ ΔΗΜΗΤΡΙΟΣ",1983,"Ο.Α.ΑΛΕΞΑΝΔΡΟΥΠΟΛΗΣ","Α"]
[3786,"M","ΑΓΓΕΛΙΔΗΣ ΠΑΝΑΓΙΩΤΗΣ",1971,"Λ.Α.ΚΟΜΟΤΗΝΗΣ","Α"]
[25611,"F","ΑΓΓΕΛΙΔΟΥ ΚΑΛΛΙΟΠΗ",1999,"Σ.Α.ΔΡΑΜΑΣ","Α"]
[35058,"F","ΑΓΓΕΛΙΔΟΥ ΛΥΔΙΑ",2000,"Ο.Α.ΠΕΤΡΟΥΠΟΛΗΣ","Θ"]
[15528,"F","ΑΓΓΕΛΙΔΟΥ ΜΑΡΙΑ",1988,"Ο.Α.ΒΕΡΟΙΑΣ","Γ"]
[35772,"F","ΑΓΓΕΛΙΔΟΥ ΜΑΡΙΑ-ΙΩΑΝΝΑ",2001,"Α.Π.Μ.Σ.ΑΣΚΗΣΗ ΗΡΑΚΛΕΙΟΥ","Ζ"]
[29215,"F","ΑΓΓΕΛΙΔΟΥ ΣΟΦΙΑ",1995,"Ο.Α.ΞΑΝΘΗΣ","Α"]
[30811,"F","ΑΓΓΕΛΙΔΟΥ ΣΟΦΙΑ",2002,"Α.Ο.Α.ΠΡΩΤΑΘΛ.ΚΑΒΑΛΑΣ","Α"]
[35657,"F","ΑΓΓΕΛΙΚΗ ΓΟΡΓΟΡΙΝΗ",1993,"Α.Ε.Τ.ΝΙΚΗ ΠΑΤΡΩΝ","ΣΤ"]
[10759,"M","ΑΓΓΕΛΙΝΟΣ ΘΕΟΔΩΡΟΣ",1984,"Ο.Α.ΓΛΥΦΑΔΑΣ","ΙΑ"]
[26165,"M","ΑΓΓΕΛΙΝΟΣ ΜΙΧΑΗΛ",1993,"Α.Ο.ΜΥΤΙΛΗΝΗΣ","Θ"]
[13817,"M","ΑΓΓΕΛΟΠΟΥΛΟΣ ΑΓΓΕΛΟΣ",1986,"Σ.Α.ΓΑΛΑΤΣΙΟΥ","Θ"]
[17388,"M","ΑΓΓΕΛΟΠΟΥΛΟΣ ΑΓΓΕΛΟΣ",1984,"Α.Σ.ΠΕΡΑ","ΙΑ"]
[4849,"M","ΑΓΓΕΛΟΠΟΥΛΟΣ ΑΛΕΞΑΝΔΡΟΣ",1978,"Ο.Α.ΑΘΗΝΩΝ","Η"]
[13273,"M","ΑΓΓΕΛΟΠΟΥΛΟΣ ΓΕΩΡΓΙΟΣ",1986,"Ο.Α.ΜΑΓΝΗΣΙΑΣ","Ε"]
[23257,"M","ΑΓΓΕΛΟΠΟΥΛΟΣ ΓΕΩΡΓΙΟΣ",1993,"Α.Ε.Κ.ΤΡΙΠΟΛΗΣ","ΣΤ"]
[36281,"M","ΑΓΓΕΛΟΠΟΥΛΟΣ ΔΗΜΗΤΡΗΣ",1999,"Ο.Α.ΠΕΙΡΑΙΑ","Θ"]
[19378,"M","ΑΓΓΕΛΟΠΟΥΛΟΣ ΔΗΜΗΤΡΙΟΣ",1991,"Ο.Α.ΖΩΓΡΑΦΟΥ","Η"]
[35163,"M","ΑΓΓΕΛΟΠΟΥΛΟΣ ΔΗΜΗΤΡΙΟΣ",1999,"Ο.Α.ΠΕΙΡΑΙΑ","Θ"]
[33230,"M","ΑΓΓΕΛΟΠΟΥΛΟΣ ΕΥΑΓΓΕΛΟΣ",1999,"Α.Σ.ΜΑΧΗΤΕΣ ΠΕΥΚΩΝ","Β"]
[4945,"M","ΑΓΓΕΛΟΠΟΥΛΟΣ ΗΛΙΑΣ",1973,"ΚΕΦΑΛΛΗΝΙΑΚΟΣ Ο.Α.","ΣΤ"]
[32459,"M","ΑΓΓΕΛΟΠΟΥΛΟΣ ΙΩΑΝΝΗΣ-ΒΛΑΣΙΟΣ",1999,"Α.Ο.Π.ΦΑΛΗΡΟΥ","ΙΑ"]
[10374,"M","ΑΓΓΕΛΟΠΟΥΛΟΣ ΚΩΝΣΤΑΝΤΙΝΟΣ",1983,"Α.Ο.ΒΟΥΛΙΑΓΜΕΝΗΣ","ΙΑ"]
[20744,"M","ΑΓΓΕΛΟΠΟΥΛΟΣ ΚΩΝΣΤΑΝΤΙΝΟΣ",1988,"Α.Ο.ΓΛΥΦΑΔΑΣ ΦΙΛΙΑ 2000","ΙΑ"]
[26765,"M","ΑΓΓΕΛΟΠΟΥΛΟΣ ΚΩΝΣΤΑΝΤΙΝΟΣ",2001,"Α.Ε.Κ.ΤΡΙΠΟΛΗΣ","ΣΤ"]
[28588,"M","ΑΓΓΕΛΟΠΟΥΛΟΣ ΜΙΛΤΙΑΔΗΣ",1999,"ΠΕΥΚΗ Γ.ΚΑΛΟΒΕΛΩΝΗΣ","Η"]
[31396,"M","ΑΓΓΕΛΟΠΟΥΛΟΣ ΠΑΝΑΓΙΩΤΗΣ",2002,"Α.Ο.ΣΙΚΥΩΝΟΣ ΚΙΑΤΟΥ","ΣΤ"]
[33090,"M","ΑΓΓΕΛΟΠΟΥΛΟΣ ΣΠΥΡΟΣ",2002,"Ο.Α.ΧΟΛΑΡΓΟΥ","ΙΑ"]
[27576,"M","ΑΓΓΕΛΟΠΟΥΛΟΣ ΣΤΑΥΡΟΣ",2001,"Α.Ο.ΒΑΡΗΣ ΑΝΑΓΥΡΟΥΣ","Η"]
[25468,"M","ΑΓΓΕΛΟΠΟΥΛΟΣ ΦΙΛΙΠΠΟΣ",1997,"Α.Σ.ΠΕΡΑ","ΙΑ"]
[24873,"M","ΑΓΓΕΛΟΠΟΥΛΟΣ ΧΡΗΣΤΟΣ",1998,"Γ.Σ.ΛΙΒΥΚΟΣ ΙΕΡΑΠΕΤΡΑΣ","Ζ"]
[35224,"M","ΑΓΓΕΛΟΠΟΥΛΟΣ ΧΡΗΣΤΟΣ",2001,"Α.Ο.Α.ΧΑΪΔΑΡΙΟΥ","Θ"]
[10009,"F","ΑΓΓΕΛΟΠΟΥΛΟΥ ΑΘΗΝΑ",1980,"Γ.Σ.ΗΛΙΟΥΠΟΛΗΣ","ΙΑ"]
[33172,"F","ΑΓΓΕΛΟΠΟΥΛΟΥ ΑΘΗΝΑ",2002,"Σ.Α.ΔΡΑΜΑΣ","Α"]
[4313,"F","ΑΓΓΕΛΟΠΟΥΛΟΥ ΑΜΑΛΙΑ",1979,"Α.Ο.ΑΜΥΝΤΑΣ ΥΜΗΤΤΟΥ","ΙΑ"]
[11247,"F","ΑΓΓΕΛΟΠΟΥΛΟΥ ΑΝΝΑ",1980,"Α.Κ.Α.ΜΑΡΑΘΩΝΑ","Η"]
[32002,"F","ΑΓΓΕΛΟΠΟΥΛΟΥ ΑΝΝΑ",1998,"Ο.Α.ΑΘΛΗΤ.ΠΑΙΔΕΙΑ","Η"]
[30341,"F","ΑΓΓΕΛΟΠΟΥΛΟΥ ΑΡΙΑΔΝΗ",1998,"Α.Σ.Α.ΠΑΜΒΩΤΙΣ ΙΩΑΝΝΙΝΩΝ","Δ"]
[20923,"F","ΑΓΓΕΛΟΠΟΥΛΟΥ ΔΗΜΗΤΡΑ",1992,"Ο.Α.ΝΑΥΠΑΚΤΟΥ","ΣΤ"]
[9139,"F","ΑΓΓΕΛΟΠΟΥΛΟΥ ΕΛΕΝΗ",1966,"Ο.Α.ΚΑΛΑΜΑΤΑΣ","ΣΤ"]
[11864,"F","ΑΓΓΕΛΟΠΟΥΛΟΥ ΕΛΕΝΗ",1985,"Α.Κ.Α.ΜΑΡΑΘΩΝΑ","Η"]
[36838,"F","ΑΓΓΕΛΟΠΟΥΛΟΥ ΕΛΕΝΗ",2002,"Ο.Α.ΑΝΑΦΛΥΣΤΟΣ ΣΑΡΩΝΙΔΑΣ","Η"]
[22695,"F","ΑΓΓΕΛΟΠΟΥΛΟΥ ΕΥΑΓΓΕΛΙΑ",1994,"Σ.Α.ΤΡΙΠΟΛΗΣ","ΣΤ"]
[20922,"F","ΑΓΓΕΛΟΠΟΥΛΟΥ ΘΕΟΔΩΡΑ",1994,"Ο.Α.ΝΑΥΠΑΚΤΟΥ","ΣΤ"]
[6654,"F","ΑΓΓΕΛΟΠΟΥΛΟΥ ΙΟΥΛΙΤΑ",1980,"Σ.Α.ΡΑΦΗΝΑΣ","Η"]
[23358,"F","ΑΓΓΕΛΟΠΟΥΛΟΥ ΙΣΜΗΝΗ-ΣΤΑΥΡΟΥΛΑ",1996,"Α.Ο.Α.ΠΑΤΡΩΝ","ΣΤ"]
[31418,"F","ΑΓΓΕΛΟΠΟΥΛΟΥ ΙΩΑΝΝΑ",2002,"Γ.Σ.ΛΙΒΥΚΟΣ ΙΕΡΑΠΕΤΡΑΣ","Ζ"]
[11248,"F","ΑΓΓΕΛΟΠΟΥΛΟΥ ΚΑΤΕΡΙΝΑ",1982,"Α.Κ.Α.ΜΑΡΑΘΩΝΑ","Η"]
[27685,"F","ΑΓΓΕΛΟΠΟΥΛΟΥ ΚΛΕΟΠΑΤΡΑ",1993,"ΕΘΝΙΚΟΣ ΠΑΝΟΡΑΜΑΤΟΣ 2005","Β"]
[3010,"F","ΑΓΓΕΛΟΠΟΥΛΟΥ ΚΩΝΣΤΑΝΤΙΝΑ",1975,"Σ.Α.ΣΕΡΡΩΝ","Α"]
[22417,"F","ΑΓΓΕΛΟΠΟΥΛΟΥ ΜΑΡΙΑ",1990,"Α.Ο.ΦΟΥΡΕΣΙ ΓΛ.ΝΕΡΩΝ","Η"]
[28043,"F","ΑΓΓΕΛΟΠΟΥΛΟΥ ΜΑΡΙΑ-ΕΛΕΝΗ",1995,"ΦΙΛΑΘΛ.ΟΜΙΛΟΣ ΠΥΡΓΟΥ","ΣΤ"]
[6779,"F","ΑΓΓΕΛΟΠΟΥΛΟΥ ΜΑΡΙΝΑ",1979,"Α.Ε.Κ.ΤΡΙΠΟΛΗΣ","ΣΤ"]
[32473,"F","ΑΓΓΕΛΟΠΟΥΛΟΥ ΧΡΙΣΤΙΝΑ-ΠΑΡΑΣΚΕΥΗ",2000,"Γ.Ο.ΠΕΡΙΣΤΕΡΙΟΥ Γ.ΠΑΛΑΣΚΑΣ","Θ"]
[16507,"M","ΑΓΓΕΛΟΣ ΑΝΑΣΤΑΣΙΟΣ-ΑΛΕΞΑΝΔΡΟΣ",1990,"Ο.Α.ΑΓ.ΣΟΥΛΑ ΣΟΡΩΝΗΣ ΡΟΔΟΥ","Θ"]
[14162,"M","ΑΓΓΕΛΟΣ ΘΩΜΑΣ",1981,"Σ.Ο.Α.ΚΑΡΔΙΤΣΑΣ ΦΩΚΙΑΝΟΣ","Ε"]
[21120,"M","ΑΓΓΕΛΟΣ ΚΩΝΣΤΑΝΤΙΝΟΣ",1994,"Ο.Α.ΑΓ.ΣΟΥΛΑ ΣΟΡΩΝΗΣ ΡΟΔΟΥ","Θ"]
[27358,"F","ΑΓΓΕΛΟΥ ΑΓΓΕΛΙΚΗ",2000,"Ο.Α.ΚΟΡΩΠΙΟΥ","Η"]
[7231,"F","ΑΓΓΕΛΟΥ ΔΑΦΝΗ",1983,"Ε.Φ.Τ.ΑΙΟΛΙΚΗ","Β"]
[31945,"M","ΑΓΓΕΛΟΥ ΔΗΜΗΤΡΗΣ",2001,"Ο.Α.ΣΗΤΕΙΑΣ","Ζ"]
[18661,"F","ΑΓΓΕΛΟΥ ΔΗΜΟΣΘΕΝΙΑ",1992,"Α.Κ.Α.ΜΑΡΑΘΩΝΑ","Η"]
[26913,"F","ΑΓΓΕΛΟΥ ΕΙΡΗΝΗ-ΚΥΡΙΑΚΗ",1997,"Α.Ο.Α.ΝΕΑΣ ΠΕΡΑΜΟΥ ΟΙ ΤΙΤΑΝΕΣ","Α"]
[18659,"F","ΑΓΓΕΛΟΥ ΗΛΕΚΤΡΑ",1992,"Α.Κ.Α.ΜΑΡΑΘΩΝΑ","Η"]
[11870,"F","ΑΓΓΕΛΟΥ ΙΩΑΝΝΑ",1986,"Α.Κ.Α.ΜΑΡΑΘΩΝΑ","Η"]
[30646,"M","ΑΓΓΕΛΟΥ ΛΕΩΝΙΔΑΣ",2001,"Α.Π.Ο.ΣΑΝΝΥ ΣΠΟΡΤΣ ΚΛΑΜΠ","Η"]
[22087,"F","ΑΓΓΕΛΟΥ ΜΑΡΙΑ",1994,"Α.Ο.Α.ΣΤΑΥΡΟΥΠΟΛΗΣ ΙΦΙΤΟΣ","Β"]
[5322,"M","ΑΓΓΕΛΟΥ ΝΙΚΟΛΑΟΣ",1977,"Ο.Α.ΧΑΛΚΙΔΑΣ","Θ"]
[5323,"F","ΑΓΓΕΛΟΥ ΠΟΥΛΩ",1976,"Ο.Α.ΧΑΛΚΙΔΑΣ","Θ"]
[27355,"F","ΑΓΓΕΛΟΥ ΧΡΥΣΑΥΓΗ",2001,"Ο.Α.ΚΟΡΩΠΙΟΥ","Η"]
[35475,"M","ΑΓΓΕΛΟΥΣΗΣ ΑΘΑΝΑΣΙΟΣ",2001,"Α.Ο.ΚΗΦΙΣΙΑΣ","Η"]
[7176,"F","ΑΓΓΙΣΤΡΙΩΤΗ ΜΑΡΙΑ",1979,"Α.Ο.ΠΟΣΕΙΔΩΝ ΛΟΥΤΡΑΚΙΟΥ","ΣΤ"]
[18992,"F","ΑΓΓΛΙΑ ΤΕΡΕΖΑ-ΜΑΡΙΑ",1993,"Ο.Α.ΑΛΕΞΑΝΔΡΟΥΠΟΛΗΣ","Α"]
[3685,"F","ΑΓΓΟΥΡΗ ΜΑΡΓΑΡΙΤΑ",1977,"Α.Ο.ΑΡΓΥΡΟΥΠΟΛΗΣ","ΙΑ"]
[3687,"M","ΑΓΓΟΥΡΗΣ ΓΙΩΡΓΟΣ",1978,"Α.Ο.ΑΡΓΥΡΟΥΠΟΛΗΣ","ΙΑ"]
[3688,"M","ΑΓΓΟΥΡΗΣ ΘΕΟΔΩΡΟΣ",1979,"Α.Ο.ΑΡΓΥΡΟΥΠΟΛΗΣ","ΙΑ"]
[35647,"M","ΑΓΓΟΥΡΗΣ ΚΩΝΣΤΑΝΤΙΝΟΣ",2002,"Α.Ο.Α.ΑΤΤΙΚΟΣ ΗΛΙΟΣ","Η"]
[25894,"F","ΑΓΓΟΥΡΙΔΗ ΣΤΕΦΑΝΙΑ",1999,"Ο.Α.ΠΕΙΡΑΙΑ","Θ"]
[8854,"M","ΑΓΓΟΥΣΗΣ ΣΤΑΜΑΤΗΣ",1985,"Σ.Ο.Ι.Σ.ΝΕΑ ΠΝΟΗ","Α"]
[10995,"F","ΑΓΓΡΑ ΔΗΜΗΤΡΑ",1970,"Ε.Α.Φ.Ω.ΝΤΕΚΡΟΛΙ","Β"]
[17417,"M","ΑΓΙΑΝΝΗΣ ΝΙΚΗΤΑΣ",1988,"Σ.Ο.Α.ΚΑΡΔΙΤΣΑΣ ΦΩΚΙΑΝΟΣ","Ε"]
[33494,"F","ΑΓΙΑΝΝΙΔΟΥ ΕΛΕΝΗ",2001,"Ο.Α.ΓΙΑΝΝΙΤΣΩΝ","Γ"]
[16944,"F","ΑΓΙΑΝΝΙΩΤΑΚΗ ΜΑΡΙΑ",1966,"Γ.Σ.ΛΙΒΥΚΟΣ ΙΕΡΑΠΕΤΡΑΣ","Ζ"]
[1182,"M","ΑΓΙΑΝΟΓΛΟΥ ΝΙΚΟΛΑΟΣ",1971,"Ο.Α.ΑΘΗΝΩΝ","Η"]
[33504,"M","ΑΓΙΑΝΟΖΟΓΛΟΥ ΕΠΑΜΕΙΝΩΝΤΑΣ",1999,"Ο.Α.ΚΩ","Θ"]
[14897,"F","ΑΓΙΟΒΛΑΣΙΤΗ ΔΑΝΑΗ",1988,"Ο.Α.ΚΕΡΚΥΡΑΣ","Δ"]
[7548,"F","ΑΓΙΟΒΛΑΣΙΤΗ ΟΥΡΑΝΙΑ",1982,"Α.Ο.Α.ΠΑΠΑΓΟΥ","ΙΑ"]
[15632,"M","ΑΓΙΟΒΛΑΣΙΤΗΣ ΒΑΣΙΛΕΙΟΣ",1990,"ΚΕΡΚΥΡΑΪΚΗ Λ.Τ.","Δ"]
[7546,"M","ΑΓΙΟΒΛΑΣΙΤΗΣ ΗΡΑΚΛΗΣ",1980,"Α.Ο.Α.ΠΑΠΑΓΟΥ","ΙΑ"]
[18331,"F","ΑΓΙΟΣΤΡΑΤΙΤΗ ΧΡΥΣΟΥΛΑ",1989,"Ο.Α.ΧΑΛΚΙΔΑΣ","Θ"]
[14450,"M","ΑΓΙΟΥΣ ΑΛΕΞΑΝΔΡΟΣ",1990,"ΚΕΡΚΥΡΑΪΚΗ Λ.Τ.","Δ"]
[26297,"M","ΑΓΙΟΥΣ ΓΕΩΡΓΙΟΣ",1999,"ΚΕΡΚΥΡΑΪΚΗ Λ.Τ.","Δ"]
[11718,"M","ΑΓΙΟΥΣ ΔΗΜΗΤΡΙΟΣ",1983,"ΚΕΡΚΥΡΑΪΚΗ Λ.Τ.","Δ"]
[11716,"F","ΑΓΙΟΥΣ ΕΛΙΖΑ",1987,"ΚΕΡΚΥΡΑΪΚΗ Λ.Τ.","Δ"]
[31723,"F","ΑΓΙΟΥΣ ΟΛΓΑ-ΜΑΡΙΑ",2001,"ΚΕΡΚΥΡΑΪΚΗ Λ.Τ.","Δ"]
[29210,"F","ΑΓΙΩΤΗ ΕΛΕΝΗ",2000,"Ο.Α.ΜΑΓΝΗΣΙΑΣ","Ε"]
[31214,"M","ΑΓΚΑΘΕΡΗΣ ΝΙΚΟΛΑΣ",1996,"Ο.Α.ΒΟΥΛΙΑΓΜΕΝΗΣ ΜΙΚΡΟΙ ΑΣΣΟΙ","ΙΑ"]
[7425,"M","ΑΓΚΟΡΤΣΑΣ ΒΑΣΙΛΕΙΟΣ",1981,"Γ.Σ.ΗΛΙΟΥΠΟΛΗΣ","ΙΑ"]
[19611,"F","ΑΓΛΑΪΝΗ ΒΙΚΤΩΡΙΑ",1993,"Γ.Α.Σ.ΜΑΓΝΗΣΙΑΣ","Ε"]
[4394,"F","ΑΓΝΑΝΤΗ ΣΤΥΛΙΑΝΗ",1976,"Ο.Α.ΤΡΙΚΑΛΩΝ","Ε"]
[25375,"M","ΑΓΟΡΑΣΤΟΣ ΑΝΑΣΤΑΣΙΟΣ",1998,"Α.Σ.Α.ΛΑΡΙΣΑΣ","Ε"]
[5081,"M","ΑΓΟΡΑΣΤΟΣ ΑΝΤΩΝΗΣ",1979,"Ν.Ο.ΘΕΣΣΑΛΟΝΙΚΗΣ","Β"]
[25378,"F","ΑΓΟΡΑΣΤΟΥ ΑΛΕΞΑΝΔΡΑ",1996,"Α.Σ.Α.ΛΑΡΙΣΑΣ","Ε"]
[24155,"F","ΑΓΟΡΑΣΤΟΥ ΕΥΑΓΓΕΛΙΑ",1994,"Ο.Α.ΛΙΤΟΧΩΡΟΥ","Γ"]
[3752,"F","ΑΓΟΡΟΓΙΑΝΝΗ ΑΙΚΑΤΕΡΙΝΗ",1975,"Ο.Α.ΛΑΡΙΣΑΣ","Ε"]
[3751,"M","ΑΓΟΡΟΓΙΑΝΝΗΣ ΖΗΣΗΣ",1978,"Ο.Α.ΛΑΡΙΣΑΣ","Ε"]
[26745,"M","ΑΓΟΡΟΠΟΥΛΟΣ ΔΗΜΗΤΡΙΟΣ",1997,"Σ.Ο.Α.ΚΑΡΔΙΤΣΑΣ ΦΩΚΙΑΝΟΣ","Ε"]
[19404,"M","ΑΓΟΥΡΙΔΗΣ ΚΑΡΟΛΟΣ-ΕΜΜΑΝΟΥΗΛ",1992,"Α.Ο.Α.ΗΛΙΟΥΠΟΛΗΣ","ΙΑ"]
[14614,"F","ΑΓΡΑΦΙΑΔΟΥ ΚΑΤΕΡΙΝΑ",1990,"Α.Σ.ΠΕΡΑ","ΙΑ"]
[13412,"F","ΑΓΡΑΦΙΩΤΗ ΑΘΑΝΑΣΙΑ",1983,"Σ.Ο.Α.ΚΑΡΔΙΤΣΑΣ ΦΩΚΙΑΝΟΣ","Ε"]
[9043,"F","ΑΓΡΑΦΙΩΤΗ ΜΑΡΙΑ",1978,"Α.Σ.Α.ΛΑΡΙΣΑΣ","Ε"]
[35348,"M","ΑΓΡΑΦΙΩΤΗΣ ΕΥΣΤΑΘΙΟΣ",2001,"ΚΕΝΤΡΟ ΑΝΤΙΣΦΑΙΡΙΣΗΣ ΛΙΒΑΔΕΙΑΣ","Ε"]
[30984,"F","ΑΓΡΑΦΙΩΤΗ-ΦΛΟΥΡΑΚΗ ΜΑΡΙΑΝΝΑ",1999,"Γ.Σ.ΛΙΒΥΚΟΣ ΙΕΡΑΠΕΤΡΑΣ","Ζ"]
[4925,"F","ΑΓΡΑΦΙΩΤΟΥ ΠΑΡΑΣΚΕΥΟΥΛΑ",1981,"Σ.Α.ΣΕΡΡΩΝ","Α"]
[5769,"M","ΑΓΡΙΜΑΚΗΣ ΘΩΜΑΣ",1974,"Α.Ο.ΚΑΛΛΙΤΕΧΝΟΥΠΟΛΗΣ","Η"]
[23381,"M","ΑΓΡΙΤΕΛΛΗΣ ΤΙΜΟΛΕΩΝ",1994,"Ο.Α.ΛΕΣΒΟΥ","Θ"]
[17372,"F","ΑΓΡΟΓΙΑΝΝΟΥ ΠΑΡΑΣΚΕΥΗ-ΜΑΓΔΑΛΗΝΗ",1987,"Ο.Α.ΣΟΦΑΔΩΝ & ΚΑΡΔΙΤΣΑΣ ΟΛΥΜΠΙΑΔΑ","Ε"]
[22908,"F","ΑΓΡΟΔΗΜΟΥ ΑΡΙΑΝΑ",1996,"Α.Σ.Α.ΛΑΡΙΣΑΣ","Ε"]
[27095,"F","ΑΓΡΟΤΗ ΑΦΡΟΔΙΤΗ",1998,"Α.Ε.Κ.ΤΡΙΠΟΛΗΣ","ΣΤ"]
[27101,"F","ΑΓΡΟΤΗ ΣΠΥΡΙΔΟΥΛΑ",1999,"Α.Ε.Κ.ΤΡΙΠΟΛΗΣ","ΣΤ"]
[18460,"M","ΑΓΤΖΙΔΗΣ ΙΩΑΝΝΗΣ",1989,"Ο.Α.ΚΙΛΚΙΣ","Β"]
[2386,"F","ΑΓΥΡΟΠΟΥΛΟΥ ΝΑΤΑΣΣΑ",1974,"Ο.Α.ΓΛΥΦΑΔΑΣ","ΙΑ"]
[9970,"F","ΑΔΑΛΑΚΗ ΚΩΝΣΤΑΝΤΙΝΑ",1982,"Φ.Ο.Α.ΝΕΑΠΟΛΗΣ","Β"]
[34764,"M","ΑΔΑΛΑΚΗΣ ΘΕΟΔΩΡΟΣ-ΜΑΡΙΟΣ",2001,"Ο.Α.ΑΛΕΞΑΝΔΡΟΥΠΟΛΗΣ","Α"]
[15991,"M","ΑΔΑΛΑΚΗΣ ΟΔΥΣΣΕΑΣ",1990,"Ο.Α.ΚΑΙΣΑΡΙΑΝΗΣ","Θ"]
[22834,"M","ΑΔΑΛΟΓΛΟΥ ΛΑΖΑΡΟΣ",1997,"Ε.Σ.Ο.ΕΠΙΚΟΥΡΟΣ ΠΟΛΙΧΝΗΣ","Β"]
[22833,"F","ΑΔΑΛΟΓΛΟΥ ΜΑΓΔΑΛΗΝΗ",1999,"Ο.Α.ΠΕΤΡΟΥΠΟΛΗΣ","Θ"]
[26407,"F","ΑΔΑΛΟΓΛΟΥ ΜΑΡΙΑ",1998,"Ο.Α.ΒΙΚΕΛΑΣ ΒΕΡΟΙΑΣ","Γ"]
[8528,"M","ΑΔΑΛΟΓΛΟΥ ΜΙΧΑΗΛ",1970,"Ο.Α.ΒΙΚΕΛΑΣ ΒΕΡΟΙΑΣ","Γ"]
[17555,"F","ΑΔΑΜ ΑΙΚΑΤΕΡΙΝΗ",1991,"ΦΘΙΩΤΙΚΟΣ Ο.Α.","Ε"]
[12992,"M","ΑΔΑΜ ΑΛΕΞΑΝΔΡΟΣ",1986,"Α.Α.Α.ΑΛΙΜΟΥ","ΙΑ"]
[18342,"F","ΑΔΑΜ ΑΝΑΣΤΑΣΙΑ",1994,"Ο.Α.ΛΙΒΑΔΕΙΑΣ","Ε"]
[13020,"F","ΑΔΑΜ ΑΦΡΟΔΙΤΗ",1986,"Ο.Α.ΚΑΤΕΡΙΝΗΣ","Γ"]
[10704,"F","ΑΔΑΜ ΒΑΓΙΑ",1983,"ΦΘΙΩΤΙΚΟΣ Ο.Α.","Ε"]
[17556,"F","ΑΔΑΜ ΕΛΕΝΗ",1995,"ΦΘΙΩΤΙΚΟΣ Ο.Α.","Ε"]
[10211,"F","ΑΔΑΜ ΚΑΤΕΡΙΝΑ",1984,"Ο.Α.ΕΛΕΥΣΙΝΑΣ ΑΙΣΧΥΛΟΣ","Θ"]
[1584,"F","ΑΔΑΜ ΣΕΒΑΣΤΗ",1969,"Α.Κ.ΖΩΓΡΑΦΟΥ","ΙΑ"]
[11335,"F","ΑΔΑΜ ΣΜΑΡΑΓΔΑ",1985,"Ο.Α.ΒΟΛΟΥ","Ε"]
[18341,"M","ΑΔΑΜ ΧΡΗΣΤΟΣ",1993,"Ο.Α.ΛΙΒΑΔΕΙΑΣ","Ε"]
[13019,"F","ΑΔΑΜ ΧΡΥΣΑ",1988,"Ο.Α.ΚΑΤΕΡΙΝΗΣ","Γ"]
[22126,"M","ΑΔΑΜΑΚΗΣ ΕΛΕΥΘΕΡΙΟΣ",1996,"Α.Ο.Α.ΚΑΒΑΛΑΣ","Α"]
[6249,"M","ΑΔΑΜΑΝΤΙΔΗΣ ΝΙΚΟΛΑΟΣ",1977,"Ο.Α.ΞΑΝΘΗΣ","Α"]
[16658,"F","ΑΔΑΜΗ ΑΡΤΕΜΙΣ",1988,"Α.Σ.Α.ΑΓΡΙΝΙΟΥ","Δ"]
[20530,"F","ΑΔΑΜΗ ΚΩΝΣΤΑΝΤΙΝΑ",1994,"Α.Ο.Α.ΗΛΙΟΥΠΟΛΗΣ","ΙΑ"]
[24518,"F","ΑΔΑΜΗ ΠΟΛΥΞΕΝΗ",1998,"Α.Σ.Α.ΑΓΡΙΝΙΟΥ","Δ"]
[10412,"M","ΑΔΑΜΗΣ ΑΡΗΣ",1984,"Ο.Α.ΑΓΙΑΣ ΠΑΡΑΣΚΕΥΗΣ","Η"]
[10413,"M","ΑΔΑΜΗΣ ΣΠΥΡΙΔΩΝ",1983,"Ο.Α.ΑΓΙΑΣ ΠΑΡΑΣΚΕΥΗΣ","Η"]
[31576,"M","ΑΔΑΜΙΔΗΣ ΑΛΕΞΑΝΔΡΟΣ",2000,"Ο.Α.ΠΤΟΛΕΜΑΪΔΑΣ","Γ"]
[23717,"M","ΑΔΑΜΙΔΗΣ ΓΕΩΡΓΙΟΣ",1998,"Γ.Σ.ΗΛΙΟΥΠΟΛΗΣ","ΙΑ"]
[8050,"M","ΑΔΑΜΙΔΗΣ ΙΩΑΝΝΗΣ",1985,"Σ.Α.ΚΑΤΕΡΙΝΗΣ","Γ"]
[23270,"M","ΑΔΑΜΙΔΗΣ ΛΟΪΖΟΣ",1994,"Γ.Σ.ΗΛΙΟΥΠΟΛΗΣ","ΙΑ"]
[5722,"M","ΑΔΑΜΙΔΗΣ ΝΙΚΟΣ",1972,"Α.Ο.ΔΑΣΟΣ ΧΑΪΔΑΡΙΟΥ","Θ"]
[32801,"M","ΑΔΑΜΙΔΗΣ ΟΡΦΕΑΣ-ΔΑΥΙΔ",2002,"Ο.Α.ΑΛΕΞΑΝΔΡΟΣ ΒΕΡΟΙΑΣ","Γ"]
[29870,"M","ΑΔΑΜΙΔΗΣ ΣΤΕΦΑΝΟΣ",1998,"Ο.Α.ΠΤΟΛΕΜΑΪΔΑΣ","Γ"]
[23110,"M","ΑΔΑΜΙΔΗΣ ΣΩΤΗΡΗΣ",1995,"Σ.Α.ΣΕΡΡΩΝ","Α"]
[34735,"M","ΑΔΑΜΙΔΗΣ ΤΗΛΕΜΑΧΟΣ-ΝΙΚΟΛΑΟΣ",2002,"Ο.Α.ΞΑΝΘΗΣ","Α"]
[6729,"F","ΑΔΑΜΙΔΟΥ ΑΝΝΑ",1981,"Σ.Ο.Ι.Σ.ΝΕΑ ΠΝΟΗ","Α"]
[34736,"F","ΑΔΑΜΙΔΟΥ ΔΗΜΗΤΡΑ",2000,"Ο.Α.ΞΑΝΘΗΣ","Α"]
[13345,"F","ΑΔΑΜΙΔΟΥ ΚΥΡΙΑΚΗ",1988,"Σ.Α.ΚΑΤΕΡΙΝΗΣ","Γ"]
[7212,"F","ΑΔΑΜΙΔΟΥ ΝΑΤΑΛΙΑ",1980,"Ο.Α.ΝΑΟΥΣΑΣ","Γ"]
[4215,"M","ΑΔΑΜΟΠΟΥΛΟΣ ΑΘΑΝΑΣΙΟΣ",1972,"Α.Σ.Α.ΛΑΡΙΣΑΣ","Ε"]
[4321,"M","ΑΔΑΜΟΠΟΥΛΟΣ ΑΘΑΝΑΣΙΟΣ",1976,"Ο.Α.ΖΩΓΡΑΦΟΥ","Η"]
[31144,"M","ΑΔΑΜΟΠΟΥΛΟΣ ΒΑΣΙΛΕΙΟΣ-ΝΙΚΟΛΑΟΣ",1993,"Γ.Α.Ε.ΤΡΙΦΥΛΙΑΣ ΔΙΩΝ ΚΥΠΑΡΙΣΣΕΥΣ","ΣΤ"]
[10562,"M","ΑΔΑΜΟΠΟΥΛΟΣ ΚΩΝΣΤΑΝΤΙΝΟΣ",1985,"Ο.Α.ΚΑΒΑΛΑΣ ΑΛΕΞΑΝΔΡΟΣ","Α"]
[3762,"M","ΑΔΑΜΟΠΟΥΛΟΣ ΜΙΧΑΗΛ-ΔΗΜΗΤΡΗΣ",1978,"Ο.Α.ΛΑΡΙΣΑΣ","Ε"]
[9615,"F","ΑΔΑΜΟΠΟΥΛΟΥ ΑΙΚΑΤΕΡΙΝΗ",1983,"Α.Ο.Α.ΠΑΠΑΓΟΥ","ΙΑ"]
[33648,"F","ΑΔΑΜΟΠΟΥΛΟΥ ΑΝΑΣΤΑΣΙΑ",2002,"Α.Ο.Α.ΧΑΪΔΑΡΙΟΥ","Θ"]
[14281,"F","ΑΔΑΜΟΠΟΥΛΟΥ ΔΑΝΑΗ",1984,"Α.Ο.Α.ΑΤΤΙΚΟΣ ΗΛΙΟΣ","Η"]
[16616,"F","ΑΔΑΜΟΠΟΥΛΟΥ ΚΑΤΕΡΙΝΑ",1990,"Ο.Α.ΠΕΤΡΟΥΠΟΛΗΣ","Θ"]
[5213,"F","ΑΔΑΜΟΠΟΥΛΟΥ ΛΥΔΙΑ-ΕΥΦΡΟΣΥΝΗ",1979,"Α.Ο.Α.ΠΑΠΑΓΟΥ","ΙΑ"]
[2829,"F","ΑΔΑΜΟΠΟΥΛΟΥ ΜΑΡΙΑ",1975,"Α.Ν.Ο.ΓΛΥΦΑΔΑΣ","ΙΑ"]
[33170,"F","ΑΔΑΜΟΠΟΥΛΟΥ ΜΑΡΙΑΝΑ-ΣΤΑΥΡΟΥΛΑ",2002,"Α.Ε.Τ.ΝΙΚΗ ΠΑΤΡΩΝ","ΣΤ"]
[23181,"F","ΑΔΑΜΟΠΟΥΛΟΥ ΝΑΤΑΛΙΑ",1994,"Α.Ο.Α.ΑΙΓΑΛΕΩ 92","Θ"]
[6323,"F","ΑΔΑΜΟΠΟΥΛΟΥ ΠΗΝΕΛΟΠΗ",1981,"Α.Σ.Α.ΜΥΤΙΛΗΝΗΣ","Θ"]
[19993,"M","ΑΔΑΜΟΣ ΒΑΣΙΛΕΙΟΣ",1994,"Α.Ο.ΒΑΡΗΣ ΑΝΑΓΥΡΟΥΣ","Η"]
[31610,"M","ΑΔΑΜΟΣ ΒΑΣΙΛΗΣ",2000,"Ο.Α.ΤΡΙΚΑΛΩΝ","Ε"]
[7158,"M","ΑΔΑΜΟΣ ΓΕΩΡΓΙΟΣ",1981,"Σ.Α.ΚΑΤΕΡΙΝΗΣ","Γ"]
[20951,"M","ΑΔΑΜΟΣ ΘΩΜΑΣ",1993,"Α.Ε.ΠΟΡΤΟ ΡΑΦΤΗ","Η"]
[14585,"M","ΑΔΑΜΟΥ ΑΝΑΣΤΑΣΙΟΣ",1988,"Σ.Α.ΕΛΑΣΣΟΝΑΣ","Ε"]
[9368,"M","ΑΔΑΜΟΥ ΓΕΩΡΓΙΟΣ",1981,"Σ.Α.ΕΛΑΣΣΟΝΑΣ","Ε"]
[24435,"F","ΑΔΑΜΟΥ ΕΛΕΥΘΕΡΙΑ",1977,"Γ.Α.Σ.ΜΑΓΝΗΣΙΑΣ","Ε"]
[4638,"F","ΑΔΑΜΟΥ ΕΥΑΓΓΕΛΙΑ",1976,"Ε.Φ.Τ.ΑΙΟΛΙΚΗ","Β"]
[21948,"F","ΑΔΑΜΟΥ ΕΥΑΝΘΙΑ",1996,"Α.Ε.ΠΟΡΤΟ ΡΑΦΤΗ","Η"]
[13814,"M","ΑΔΑΜΤΖΙΛΟΓΛΟΥ ΧΑΡΑΛΑΜΠΟΣ",1985,"Σ.Α.ΓΑΛΑΤΣΙΟΥ","Θ"]
[27826,"F","ΑΔΑΣΗ ΕΙΡΗΝΗ",1998,"Α.Ο.Α.ΧΑΪΔΑΡΙΟΥ","Θ"]
[15279,"F","ΑΔΕΛΦΟΠΟΥΛΟΥ ΔΗΜΗΤΡΑ",1989,"Σ.Α.ΚΑΤΕΡΙΝΗΣ","Γ"]
[15280,"F","ΑΔΕΛΦΟΠΟΥΛΟΥ ΘΑΛΕΙΑ",1992,"Σ.Α.ΚΑΤΕΡΙΝΗΣ","Γ"]
[26282,"F","ΑΔΡΑΧΤΑ ΑΙΚΑΤΕΡΙΝΗ",1977,"Α.Ο.ΑΜΥΝΤΑΣ ΥΜΗΤΤΟΥ","ΙΑ"]
[6474,"F","ΑΔΡΙΑΝΟΥΠΟΛΙΤΗ ΒΑΣΙΛΙΚΗ",1978,"Γ.Σ.ΗΛΙΟΥΠΟΛΗΣ","ΙΑ"]
[32735,"F","ΑΕΡΑΚΗ ΕΛΕΝΑ",1999,"Ο.Α.ΒΟΥΛΙΑΓΜΕΝΗΣ ΜΙΚΡΟΙ ΑΣΣΟΙ","ΙΑ"]
[14054,"M","ΑΖΑΡΙΑΣ ΚΩΝΣΤΑΝΤΙΝΟΣ",1984,"Σ.Α.ΓΑΛΑΤΣΙΟΥ","Θ"]
[17128,"M","ΑΖΙΛΑΖΙΑΝ ΑΡΣΕΝ",1990,"Α.Ο.ΑΡΓΥΡΟΥΠΟΛΗΣ","ΙΑ"]
[29000,"F","ΑΖΛΗ ΑΙΚΑΤΕΡΙΝΗ",2001,"Α.Ο.Α.ΝΕΑΣ ΠΕΡΑΜΟΥ ΟΙ ΤΙΤΑΝΕΣ","Α"]
[20498,"F","ΑΘΑΝΑΗΛΙΔΟΥ ΕΛΕΝΗ",1991,"Γ.Σ.ΕΛΕΥΘΕΡΙΟΥ ΚΟΡΔ.ΑΡΓΟΝΑΥΤΕΣ","Β"]
[29148,"F","ΑΘΑΝΑΣΑΚΗ ΣΤΕΦΑΝΙΑ",2000,"Ο.Α.ΒΟΛΟΥ","Ε"]
[34107,"M","ΑΘΑΝΑΣΑΚΗΣ ΝΙΚΟΛΑΟΣ",2000,"Γ.Ο.ΠΕΡΙΣΤΕΡΙΟΥ Γ.ΠΑΛΑΣΚΑΣ","Θ"]
[30163,"M","ΑΘΑΝΑΣΑΚΗΣ ΧΡΗΣΤΟΣ",2000,"Ο.Α.ΧΑΝΙΩΝ","Ζ"]
[20963,"M","ΑΘΑΝΑΣΑΚΟΣ ΕΥΑΓΓΕΛΟΣ",1993,"Α.Κ.ΖΩΓΡΑΦΟΥ","ΙΑ"]
[20962,"M","ΑΘΑΝΑΣΑΚΟΣ ΣΠΥΡΙΔΩΝ",1996,"Α.Κ.ΖΩΓΡΑΦΟΥ","ΙΑ"]
[3331,"F","ΑΘΑΝΑΣΑΤΟΥ ΕΛΕΝΗ",1977,"Α.Σ.ΣΠΑΡΤΑΚΟΣ ΓΛΥΦΑΔΑΣ","ΙΑ"]
[34737,"F","ΑΘΑΝΑΣΙΑ ΑΔΑΜΙΔΟΥ",2000,"Ο.Α.ΞΑΝΘΗΣ","Α"]
[14636,"F","ΑΘΑΝΑΣΙΑ ΕΛΕΝΗ",1990,"Ο.Α.ΝΕΟΥ ΦΑΛΗΡΟΥ","Θ"]
[28114,"F","ΑΘΑΝΑΣΙΑΔΗ ΧΡΙΣΤΙΝΑ",2001,"Σ.Α.ΤΡΙΠΟΛΗΣ","ΣΤ"]
[14027,"M","ΑΘΑΝΑΣΙΑΔΗΣ ΑΘΑΝΑΣΙΟΣ",1987,"Ο.Α.ΚΑΒΑΛΑΣ ΑΛΕΞΑΝΔΡΟΣ","Α"]
[1462,"M","ΑΘΑΝΑΣΙΑΔΗΣ ΑΛΕΞΑΝΔΡΟΣ",1969,"Α.Ο.Α.ΦΙΛΟΘΕΗΣ","Η"]
[19415,"M","ΑΘΑΝΑΣΙΑΔΗΣ ΑΛΕΞΑΝΔΡΟΣ",1988,"Α.Ο.Ν.ΣΜΥΡΝΗΣ Ο ΜΙΛΩΝ","ΙΑ"]
[28117,"M","ΑΘΑΝΑΣΙΑΔΗΣ ΑΝΑΣΤΑΣΙΟΣ",1998,"Σ.Α.ΤΡΙΠΟΛΗΣ","ΣΤ"]
[7780,"M","ΑΘΑΝΑΣΙΑΔΗΣ ΒΑΣΙΛΕΙΟΣ",1978,"Ο.Α.ΠΤΟΛΕΜΑΪΔΑΣ","Γ"]
[37436,"M","ΑΘΑΝΑΣΙΑΔΗΣ ΓΕΩΡΓΙΟΣ",2001,"Α.Σ.ΑΚΑΔΗΜΙΕΣ ΠΡΩΤΑΘΛΗΤΩΝ ΠΕΥΚΩΝ","Β"]
[15331,"M","ΑΘΑΝΑΣΙΑΔΗΣ ΕΥΘΥΜΙΟΣ",1987,"Α.Κ.Α.ΜΑΡΑΘΩΝΑ","Η"]
[6538,"M","ΑΘΑΝΑΣΙΑΔΗΣ ΕΥΣΤΡΑΤΙΟΣ",1981,"Ο.Α.ΚΙΛΚΙΣ","Β"]
[10309,"M","ΑΘΑΝΑΣΙΑΔΗΣ ΙΩΑΝΝΗΣ",1985,"Ο.Α.ΘΕΣΣΑΛΟΝΙΚΗΣ","Β"]
[28160,"M","ΑΘΑΝΑΣΙΑΔΗΣ ΙΩΑΝΝΗΣ",1998,"Α.Ο.Α.ΠΡΩΤΑΘΛ.ΚΑΒΑΛΑΣ","Α"]
[7779,"M","ΑΘΑΝΑΣΙΑΔΗΣ ΚΥΡΙΑΚΟΣ",1981,"Ο.Α.ΠΤΟΛΕΜΑΪΔΑΣ","Γ"]
[27560,"M","ΑΘΑΝΑΣΙΑΔΗΣ ΚΩΝΣΤΑΝΤΙΝΟΣ",1996,"Ο.Α.ΧΟΛΑΡΓΟΥ","ΙΑ"]
[8804,"M","ΑΘΑΝΑΣΙΑΔΗΣ ΜΙΧΑΗΛ",1975,"ΠΑΝΕΛΛΗΝΙΟΣ Γ.Σ.","Θ"]
[17669,"M","ΑΘΑΝΑΣΙΑΔΗΣ ΝΙΚΟΛΑΟΣ",1991,"Ο.Α.ΜΑΓΝΗΣΙΑΣ","Ε"]
[27634,"F","ΑΘΑΝΑΣΙΑΔΟΥ ΑΝΔΡΟΜΑΧΗ",1971,"Α.Σ.Α.ΜΑΥΡΟΧΩΡΙΟΥ ΚΑΣΤΟΡΙΑΣ","Γ"]
[16084,"F","ΑΘΑΝΑΣΙΑΔΟΥ ΕΛΠΙΔΑ-ΧΡΥΣΟΥΛΑ",1985,"Ο.Α.ΘΕΣΣΑΛΟΝΙΚΗΣ","Β"]
[14042,"F","ΑΘΑΝΑΣΙΑΔΟΥ ΚΥΡΙΑΚΗ",1986,"Ο.Α.ΘΕΣΣΑΛΟΝΙΚΗΣ","Β"]
[2990,"F","ΑΘΑΝΑΣΙΑΔΟΥ ΜΑΡΙΑ",1970,"Σ.Α.ΘΕΣΣΑΛΟΝΙΚΗΣ","Β"]
[2815,"F","ΑΘΑΝΑΣΙΑΔΟΥ ΝΑΤΑΛΙΑ",1973,"Α.Σ.ΣΠΑΡΤΑΚΟΣ ΓΛΥΦΑΔΑΣ","ΙΑ"]
[21073,"F","ΑΘΑΝΑΣΙΑΔΟΥ ΟΛΓΑ",1994,"Α.Ο.ΑΤΡΟΜΗΤΟΣ ΤΡΙΑΔΙΟΥ","Β"]
[22714,"F","ΑΘΑΝΑΣΙΑΔΟΥ ΌΛΓΑ",1994,"Α.Ο.ΘΕΡΜΗΣ Ο ΘΕΡΜΑΙΟΣ","Β"]
[22038,"F","ΑΘΑΝΑΣΙΑΔΟΥ ΤΑΤΙΑΝΑ",1991,"Ο.Α.ΘΕΣΣΑΛΟΝΙΚΗΣ","Β"]
[5098,"F","ΑΘΑΝΑΣΙΑΔΟΥ ΧΑΡΑΛΑΜΠΙΑ",1977,"Ο.Α.ΓΙΑΝΝΙΤΣΩΝ","Γ"]
[2749,"M","ΑΘΑΝΑΣΙΑΚΗΣ ΚΩΝΣΤΑΝΤΙΝΟΣ",1974,"Α.Ο.Α.ΦΙΛΟΘΕΗΣ","Η"]
[14194,"F","ΑΘΑΝΑΣΙΟΥ ΑΘΑΝΑΣΙΑ",1986,"Α.Ο.ΤΕΡΨΙΘΕΑΣ ΓΛΥΦΑΔΑΣ","ΙΑ"]
[19360,"M","ΑΘΑΝΑΣΙΟΥ ΑΘΑΝΑΣΙΟΣ",1991,"Ο.Α.ΘΕΣΠΡΩΤΙΑΣ ΤΙΤΑΝΗ","Δ"]
[24876,"M","ΑΘΑΝΑΣΙΟΥ ΑΘΑΝΑΣΙΟΣ",1998,"Σ.Α.ΤΡΙΠΟΛΗΣ","ΣΤ"]
[27215,"F","ΑΘΑΝΑΣΙΟΥ ΑΛΕΞΑΝΔΡΑ",1999,"Ο.Α.ΘΕΣΠΡΩΤΙΑΣ ΤΙΤΑΝΗ","Δ"]
[20100,"M","ΑΘΑΝΑΣΙΟΥ ΑΝΑΡΓΥΡΟΣ",1994,"Α.Ο.ΠΟΣΕΙΔΩΝ ΛΟΥΤΡΑΚΙΟΥ","ΣΤ"]
[30281,"F","ΑΘΑΝΑΣΙΟΥ ΑΡΓΥΡΩ",1995,"Ο.Α.ΣΑΛΑΜΙΝΑΣ","Θ"]
[19553,"F","ΑΘΑΝΑΣΙΟΥ ΑΡΧΟΝΤΩ",1990,"Α.Γ.Ο.ΦΙΛΙΠΠΙΑΔΑΣ","Δ"]
[12277,"M","ΑΘΑΝΑΣΙΟΥ ΑΧΙΛΛΕΑΣ",1984,"Σ.Ο.Α.ΚΑΡΔΙΤΣΑΣ ΦΩΚΙΑΝΟΣ","Ε"]
[24833,"M","ΑΘΑΝΑΣΙΟΥ ΒΑΣΙΛΕΙΟΣ",1997,"Σ.Ο.Α.ΚΑΡΔΙΤΣΑΣ ΦΩΚΙΑΝΟΣ","Ε"]
[19556,"F","ΑΘΑΝΑΣΙΟΥ ΒΑΣΙΛΙΚΗ",1989,"Α.Γ.Ο.ΦΙΛΙΠΠΙΑΔΑΣ","Δ"]
[12030,"M","ΑΘΑΝΑΣΙΟΥ ΒΛΑΣΗΣ",1986,"Α.Ο.Α.ΗΛΙΟΥΠΟΛΗΣ","ΙΑ"]
[27619,"M","ΑΘΑΝΑΣΙΟΥ ΓΑΒΡΙΗΛ",1996,"Ο.Α.ΞΑΝΘΗΣ","Α"]
[1427,"M","ΑΘΑΝΑΣΙΟΥ ΔΗΜΗΤΡΗΣ",1971,"Α.Γ.Ο.ΦΙΛΙΠΠΙΑΔΑΣ","Δ"]
[28706,"F","ΑΘΑΝΑΣΙΟΥ ΕΛΕΝΗ",1998,"Ο.Α.ΛΑΥΡΙΟΥ","Η"]
[21349,"F","ΑΘΑΝΑΣΙΟΥ ΕΛΕΥΘΕΡΙΑ",1992,"Α.Γ.Ο.ΦΙΛΙΠΠΙΑΔΑΣ","Δ"]
[17802,"F","ΑΘΑΝΑΣΙΟΥ ΗΛΙΑΝΑ",1990,"Ο.Α.ΑΝΑΦΛΥΣΤΟΣ ΣΑΡΩΝΙΔΑΣ","Η"]
[3270,"F","ΑΘΑΝΑΣΙΟΥ ΘΕΟΔΩΡΑ",1975,"Α.Κ.ΖΩΓΡΑΦΟΥ","ΙΑ"]
[8138,"M","ΑΘΑΝΑΣΙΟΥ ΙΩΑΝΝΗΣ",1984,"Ο.Α.ΚΑΛΑΜΑΚΙΟΥ","ΙΑ"]
[8224,"M","ΑΘΑΝΑΣΙΟΥ ΙΩΑΝΝΗΣ",1980,"Ο.Α.ΣΑΛΑΜΙΝΑΣ","Θ"]
[24880,"F","ΑΘΑΝΑΣΙΟΥ ΚΑΝΕΛΛΑ",1996,"Σ.Α.ΤΡΙΠΟΛΗΣ","ΣΤ"]
[3570,"M","ΑΘΑΝΑΣΙΟΥ ΚΩΝΣΤΑΝΤΙΝΟΣ",1972,"Ο.Α.ΚΑΙΣΑΡΙΑΝΗΣ","Θ"]
[23594,"M","ΑΘΑΝΑΣΙΟΥ ΚΩΝΣΤΑΝΤΙΝΟΣ",1993,"Ο.Α.ΣΑΛΑΜΙΝΑΣ","Θ"]
[19359,"F","ΑΘΑΝΑΣΙΟΥ ΛΥΔΙΑ-ΞΑΝΘΗ",1994,"Ο.Α.ΘΕΣΠΡΩΤΙΑΣ ΤΙΤΑΝΗ","Δ"]
[16334,"M","ΑΘΑΝΑΣΙΟΥ ΛΥΚΟΥΡΓΟΣ",1988,"Ο.Α.ΑΓΙΑΣ ΠΑΡΑΣΚΕΥΗΣ","Η"]
[9736,"F","ΑΘΑΝΑΣΙΟΥ ΜΑΡΙΑ",1984,"Σ.Α.ΓΑΛΑΤΣΙΟΥ","Θ"]
[11088,"F","ΑΘΑΝΑΣΙΟΥ ΜΑΡΙΑ",1981,"Α.Α.ΚΕΡΚΥΡΑΣ","Δ"]
[22158,"F","ΑΘΑΝΑΣΙΟΥ ΜΑΡΙΑ",1997,"Ο.Α.ΘΕΣΠΡΩΤΙΑΣ ΤΙΤΑΝΗ","Δ"]
[15622,"M","ΑΘΑΝΑΣΙΟΥ ΝΕΟΚΛΗΣ",1990,"Α.Ο.Α.ΗΛΙΟΥΠΟΛΗΣ","ΙΑ"]
[3860,"M","ΑΘΑΝΑΣΙΟΥ ΝΙΚΟΛΑΟΣ",1974,"Α.Ε.ΒΟΥΛΑΣ","ΙΑ"]
[27648,"M","ΑΘΑΝΑΣΙΟΥ ΟΡΦΕΑΣ",1996,"Α.Ο.ΒΑΡΗΣ ΑΝΑΓΥΡΟΥΣ","Η"]
[2011,"M","ΑΘΑΝΑΣΙΟΥ ΠΑΝΑΓΙΩΤΗΣ",1970,"Γ.Ε.ΠΡΕΒΕΖΑΣ","Δ"]
[21644,"M","ΑΘΑΝΑΣΙΟΥ ΠΑΝΑΓΙΩΤΗΣ",1996,"Α.Ο.ΑΡΓΥΡΟΥΠΟΛΗΣ","ΙΑ"]
[26551,"F","ΑΘΑΝΑΣΙΟΥ ΣΟΦΙΑ-ΔΗΜΗΤΡΑ",1996,"Ο.Α.ΘΕΣΠΡΩΤΙΑΣ ΤΙΤΑΝΗ","Δ"]
[29006,"M","ΑΘΑΝΑΣΙΟΥ ΣΤΕΦΑΝΟΣ",1996,"Σ.Ο.Α.ΚΑΡΔΙΤΣΑΣ ΦΩΚΙΑΝΟΣ","Ε"]
[25057,"F","ΑΘΑΝΑΣΙΟΥ ΧΑΡΙΚΛΕΙΑ",1996,"Ο.Α.ΠΑΝΟΡΑΜΑΤΟΣ","Β"]
[19162,"F","ΑΘΑΝΑΣΙΟΥ ΧΡΙΣΤΙΝΑ",1987,"Ο.Α.ΘΕΣΠΡΩΤΙΑΣ ΤΙΤΑΝΗ","Δ"]
[21439,"F","ΑΘΑΝΑΣΙΟΥ ΧΡΙΣΤΙΝΑ",1994,"Α.Ο.ΠΟΣΕΙΔΩΝ ΛΟΥΤΡΑΚΙΟΥ","ΣΤ"]
[18271,"M","ΑΘΑΝΑΣΟΓΛΟΥ ΒΑΣΙΛΕΙΟΣ",1987,"Ο.Α.ΚΑΛΑΜΑΚΙΟΥ","ΙΑ"]
[4860,"M","ΑΘΑΝΑΣΟΠΟΥΛΟΣ ΑΛΕΞΑΝΔΡΟΣ",1982,"ΝΑΥΠΛΙΑΚΟΣ Ο.Α.","ΣΤ"]
[22257,"M","ΑΘΑΝΑΣΟΠΟΥΛΟΣ ΑΛΕΞΑΝΔΡΟΣ",1997,"Α.Ο.ΜΕΓΑΣ ΑΛΕΞΑΝΔΡΟΣ","ΙΑ"]
[1461,"M","ΑΘΑΝΑΣΟΠΟΥΛΟΣ ΑΛΕΞΙΟΣ",1972,"Α.Ο.Α.ΦΙΛΟΘΕΗΣ","Η"]
[24484,"M","ΑΘΑΝΑΣΟΠΟΥΛΟΣ ΑΛΕΞΙΟΣ",1996,"Α.Σ.Α.ΑΓΡΙΝΙΟΥ","Δ"]
[6813,"M","ΑΘΑΝΑΣΟΠΟΥΛΟΣ ΑΝΔΡΕΑΣ",1985,"Α.Ο.ΠΑΡΑΔΕΙΣΟΣ ΑΜΑΡΟΥΣΙΟΥ","Η"]
[21043,"M","ΑΘΑΝΑΣΟΠΟΥΛΟΣ ΑΝΔΡΕΑΣ",1995,"Α.Ο.ΜΕΓΑΣ ΑΛΕΞΑΝΔΡΟΣ","ΙΑ"]
[9226,"M","ΑΘΑΝΑΣΟΠΟΥΛΟΣ ΒΑΣΙΛΕΙΟΣ",1982,"Α.Ε.Σ.Α.Φ.ΚΟΥΡΟΣ","Η"]
[4472,"M","ΑΘΑΝΑΣΟΠΟΥΛΟΣ ΕΥΑΓΓΕΛΟΣ",1976,"Α.Ε.ΒΟΥΛΑΣ","ΙΑ"]
[28035,"M","ΑΘΑΝΑΣΟΠΟΥΛΟΣ ΙΩΑΝΝΗΣ",1992,"ΦΙΛΑΘΛ.ΟΜΙΛΟΣ ΠΥΡΓΟΥ","ΣΤ"]
[28034,"M","ΑΘΑΝΑΣΟΠΟΥΛΟΣ ΚΩΝΣΤΑΝΤΙΝΟΣ",1989,"ΦΙΛΑΘΛ.ΟΜΙΛΟΣ ΠΥΡΓΟΥ","ΣΤ"]
[24029,"M","ΑΘΑΝΑΣΟΠΟΥΛΟΣ ΛΑΜΠΡΟΣ",1967,"Ο.Α.ΓΙΑΝΝΙΤΣΩΝ","Γ"]
[21114,"M","ΑΘΑΝΑΣΟΠΟΥΛΟΣ ΝΙΚΟΛΑΟΣ",1995,"ΗΠΕΙΡΩΤΙΚΟΣ Σ.Α.ΙΩΑΝΝΙΝΩΝ","Δ"]
[30141,"M","ΑΘΑΝΑΣΟΠΟΥΛΟΣ ΠΑΝΑΓΙΩΤΗΣ",1974,"Ο.Α.ΠΕΤΡΟΥΠΟΛΗΣ","Θ"]
[3266,"M","ΑΘΑΝΑΣΟΠΟΥΛΟΣ ΣΤΕΦΑΝΟΣ",1971,"Α.Ο.Α.ΠΑΤΡΩΝ","ΣΤ"]
[11689,"M","ΑΘΑΝΑΣΟΠΟΥΛΟΣ ΦΩΤΙΟΣ",1986,"Ο.Φ.Τ.ΠΥΡΓΟΥ","ΣΤ"]
[35331,"M","ΑΘΑΝΑΣΟΠΟΥΛΟΣ ΦΩΤΙΟΣ",1989,"Α.Ο.Α.ΑΛΕΞΑΝΔΡΟΣ Β","Η"]
[32613,"F","ΑΘΑΝΑΣΟΠΟΥΛΟΥ ΑΝΑΣΤΑΣΙΑ",1999,"Σ.Α.ΜΕΣΣΗΝΗΣ","ΣΤ"]
[11688,"F","ΑΘΑΝΑΣΟΠΟΥΛΟΥ ΑΝΤΩΝΙΑ",1983,"Ο.Φ.Τ.ΠΥΡΓΟΥ","ΣΤ"]
[6393,"F","ΑΘΑΝΑΣΟΠΟΥΛΟΥ ΕΙΡΗΝΗ",1980,"ΠΑΝΘΡΑΚΙΚΟΣ Ο.Α.ΚΟΜΟΤΗΝΗΣ","Α"]
[18685,"F","ΑΘΑΝΑΣΟΠΟΥΛΟΥ ΕΙΡΗΝΗ",1993,"Ο.Α.ΛΙΒΑΔΕΙΑΣ","Ε"]
[16543,"F","ΑΘΑΝΑΣΟΠΟΥΛΟΥ ΕΥΣΤΑΘΙΑ",1991,"ΚΕΡΚΥΡΑΪΚΗ Λ.Τ.","Δ"]
[12197,"F","ΑΘΑΝΑΣΟΠΟΥΛΟΥ ΙΩΑΝΝΑ",1986,"Α.Ο.Α.ΠΑΤΡΩΝ","ΣΤ"]
[4469,"F","ΑΘΑΝΑΣΟΠΟΥΛΟΥ ΚΩΝΣΤΑΝΤΙΝΑ",1976,"Α.Ε.ΒΟΥΛΑΣ","ΙΑ"]
[19016,"F","ΑΘΑΝΑΣΟΠΟΥΛΟΥ ΛΥΔΙΑ",1992,"Α.Ο.Α.ΠΑΤΡΩΝ","ΣΤ"]
[11205,"F","ΑΘΑΝΑΣΟΠΟΥΛΟΥ ΜΑΡΙΑ",1985,"Α.Ο.Α.ΠΑΤΡΩΝ","ΣΤ"]
[22298,"F","ΑΘΑΝΑΣΟΠΟΥΛΟΥ ΧΡΙΣΤΙΝΑ",1993,"Σ.Α.ΤΡΙΠΟΛΗΣ","ΣΤ"]
[10570,"F","ΑΘΑΝΑΣΟΥΛΑ ΔΑΝΑΗ",1985,"Α.Ο.ΑΜΥΝΤΑΣ ΥΜΗΤΤΟΥ","ΙΑ"]
[21222,"F","ΑΘΑΝΑΣΟΥΛΑ ΘΕΟΔΩΡΑ",1992,"Σ.Α.ΚΑΤΕΡΙΝΗΣ","Γ"]
[34226,"M","ΑΘΑΝΑΣΟΥΛΑΣ ΕΚΤΟΡΑΣ",2002,"Α.Ο.ΣΙΚΥΩΝΟΣ ΚΙΑΤΟΥ","ΣΤ"]
[8789,"M","ΑΘΑΝΑΣΟΥΛΑΣ ΠΕΤΡΟΣ",1981,"Α.Ο.ΑΜΥΝΤΑΣ ΥΜΗΤΤΟΥ","ΙΑ"]
[18489,"F","ΑΘΑΝΑΣΟΥΛΗ ΜΑΡΙΑ-ΕΛΙΣΑΒΕΤ",1990,"Ο.Α.ΑΓΙΑΣ ΠΑΡΑΣΚΕΥΗΣ","Η"]
[10246,"F","ΑΘΑΝΑΣΟΥΛΗ ΠΑΡΑΣΚΕΥΗ",1987,"Ο.Α.ΙΩΛΚΟΣ ΒΟΛΟΥ","Ε"]
[18488,"M","ΑΘΑΝΑΣΟΥΛΗΣ ΑΛΕΞΑΝΔΡΟΣ",1992,"Ο.Α.ΑΓΙΑΣ ΠΑΡΑΣΚΕΥΗΣ","Η"]
[20986,"M","ΑΘΑΝΑΣΟΥΛΗΣ ΓΙΩΡΓΟΣ",1992,"Ο.Α.ΑΓΙΑΣ ΠΑΡΑΣΚΕΥΗΣ","Η"]
[32569,"M","ΑΘΑΝΑΣΟΥΛΗΣ ΣΩΤΗΡΙΟΣ",2001,"Ο.Α.ΑΓΙΑΣ ΠΑΡΑΣΚΕΥΗΣ","Η"]
[8478,"F","ΑΘΑΝΑΣΟΥΛΙΑ ΚΛΕΙΩ-ΜΑΡΙΑ",1981,"Α.Ψ.Λ.ΜΕΔΕΩΝ","Ε"]
[22934,"F","ΑΘΑΝΙΤΗ ΝΙΚΟΛΙΤΣΑ",1995,"Α.Ο.ΦΟΥΡΕΣΙ ΓΛ.ΝΕΡΩΝ","Η"]
[21620,"F","ΑΘΗΝΑ ΠΕΡΣΙΔΟΥ",1997,"Σ.Α.ΔΡΑΜΑΣ","Α"]
[38789,"M","ΑΘΗΝΑΙΟΣ ΑΝΤΩΝΙΟΣ",2000,"Α.Ο.Α.ΑΛΕΞΑΝΔΡΟΣ Β","Η"]
[23329,"M","ΑΘΗΝΑΙΟΣ ΜΙΧΑΗΛ-ΙΩΑΝΝΗΣ",1993,"Ο.Α.ΙΩΛΚΟΣ ΒΟΛΟΥ","Ε"]
[23237,"M","ΑΘΗΝΑΙΟΣ ΝΙΚΟΣ",1995,"Α.Ο.Α.ΑΙΓΑΛΕΩ 92","Θ"]
[10200,"F","ΑΘΗΝΑΙΟΥ ΑΘΑΝΑΣΙΑ",1988,"Ο.Α.ΕΛΕΥΣΙΝΑΣ ΑΙΣΧΥΛΟΣ","Θ"]
[11021,"F","ΑΘΗΝΑΙΟΥ ΒΕΝΕΤΙΑ",1985,"Ο.Α.ΕΛΕΥΣΙΝΑΣ ΑΙΣΧΥΛΟΣ","Θ"]
[12075,"F","ΑΘΗΝΙΩΤΗ ΑΝΑΣΤΑΣΙΑ",1984,"Α.Σ.Α.ΜΑΥΡΟΧΩΡΙΟΥ ΚΑΣΤΟΡΙΑΣ","Γ"]
[12447,"F","ΑΘΗΝΙΩΤΗ ΘΩΜΑΗ",1987,"Α.Σ.Α.ΜΑΥΡΟΧΩΡΙΟΥ ΚΑΣΤΟΡΙΑΣ","Γ"]
[21930,"M","ΑΘΟΥΣΑΚΗΣ ΑΘΗΝΑΙΟΣ",1996,"Ο.Α.ΧΑΝΙΩΝ","Ζ"]
[21927,"M","ΑΘΟΥΣΑΚΗΣ ΕΜΜΑΝΟΥΗΛ",1992,"Ο.Α.ΧΑΝΙΩΝ","Ζ"]
[31592,"M","ΑΪΒΑΖΙΔΗΣ ΕΥΑΓΓΕΛΟΣ",1999,"Α.Ο.ΑΤΡΟΜΗΤΟΣ ΤΡΙΑΔΙΟΥ","Β"]
[13451,"F","ΑΪΒΑΖΟΓΛΟΥ ΑΙΚΑΤΕΡΙΝΗ",1987,"Ε.Φ.Τ.ΑΙΟΛΙΚΗ","Β"]
[27896,"M","ΑΪΒΑΖΟΓΛΟΥ ΓΕΩΡΓΙΟΣ",1996,"Ο.Α.ΧΡΥΣΟΥΠΟΛΗΣ","Α"]
[25675,"F","ΑΪΒΑΛΙΩΤΗ ΑΡΕΤΗ-ΑΗΔΟΝΗ",1997,"Ο.Α.ΩΡΑΙΟΚΑΣΤΡΟΥ Ο ΑΝΤΑΙΟΣ","Β"]
[23859,"F","ΑΪΒΑΛΙΩΤΗ ΔΕΣΠΟΙΝΑ",1995,"Σ.Φ.Α.ΜΕΛΙΣΣΙΩΝ Ο ΦΟΙΒΟΣ","Η"]
[23391,"F","ΑΪΒΑΛΙΩΤΗ ΕΛΕΝΗ",1992,"Ο.Α.ΛΕΣΒΟΥ","Θ"]
[18765,"F","ΑΪΒΑΛΙΩΤΗ ΕΥΑΓΓΕΛΙΑ",1992,"Α.Ο.Α.ΚΑΒΑΛΑΣ","Α"]
[27203,"M","ΑΪΒΑΛΙΩΤΗΣ ΕΜΜΑΝΟΥΗΛ",1996,"Ο.Α.ΛΕΣΒΟΥ","Θ"]
[33602,"M","ΑϊΒΑΛΙΩΤΗΣ ΡΟΣ-ΑΝΤΩΝΙΟΣ",2002,"Ν.Ο.ΘΕΣΣΑΛΟΝΙΚΗΣ","Β"]
[16420,"M","ΑΪΒΑΤΟΓΛΟΥ ΝΙΚΟΛΑΟΣ",1985,"Α.Σ.ΠΕΡΑ","ΙΑ"]
[16419,"F","ΑΪΒΑΤΟΓΛΟΥ ΡΟΖΑΛΙΑ",1983,"Α.Σ.ΠΕΡΑ","ΙΑ"]
[17423,"F","ΑΙΓΙΝΗΤΗ ΕΛΕΝΗ",1987,"Α.Σ.ΠΕΡΑ","ΙΑ"]
[26938,"F","ΑΙΓΙΝΗΤΟΥ ΕΛΕΝΗ",1997,"Ο.Α.ΠΑΡΟΥ","Η"]
[7135,"M","ΑΙΓΙΝΙΤΗΣ ΝΙΚΟΛΑΟΣ",1978,"Α.Ο.ΝΕΟΥ ΦΑΛΗΡΟΥ","Θ"]
[34738,"F","ΑΪΔΙΝΙΔΟΥ ΧΡΙΣΤΙΝΑ",2002,"Ο.Α.ΞΑΝΘΗΣ","Α"]
[36168,"F","ΑΙΚΑΤΕΡΙΝΗ ΤΣΟΤΣΟΛΗ",2001,"Α.Μ.Σ.ΠΑΝΟΡΑΜΑΤΟΣ","Β"]
[22258,"M","ΑΪΝΑΛΙΔΗΣ ΑΝΔΡΕΑΣ",1989,"Ο.Α.ΘΕΣΣΑΛΟΝΙΚΗΣ","Β"]
[27852,"F","ΑΪΝΑΤΖΟΓΛΟΥ ΑΛΕΞΑΝΔΡΑ",1998,"Μ.Γ.Σ.ΑΠΟΛΛΩΝ ΚΑΛΑΜΑΡΙΑΣ","Β"]
[27850,"F","ΑΪΝΑΤΖΟΓΛΟΥ ΚΩΝΣΤΑΝΤΙΝΑ",1997,"Μ.Γ.Σ.ΑΠΟΛΛΩΝ ΚΑΛΑΜΑΡΙΑΣ","Β"]
[4590,"F","ΑΪΣΤΡΑΤΗ ΓΕΩΡΓΙΑ",1968,"Α.Γ.Ο.ΒΟΛΟΥ","Ε"]
[14306,"M","ΑΙΣΩΠΟΣ ΠΑΝΑΓΙΩΤΗΣ",1986,"Α.Ψ.Λ.ΑΓ.ΓΕΩΡΓΙΟΥ Ο ΗΣΙΟΔΟΣ","Ε"]
[27745,"F","ΑΙΣΩΠΟΥ ΙΩΑΝΝΑ",1999,"Ο.Α.ΚΕΡΑΤΣΙΝΙΟΥ","Θ"]
[23729,"F","ΑΚΑΛΕΣΤΟΥ ΖΑΜΠΕΤΤΑ",1977,"Ο.Α.ΠΑΡΟΥ","Η"]
[35696,"M","ΑΚΑΡΕΠΗΣ ΑΝΔΡΕΑΣ",1999,"Ο.Α.ΑΝΑΦΛΥΣΤΟΣ ΣΑΡΩΝΙΔΑΣ","Η"]
[3054,"F","ΑΚΑΣΟΓΛΟΥ ΜΑΡΓΑΡΙΤΑ",1971,"Α.Σ.ΠΑΠΑΓΟΥ","ΙΑ"]
[3119,"F","ΑΚΑΣΟΓΛΟΥ ΜΑΡΙΑ",1969,"Α.Σ.ΠΑΠΑΓΟΥ","ΙΑ"]
[27712,"F","ΑΚΗΦΟΓΛΟΥ ΕΖΓΚΗΛ",1996,"Ο.Α.ΞΑΝΘΗΣ","Α"]
[29164,"M","ΑΚΙΔΗΣ ΜΗΝΑΣ",1997,"Ο.Α.ΑΛΕΞΑΝΔΡΟΥΠΟΛΗΣ","Α"]
[22405,"M","ΑΚΚΟΓΙΟΥΝΟΓΛΟΥ ΒΑΣΙΛΗΣ",1991,"Α.Ο.ΦΟΥΡΕΣΙ ΓΛ.ΝΕΡΩΝ","Η"]
[23160,"M","ΑΚΡΙΒΑΚΗΣ ΑΝΑΣΤΑΣΗΣ",1991,"Α.Ο.Α.ΠΟΣΕΙΔΩΝ ΘΕΣΣΑΛΟΝΙΚΗΣ","Β"]
[2247,"M","ΑΚΡΙΒΑΣ ΒΑΪΟΣ-ΓΕΩΡΓΙΟΣ",1975,"Α.Κ.ΖΩΓΡΑΦΟΥ","ΙΑ"]
[2248,"M","ΑΚΡΙΒΑΣ ΚΩΝΣΤΑΝΤΙΝΟΣ",1976,"Α.Κ.ΖΩΓΡΑΦΟΥ","ΙΑ"]
[3587,"M","ΑΚΡΙΒΟΠΟΥΛΟΣ ΒΑΣΙΛΕΙΟΣ",1966,"Π.Φ.Ο.ΡΑΧΗΣ","Γ"]
[3583,"M","ΑΚΡΙΒΟΠΟΥΛΟΣ ΜΙΛΤΙΑΔΗΣ",1974,"Π.Φ.Ο.ΡΑΧΗΣ","Γ"]
[10732,"F","ΑΚΡΙΒΟΠΟΥΛΟΥ ΓΕΩΡΓΙΑ",1983,"Σ.Α.ΣΕΡΡΩΝ","Α"]
[10734,"F","ΑΚΡΙΒΟΠΟΥΛΟΥ ΕΛΕΝΗ",1981,"Ο.Α.ΘΕΣΣΑΛΟΝΙΚΗΣ","Β"]
[16076,"M","ΑΚΡΙΒΟΣ ΑΡΓΥΡΗΣ",1988,"Μ.Γ.Σ.ΑΠΟΛΛΩΝ ΚΑΛΑΜΑΡΙΑΣ","Β"]
[19066,"M","ΑΚΡΙΒΟΣ ΚΩΝΣΤΑΝΤΙΝΟΣ",1992,"Α.Ε.Σ.Α.Φ.ΚΟΥΡΟΣ","Η"]
[29252,"F","ΑΚΡΙΒΟΥΛΗ ΚΩΝΣΤΑΝΤΙΝΑ",2000,"Ο.Α.ΝΙΚΑΙΑ ΛΑΡΙΣΑΣ","Ε"]
[15432,"M","ΑΚΡΙΒΟΥΛΗΣ ΑΛΕΞΑΝΔΡΟΣ",1986,"Α.Σ.Α.ΛΑΡΙΣΑΣ","Ε"]
[4705,"F","ΑΚΡΙΤΔΟΥ ΑΘΗΝΑ",1976,"Ε.Φ.Τ.ΑΙΟΛΙΚΗ","Β"]
[21817,"M","ΑΚΡΙΤΙΔΗΣ ΙΩΑΝΝΗΣ",1994,"Α.Ο.ΚΑΒΑΛΑΣ ΜΑΚΕΔΟΝΙΚΟΣ","Α"]
[21812,"M","ΑΚΡΙΤΙΔΗΣ ΚΩΝΣΤΑΝΤΙΝΟΣ",1995,"Α.Ο.ΚΑΒΑΛΑΣ ΜΑΚΕΔΟΝΙΚΟΣ","Α"]
[31732,"F","ΑΚΡΙΤΙΔΟΥ ΑΜΑΛΙΑ",2000,"Μ.Α.Σ.ΑΕΤΟΣ ΘΕΣΣΑΛΟΝΙΚΗΣ","Β"]
[31733,"F","ΑΚΡΙΤΙΔΟΥ ΑΝΝΕΤΑ",1998,"Μ.Α.Σ.ΑΕΤΟΣ ΘΕΣΣΑΛΟΝΙΚΗΣ","Β"]
[34683,"F","ΑΚΡΙΤΙΔΟΥ ΑΡΕΤΗ",2001,"ΠΑΝΘΡΑΚΙΚΟΣ Ο.Α.ΚΟΜΟΤΗΝΗΣ","Α"]
[31734,"F","ΑΚΡΙΤΙΔΟΥ ΕΥΑΓΓΕΛΙΑ",2000,"Μ.Α.Σ.ΑΕΤΟΣ ΘΕΣΣΑΛΟΝΙΚΗΣ","Β"]
[7115,"F","ΑΚΡΙΤΙΔΟΥ ΕΥΓΕΝΙΑ",1983,"Σ.Ο.Ι.Σ.ΝΕΑ ΠΝΟΗ","Α"]
[24393,"F","ΑΚΤΥΠΗ ΚΑΛΛΙΟΠΗ",1995,"ΖΑΚΥΝΘΙΝΟΣ Α.Ο.","ΣΤ"]
[3287,"M","ΑΚΤΥΠΗΣ ΠΑΝΑΓΙΩΤΗΣ",1975,"Α.Ο.ΑΛΦΕΙΟΣ ΕΠΙΤΑΛΙΟΥ","ΣΤ"]
[13203,"F","ΑΛΑΒΕΡΑ ΑΓΓΕΛΙΚΗ",1983,"Ο.Α.ΚΩ","Θ"]
[25768,"F","ΑΛΑΒΕΡΑ ΜΑΡΙΑ-ΕΛΕΝΗ",1997,"Ο.Α.ΚΩ","Θ"]
[13201,"M","ΑΛΑΒΕΡΑΣ ΠΑΝΑΓΙΩΤΗΣ",1985,"Ο.Α.ΚΩ","Θ"]
[25389,"M","ΑΛΑΪΑΔΗΣ ΚΩΝΣΤΑΝΤΙΝΟΣ",1991,"ΠΕΥΚΗ Γ.ΚΑΛΟΒΕΛΩΝΗΣ","Η"]
[10364,"M","ΑΛΑΪΣΚΑΣ ΑΘΑΝΑΣΙΟΣ",1984,"Ο.Α.ΣΑΛΑΜΙΝΑΣ","Θ"]
[1550,"M","ΑΛΑΚΙΑΣ ΑΝΤΩΝΗΣ",1969,"Ο.Α.ΒΟΛΟΥ","Ε"]
[2189,"M","ΑΛΑΚΙΑΣ ΑΝΤΩΝΗΣ",1970,"Α.Ο.ΚΗΦΙΣΙΑΣ","Η"]
[7987,"M","ΑΛΑΜΑΓΚΟΣ ΗΛΙΑΣ",1974,"Γ.Σ.ΣΑΛΑΜΙΝΑΣ","Θ"]
[8002,"M","ΑΛΑΜΑΓΚΟΣ ΣΤΕΛΙΟΣ",1979,"Γ.Σ.ΣΑΛΑΜΙΝΑΣ","Θ"]
[8001,"F","ΑΛΑΜΑΓΚΟΥ ΑΘΗΝΑ",1980,"Γ.Σ.ΣΑΛΑΜΙΝΑΣ","Θ"]
[8464,"F","ΑΛΑΜΑΓΚΟΥ ΜΑΡΙΑ",1980,"Ο.Α.ΣΑΛΑΜΙΝΑΣ","Θ"]
[32598,"F","ΑΛΑΜΑΝΙΩΤΗ ΠΟΛΥΞΕΝΗ",2002,"Ο.Α.ΜΑΓΝΗΣΙΑΣ","Ε"]
[27208,"M","ΑΛΑΜΑΝΙΩΤΗΣ ΧΡΗΣΤΟΣ",1998,"Ο.Α.ΚΩ","Θ"]
[24565,"F","ΑΛΑΜΑΝΟΥ ΑΙΜΙΛΙΑ-ΣΠΥΡΙΔΟΥΛΑ",1994,"Α.Α.ΚΕΡΚΥΡΑΣ","Δ"]
[27991,"F","ΑΛΑΜΑΝΤΑΡΙΩΤΗ ΒΙΟΛΕΤΤΑ",1997,"Γ.Σ.ΙΤΕΑΣ","Ε"]
[4000,"M","ΑΛΑΜΠΑΤΖΙΑΣ ΑΘΑΝΑΣΙΟΣ",1977,"Α.Μ.Σ.ΠΑΝΟΡΑΜΑΤΟΣ","Β"]
[23169,"F","ΑΛΑΤΑ ΑΛΙΚΗ",1991,"Ο.Α.ΛΑΡΙΣΑΣ","Ε"]
[28782,"F","ΑΛΑΤΑ ΕΥΦΡΟΣΥΝΗ",1997,"Ο.Α.ΣΟΥΡΩΤΗΣ ΑΛΕΞΑΝΔΡΟΣ","Β"]
[23161,"F","ΑΛΑΤΑ ΚΑΤΕΡΙΝΑ",1994,"Ο.Α.ΛΑΡΙΣΑΣ","Ε"]
[2677,"M","ΑΛΑΤΖΟΓΛΟΥ ΓΕΩΡΓΙΟΣ",1971,"ΗΡΑΚΛΕΙΟ Ο.Α.& Α.","Ζ"]
[14116,"F","ΑΛΑΦΟΓΙΑΝΝΗ ΑΝΝΑ",1992,"Α.Κ.Α.ΜΑΡΑΘΩΝΑ","Η"]
[17759,"M","ΑΛΑΦΟΔΗΜΟΣ ΠΑΝΑΓΙΩΤΗΣ",1992,"Ο.Α.ΝΑΥΠΑΚΤΟΥ","ΣΤ"]
[25403,"F","ΑΛΑΦΟΣΤΕΡΓΙΟΥ ΒΑΣΙΛΙΚΗ",1997,"Α.Κ.ΖΩΓΡΑΦΟΥ","ΙΑ"]
[21187,"M","ΑΛΑΦΟΥΖΟΣ ΑΡΙΣΤΕΙΔΗΣ",1996,"Ο.Α.ΒΟΥΛΙΑΓΜΕΝΗΣ ΜΙΚΡΟΙ ΑΣΣΟΙ","ΙΑ"]
[16098,"F","ΑΛΑΧΙΩΤΗ ΞΑΝΘΙΠΠΗ-ΣΟΦΙΑ",1988,"Ο.Α.ΚΩ","Θ"]
[36307,"M","ΑΛΑΧΟΥΖΟΣ ΝΙΚΟΛΑΟΣ",2002,"Α.Σ.ΑΠΟΛΛΩΝ ΚΑΛΥΜΝΟΥ","Θ"]
[36045,"F","ΑΛΒΑΝΑΚΗ ΕΛΙΣΑΒΕΤ-ΛΥΔΙΑ",2000,"ΡΟΔΙΑΚΟΣ Ο.Α.","Θ"]
[23380,"F","ΑΛΒΑΝΟΠΟΥΛΟΥ ΙΖΑΜΠΕΛ-ΦΕΡΝΑΝΤΑ",1993,"Ο.Α.ΛΕΣΒΟΥ","Θ"]
[33534,"F","ΑΛΒΑΝΟΠΟΥΛΟΥ ΜΑΡΙΑ",2000,"Α.Ο.Α.ΦΙΛΟΘΕΗΣ","Η"]
[2316,"M","ΑΛΒΑΝΟΣ ΑΘΑΝΑΣΙΟΣ",1974,"Ο.Α.ΚΑΒΑΛΑΣ ΑΛΕΞΑΝΔΡΟΣ","Α"]
[27794,"F","ΑΛΒΑΝΟΥ ΕΛΕΟΝΩΡΑ",1998,"Ο.Α.ΚΑΣΤΟΡΙΑΣ ΚΕΛΕΤΡΟΝ","Γ"]
[27791,"F","ΑΛΒΑΝΟΥ ΗΡΩ-ΒΑΡΒΑΡΑ",1994,"Ο.Α.ΚΑΣΤΟΡΙΑΣ ΚΕΛΕΤΡΟΝ","Γ"]
[2172,"F","ΑΛΒΑΝΟΥΔΗ ΙΩΑΝΝΑ",1970,"Σ.Α.ΣΕΡΡΩΝ","Α"]
[18459,"F","ΑΛΒΕΡΤΗ ΕΛΙΣΑΒΕΤ-ΔΗΜΗΤΡΑ",1991,"Α.Κ.Α.Α.ΠΑΝΤΑΛΚΗΣ","Θ"]
[22954,"F","ΑΛΒΕΡΤΗ ΈΛΛΗ-ΓΕΩΡΓΙΑ",1996,"Α.Ο.ΓΛΥΦΑΔΑΣ ΦΙΛΙΑ 2000","ΙΑ"]
[22737,"M","ΑΛΔΑΚΟΣ ΑΣΤΕΡΙΟΣ",1993,"Ο.Α.ΝΑΟΥΣΑΣ","Γ"]
[24034,"M","ΑΛΔΑΚΟΣ ΝΙΚΟΛΑΟΣ",1995,"Ο.Α.ΝΑΟΥΣΑΣ","Γ"]
[25913,"M","ΑΛΕΒΙΖΟΠΟΥΛΟΣ ΚΩΝΣΤΑΝΤΙΝΟΣ",1994,"Ο.Α.ΓΛΥΦΑΔΑΣ","ΙΑ"]
[25914,"M","ΑΛΕΒΙΖΟΠΟΥΛΟΣ ΦΙΛΙΠΠΟΣ",1997,"Ο.Α.ΓΛΥΦΑΔΑΣ","ΙΑ"]
[8624,"F","ΑΛΕΒΙΖΟΠΟΥΛΟΥ ΕΙΡΗΝΗ",1983,"Α.Κ.Α.ΜΑΡΑΘΩΝΑ","Η"]
[23332,"F","ΑΛΕΒΙΖΟΠΟΥΛΟΥ ΕΛΕΝΗ",1994,"Α.Ο.Α.ΧΑΪΔΑΡΙΟΥ","Θ"]
[12022,"F","ΑΛΕΒΙΖΟΠΟΥΛΟΥ ΠΑΝΑΓΙΩΤΑ",1988,"Α.Κ.Α.ΜΑΡΑΘΩΝΑ","Η"]
[20392,"M","ΑΛΕΒΙΖΟΣ ΓΕΩΡΓΙΟΣ",1993,"Α.Ο.Α.ΧΑΪΔΑΡΙΟΥ","Θ"]
[21060,"M","ΑΛΕΒΙΖΟΣ ΓΕΩΡΓΙΟΣ",1997,"Α.Ο.ΜΕΓΑΣ ΑΛΕΞΑΝΔΡΟΣ","ΙΑ"]
[19949,"M","ΑΛΕΒΙΖΟΣ ΠΑΤΡΟΚΛΟΣ-ΚΩΝΣΤΑΝΤΙΝΟΣ",1994,"Γ.Ο.ΠΕΡΙΣΤΕΡΙΟΥ Γ.ΠΑΛΑΣΚΑΣ","Θ"]
[13840,"F","ΑΛΕΒΙΖΟΥ ΕΛΕΝΗ",1988,"Α.Ο.Α.ΧΑΪΔΑΡΙΟΥ","Θ"]
[18218,"F","ΑΛΕΒΙΖΟΥ ΚΥΡΙΑΚΗ",1990,"ΝΑΥΠΛΙΑΚΟΣ Ο.Α.","ΣΤ"]
[19950,"F","ΑΛΕΒΙΖΟΥ ΠΑΡΑΣΚΕΥΗ",1990,"Ο.Α.ΠΕΤΡΟΥΠΟΛΗΣ","Θ"]
[6404,"M","ΑΛΕΚΟΓΛΟΥ ΙΟΡΔΑΝΗΣ",1979,"ΠΑΝΘΡΑΚΙΚΟΣ Ο.Α.ΚΟΜΟΤΗΝΗΣ","Α"]
[32349,"M","ΑΛΕΚΤΟΡΙΔΗΣ ΟΡΕΣΤΗΣ",2000,"Φ.Ο.Α.ΝΕΑΠΟΛΗΣ","Β"]
[20396,"F","ΑΛΕΞΑΚΗ ΑΡΧΟΝΤΟΥΛΑ",1991,"Α.Ο.Α.ΡΕΘΥΜΝΟ Τ.Κ.","Ζ"]
[8560,"F","ΑΛΕΞΑΚΗ ΑΦΡΟΔΙΤΗ",1984,"ΑΙΟΛΟΣ Α.Λ.ΙΛΙΟΥ","Θ"]
[19040,"F","ΑΛΕΞΑΚΗ ΒΑΪΑ",1995,"ΦΘΙΩΤΙΚΟΣ Ο.Α.","Ε"]
[34221,"F","ΑΛΕΞΑΚΗ ΔΕΣΠΟΙΝΑ",2002,"Ο.Α.ΣΟΥΡΩΤΗΣ ΑΛΕΞΑΝΔΡΟΣ","Β"]
[35199,"F","ΑΛΕΞΑΚΗ ΚΑΤΕΡΙΝΑ",1999,"Α.Σ.ΑΚΑΔΗΜΙΕΣ ΠΡΩΤΑΘΛΗΤΩΝ ΠΕΥΚΩΝ","Β"]
[22146,"F","ΑΛΕΞΑΚΗ ΣΟΦΙΑ-ΆΝΝΑ",1994,"Α.Ο.Ν.Φ.ΑΤΤΑΛΟΣ","Η"]
[90104,"M","ΑΛΕΞΑΚΗΣ ΑΒΡΑΑΜ",1996,"Ο.Α.ΧΑΝΙΩΝ","Ζ"]
[19033,"M","ΑΛΕΞΑΚΗΣ ΑΘΑΝΑΣΙΟΣ-ΘΕΟΔΟΣΙΟΣ",1992,"ΦΘΙΩΤΙΚΟΣ Ο.Α.","Ε"]
[17197,"M","ΑΛΕΞΑΚΗΣ ΑΝΤΡΕΑΣ",1990,"Ο.Α.ΠΕΙΡΑΙΑ","Θ"]
[15048,"M","ΑΛΕΞΑΚΗΣ ΕΠΑΜΕΙΝΩΝΔΑΣ",1987,"Ο.Α.ΚΑΙΣΑΡΙΑΝΗΣ","Θ"]
[17196,"M","ΑΛΕΞΑΚΗΣ ΙΩΑΝΝΗΣ",1993,"Ο.Α.ΠΕΙΡΑΙΑ","Θ"]
[19900,"M","ΑΛΕΞΑΚΗΣ ΙΩΑΝΝΗΣ",1989,"ΗΡΑΚΛΕΙΟ Ο.Α.& Α.","Ζ"]
[90103,"M","ΑΛΕΞΑΚΗΣ ΛΟΥΚΑΣ",1998,"Ο.Α.ΧΑΝΙΩΝ","Ζ"]
[90105,"M","ΑΛΕΞΑΚΗΣ ΠΕΤΡΟΣ",2000,"Ο.Α.ΧΑΝΙΩΝ","Ζ"]
[10966,"M","ΑΛΕΞΑΚΟΣ ΔΗΜΗΤΡΙΟΣ",1971,"Δ.Α.Σ.ΑΝΩ ΛΙΟΣΙΩΝ","Θ"]
[26823,"F","ΑΛΕΞΑΝΔΡΑΚΗ ΑΡΧΟΝΤΟΥΛΑ",1994,"Α.Ο.Α.ΧΑΪΔΑΡΙΟΥ","Θ"]
[28445,"F","ΑΛΕΞΑΝΔΡΑΚΗ ΣΟΦΙΑ",1997,"Α.Ο.Α.ΧΑΪΔΑΡΙΟΥ","Θ"]
[9845,"M","ΑΛΕΞΑΝΔΡΑΚΗΣ ΑΘΑΝΑΣΙΟΣ",1980,"Α.Ν.Ο.ΓΛΥΦΑΔΑΣ","ΙΑ"]
[17030,"M","ΑΛΕΞΑΝΔΡΑΚΗΣ ΔΗΜΗΤΡΙΟΣ",1990,"ΗΡΑΚΛΕΙΟ Ο.Α.& Α.","Ζ"]
[25866,"M","ΑΛΕΞΑΝΔΡΑΚΗΣ ΦΙΛΙΠΠΟΣ",1994,"Ο.Α.ΒΡΙΛΗΣΣΙΩΝ","Η"]
[15532,"F","ΑΛΕΞΑΝΔΡΑΤΟΥ ΤΖΟΥΛΙΑ",1985,"Ο.Α.ΓΛΥΦΑΔΑΣ","ΙΑ"]
[22333,"F","ΑΛΕΞΑΝΔΡΗ ΒΑΣΙΛΙΚΗ",1989,"Γ.Σ.ΑΜΦΙΑΛΗΣ ΦΕΙΔΙΠΠΙΔΗΣ","Θ"]
[19980,"F","ΑΛΕΞΑΝΔΡΗ ΕΛΕΝΗ",1991,"Ο.Α.ΚΩ","Θ"]
[26010,"F","ΑΛΕΞΑΝΔΡΗ ΠΑΝΑΓΙΩΤΑ",1995,"Ο.Α.ΩΡΑΙΟΚΑΣΤΡΟΥ Ο ΑΝΤΑΙΟΣ","Β"]
[29057,"F","ΑΛΕΞΑΝΔΡΗ ΠΑΡΑΣΚΕΥΗ",1998,"Ο.Α.Ο ΦΙΛΑΘΛΟΣ","Η"]
[22545,"F","ΑΛΕΞΑΝΔΡΗ ΦΑΝΗ",1981,"Α.Ε.Κ.ΤΡΙΠΟΛΗΣ","ΣΤ"]
[22375,"F","ΑΛΕΞΑΝΔΡΗ ΧΑΡΑΛΑΜΠΙΑ",1995,"Α.Ε.Κ.ΤΡΙΠΟΛΗΣ","ΣΤ"]
[20467,"M","ΑΛΕΞΑΝΔΡΗΣ ΒΑΣΙΛΕΙΟΣ",1990,"Ο.Α.ΑΝΑΤΟΛΙΚΗΣ ΦΘΙΩΤΙΔΑΣ","Ε"]
[19472,"M","ΑΛΕΞΑΝΔΡΗΣ ΒΙΝΤΣΕΝΤΖΟΣ",1991,"Ο.Α.ΦΩΚΙΔΑΣ","Ε"]
[28054,"M","ΑΛΕΞΑΝΔΡΗΣ ΓΕΩΡΓΙΟΣ",1995,"Π.Σ.ΑΜΠΕΛΩΝΟΣ Ο ΦΙΛΙΠΠΙΔΗΣ","Ε"]
[27885,"M","ΑΛΕΞΑΝΔΡΗΣ ΓΙΑΝΝΗΣ",1995,"Α.Ε.ΠΟΡΤΟ ΡΑΦΤΗ","Η"]
[26078,"M","ΑΛΕΞΑΝΔΡΗΣ ΕΥΣΤΑΘΙΟΣ",1998,"Α.Ο.Π.ΦΑΛΗΡΟΥ","ΙΑ"]
[29605,"M","ΑΛΕΞΑΝΔΡΗΣ ΝΙΚΗΦΟΡΟΣ",2001,"Α.Ο.Π.ΦΑΛΗΡΟΥ","ΙΑ"]
[28053,"M","ΑΛΕΞΑΝΔΡΗΣ ΝΙΚΟΛΑΟΣ",1998,"Π.Σ.ΑΜΠΕΛΩΝΟΣ Ο ΦΙΛΙΠΠΙΔΗΣ","Ε"]
[35317,"M","ΑΛΕΞΑΝΔΡΗΣ ΠΕΤΡΟΣ",1980,"Α.Ο.Α.ΑΛΕΞΑΝΔΡΟΣ Β","Η"]
[20849,"M","ΑΛΕΞΑΝΔΡΗΣ ΧΑΡΑΛΑΜΠΟΣ",1990,"Ο.Α.ΦΩΚΙΔΑΣ","Ε"]
[29227,"M","ΑΛΕΞΑΝΔΡΗΣ ΧΑΡΑΛΑΜΠΟΣ",1996,"Α.Ο.Α.ΧΑΪΔΑΡΙΟΥ","Θ"]
[36696,"F","ΑΛΕΞΑΝΔΡΙΔΗ ΜΑΡΙΑ",2000,"Α.Τ.ΧΑΝΙΩΝ","Ζ"]
[25838,"M","ΑΛΕΞΑΝΔΡΙΔΗΣ ΑΛΕΞΑΝΔΡΟΣ",1995,"ΣΕΡΡΑΪΚΟΣ Ο.Α.","Α"]
[22742,"M","ΑΛΕΞΑΝΔΡΙΔΗΣ ΑΝΑΣΤΑΣΙΟΣ",1996,"Ο.Α.ΩΡΑΙΟΚΑΣΤΡΟΥ Ο ΑΝΤΑΙΟΣ","Β"]
[30889,"M","ΑΛΕΞΑΝΔΡΙΔΗΣ ΕΛΕΥΘΕΡΙΟΣ",1999,"Α.Ο.ΛΑΤΩ ΑΓ.ΝΙΚΟΛΑΟΥ","Ζ"]
[9855,"M","ΑΛΕΞΑΝΔΡΙΔΗΣ ΙΟΡΔΑΝΗΣ",1983,"Α.Ο.ΚΑΒΑΛΑΣ ΜΑΚΕΔΟΝΙΚΟΣ","Α"]
[28192,"M","ΑΛΕΞΑΝΔΡΙΔΗΣ ΧΑΡΑΛΑΜΠΟΣ",1999,"Σ.Α.ΣΕΡΡΩΝ","Α"]
[7053,"F","ΑΛΕΞΑΝΔΡΙΔΟΥ ΑΝΑΣΤΑΣΙΑ",1981,"Ο.Α.ΚΑΒΑΛΑΣ ΑΛΕΞΑΝΔΡΟΣ","Α"]
[10057,"F","ΑΛΕΞΑΝΔΡΙΔΟΥ ΔΗΜΗΤΡΑ",1982,"Σ.Α.ΕΛΑΣΣΟΝΑΣ","Ε"]
[13858,"F","ΑΛΕΞΑΝΔΡΙΔΟΥ ΔΗΜΗΤΡΑ",1983,"Φ.Ο.Α.ΝΕΑΠΟΛΗΣ","Β"]
[13567,"F","ΑΛΕΞΑΝΔΡΙΔΟΥ ΜΑΡΙΑ",1987,"Ο.Α.ΓΟΥΔΙΟΥ","ΙΑ"]
[18965,"F","ΑΛΕΞΑΝΔΡΙΔΟΥ ΠΑΝΑΓΙΩΤΑ",1993,"Γ.Σ.ΗΛΙΟΥΠΟΛΗΣ","ΙΑ"]
[19601,"M","ΑΛΕΞΑΝΔΡΟΠΟΥΛΟΣ ΑΝΤΩΝΙΟΣ",1992,"Α.Κ.ΖΩΓΡΑΦΟΥ","ΙΑ"]
[20495,"M","ΑΛΕΞΑΝΔΡΟΠΟΥΛΟΣ ΑΡΙΣΤΕΙΔΗΣ",1993,"Ε.Α.Τ.Ε.Κ.ΕΛΛΗΝΙΚΟΥ ΚΟΛΛΕΓΙΟΥ","Β"]
[10859,"M","ΑΛΕΞΑΝΔΡΟΠΟΥΛΟΣ ΑΡΙΣΤΟΓΕΙΤΩΝ",1976,"Α.Ο.ΑΛΦΕΙΟΣ ΕΠΙΤΑΛΙΟΥ","ΣΤ"]
[29078,"M","ΑΛΕΞΑΝΔΡΟΠΟΥΛΟΣ ΓΕΩΡΓΙΟΣ",1997,"Ο.Α.ΠΕΤΡΟΥΠΟΛΗΣ","Θ"]
[16422,"M","ΑΛΕΞΑΝΔΡΟΠΟΥΛΟΣ ΙΩΑΝΝΗΣ",1988,"Α.Ε.Τ.ΝΙΚΗ ΠΑΤΡΩΝ","ΣΤ"]
[4967,"M","ΑΛΕΞΑΝΔΡΟΠΟΥΛΟΣ ΚΟΣΜΑΣ",1979,"Α.Ο.ΠΟΣΕΙΔΩΝ ΛΟΥΤΡΑΚΙΟΥ","ΣΤ"]
[29077,"M","ΑΛΕΞΑΝΔΡΟΠΟΥΛΟΣ ΣΤΕΦΑΝΟΣ",1999,"Ο.Α.ΠΕΤΡΟΥΠΟΛΗΣ","Θ"]
[16750,"F","ΑΛΕΞΑΝΔΡΟΠΟΥΛΟΥ ΑΝΝΑ",1988,"Α.Ο.Α.ΠΟΣΕΙΔΩΝ ΘΕΣΣΑΛΟΝΙΚΗΣ","Β"]
[2812,"F","ΑΛΕΞΑΝΔΡΟΠΟΥΛΟΥ ΑΦΡΟΔΙΤΗ",1974,"Α.Σ.ΣΠΑΡΤΑΚΟΣ ΓΛΥΦΑΔΑΣ","ΙΑ"]
[30465,"F","ΑΛΕΞΑΝΔΡΟΠΟΥΛΟΥ ΕΥΑΓΓΕΛΙΑ",1994,"Α.Κ.Α.ΜΑΡΑΘΩΝΑ","Η"]
[10738,"F","ΑΛΕΞΑΝΔΡΟΠΟΥΛΟΥ ΕΥΣΤΑΘΙΑ",1986,"Ο.Α.ΑΡΓΟΥΣ","ΣΤ"]
[12635,"F","ΑΛΕΞΑΝΔΡΟΠΟΥΛΟΥ ΚΥΡΙΑΚΗ",1987,"Α.Ο.ΠΟΣΕΙΔΩΝ ΛΟΥΤΡΑΚΙΟΥ","ΣΤ"]
[29075,"F","ΑΛΕΞΑΝΔΡΟΠΟΥΛΟΥ ΠΑΝΑΓΙΩΤΑ",1981,"Ο.Α.ΠΕΙΡΑΙΑ","Θ"]
[13981,"F","ΑΛΕΞΑΝΔΡΟΥ ΕΛΕΝΗ",1983,"Α.Ο.Α.ΦΙΛΟΘΕΗΣ","Η"]
[4264,"F","ΑΛΕΞΑΝΔΡΟΥ ΕΛΠΙΔΑ",1976,"Ο.Α.ΑΘΗΝΩΝ","Η"]
[16204,"M","ΑΛΕΞΑΝΔΡΟΥ ΚΛΕΑΝΘΗΣ",1987,"Α.Ο.Α.ΠΟΣΕΙΔΩΝ ΘΕΣΣΑΛΟΝΙΚΗΣ","Β"]
[35036,"F","ΑΛΕΞΑΝΤΡΟΒΑ ΟΛΓΑ",2001,"Ο.Α.ΝΑΟΥΣΑΣ","Γ"]
[38388,"F","ΑΛΕΞΙΑΔΗ ΚΑΤΕΡΙΝΑ",1987,"Ο.Α.ΠΕΙΡΑΙΑ","Θ"]
[29197,"F","ΑΛΕΞΙΑΔΗ ΜΑΡΙΑ-ΣΕΝΤΑ",2000,"Ο.Α.ΣΠΑΡΤΗΣ","ΣΤ"]
[18861,"M","ΑΛΕΞΙΑΔΗΣ ΑΛΕΞΑΝΔΡΟΣ",1993,"Ο.Α.ΧΑΝΙΩΝ","Ζ"]
[33125,"M","ΑΛΕΞΙΑΔΗΣ ΑΛΕΞΑΝΔΡΟΣ",2001,"Ο.Α.ΑΙΓΙΑΛΕΙΑΣ","ΣΤ"]
[20763,"M","ΑΛΕΞΙΑΔΗΣ ΑΝΤΩΝΙΟΣ",1991,"Α.Ο.ΟΡΕΣΤΙΑΔΑΣ","Α"]
[20124,"M","ΑΛΕΞΙΑΔΗΣ ΒΑΣΙΛΕΙΟΣ",1989,"Ο.Α.ΒΕΡΟΙΑΣ","Γ"]
[17279,"M","ΑΛΕΞΙΑΔΗΣ ΒΛΑΔΙΜΗΡΟΣ",1990,"Ο.Α.ΑΛΕΞΑΝΔΡΟΥΠΟΛΗΣ","Α"]
[1927,"M","ΑΛΕΞΙΑΔΗΣ ΓΕΩΡΓΙΟΣ",1970,"Σ.Α.ΣΕΡΡΩΝ","Α"]
[6071,"M","ΑΛΕΞΙΑΔΗΣ ΕΥΑΓΓΕΛΟΣ",1981,"Α.Γ.Ο.ΒΟΛΟΥ","Ε"]
[20453,"M","ΑΛΕΞΙΑΔΗΣ ΙΟΡΔΑΝΗΣ",1996,"Σ.Α.ΔΡΑΜΑΣ","Α"]
[29196,"M","ΑΛΕΞΙΑΔΗΣ ΟΡΕΣΤΗΣ-ΛΕΩΝΙΔΑΣ",1995,"Ο.Α.ΣΠΑΡΤΗΣ","ΣΤ"]
[21621,"M","ΑΛΕΞΙΑΔΗΣ ΣΤΕΡΓΙΟΣ",1993,"Σ.Α.ΔΡΑΜΑΣ","Α"]
[39043,"M","ΑΛΕΞΙΑΔΗΣ ΧΡΗΣΤΟΣ",2001,"Φ.Ο.Α.ΝΕΑΠΟΛΗΣ","Β"]
[8890,"F","ΑΛΕΞΙΑΔΟΥ ΔΕΣΠΟΙΝΑ",1981,"Μ.Γ.Σ.ΑΠΟΛΛΩΝ ΚΑΛΑΜΑΡΙΑΣ","Β"]
[18259,"M","ΑΛΕΞΙΑΣ ΠΑΥΛΟΣ",1992,"ΦΙΛΑΘΛΗΤ.ΣΥΛ.ΛΑΜΙΑΣ","Ε"]
[32361,"M","ΑΛΕΞΙΔΗΣ ΑΛΕΞΑΝΔΡΟΣ",1969,"Α.Ο.ΘΕΡΜΗΣ Ο ΘΕΡΜΑΙΟΣ","Β"]
[30820,"F","ΑΛΕΞΙΟΥ ΑΓΓΕΛΙΚΗ",1999,"Α.Ε.Τ.ΝΙΚΗ ΠΑΤΡΩΝ","ΣΤ"]
[30819,"M","ΑΛΕΞΙΟΥ ΑΓΓΕΛΟΣ",2001,"Α.Ε.Τ.ΝΙΚΗ ΠΑΤΡΩΝ","ΣΤ"]
[2955,"F","ΑΛΕΞΙΟΥ ΑΘΗΝΑ-ΜΑΡΙΑ",1967,"Α.Ο.ΚΗΦΙΣΙΑΣ","Η"]
[7251,"F","ΑΛΕΞΙΟΥ ΑΙΚΑΤΕΡΙΝΗ",1979,"Σ.Α.ΓΑΛΑΤΣΙΟΥ","Θ"]
[12675,"F","ΑΛΕΞΙΟΥ ΑΛΕΞΑΝΔΡΑ",1983,"Α.Ο.Α.ΡΕΘΥΜΝΟ Τ.Κ.","Ζ"]
[15477,"F","ΑΛΕΞΙΟΥ ΑΛΚΜΗΝΗ",1987,"ΦΘΙΩΤΙΚΟΣ Ο.Α.","Ε"]
[3642,"M","ΑΛΕΞΙΟΥ ΑΝΑΣΤΑΣΙΟΣ",1978,"Α.Ο.ΑΡΓΥΡΟΥΠΟΛΗΣ","ΙΑ"]
[27971,"M","ΑΛΕΞΙΟΥ ΑΝΤΩΝΗΣ",1995,"Ο.Α.ΝΙΚΑΙΑ ΛΑΡΙΣΑΣ","Ε"]
[7252,"M","ΑΛΕΞΙΟΥ ΑΝΤΩΝΙΟΣ",1978,"Σ.Α.ΓΑΛΑΤΣΙΟΥ","Θ"]
[7892,"M","ΑΛΕΞΙΟΥ ΑΝΤΩΝΙΟΣ",1978,"Α.Γ.Ο.ΘΕΣΠΡΩΤΙΚΟΥ","Δ"]
[20617,"M","ΑΛΕΞΙΟΥ ΑΡΗΣ",1993,"Α.Ο.Α.ΦΙΛΟΘΕΗΣ","Η"]
[7841,"M","ΑΛΕΞΙΟΥ ΓΕΩΡΓΙΟΣ",1979,"Α.Ο.Α.ΦΙΛΟΘΕΗΣ","Η"]
[8735,"M","ΑΛΕΞΙΟΥ ΓΕΩΡΓΙΟΣ",1982,"Α.Α.ΙΩΑΝΝΙΝΩΝ","Δ"]
[29673,"M","ΑΛΕΞΙΟΥ ΓΕΩΡΓΙΟΣ",2001,"Α.Γ.Ο.ΦΙΛΙΠΠΙΑΔΑΣ","Δ"]
[37878,"M","ΑΛΕΞΙΟΥ ΓΕΩΡΓΙΟΣ",2002,"Α.Σ.ΝΗΡΕΑΣ ΒΕΡΟΙΑΣ","Γ"]
[14106,"F","ΑΛΕΞΙΟΥ ΔΗΜΗΤΡΑ",1988,"Σ.Α.ΓΑΛΑΤΣΙΟΥ","Θ"]
[2330,"M","ΑΛΕΞΙΟΥ ΔΗΜΗΤΡΙΟΣ",1973,"Σ.Α.ΣΕΡΡΩΝ","Α"]
[29122,"M","ΑΛΕΞΙΟΥ ΔΗΜΗΤΡΙΟΣ",1996,"Ο.Α.ΑΘΗΝΩΝ","Η"]
[22688,"M","ΑΛΕΞΙΟΥ ΔΗΜΟΣΘΕΝΗΣ",1992,"Α.Σ.Α.ΛΑΡΙΣΑΣ","Ε"]
[7842,"M","ΑΛΕΞΙΟΥ ΕΛΕΥΘΕΡΙΟΣ",1982,"Ο.Α.ΑΘΗΝΩΝ","Η"]
[23562,"M","ΑΛΕΞΙΟΥ ΕΥΑΓΓΕΛΟΣ-ΛΟΥΚΑΣ",1999,"Ο.Α.ΝΙΚΑΙΑ ΛΑΡΙΣΑΣ","Ε"]
[21509,"M","ΑΛΕΞΙΟΥ ΖΗΝΩΝ",1993,"Ο.Α.ΕΥΟΣΜΟΥ ΘΕΣΣΑΛΟΝΙΚΗΣ","Β"]
[9190,"M","ΑΛΕΞΙΟΥ ΚΥΡΙΑΚΟΣ",1976,"Ο.Α.ΠΑΝΟΡΑΜΑΤΟΣ","Β"]
[3215,"M","ΑΛΕΞΙΟΥ ΚΩΝΣΤΑΝΤΙΝΟΣ",1973,"Ο.Α.ΑΡΤΑΣ","Δ"]
[12081,"M","ΑΛΕΞΙΟΥ ΚΩΝΣΤΑΝΤΙΝΟΣ",1986,"Ο.Α.ΧΑΛΚΙΔΑΣ","Θ"]
[17824,"M","ΑΛΕΞΙΟΥ ΚΩΝΣΤΑΝΤΙΝΟΣ",1987,"Γ.Σ.ΚΗΦΙΣΙΑΣ","Η"]
[23563,"M","ΑΛΕΞΙΟΥ ΚΩΝΣΤΑΝΤΙΝΟΣ",1999,"Ο.Α.ΝΙΚΑΙΑ ΛΑΡΙΣΑΣ","Ε"]
[14050,"M","ΑΛΕΞΙΟΥ ΜΑΝΩΛΗΣ",1986,"Ο.Α.ΑΛΕΞΑΝΔΡΟΥΠΟΛΗΣ","Α"]
[21129,"F","ΑΛΕΞΙΟΥ ΜΑΡΙΑ",1988,"Α.Ο.Α.ΣΤΑΥΡΟΥΠΟΛΗΣ ΙΦΙΤΟΣ","Β"]
[9148,"F","ΑΛΕΞΙΟΥ ΝΑΤΑΣΑ",1981,"Γ.Σ.ΗΛΙΟΥΠΟΛΗΣ","ΙΑ"]
[2331,"M","ΑΛΕΞΙΟΥ ΝΕΚΤΑΡΙΟΣ",1974,"Σ.Α.ΣΕΡΡΩΝ","Α"]
[1428,"M","ΑΛΕΞΙΟΥ ΝΙΚΟΛΑΟΣ",1969,"Α.Γ.Ο.ΦΙΛΙΠΠΙΑΔΑΣ","Δ"]
[20618,"M","ΑΛΕΞΙΟΥ ΝΤΕΝΝΗ-(ΑΓΟΡΙ)",1992,"Α.Ο.Α.ΦΙΛΟΘΕΗΣ","Η"]
[21508,"F","ΑΛΕΞΙΟΥ ΟΥΡΑΝΙΑ",1995,"Ο.Α.ΕΥΟΣΜΟΥ ΘΕΣΣΑΛΟΝΙΚΗΣ","Β"]
[12679,"F","ΑΛΕΞΙΟΥ ΠΑΝΔΩΡΑ",1981,"Α.Ο.Α.ΡΕΘΥΜΝΟ Τ.Κ.","Ζ"]
[7891,"F","ΑΛΕΞΙΟΥ ΠΑΡΑΣΚΕΥΗ",1979,"Α.Γ.Ο.ΘΕΣΠΡΩΤΙΚΟΥ","Δ"]
[9191,"M","ΑΛΕΞΙΟΥ ΣΤΑΥΡΟΣ",1978,"Ο.Α.ΠΑΝΟΡΑΜΑΤΟΣ","Β"]
[32393,"M","ΑΛΕΞΙΟΥ ΦΙΛΙΠΠΟΣ",2002,"Α.Γ.Ο.ΦΙΛΙΠΠΙΑΔΑΣ","Δ"]
[26664,"F","ΑΛΕΞΙΟΥ ΧΡΥΣΟΥΛΑ",1994,"ΕΘΝΙΚΟΣ ΠΑΝΟΡΑΜΑΤΟΣ 2005","Β"]
[15450,"M","ΑΛΕΞΙΟΥ-ΣΤΡΑΟΥΣ ΠΑΤΡΙΚ-ΟΤΤΟ",1984,"Α.Ο.Α.ΧΑΪΔΑΡΙΟΥ","Θ"]
[6706,"M","ΑΛΕΞΟΓΛΟΥ ΔΗΜΗΤΡΙΟΣ",1977,"Σ.Ο.Ι.Σ.ΝΕΑ ΠΝΟΗ","Α"]
[6885,"M","ΑΛΕΞΟΓΛΟΥ ΧΡΗΣΤΟΣ",1981,"Σ.Ο.Ι.Σ.ΝΕΑ ΠΝΟΗ","Α"]
[10527,"M","ΑΛΕΞΟΠΟΥΛΟΣ ΑΘΑΝΑΣΙΟΣ",1985,"Α.Ο.ΠΟΣΕΙΔΩΝ ΛΟΥΤΡΑΚΙΟΥ","ΣΤ"]
[6312,"M","ΑΛΕΞΟΠΟΥΛΟΣ ΑΛΕΞΑΝΔΡΟΣ",1981,"Ο.Α.ΑΙΓΙΑΛΕΙΑΣ","ΣΤ"]
[15734,"M","ΑΛΕΞΟΠΟΥΛΟΣ ΑΛΕΞΑΝΔΡΟΣ",1989,"Α.Ο.ΤΑΤΑΥΛΑ ΚΩΝΣΤΑΝΤΙΝΟΥΠΟΛΕΩΣ","ΙΑ"]
[6669,"M","ΑΛΕΞΟΠΟΥΛΟΣ ΓΕΩΡΓΙΟΣ",1979,"Α.Σ.ΠΑΠΑΓΟΥ","ΙΑ"]
[16282,"M","ΑΛΕΞΟΠΟΥΛΟΣ ΓΕΩΡΓΙΟΣ",1987,"Σ.Ο.Α.ΚΑΡΔΙΤΣΑΣ ΦΩΚΙΑΝΟΣ","Ε"]
[17206,"M","ΑΛΕΞΟΠΟΥΛΟΣ ΓΕΩΡΓΙΟΣ",1988,"Α.Ε.Κ.ΤΡΙΠΟΛΗΣ","ΣΤ"]
[29414,"M","ΑΛΕΞΟΠΟΥΛΟΣ ΓΕΩΡΓΙΟΣ",1997,"Ο.Α.ΑΛΕΞΑΝΔΡΟΥΠΟΛΗΣ","Α"]
[8956,"M","ΑΛΕΞΟΠΟΥΛΟΣ ΓΡΗΓΟΡΙΟΣ",1980,"Ο.Α.ΚΑΛΑΜΑΤΑΣ","ΣΤ"]
[32370,"M","ΑΛΕΞΟΠΟΥΛΟΣ ΔΗΜΗΤΡΗΣ",1999,"Ο.Α.ΚΕΡΑΤΣΙΝΙΟΥ","Θ"]
[10762,"M","ΑΛΕΞΟΠΟΥΛΟΣ ΘΩΜΑΣ",1984,"Ο.Α.ΛΑΡΙΣΑΣ","Ε"]
[16117,"M","ΑΛΕΞΟΠΟΥΛΟΣ ΙΩΑΝΝΗΣ",1990,"Α.Ο.ΑΡΓΥΡΟΥΠΟΛΗΣ","ΙΑ"]
[4415,"M","ΑΛΕΞΟΠΟΥΛΟΣ ΚΩΝΣΤΑΝΤΙΝΟΣ",1976,"Α.Ο.ΑΡΓΥΡΟΥΠΟΛΗΣ","ΙΑ"]
[10763,"M","ΑΛΕΞΟΠΟΥΛΟΣ ΚΩΝΣΤΑΝΤΙΝΟΣ",1983,"Ο.Α.ΛΑΡΙΣΑΣ","Ε"]
[21865,"M","ΑΛΕΞΟΠΟΥΛΟΣ ΚΩΝΣΤΑΝΤΙΝΟΣ",1996,"Α.Γ.Ο.ΝΑΥΠΑΚΤΟΥ","Δ"]
[26217,"M","ΑΛΕΞΟΠΟΥΛΟΣ ΚΩΝΣΤΑΝΤΙΝΟΣ",1995,"Ο.Α.ΝΑΥΠΑΚΤΟΥ","ΣΤ"]
[16116,"M","ΑΛΕΞΟΠΟΥΛΟΣ ΝΙΚΟΛΑΟΣ",1988,"Α.Ο.ΑΡΓΥΡΟΥΠΟΛΗΣ","ΙΑ"]
[31265,"M","ΑΛΕΞΟΠΟΥΛΟΣ ΝΙΚΟΛΑΟΣ",1992,"Α.Σ.Ν.ΒΟΥΤΖΑ ΡΑΦΗΝΑΣ Η ΠΡΟΟΔΟΣ","Η"]
[10191,"M","ΑΛΕΞΟΠΟΥΛΟΣ ΝΙΚΟΣ",1987,"Ο.Α.ΑΡΓΟΥΣ","ΣΤ"]
[14203,"M","ΑΛΕΞΟΠΟΥΛΟΣ ΠΑΝΑΓΙΩΤΗΣ",1988,"Α.Ο.Α.ΑΙΓΑΛΕΩ 92","Θ"]
[23578,"M","ΑΛΕΞΟΠΟΥΛΟΣ ΣΠΥΡΙΔΩΝ",1990,"Ο.Α.ΠΕΤΡΟΥΠΟΛΗΣ","Θ"]
[21527,"M","ΑΛΕΞΟΠΟΥΛΟΣ ΣΤΑΘΗΣ",1990,"Α.Ο.ΚΗΦΙΣΙΑΣ","Η"]
[25577,"M","ΑΛΕΞΟΠΟΥΛΟΣ ΣΤΕΡΓΙΟΣ",1995,"ΡΟΔΙΑΚΟΣ Ο.Α.","Θ"]
[12673,"M","ΑΛΕΞΟΠΟΥΛΟΣ ΧΑΡΑΛΑΜΠΟΣ",1986,"Α.Ε.Κ.ΤΡΙΠΟΛΗΣ","ΣΤ"]
[693,"M","ΑΛΕΞΟΠΟΥΛΟΣ ΧΑΡΙΛΑΟΣ",1966,"Ο.Α.ΘΕΣΣΑΛΟΝΙΚΗΣ","Β"]
[11566,"M","ΑΛΕΞΟΠΟΥΛΟΣ ΧΡΗΣΤΟΣ",1986,"Α.Ο.Α.ΧΑΪΔΑΡΙΟΥ","Θ"]
[14119,"M","ΑΛΕΞΟΠΟΥΛΟΣ ΧΡΗΣΤΟΣ",1991,"Α.Κ.Α.ΜΑΡΑΘΩΝΑ","Η"]
[37379,"M","ΑΛΕΞΟΠΟΥΛΟΣ ΧΡΗΣΤΟΣ",2001,"Α.Ο.Α.ΦΙΛΟΘΕΗΣ","Η"]
[3988,"F","ΑΛΕΞΟΠΟΥΛΟΥ ΑΝΑΣΤΑΣΙΑ",1973,"Α.Ο.ΑΛΦΕΙΟΣ ΕΠΙΤΑΛΙΟΥ","ΣΤ"]
[14702,"F","ΑΛΕΞΟΠΟΥΛΟΥ ΑΝΝΑ",1988,"Α.Ο.ΑΡΓΥΡΟΥΠΟΛΗΣ","ΙΑ"]
[24188,"F","ΑΛΕΞΟΠΟΥΛΟΥ ΔΗΜΗΤΡΑ",1993,"Ο.Α.ΚΑΛΑΜΑΤΑΣ","ΣΤ"]
[10192,"F","ΑΛΕΞΟΠΟΥΛΟΥ ΕΙΡΗΝΗ-ΕΛΕΝΗ",1983,"Ο.Α.ΑΡΓΟΥΣ","ΣΤ"]
[29588,"F","ΑΛΕΞΟΠΟΥΛΟΥ ΙΩΑΝΝΑ",2001,"Ο.Α.ΒΕΡΟΙΑΣ","Γ"]
[13271,"F","ΑΛΕΞΟΠΟΥΛΟΥ ΜΑΡΙΑ",1988,"Ο.Α.ΜΑΓΝΗΣΙΑΣ","Ε"]
[33168,"F","ΑΛΕΞΟΠΟΥΛΟΥ ΜΑΡΙΑ",1997,"Α.Ο.ΘΕΡΜΗΣ Ο ΘΕΡΜΑΙΟΣ","Β"]
[33681,"F","ΑΛΕΞΟΠΟΥΛΟΥ ΜΑΡΙΑ",2002,"Ο.Α.ΙΩΑΝΝΙΝΩΝ","Δ"]
[36621,"F","ΑΛΕΞΟΠΟΥΛΟΥ ΜΑΡΙΑ",2000,"Ο.Α.ΠΕΙΡΑΙΑ","Θ"]
[27617,"F","ΑΛΕΞΟΠΟΥΛΟΥ ΤΕΡΕΖΑ",1984,"Α.Σ.Α.ΜΑΥΡΟΧΩΡΙΟΥ ΚΑΣΤΟΡΙΑΣ","Γ"]
[28097,"M","ΑΛΕΞΟΣ ΑΝΤΩΝΙΟΣ",1997,"Α.Σ.Α.ΛΑΡΙΣΑΣ","Ε"]
[28098,"M","ΑΛΕΞΟΣ ΛΑΜΠΡΟΣ",1998,"Α.Σ.Α.ΛΑΡΙΣΑΣ","Ε"]
[34213,"F","ΑΛΕΞΟΥΔΗ ΦΑΝΗ",2002,"Α.Σ.ΟΡΦΕΑΣ ΛΑΡΙΣΑΣ","Ε"]
[18168,"M","ΑΛΕΞΟΥΔΗΣ ΚΛΕΑΝΘΗΣ",1994,"Γ.Α.Σ.ΝΙΓΡΙΤΑΣ ΒΙΣΑΛΤΗΣ","Α"]
[19909,"F","ΑΛΕΠΟΥΣ ΑΛΕΞΑΝΔΡΑ",1990,"Γ.Α.Σ.ΝΙΓΡΙΤΑΣ ΒΙΣΑΛΤΗΣ","Α"]
[13841,"M","ΑΛΕΡΤΑΣ ΓΕΩΡΓΙΟΣ",1985,"Γ.Σ.ΑΠΟΛΛΩΝ ΠΥΡΓΟΥ","ΣΤ"]
[36036,"F","ΑΛΕΤΡΑ ΔΗΜΗΤΡΑ",2001,"ΡΟΔΙΑΚΟΣ Ο.Α.","Θ"]
[29659,"M","ΑΛΕΤΡΑΣ ΚΩΝΣΤΑΝΤΙΝΟΣ",2000,"Ο.Α.ΚΕΡΚΥΡΑΣ","Δ"]
[9182,"M","ΑΛΕΤΡΑΣ ΝΙΚΟΛΑΟΣ",1983,"Μ.Γ.Σ.ΑΠΟΛΛΩΝ ΚΑΛΑΜΑΡΙΑΣ","Β"]
[9641,"M","ΑΛΕΥΡΙΔΗΣ ΙΩΑΝΝΗΣ",1980,"Ο.Π.ΘΕΣΣΑΛΟΝΙΚΗΣ ΜΑΚΕΔΟΝΙΑ 92","Β"]
[33002,"M","ΑΛΕΦΑΝΤΟΣ ΣΠΥΡΙΔΩΝ",1999,"Σ.Α.ΡΑΦΗΝΑΣ","Η"]
[31012,"M","ΑΛΕΦΑΝΤΟΣ ΣΠΥΡΟΣ",1999,"Α.Σ.Ν.ΒΟΥΤΖΑ ΡΑΦΗΝΑΣ Η ΠΡΟΟΔΟΣ","Η"]
[19916,"M","ΑΛΗ ΟΜΑΡ-ΑΛΕΞΑΝΔΡΟΣ",1988,"Ο.Α.ΓΛΥΦΑΔΑΣ","ΙΑ"]
[31373,"M","ΑΛΗΓΕΩΡΓΙΟΥ ΝΙΚΟΛΑΟΣ",1995,"Ο.Α.ΚΕΡΑΤΣΙΝΙΟΥ","Θ"]
[12583,"M","ΑΛΗΓΙΑΝΝΗΣ ΑΝΤΩΝΗΣ",1976,"Α.Ο.ΜΥΤΙΛΗΝΗΣ","Θ"]
[20001,"M","ΑΛΗΓΙΑΝΝΗΣ ΣΑΒΒΑΣ",1988,"ΟΛΥΜΠΙΑΚΟΣ Σ.Φ.Π.","Θ"]
[4408,"F","ΑΛΗΖΙΩΤΗ ΑΘΑΝΑΣΙΑ",1974,"Α.Ο.ΑΡΓΥΡΟΥΠΟΛΗΣ","ΙΑ"]
[21689,"M","ΑΛΗΜΙΣΗΣ ΣΩΤΗΡΗΣ",1966,"Σ.Α.ΤΡΙΠΟΛΗΣ","ΣΤ"]
[24593,"F","ΑΛΗΣΙΑΝΗ ΖΑΦΕΙΡΩ",1999,"Α.Ο.Α.ΝΕΑΣ ΠΕΡΑΜΟΥ ΟΙ ΤΙΤΑΝΕΣ","Α"]
[29553,"F","ΑΛΙΒΕΡΤΗ ΧΡΥΣΑΝΘΗ",1998,"Ο.Φ.Α.Ο ΦΟΙΒΟΣ","Δ"]
[14240,"M","ΑΛΙΒΙΖΑΤΟΣ ΔΙΟΝΥΣΗΣ",1986,"Ο.Α.ΠΕΤΡΟΥΠΟΛΗΣ","Θ"]
[7259,"M","ΑΛΙΓΙΖΑΚΗΣ ΓΕΩΡΓΙΟΣ",1980,"Σ.Α.ΓΑΛΑΤΣΙΟΥ","Θ"]
[31030,"F","ΑΛΙΚΑΚΟΥ ΕΥΑΓΓΕΛΙΑ-ΜΑΡΙΑ",1999,"Α.Σ.Ν.ΒΟΥΤΖΑ ΡΑΦΗΝΑΣ Η ΠΡΟΟΔΟΣ","Η"]
[28370,"F","ΑΛΙΠΡΑΝΤΗ ΡΑΦΑΕΛΑ-ΑΡΣΕΝΙΑ",1995,"Ο.Α.ΠΑΡΟΥ","Η"]
[24573,"F","ΑΛΙΦΕΡΗ ΑΝΑΣΤΑΣΙΑ",1991,"Α.Κ.Α.Α.ΠΑΝΤΑΛΚΗΣ","Θ"]
[19186,"M","ΑΛΙΦΕΡΗΣ ΑΝΔΡΕΑΣ",1994,"Ο.Α.ΓΟΥΔΙΟΥ","ΙΑ"]
[15530,"M","ΑΛΙΦΕΡΗΣ ΠΑΝΑΓΙΩΤΗΣ",1992,"Ο.Α.ΓΛΥΦΑΔΑΣ","ΙΑ"]
[24572,"M","ΑΛΙΦΕΡΗΣ ΧΡΗΣΤΟΣ",1995,"Α.Ο.Α.ΦΙΛΟΘΕΗΣ","Η"]
[18263,"M","ΑΛΙΦΙΕΡΑΚΗΣ ΑΛΕΞΑΝΔΡΟΣ",1991,"Ο.Α.ΧΑΝΙΩΝ","Ζ"]
[19223,"F","ΑΛΙΦΙΕΡΗ ΠΟΛΥΞΕΝΗ",1994,"Ο.Α.ΧΙΟΥ","Θ"]
[25545,"M","ΑΛΙΦΙΕΡΗΣ ΚΩΝΣΤΑΝΤΙΝΟΣ",1999,"Ο.Α.ΧΙΟΥ","Θ"]
[33308,"M","ΑΛΙΦΡΑΓΚΗΣ ΜΗΝΑΣ",1996,"Ο.Α.ΠΕΙΡΑΙΑ","Θ"]
[25043,"M","ΑΛΙΦΡΑΓΚΗΣ ΣΩΖΩΝ",1969,"Ο.Α.ΠΕΙΡΑΙΑ","Θ"]
[7890,"M","ΑΛΛΙΣΟΝ ΒΑΣΙΛΗΣ-ΚΡΙΣΤΟΦΕΡ",1981,"Α.Ο.ΔΑΣΟΣ ΧΑΪΔΑΡΙΟΥ","Θ"]
[28564,"F","ΑΛΜΑΖΙΔΟΥ ΧΡΙΣΤΙΝΑ",1993,"Α.Ο.Α.ΣΤΑΥΡΟΥΠΟΛΗΣ ΙΦΙΤΟΣ","Β"]
[16245,"M","ΑΛΜΑΝΙΔΗΣ ΔΗΜΗΤΡΗΣ",1989,"ΠΑΝΘΡΑΚΙΚΟΣ Ο.Α.ΚΟΜΟΤΗΝΗΣ","Α"]
[27265,"M","ΑΛΜΠΑΝΑΚΗΣ ΚΩΝΣΤΑΝΤΙΝΟΣ",1998,"Ο.Α.ΒΕΡΟΙΑΣ","Γ"]
[35775,"F","ΑΛΜΠΑΝΗ ΜΑΓΔΑΛΗΝΗ",2002,"Α.Π.Μ.Σ.ΑΣΚΗΣΗ ΗΡΑΚΛΕΙΟΥ","Ζ"]
[24342,"F","ΑΛΜΠΑΝΗ ΜΑΡΙΑ",1993,"Ο.Α.ΚΕΡΑΤΣΙΝΙΟΥ","Θ"]
[27873,"F","ΑΛΜΠΑΝΗ ΦΩΤΕΙΝΗ",1998,"Ο.Α.ΚΑΒΑΛΑΣ ΑΛΕΞΑΝΔΡΟΣ","Α"]
[6259,"M","ΑΛΜΠΑΝΗΣ ΓΕΩΡΓΙΟΣ",1979,"Α.Ο.ΠΟΣΕΙΔΩΝ ΛΟΥΤΡΑΚΙΟΥ","ΣΤ"]
[8062,"M","ΑΛΜΠΑΝΗΣ ΠΑΝΑΓΙΩΤΗΣ",1979,"Ο.Α.ΧΟΛΑΡΓΟΥ","ΙΑ"]
[24448,"F","ΑΛΜΠΑΝΙΔΟΥ ΒΑΣΙΛΙΚΗ",1997,"Ο.Α.ΑΛΕΞΑΝΔΡΟΣ ΒΕΡΟΙΑΣ","Γ"]
[24447,"F","ΑΛΜΠΑΝΙΔΟΥ ΕΛΕΝΗ",1998,"Ο.Α.ΑΛΕΞΑΝΔΡΟΣ ΒΕΡΟΙΑΣ","Γ"]
[29015,"F","ΑΛΜΠΑΝΙΔΟΥ ΚΑΛΛΙΟΠΗ",1997,"Ο.Α.ΑΛΕΞΑΝΔΡΟΣ ΒΕΡΟΙΑΣ","Γ"]
[24449,"F","ΑΛΜΠΑΝΙΔΟΥ ΚΩΝΣΤΑΝΤΙΝΑ",2000,"Α.Σ.ΒΕΡΟΙΑΣ Ο ΗΜΑΘΙΩΝ","Γ"]
[29699,"F","ΑΛΜΠΑΝΙΔΟΥ ΚΩΝΣΤΑΝΤΙΝΑ",2000,"Ο.Α.ΑΛΕΞΑΝΔΡΟΣ ΒΕΡΟΙΑΣ","Γ"]
[15961,"F","ΑΛΜΠΑΝΟΠΟΥΛΟΥ ΑΡΓΥΡΩ",1988,"Ο.Α.ΧΡΥΣΟΥΠΟΛΗΣ","Α"]
[15962,"F","ΑΛΜΠΑΝΟΠΟΥΛΟΥ ΕΛΕΝΗ",1989,"Ο.Α.ΧΡΥΣΟΥΠΟΛΗΣ","Α"]
[28393,"M","ΑΛΜΠΑΝΤΗΣ ΓΕΩΡΓΙΟΣ",2000,"Ο.Α.ΩΡΑΙΟΚΑΣΤΡΟΥ Ο ΑΝΤΑΙΟΣ","Β"]
[5900,"M","ΑΛΜΠΕΡΤΗΣ ΛΑΖΑΡΟΣ-ΑΛΕΞΑΝΔΡΟΣ",1979,"Α.Ο.Α.ΦΙΛΟΘΕΗΣ","Η"]
[5901,"M","ΑΛΜΠΕΡΤΗΣ ΜΑΡΙΟΣ",1975,"Α.Ο.Α.ΦΙΛΟΘΕΗΣ","Η"]
[28752,"F","ΑΛΜΥΡΑΝΤΗ ΕΙΡΗΝΗ",1999,"Ο.Α.ΣΑΛΑΜΙΝΑΣ","Θ"]
[13792,"F","ΑΛΜΥΡΙΩΤΗ ΓΕΝΟΒΕΦΑ",1984,"Α.Ο.ΤΕΡΨΙΘΕΑΣ ΓΛΥΦΑΔΑΣ","ΙΑ"]
[8423,"M","ΑΛ-ΝΟΜΑΝΙ ΖΕΙΝΤ",1974,"Α.Ν.Ο.ΓΛΥΦΑΔΑΣ","ΙΑ"]
[32718,"F","ΑΛΞΟΠΟΥΛΟΥ ΕΥΑΓΓΕΛΙΑ",2000,"Σ.Α.ΜΕΣΣΗΝΗΣ","ΣΤ"]
[15565,"F","ΑΛΟΓΟΣΚΟΥΦΗ ΑΘΗΝΑΪΣ-ΕΙΡΗΝΗ",1988,"Α.Ο.ΚΗΦΙΣΙΑΣ","Η"]
[15564,"M","ΑΛΟΓΟΣΚΟΥΦΗΣ ΣΠΥΡΟΣ",1986,"Α.Ο.ΚΗΦΙΣΙΑΣ","Η"]
[14620,"F","ΑΛΟΥΜΠΗ ΜΥΡΤΩ",1988,"Ο.Α.ΣΗΤΕΙΑΣ","Ζ"]
[7132,"M","ΑΛΟΥΠΗΣ ΚΩΝΣΤΑΝΤΙΝΟΣ",1982,"Α.Ο.ΝΕΟΥ ΦΑΛΗΡΟΥ","Θ"]
[10437,"F","ΑΛΟΥΠΟΓΙΑΝΝΗ ΓΕΩΡΓΙΑ",1970,"Ν.Ο.ΚΑΛΑΜΑΚΙΟΥ","ΙΑ"]
[29549,"F","ΑΛΠΑ ΕΥΑΓΓΕΛΙΑ",1998,"Ο.Φ.Α.Ο ΦΟΙΒΟΣ","Δ"]
[29348,"F","ΑΛΠΑΚΗ ΤΑΤΙΑΝΑ-ΕΙΡΗΝΗ",2000,"Ο.Α.ΒΟΛΟΥ","Ε"]
[29560,"M","ΑΛΠΑΣ ΒΑΣΙΛΕΙΟΣ",1996,"Ο.Φ.Α.Ο ΦΟΙΒΟΣ","Δ"]
[20035,"F","ΑΛ-ΣΑΜΙΣΤΙ ΛΙΝΑ",1995,"Γ.Σ.ΗΛΙΟΥΠΟΛΗΣ","ΙΑ"]
[20032,"F","ΑΛ-ΣΑΜΙΣΤΙ ΡΑΝΙΑ",1991,"Γ.Σ.ΗΛΙΟΥΠΟΛΗΣ","ΙΑ"]
[19944,"M","ΑΛ-ΣΑΜΙΣΤΙ ΦΑΝΤΙ-ΜΑΧΜΟΥΝΤ",1989,"Γ.Σ.ΗΛΙΟΥΠΟΛΗΣ","ΙΑ"]
[10486,"F","ΑΛΤΑΚΑ ΕΡΑΤΩ",1984,"Α.Α.ΑΙΓΑΛΕΩ","Θ"]
[9943,"F","ΑΛΤΑΝΗ ΕΥΑΣΤΑΘΙΑ",1978,"Γ.Ε.ΑΤΑΛΑΝΤΗΣ","Ε"]
[4268,"M","ΑΛΤΑΝΗΣ ΘΕΟΔΩΡΟΣ",1977,"Α.Ο.ΑΛΦΕΙΟΣ ΕΠΙΤΑΛΙΟΥ","ΣΤ"]
[33805,"F","ΑΛΤΑΝΤΖΗ ΝΕΦΕΛΗ",2000,"Α.Σ.Α.ΠΑΝΟΡΑΜΑΤΟΣ","Β"]
[33804,"M","ΑΛΤΑΝΤΖΗΣ ΑΓΓΕΛΟΣ-ΙΚΑΡΟΣ",1997,"Α.Σ.Α.ΠΑΝΟΡΑΜΑΤΟΣ","Β"]
[22877,"F","ΑΛΤΙΜΠΑΣΗ ΒΑΣΙΛΙΚΗ",1995,"Ο.Α.ΝΙΚΑΙΑ ΛΑΡΙΣΑΣ","Ε"]
[26601,"F","ΑΛΤΙΜΠΑΣΗ ΠΑΡΑΣΚΕΥΗ",1999,"Ο.Α.ΝΙΚΑΙΑ ΛΑΡΙΣΑΣ","Ε"]
[19586,"F","ΑΛΤΙΝΗ ΒΑΣΙΛΙΚΗ-ΝΙΚΟΛΙΝΑ",1994,"Σ.Α.ΚΑΣΤΟΡΙΑΣ ΠΡΩΤΕΑΣ","Γ"]
[30182,"M","ΑΛΤΙΠΑΡΜΑΚΗΣ ΚΩΝΣΤΑΝΤΙΝΟΣ",1999,"Ο.Α.ΧΑΛΚΙΔΑΣ","Θ"]
[4570,"F","ΑΛΤΟΚΑ ΜΑΡΙΑΝΝΑ",1978,"Α.Α.ΑΙΓΑΛΕΩ","Θ"]
[13833,"F","ΑΛΥΓΙΖΑΚΗ ΧΡΙΣΤΙΝΑ",1985,"Γ.Σ.ΗΛΙΟΥΠΟΛΗΣ","ΙΑ"]
[13238,"M","ΑΛΥΓΙΖΑΚΗΣ ΔΗΜΟΣΘΕΝΗΣ",1983,"Γ.Σ.ΗΛΙΟΥΠΟΛΗΣ","ΙΑ"]
[20244,"M","ΑΛΥΓΙΖΑΚΗΣ ΠΕΡΙΚΛΗΣ",1993,"Ο.Α.ΧΑΝΙΩΝ","Ζ"]
[30573,"M","ΑΛΥΜΠΑΚΗΣ ΑΘΑΝΑΣΙΟΣ",2000,"Ο.Α.ΣΟΥΡΩΤΗΣ ΑΛΕΞΑΝΔΡΟΣ","Β"]
[29974,"M","ΑΛΥΣΑΝΔΡΑΤΟΣ ΕΥΑΓΓΕΛΟΣ",2000,"Α.Ο.ΑΡΓΥΡΟΥΠΟΛΗΣ","ΙΑ"]
[3694,"M","ΑΛΥΣΑΝΔΡΑΤΟΣ ΣΠΥΡΟΣ",1978,"Ο.Α.ΖΩΓΡΑΦΟΥ","Η"]
[33626,"F","ΑΛΥΣΑΝΔΡΑΤΟΥ ΜΥΡΤΩ",1998,"Ο.Α.ΚΕΡΑΤΣΙΝΙΟΥ","Θ"]
[25352,"F","ΑΛΥΣΑΝΔΡΑΤΟΥ ΠΑΟΛΑ",1997,"ΚΕΦΑΛΛΗΝΙΑΚΟΣ Ο.Α.","ΣΤ"]
[33139,"M","ΑΛΦΑΝΤΑΚΗΣ ΑΠΟΣΤΟΛΟΣ",2001,"Ο.Α.ΙΩΑΝΝΙΝΩΝ","Δ"]
[29942,"F","ΑΛΦΑΝΤΗ ΑΝΑΣΤΑΣΙΑ",2000,"Ο.Α.ΠΕΤΡΟΥΠΟΛΗΣ","Θ"]
[24069,"M","ΑΛΧΑΖΙΔΗΣ ΜΙΧΑΛΗΣ",1993,"Ο.Α.ΑΛΕΞΑΝΔΡΟΥΠΟΛΗΣ","Α"]
[30450,"F","ΑΛΩΝΙΣΤΙΩΤΗ ΚΩΝΣΤΑΝΤΙΝΑ",1998,"Α.Ν.Σ.ΕΛΛΗΝΙΚΙΩΤΩΝ","ΙΑ"]
[30451,"M","ΑΛΩΝΙΣΤΙΩΤΗΣ ΙΩΑΝΝΗΣ",1998,"Α.Ν.Σ.ΕΛΛΗΝΙΚΙΩΤΩΝ","ΙΑ"]
[1858,"M","ΑΛΩΝΙΣΤΙΩΤΗΣ ΝΙΚΟΣ",1969,"Ν.Ο.ΚΑΛΑΜΑΚΙΟΥ","ΙΑ"]
[8923,"F","ΑΜΑΛΛΟΥ ΠΑΡΑΣΚΕΥΗ",1983,"ΡΟΔΙΑΚΟΣ Ο.Α.","Θ"]
[16775,"M","ΑΜΑΝΑΤΙΑΔΗΣ ΧΡΙΣΤΟΔΟΥΛΟΣ",1989,"Ο.Α.ΠΕΤΡΟΥΠΟΛΗΣ","Θ"]
[9921,"F","ΑΜΑΝΑΤΙΑΔΟΥ ΑΡΧΟΝΤΟΥΛΑ",1981,"Ο.Α.ΠΕΤΡΟΥΠΟΛΗΣ","Θ"]
[9920,"F","ΑΜΑΝΑΤΙΑΔΟΥ ΕΛΕΝΗ",1984,"Ο.Α.ΠΕΤΡΟΥΠΟΛΗΣ","Θ"]
[26346,"F","ΑΜΑΝΑΤΙΑΔΟΥ ΙΦΙΓΕΝΕΙΑ",1996,"Ο.Α.ΝΕΣΤΩΡΑΣ ΓΙΑΝΝΙΤΣΩΝ","Γ"]
[32806,"F","ΑΜΑΝΑΤΙΔΗ ΕΛΙΣΑΒΕΤ",2002,"Α.Ο.Α.ΑΤΤΙΚΟΣ ΗΛΙΟΣ","Η"]
[12413,"M","ΑΜΑΝΑΤΙΔΗΣ ΓΕΩΡΓΙΟΣ",1989,"Ο.Π.ΘΕΣΣΑΛΟΝΙΚΗΣ ΜΑΚΕΔΟΝΙΑ 92","Β"]
[12414,"M","ΑΜΑΝΑΤΙΔΗΣ ΔΗΜΗΤΡΗΣ",1988,"Ο.Π.ΘΕΣΣΑΛΟΝΙΚΗΣ ΜΑΚΕΔΟΝΙΑ 92","Β"]
[4913,"M","ΑΜΑΝΑΤΙΔΗΣ ΗΛΙΑΣ",1980,"Σ.Α.ΣΕΡΡΩΝ","Α"]
[27557,"M","ΑΜΑΝΑΤΙΔΗΣ ΧΡΗΣΤΟΣ",2002,"Α.Α.ΑΙΓΑΛΕΩ","Θ"]
[27868,"F","ΑΜΑΝΑΤΙΔΟΥ ΔΑΝΑΗ",1998,"Ο.Α.ΚΙΛΚΙΣ","Β"]
[8632,"F","ΑΜΑΝΑΤΙΔΟΥ ΔΕΣΠΟΙΝΑ",1978,"Α.Ο.Α.ΚΑΣΤΟΡΙΑΣ","Γ"]
[30007,"F","ΑΜΑΝΑΤΙΔΟΥ ΜΑΡΙΑ",1999,"Ο.Α.ΚΑΤΕΡΙΝΗΣ","Γ"]
[8638,"F","ΑΜΑΝΑΤΙΔΟΥ ΣΤΑΥΡΟΥΛΑ",1980,"Σ.Α.ΚΑΣΤΟΡΙΑΣ ΠΡΩΤΕΑΣ","Γ"]
[9189,"F","ΑΜΑΝΙΟΝ ΑΡΕΤΗ",1972,"Ο.Α.ΠΑΝΟΡΑΜΑΤΟΣ","Β"]
[21790,"F","ΑΜΑΝΤΑΝΙΑΝ ΛΙΛΗ",1994,"Σ.Α.ΣΕΡΡΩΝ","Α"]
[21791,"F","ΑΜΑΝΤΑΝΙΑΝ ΧΡΙΣΤΙΝΑ-ΕΛΕΟΝΩΡΑ",1995,"Σ.Α.ΣΕΡΡΩΝ","Α"]
[8016,"M","ΑΜΑΞΟΠΟΥΛΟΣ ΚΩΝΣΤΑΝΤΙΝΟΣ",1984,"Λ.Α.ΚΟΜΟΤΗΝΗΣ","Α"]
[26094,"M","ΑΜΑΞΟΠΟΥΛΟΣ ΣΤΕΦΑΝΟΣ",1998,"Σ.Α.ΣΕΡΡΩΝ","Α"]
[19024,"F","ΑΜΑΞΟΠΟΥΛΟΥ ΠΑΝΑΓΙΩΤΑ",1991,"Ο.Α.ΣΟΥΔΑΣ","Ζ"]
[20976,"F","ΑΜΑΡΑΝΤΙΔΗ ΔΗΜΗΤΡΑ",1995,"Σ.Α.ΔΡΑΜΑΣ","Α"]
[22188,"M","ΑΜΑΡΑΝΤΙΔΗΣ ΧΑΡΑΛΑΜΠΟΣ",1998,"Σ.Α.ΔΡΑΜΑΣ","Α"]
[23226,"F","ΑΜΑΡΑΝΤΟΥ ΑΝΝΑ",1993,"Α.Ο.ΜΟΡΤΕΡΟΥ","Η"]
[27765,"M","ΑΜΑΣΛΙΔΗΣ ΓΙΩΡΓΟΣ",2000,"Ο.Α.ΤΟΥΜΠΑΣ","Β"]
[27766,"F","ΑΜΑΣΛΙΔΟΥ ΕΥΑΓΓΕΛΙΑ",2000,"Ο.Α.ΤΟΥΜΠΑΣ","Β"]
[919,"M","ΑΜΑΤΟ ΝΤΕΝΙΣ",1970,"ΠΑΝΕΛΛΗΝΙΟΣ Γ.Σ.","Θ"]
[24705,"F","ΑΜΑΦΗ ΜΑΡΘΑ-ΜΑΡΙΑ",1998,"Ο.Α.ΠΕΙΡΑΙΑ","Θ"]
[31222,"F","ΑΜΒΡΑΖΗ ΑΛΕΞΙΑ-ΒΑΣΙΛΙΚΗ",1999,"Α.Σ.Α.ΑΓΡΙΝΙΟΥ","Δ"]
[3745,"F","ΑΜΒΡΑΣΗ ΜΑΡΙΑ",1978,"Σ.Α.ΣΕΡΡΩΝ","Α"]
[4797,"M","ΑΜΒΡΑΣΗΣ ΓΕΩΡΓΙΟΣ",1982,"Σ.Α.ΣΕΡΡΩΝ","Α"]
[7002,"F","ΑΜΒΡΟΣΙΑΔΟΥ ΑΝΤΙΓΟΝΗ",1980,"Σ.Α.ΔΡΑΜΑΣ","Α"]
[15095,"F","ΑΜΒΡΟΣΙΑΔΟΥ ΓΕΩΡΓΙΑ",1986,"Α.Σ.ΠΙΕΡΙΑ ΤΕΝΙΣ","Γ"]
[12236,"F","ΑΜΒΡΟΣΙΑΔΟΥ ΕΛΕΝΗ",1984,"Α.Σ.ΠΙΕΡΙΑ ΤΕΝΙΣ","Γ"]
[13777,"F","ΑΜΒΡΟΣΙΑΔΟΥ ΕΛΕΝΗ",1985,"Γ.Α.Σ.ΝΙΓΡΙΤΑΣ ΒΙΣΑΛΤΗΣ","Α"]
[35843,"F","ΑΜΒΡΟΣΙΟΥ ΜΑΡΙΑ",1988,"Ο.Α.ΠΕΤΡΟΥΠΟΛΗΣ","Θ"]
[29739,"M","ΑΜΕΝΤΑΣ ΑΝΑΣΤΑΣΙΟΣ",2000,"Ο.Α.ΓΟΥΔΙΟΥ","ΙΑ"]
[17680,"M","ΑΜΕΤ ΚΩΝΣΤΑΝΤΙΝΟΣ",1993,"ΝΑΥΠΛΙΑΚΟΣ Ο.Α.","ΣΤ"]
[10429,"M","ΑΜΙΑΔΗΣ ΝΙΚΟΛΑΟΣ",1987,"Ο.Α.ΕΛΕΥΘΕΡΟΥΠΟΛΗΣ","Α"]
[1881,"M","ΑΜΙΝΤΑΣ-ΣΠΑΝΟΣ ΑΡΙΣΤΕΙΔΗΣ-ΚΟΣΜΑΣ",1968,"Ο.Α.ΒΙΚΕΛΑΣ ΒΕΡΟΙΑΣ","Γ"]
[90116,"M","ΑΜΜΕΡΜΑΝ ΣΤΕΦΑΝΟΣ",1998,"Ο.Α.ΑΘΛΗΤ.ΠΑΙΔΕΙΑ","Η"]
[18715,"M","ΑΜΟΙΡΙΔΗΣ ΔΗΜΗΤΡΙΟΣ",1992,"Ο.Α.ΒΟΥΛΙΑΓΜΕΝΗΣ ΜΙΚΡΟΙ ΑΣΣΟΙ","ΙΑ"]
[13837,"M","ΑΜΟΙΡΙΔΗΣ ΘΕΟΔΩΡΟΣ",1988,"Α.Ο.Α.ΧΑΪΔΑΡΙΟΥ","Θ"]
[12624,"M","ΑΜΟΙΡΙΔΗΣ ΚΥΡΙΑΚΟΣ",1986,"Α.Ο.ΤΑΤΑΥΛΑ ΚΩΝΣΤΑΝΤΙΝΟΥΠΟΛΕΩΣ","ΙΑ"]
[16190,"M","ΑΜΟΙΡΙΔΗΣ ΧΑΡΑΛΑΜΠΟΣ",1991,"Ο.Α.ΧΡΥΣΟΥΠΟΛΗΣ","Α"]
[28238,"F","ΑΜΟΙΡΙΔΟΥ ΑΣΠΑΣΙΑ",1997,"Α.Ο.Α.ΚΑΒΑΛΑΣ","Α"]
[24013,"F","ΑΜΟΙΡΙΔΟΥ ΕΛΕΝΗ",1990,"Φ.Ο.Α.ΝΕΑΠΟΛΗΣ","Β"]
[18461,"F","ΑΜΟΙΡΙΔΟΥ ΜΑΡΙΑ-ΑΝΝΑ",1991,"Μ.Γ.Σ.ΑΠΟΛΛΩΝ ΚΑΛΑΜΑΡΙΑΣ","Β"]
[3450,"M","ΑΜΟΡΓΙΑΝΟΣ ΒΑΣΙΛΕΙΟΣ",1976,"Α.Ο.Π.ΦΑΛΗΡΟΥ","ΙΑ"]
[3438,"F","ΑΜΟΡΓΙΑΝΟΥ ΣΩΤΗΡΙΑ",1973,"Α.Ο.ΑΡΓΥΡΟΥΠΟΛΗΣ","ΙΑ"]
[25735,"M","ΑΜΟΡΓΙΝΟΣ ΑΛΕΞΑΝΔΡΟΣ",1998,"Α.Ε.ΠΟΡΤΟ ΡΑΦΤΗ","Η"]
[10243,"M","ΑΜΟΥΤΖΑΣ ΤΑΞΙΑΡΧΗΣ",1982,"Ο.Α.ΜΑΓΝΗΣΙΑΣ","Ε"]
[2869,"M","ΑΜΟΥΤΖΟΓΛΟΥ ΒΑΣΙΛΗΣ",1975,"Ο.Α.ΤΟΥΜΠΑΣ","Β"]
[3322,"F","ΑΜΟΥΤΖΟΓΛΟΥ ΚΥΡΙΑΚΗ",1977,"Ο.Α.ΤΟΥΜΠΑΣ","Β"]
[3361,"M","ΑΜΠΑΔΙΑΝΑΚΗΣ ΤΙΜΟΣ",1977,"Α.Σ.ΣΠΑΡΤΑΚΟΣ ΓΛΥΦΑΔΑΣ","ΙΑ"]
[8746,"F","ΑΜΠΑΖΗ ΕΥΑΓΓΕΛΙΑ",1984,"Ο.Α.ΕΔΕΣΣΑΣ","Γ"]
[8622,"F","ΑΜΠΑΖΟΠΟΥΛΟΥ ΒΑΡΒΑΡΑ",1983,"Φ.Σ.ΚΑΛΛΙΘΕΑΣ","Θ"]
[23428,"F","ΑΜΠΑΡΙΩΤΗ ΦΟΙΒΗ",1997,"Α.Ο.Α.ΦΙΛΟΘΕΗΣ","Η"]
[33715,"M","ΑΜΠΑΡΤΖΙΔΗΣ ΙΩΑΚΕΙΜ",1997,"ΑΙΟΛΟΣ Α.Λ.ΙΛΙΟΥ","Θ"]
[12404,"F","ΑΜΠΑΣΙΤΖΕ ΜΑΓΙΑ",1975,"Ο.Α.ΘΕΣΣΑΛΟΝΙΚΗΣ","Β"]
[19284,"F","ΑΜΠΑΤΖΗ ΔΗΜΗΤΡΑ-ΕΛΕΝΑ",1992,"Ο.Α.ΛΕΣΒΟΥ","Θ"]
[12337,"F","ΑΜΠΑΤΖΗ ΜΥΡΣΙΝΗ",1975,"Α.Ο.ΜΥΤΙΛΗΝΗΣ","Θ"]
[25183,"F","ΑΜΠΑΤΖΗ ΦΩΤΕΙΝΗ",1993,"Ο.Α.ΑΛΕΞΑΝΔΡΟΥΠΟΛΗΣ","Α"]
[10153,"M","ΑΜΠΑΤΖΗΣ ΑΘΗΝΟΔΩΡΟΣ",1986,"Σ.Α.ΚΑΣΤΟΡΙΑΣ ΠΡΩΤΕΑΣ","Γ"]
[25182,"M","ΑΜΠΑΤΖΗΣ ΒΑΣΙΛΕΙΟΣ-ΚΩΝΣΤΑΝΤΙΝΟΣ",1996,"Ο.Α.ΑΛΕΞΑΝΔΡΟΥΠΟΛΗΣ","Α"]
[23889,"M","ΑΜΠΑΤΖΗΣ ΙΩΑΝΝΗΣ",1999,"ΠΕΥΚΗ Γ.ΚΑΛΟΒΕΛΩΝΗΣ","Η"]
[17186,"M","ΑΜΠΑΤΖΗΣ ΠΑΥΛΟΣ",1989,"Ο.Α.ΛΕΣΒΟΥ","Θ"]
[30932,"F","ΑΜΠΑΤΖΙΔΗ ΝΑΤΑΛΙΑ",1998,"Α.Ο.ΛΑΤΩ ΑΓ.ΝΙΚΟΛΑΟΥ","Ζ"]
[7360,"M","ΑΜΠΑΤΖΙΔΗΣ ΚΥΡΙΑΚΟΣ",1970,"Σ.Α.ΚΑΤΕΡΙΝΗΣ","Γ"]
[28380,"M","ΑΜΠΑΤΖΙΔΗΣ ΝΙΚΟΛΑΟΣ",1995,"Π.Σ.ΑΜΠΕΛΩΝΟΣ Ο ΦΙΛΙΠΠΙΔΗΣ","Ε"]
[35599,"F","ΑΜΠΑΤΖΙΟΓΛΟΥ ΜΙΧΑΕΛΑ",2001,"Α.Σ.ΚΟΛΛΕΓΙΟΥ ΝΤΕΡΗ","Η"]
[12456,"M","ΑΜΠΑΤΖΙΟΓΛΟΥ ΣΕΡΑΦΕΙΜ",1968,"Α.Κ.Α.ΜΑΡΑΘΩΝΑ","Η"]
[12224,"F","ΑΜΠΑΤΖΟΓΛΟΥ ΔΗΜΗΤΡΑ",1987,"Ο.Α.ΕΛΕΥΣΙΝΑΣ ΑΙΣΧΥΛΟΣ","Θ"]
[9889,"M","ΑΜΠΑΤΖΟΓΛΟΥ ΙΩΑΝΝΗΣ",1983,"Ο.Α.ΑΛΕΞΑΝΔΡΟΥΠΟΛΗΣ","Α"]
[9162,"M","ΑΜΠΑΤΖΟΓΛΟΥ ΧΑΡΑΛΑΜΠΟΣ",1981,"Ο.Α.ΑΛΕΞΑΝΔΡΟΥΠΟΛΗΣ","Α"]
[36679,"M","ΑΜΠΕΛΑΣ ΑΛΕΞΙΟΣ",1999,"Ο.Α.ΤΟΥΜΠΑΣ","Β"]
[17992,"M","ΑΜΠΕΛΑΣ ΔΗΜΗΤΡΙΟΣ",1988,"ΖΑΚΥΝΘΙΝΟΣ Α.Ο.","ΣΤ"]
[34861,"M","ΑΜΠΕΛΑΣ ΠΑΝΑΓΙΩΤΗΣ",1998,"ΖΑΚΥΝΘΙΝΟΣ Α.Ο.Α","ΣΤ"]
[14679,"M","ΑΜΠΕΛΟΥΡΓΟΣ ΗΛΙΑΣ",1986,"Χ.Α.Ν.ΘΕΣΣΑΛΟΝΙΚΗΣ","Β"]
[11304,"M","ΑΜΠΕΛΟΥΡΓΟΣ ΧΑΡΑΛΑΜΠΟΣ",1985,"Α.Ο.ΑΡΓΥΡΟΥΠΟΛΗΣ","ΙΑ"]
[14677,"F","ΑΜΠΕΛΟΥΡΓΟΥ ΜΑΡΙΑ",1988,"Χ.Α.Ν.ΘΕΣΣΑΛΟΝΙΚΗΣ","Β"]
[22130,"M","ΑΜΠΕΡΙΑΔΗΣ ΕΥΣΤΑΘΙΟΣ",1993,"Ο.Π.ΘΕΣΣΑΛΟΝΙΚΗΣ ΜΑΚΕΔΟΝΙΑ 92","Β"]
[5444,"M","ΑΜΠΕΡΙΑΔΗΣ ΧΡΗΣΤΟΣ",1967,"Ο.Α.ΚΙΛΚΙΣ","Β"]
[22129,"F","ΑΜΠΕΡΙΑΔΟΥ ΔΕΣΠΟΙΝΑ",1996,"Ο.Π.ΘΕΣΣΑΛΟΝΙΚΗΣ ΜΑΚΕΔΟΝΙΑ 92","Β"]
[1709,"M","ΑΜΠΕΡΤΟΣ ΝΙΚΟΛΑΟΣ",1976,"Α.Κ.ΖΩΓΡΑΦΟΥ","ΙΑ"]
[1707,"F","ΑΜΠΕΡΤΟΥ ΦΩΤΕΙΝΗ",1975,"Α.Κ.ΖΩΓΡΑΦΟΥ","ΙΑ"]
[29923,"M","ΑΜΠΛΙΑΝΙΤΗΣ ΔΗΜΗΤΡΙΟΣ",1995,"Γ.Σ.ΙΤΕΑΣ","Ε"]
[27912,"F","ΑΜΠΝΙΚΙ-ΣΤΡΟΓΓΥΛΛΟΥ ΜΑΡΚΕΛΑ-ΚΥΡΙΑΚΗ",1996,"Ο.Α.ΛΑΡΙΣΑΣ","Ε"]
[14650,"M","ΑΜΠΟΥΣΕΛΑΜ ΑΛΕΞΙΟΣ",1988,"Ο.Α.ΑΘΗΝΩΝ","Η"]
[14651,"M","ΑΜΠΟΥΣΕΛΑΜ ΓΕΩΡΓΙΟΣ",1986,"Ν.Ο.ΚΑΛΑΜΑΚΙΟΥ","ΙΑ"]
[29047,"M","ΑΜΠΡΑΒΑΝΕΛ ΑΛΦΡΕΝΤΟ",1994,"Α.Κ.Α.ΜΑΡΑΘΩΝΑ","Η"]
[9772,"M","ΑΜΠΡΑΣ ΠΑΝΑΓΙΩΤΗΣ",1977,"Α.Ο.ΝΕΟΥ ΦΑΛΗΡΟΥ","Θ"]
[20103,"F","ΑΜΥΓΔΑΛΑ ΚΩΝΣΤΑΝΤΙΝΑ",1992,"Γ.Σ.ΗΛΙΟΥΠΟΛΗΣ","ΙΑ"]
[20104,"M","ΑΜΥΓΔΑΛΑΣ ΔΗΜΗΤΡΙΟΣ",1994,"Γ.Σ.ΗΛΙΟΥΠΟΛΗΣ","ΙΑ"]
[11442,"M","ΑΜΥΡΣΑΚΗΣ ΜΑΝΟΣ",1983,"Α.Σ.ΣΠΑΡΤΑΚΟΣ ΓΛΥΦΑΔΑΣ","ΙΑ"]
[27687,"F","ΑΜΥΡΩΤΟΥ ΘΕΟΔΟΣΙΑ",1987,"Ο.Α.ΓΟΥΔΙΟΥ","ΙΑ"]
[5619,"F","ΑΜΩΡΑΤΗ ΚΑΛΛΙΟΠΗ",1979,"Α.Ο.Π.ΦΑΛΗΡΟΥ","ΙΑ"]
[5618,"M","ΑΜΩΡΑΤΗΣ ΝΙΚΟΛΑΟΣ",1982,"Α.Ο.Π.ΦΑΛΗΡΟΥ","ΙΑ"]
[9386,"F","ΑΝΑΓΝΟΥ ΚΩΝΣΤΑΝΤΙΝΑ",1983,"Ο.Α.ΑΓΙΑΣ ΠΑΡΑΣΚΕΥΗΣ","Η"]
[32131,"M","ΑΝΑΓΝΩΣΤΑΚΗΣ ΒΑΣΙΛΕΙΟΣ",2002,"ΚΕΦΑΛΛΗΝΙΑΚΟΣ Ο.Α.","ΣΤ"]
[14871,"M","ΑΝΑΓΝΩΣΤΑΚΗΣ ΓΕΩΡΓΙΟΣ",1988,"Ο.Α.ΓΟΥΔΙΟΥ","ΙΑ"]
[29612,"M","ΑΝΑΓΝΩΣΤΑΚΗΣ ΓΕΩΡΓΙΟΣ",1997,"Α.Ο.Α.ΦΙΛΟΘΕΗΣ","Η"]
[14320,"M","ΑΝΑΓΝΩΣΤΑΚΗΣ ΣΤΥΛΙΑΝΟΣ",1989,"Ο.Α.ΡΕΘΥΜΝΟΥ","Ζ"]
[27998,"M","ΑΝΑΓΝΩΣΤΑΚΟΣ ΙΩΑΝΝΗΣ",1997,"Γ.Σ.ΙΤΕΑΣ","Ε"]
[21077,"M","ΑΝΑΓΝΩΣΤΗΣ ΘΩΜΑΣ",1992,"Ο.Α.ΒΙΚΕΛΑΣ ΒΕΡΟΙΑΣ","Γ"]
[15228,"F","ΑΝΑΓΝΩΣΤΙΔΗ ΧΡΙΣΤΙΝΑ",1986,"Α.Ν.Ο.ΓΛΥΦΑΔΑΣ","ΙΑ"]
[6403,"M","ΑΝΑΓΝΩΣΤΙΔΗΣ ΑΝΤΩΝΗΣ",1978,"ΠΑΝΘΡΑΚΙΚΟΣ Ο.Α.ΚΟΜΟΤΗΝΗΣ","Α"]
[15227,"M","ΑΝΑΓΝΩΣΤΙΔΗΣ ΦΙΛΙΠΠΟΣ",1988,"Α.Ν.Ο.ΓΛΥΦΑΔΑΣ","ΙΑ"]
[37283,"M","ΑΝΑΓΝΩΣΤΟΠΟΥΛΟΣ ΑΓΓΕΛΟΣ-ΝΙΚΟΛΑΟΣ",2000,"Α.Ο.ΑΙΓΙΟΥ ΜΟΡΕΑΣ","ΣΤ"]
[10209,"M","ΑΝΑΓΝΩΣΤΟΠΟΥΛΟΣ ΑΘΑΝΑΣΙΟΣ",1980,"Ο.Α.ΕΛΕΥΣΙΝΑΣ ΑΙΣΧΥΛΟΣ","Θ"]
[25426,"M","ΑΝΑΓΝΩΣΤΟΠΟΥΛΟΣ ΑΛΕΞΑΝΔΡΟΣ",1982,"Α.Ε.Κ.ΤΡΙΠΟΛΗΣ","ΣΤ"]
[27719,"M","ΑΝΑΓΝΩΣΤΟΠΟΥΛΟΣ ΑΛΕΞΑΝΔΡΟΣ-ΙΩΑΝΝΗΣ-ΤΣΜΠΙΚΟΣ",1997,"Σ.Ο.Α.ΚΑΡΔΙΤΣΑΣ ΦΩΚΙΑΝΟΣ","Ε"]
[20636,"M","ΑΝΑΓΝΩΣΤΟΠΟΥΛΟΣ ΑΝΑΣΤΑΣΙΟΣ",1989,"Ο.Α.ΚΑΛΑΜΑΤΑΣ","ΣΤ"]
[25114,"M","ΑΝΑΓΝΩΣΤΟΠΟΥΛΟΣ ΑΡΗΣ-ΠΑΝΑΓΙΩΤΗΣ",1993,"Α.Ο.ΚΗΦΙΣΙΑΣ","Η"]
[27501,"M","ΑΝΑΓΝΩΣΤΟΠΟΥΛΟΣ ΑΧΙΛΛΕΑΣ",1997,"Σ.Ο.Α.ΚΑΡΔΙΤΣΑΣ ΦΩΚΙΑΝΟΣ","Ε"]
[1611,"M","ΑΝΑΓΝΩΣΤΟΠΟΥΛΟΣ ΒΑΣΙΛΕΙΟΣ-ΒΕΝΝΟΣ",1971,"ΠΑΝΕΛΛΗΝΙΟΣ Γ.Σ.","Θ"]
[8547,"M","ΑΝΑΓΝΩΣΤΟΠΟΥΛΟΣ ΓΕΩΡΓΙΟΣ",1976,"Ο.Α.ΚΟΡΙΝΘΟΥ","ΣΤ"]
[19473,"M","ΑΝΑΓΝΩΣΤΟΠΟΥΛΟΣ ΓΕΩΡΓΙΟΣ",1991,"Ο.Α.ΦΩΚΙΔΑΣ","Ε"]
[20995,"M","ΑΝΑΓΝΩΣΤΟΠΟΥΛΟΣ ΓΡΗΓΟΡΗΣ",1990,"Ο.Α.ΛΙΤΟΧΩΡΟΥ","Γ"]
[30061,"M","ΑΝΑΓΝΩΣΤΟΠΟΥΛΟΣ ΔΗΜΗΤΡΗΣ",2001,"Ο.Α.ΚΕΡΑΤΣΙΝΙΟΥ","Θ"]
[12570,"M","ΑΝΑΓΝΩΣΤΟΠΟΥΛΟΣ ΔΗΜΗΤΡΗΣ-ΑΛΕΞΑΝΔΡΟΣ",1985,"Ο.Α.ΝΑΥΠΑΚΤΟΥ","ΣΤ"]
[5923,"M","ΑΝΑΓΝΩΣΤΟΠΟΥΛΟΣ ΔΗΜΗΤΡΙΟΣ",1977,"Ο.Α.ΧΟΛΑΡΓΟΥ","ΙΑ"]
[3527,"M","ΑΝΑΓΝΩΣΤΟΠΟΥΛΟΣ ΖΗΣΗΣ",1975,"Α.Ψ.Λ.ΜΕΔΕΩΝ","Ε"]
[12776,"M","ΑΝΑΓΝΩΣΤΟΠΟΥΛΟΣ ΗΛΙΑΣ",1986,"Σ.Α.Α.Κ.ΑΝΑΤΟΛΙΑ","Β"]
[10080,"M","ΑΝΑΓΝΩΣΤΟΠΟΥΛΟΣ ΚΩΝΣΤΑΝΤΙΝΟΣ",1981,"Ο.Α.ΚΟΡΙΝΘΟΥ","ΣΤ"]
[15923,"M","ΑΝΑΓΝΩΣΤΟΠΟΥΛΟΣ ΝΙΚΟΛΑΟΣ",1986,"Μ.Γ.Σ.ΑΠΟΛΛΩΝ ΚΑΛΑΜΑΡΙΑΣ","Β"]
[14017,"M","ΑΝΑΓΝΩΣΤΟΠΟΥΛΟΣ ΠΑΝΑΓΙΩΤΗΣ",1987,"Ο.Α.ΑΝΑΦΛΥΣΤΟΣ ΣΑΡΩΝΙΔΑΣ","Η"]
[6214,"M","ΑΝΑΓΝΩΣΤΟΠΟΥΛΟΣ ΣΤΑΜΑΤΗΣ",1977,"Α.Ο.Α.ΠΑΤΡΩΝ","ΣΤ"]
[2485,"M","ΑΝΑΓΝΩΣΤΟΠΟΥΛΟΣ ΣΤΑΥΡΟΣ",1975,"Α.Ο.Α.ΠΑΤΡΩΝ","ΣΤ"]
[37610,"M","ΑΝΑΓΝΩΣΤΟΠΟΥΛΟΣ ΣΩΤΗΡΙΟΣ",2001,"Α.Μ.Ε.Σ.Ν.ΕΡΥΘΡΑΙΑΣ","Η"]
[21864,"M","ΑΝΑΓΝΩΣΤΟΠΟΥΛΟΣ ΧΑΡΑΛΑΜΠΟΣ-ΧΡΗΣΤΟΣ",1994,"Α.Ε.Τ.ΝΙΚΗ ΠΑΤΡΩΝ","ΣΤ"]
[22237,"F","ΑΝΑΓΝΩΣΤΟΠΟΥΛΟΥ ΑΓΓΕΛΑ",1991,"Α.Ε.Τ.ΝΙΚΗ ΠΑΤΡΩΝ","ΣΤ"]
[35296,"F","ΑΝΑΓΝΩΣΤΟΠΟΥΛΟΥ ΑΛΙΚΗ",2002,"Α.Σ.Α.ΩΡΩΠΟΥ","Η"]
[37592,"F","ΑΝΑΓΝΩΣΤΟΠΟΥΛΟΥ ΑΛΙΚΗ",2002,"Α.Σ.Α.ΩΡΩΠΟΥ","Η"]
[11022,"F","ΑΝΑΓΝΩΣΤΟΠΟΥΛΟΥ ΑΝΔΡΟΜΑΧΗ",1966,"Ο.Α.ΚΑΛΑΜΑΤΑΣ","ΣΤ"]
[12854,"F","ΑΝΑΓΝΩΣΤΟΠΟΥΛΟΥ ΑΝΘΟΥΛΑ",1986,"Ο.Α.ΣΟΦΑΔΩΝ & ΚΑΡΔΙΤΣΑΣ ΟΛΥΜΠΙΑΔΑ","Ε"]
[5830,"F","ΑΝΑΓΝΩΣΤΟΠΟΥΛΟΥ ΑΝΝΑ",1979,"Α.Α.ΑΛΜΠΑΤΡΟΣ","Β"]
[31514,"F","ΑΝΑΓΝΩΣΤΟΠΟΥΛΟΥ ΑΝΤΙΓΟΝΗ",2001,"Α.Ο.Π.ΦΑΛΗΡΟΥ","ΙΑ"]
[27499,"F","ΑΝΑΓΝΩΣΤΟΠΟΥΛΟΥ ΑΡΙΑΔΝΗ",1995,"Σ.Ο.Α.ΚΑΡΔΙΤΣΑΣ ΦΩΚΙΑΝΟΣ","Ε"]
[22542,"F","ΑΝΑΓΝΩΣΤΟΠΟΥΛΟΥ ΒΑΣΙΛΙΚΗ",1989,"Ο.Α.ΞΥΛΟΚΑΣΤΡΟΥ ΣΥΘΑΣ","ΣΤ"]
[23667,"F","ΑΝΑΓΝΩΣΤΟΠΟΥΛΟΥ ΓΕΩΡΓΙΑ",1977,"Ο.Α.ΑΡΓΟΥΣ","ΣΤ"]
[35563,"F","ΑΝΑΓΝΩΣΤΟΠΟΥΛΟΥ ΔΕΣΠΟΙΝΑ",2002,"Α.Ν.Ο.ΓΛΥΦΑΔΑΣ","ΙΑ"]
[38347,"F","ΑΝΑΓΝΩΣΤΟΠΟΥΛΟΥ ΔΕΣΠΟΙΝΑ",2002,"Α.Ν.Ο.ΓΛΥΦΑΔΑΣ","ΙΑ"]
[31805,"F","ΑΝΑΓΝΩΣΤΟΠΟΥΛΟΥ ΔΗΜΗΤΡΑ",1972,"Α.Ε.Κ.ΤΡΙΠΟΛΗΣ","ΣΤ"]
[5829,"F","ΑΝΑΓΝΩΣΤΟΠΟΥΛΟΥ ΕΛΕΝΗ",1975,"Α.Α.ΑΛΜΠΑΤΡΟΣ","Β"]
[6088,"F","ΑΝΑΓΝΩΣΤΟΠΟΥΛΟΥ ΕΛΕΝΗ",1980,"ΦΘΙΩΤΙΚΟΣ Ο.Α.","Ε"]
[12174,"F","ΑΝΑΓΝΩΣΤΟΠΟΥΛΟΥ ΕΛΙΣΑΒΕΤ",1987,"Ο.Α.ΓΛΥΦΑΔΑΣ","ΙΑ"]
[9822,"F","ΑΝΑΓΝΩΣΤΟΠΟΥΛΟΥ ΕΥΑΓΓΕΛΙΑ",1983,"Α.Ε.Σ.Α.Φ.ΚΟΥΡΟΣ","Η"]
[4807,"F","ΑΝΑΓΝΩΣΤΟΠΟΥΛΟΥ ΚΥΡΙΑΚΗ",1979,"Σ.Α.ΣΕΡΡΩΝ","Α"]
[18155,"F","ΑΝΑΓΝΩΣΤΟΠΟΥΛΟΥ ΜΑΚΡΙΝΑ",1992,"Α.Ο.ΒΑΡΗΣ ΑΝΑΓΥΡΟΥΣ","Η"]
[6324,"F","ΑΝΑΓΝΩΣΤΟΠΟΥΛΟΥ ΜΑΡΘΑ",1978,"Α.Σ.Α.ΜΥΤΙΛΗΝΗΣ","Θ"]
[13735,"F","ΑΝΑΓΝΩΣΤΟΠΟΥΛΟΥ ΜΑΡΙΑ",1992,"ΦΘΙΩΤΙΚΟΣ Ο.Α.","Ε"]
[15707,"F","ΑΝΑΓΝΩΣΤΟΠΟΥΛΟΥ ΜΑΡΙΑ",1991,"Α.Ο.ΤΑΤΑΥΛΑ ΚΩΝΣΤΑΝΤΙΝΟΥΠΟΛΕΩΣ","ΙΑ"]
[28681,"F","ΑΝΑΓΝΩΣΤΟΠΟΥΛΟΥ ΜΑΡΙΑ",1999,"Α.Ε.Τ.ΝΙΚΗ ΠΑΤΡΩΝ","ΣΤ"]
[4029,"F","ΑΝΑΓΝΩΣΤΟΠΟΥΛΟΥ ΜΑΡΙΝΑ",1978,"Α.Ψ.Λ.ΜΕΔΕΩΝ","Ε"]
[14896,"F","ΑΝΑΓΝΩΣΤΟΠΟΥΛΟΥ ΝΕΝΣΥ",1988,"Ο.Α.ΚΕΡΚΥΡΑΣ","Δ"]
[38409,"F","ΑΝΑΓΝΩΣΤΟΠΟΥΛΟΥ ΣΟΦΙΑ",1985,"Ο.Α.UNIQUE TENNIS TEAM","ΣΤ"]
[20635,"F","ΑΝΑΓΝΩΣΤΟΠΟΥΛΟΥ ΣΤΑΥΡΟΥΛΑ",1991,"Ο.Α.ΚΑΛΑΜΑΤΑΣ","ΣΤ"]
[32017,"F","ΑΝΑΓΝΩΣΤΟΠΟΥΛΟΥ ΧΑΡΑ",1997,"Σ.Φ.Α.ΜΕΛΙΣΣΙΩΝ Ο ΦΟΙΒΟΣ","Η"]
[5625,"M","ΑΝΑΓΝΩΣΤΟΥ ΑΓΙΣ",1982,"Α.Ο.Π.ΦΑΛΗΡΟΥ","ΙΑ"]
[15875,"F","ΑΝΑΓΝΩΣΤΟΥ ΑΓΟΡΙΤΣΑ",1986,"Ο.Α.ΓΟΥΔΙΟΥ","ΙΑ"]
[32883,"F","ΑΝΑΓΝΩΣΤΟΥ ΑΙΚΑΤΕΡΙΝΗ",2002,"ΚΕΡΚΥΡΑΪΚΗ Λ.Τ.","Δ"]
[15874,"F","ΑΝΑΓΝΩΣΤΟΥ ΑΝΑΣΤΑΣΙΑ",1988,"Ο.Α.ΓΟΥΔΙΟΥ","ΙΑ"]
[28795,"F","ΑΝΑΓΝΩΣΤΟΥ ΑΝΑΣΤΑΣΙΑ",1993,"Ο.Α.ΒΕΡΟΙΑΣ","Γ"]
[20039,"M","ΑΝΑΓΝΩΣΤΟΥ ΑΠΟΣΤΟΛΟΣ",1990,"Α.Ε.ΠΟΡΤΟ ΡΑΦΤΗ","Η"]
[8915,"M","ΑΝΑΓΝΩΣΤΟΥ ΑΡΙΣΤΕΙΔΗΣ",1982,"Ο.Α.ΛΙΤΟΧΩΡΟΥ","Γ"]
[28295,"M","ΑΝΑΓΝΩΣΤΟΥ ΑΡΙΣΤΕΙΔΗΣ",1996,"Σ.Φ.Φ.Α.Η ΑΜΙΛΛΑ","Ε"]
[33550,"M","ΑΝΑΓΝΩΣΤΟΥ ΑΡΙΣΤΕΙΔΗΣ",1990,"Ο.Α.ΚΕΡΑΤΣΙΝΙΟΥ","Θ"]
[22435,"M","ΑΝΑΓΝΩΣΤΟΥ ΓΕΩΡΓΙΟΣ",1993,"Ο.Α.ΛΕΣΒΟΥ","Θ"]
[25236,"M","ΑΝΑΓΝΩΣΤΟΥ ΔΗΜΗΤΡΙΟΣ",1998,"Α.Ο.Α.ΚΑΒΑΛΑΣ","Α"]
[28286,"M","ΑΝΑΓΝΩΣΤΟΥ ΔΗΜΗΤΡΙΟΣ",1997,"Ο.Α.ΘΕΣΣΑΛΟΝΙΚΗΣ","Β"]
[18188,"F","ΑΝΑΓΝΩΣΤΟΥ ΕΛΕΝΗ",1990,"Ο.Α.ΒΡΙΛΗΣΣΙΩΝ","Η"]
[28990,"F","ΑΝΑΓΝΩΣΤΟΥ ΕΥΑΓΓΕΛΙΑ",2001,"Ο.Α.ΜΑΓΝΗΣΙΑΣ","Ε"]
[27137,"M","ΑΝΑΓΝΩΣΤΟΥ ΕΥΑΓΓΕΛΟΣ",2000,"Α.Ο.ΧΡΥΣΟΥΠΟΛΗΣ","Α"]
[26101,"F","ΑΝΑΓΝΩΣΤΟΥ ΘΕΟΔΩΡΑ",1994,"Α.Ο.Α.ΑΤΤΙΚΟΣ ΗΛΙΟΣ","Η"]
[17539,"M","ΑΝΑΓΝΩΣΤΟΥ ΘΕΟΦΑΝΗΣ",1988,"Ο.Α.ΚΑΛΑΜΑΚΙΟΥ","ΙΑ"]
[4322,"M","ΑΝΑΓΝΩΣΤΟΥ ΙΑΣΩΝ",1978,"Ο.Α.ΖΩΓΡΑΦΟΥ","Η"]
[18180,"M","ΑΝΑΓΝΩΣΤΟΥ ΙΩΑΝΝΗΣ",1989,"Α.Ε.ΠΟΡΤΟ ΡΑΦΤΗ","Η"]
[22168,"M","ΑΝΑΓΝΩΣΤΟΥ ΚΩΝΣΤΑΝΤΙΝΟΣ",1994,"Α.Ο.Α.ΦΙΛΟΘΕΗΣ","Η"]
[22167,"M","ΑΝΑΓΝΩΣΤΟΥ ΛΟΥΚΑΣ",1992,"Α.Ο.Α.ΦΙΛΟΘΕΗΣ","Η"]
[24832,"F","ΑΝΑΓΝΩΣΤΟΥ ΜΥΡΤΩ",1997,"Σ.Ο.Α.ΚΑΡΔΙΤΣΑΣ ΦΩΚΙΑΝΟΣ","Ε"]
[32209,"M","ΑΝΑΓΝΩΣΤΟΥ ΠΑΝΑΓΙΩΤΗΣ",2002,"Ο.Α.ΚΟΡΩΠΙΟΥ","Η"]
[12387,"F","ΑΝΑΓΝΩΣΤΟΥ ΧΡΥΣΑΝΘΗ",1983,"Α.Γ.Ο.ΦΙΛΙΠΠΙΑΔΑΣ","Δ"]
[24343,"F","ΑΝΑΔΙΩΤΗ ΑΘΗΝΑ",1995,"Ο.Α.ΚΕΡΑΤΣΙΝΙΟΥ","Θ"]
[20612,"M","ΑΝΑΔΙΩΤΗΣ ΑΝΑΣΤΑΣΙΟΣ-ΜΑΡΙΟΣ",1990,"Ο.Α.ΚΕΡΑΤΣΙΝΙΟΥ","Θ"]
[18209,"M","ΑΝΑΪΠΑΚΟΣ ΜΑΡΙΟΣ",1986,"Α.Σ.Ν.ΒΟΥΤΖΑ ΡΑΦΗΝΑΣ Η ΠΡΟΟΔΟΣ","Η"]
[16681,"F","ΑΝΑΙΡΟΥΣΗ ΜΑΡΙΑ",1986,"Ο.Α.ΛΕΣΒΟΥ","Θ"]
[1463,"M","ΑΝΑΛΥΤΗΣ ΓΕΩΡΓΙΟΣ",1967,"Α.Ο.Α.ΦΙΛΟΘΕΗΣ","Η"]
[2770,"M","ΑΝΑΝΙΑΔΗΣ ΚΩΝΣΤΑΝΤΙΝΟΣ",1973,"Α.Ν.Ο.ΓΛΥΦΑΔΑΣ","ΙΑ"]
[32804,"M","ΑΝΑΝΙΑΔΗΣ ΜΙΧΑΛΗΣ",2002,"Ο.Α.ΑΛΕΞΑΝΔΡΟΣ ΒΕΡΟΙΑΣ","Γ"]
[18080,"M","ΑΝΑΝΙΑΔΗΣ ΠΑΝΑΓΙΩΤΗΣ",1992,"Ο.Α.ΑΛΕΞΑΝΔΡΟΥΠΟΛΗΣ","Α"]
[3497,"M","ΑΝΑΝΙΑΔΗΣ ΣΑΒΒΑΣ",1973,"Ο.Α.ΚΑΤΕΡΙΝΗΣ","Γ"]
[17295,"M","ΑΝΑΝΙΑΔΗΣ ΣΠΥΡΙΔΩΝ",1988,"ΠΑΝΘΡΑΚΙΚΟΣ Ο.Α.ΚΟΜΟΤΗΝΗΣ","Α"]
[21270,"F","ΑΝΑΝΙΑΔΟΥ ΑΝΑΣΤΑΣΙΑ",1992,"Ο.Α.ΚΙΛΚΙΣ","Β"]
[21619,"F","ΑΝΑΝΙΑΔΟΥ ΒΑΣΙΛΙΚΗ",1992,"Σ.Α.ΣΕΡΡΩΝ","Α"]
[17275,"F","ΑΝΑΝΙΑΔΟΥ ΔΕΣΠΟΙΝΑ",1989,"Ο.Α.ΑΛΕΞΑΝΔΡΟΥΠΟΛΗΣ","Α"]
[21618,"F","ΑΝΑΝΙΑΔΟΥ ΔΗΜΗΤΡΑ",1993,"Σ.Α.ΣΕΡΡΩΝ","Α"]
[14047,"F","ΑΝΑΝΙΚΙΔΟΥ ΜΑΓΔΑ",1984,"Ο.Α.ΑΛΕΞΑΝΔΡΟΥΠΟΛΗΣ","Α"]
[12659,"M","ΑΝΑΝΤΙΟΣ ΒΑΣΙΛΕΙΟΣ",1986,"Ο.Α.ΕΛΕΥΣΙΝΑΣ ΑΙΣΧΥΛΟΣ","Θ"]
[12658,"M","ΑΝΑΝΤΙΟΣ ΦΩΤΙΟΣ",1984,"Ο.Α.ΕΛΕΥΣΙΝΑΣ ΑΙΣΧΥΛΟΣ","Θ"]
[34290,"F","ΑΝΑΣΤΑΣΑΚΗ ΔΗΜΗΤΡΑ",1999,"Α.Ε.ΠΟΡΤΟ ΡΑΦΤΗ","Η"]
[17942,"F","ΑΝΑΣΤΑΣΑΚΗ ΜΑΡΙΑ",1991,"Ο.Α.ΧΕΡΣΟΝΗΣΟΥ","Ζ"]
[20238,"F","ΑΝΑΣΤΑΣΑΚΗ ΜΑΡΙΑ-ΣΑΒΙΝΑ",1992,"Ο.Α.ΧΑΝΙΩΝ","Ζ"]
[17943,"F","ΑΝΑΣΤΑΣΑΚΗ ΣΤΥΛΙΑΝΗ",1992,"Ο.Α.ΧΕΡΣΟΝΗΣΟΥ","Ζ"]
[2647,"M","ΑΝΑΣΤΑΣΑΚΗΣ ΑΛΚΙΒΙΑΔΗΣ",1973,"ΗΡΑΚΛΕΙΟ Ο.Α.& Α.","Ζ"]
[27266,"M","ΑΝΑΣΤΑΣΑΚΗΣ ΓΕΩΡΓΙΟΣ",1995,"Ο.Α.ΡΕΘΥΜΝΟΥ","Ζ"]
[11809,"M","ΑΝΑΣΤΑΣΑΚΗΣ ΚΩΝΣΤΑΝΤΙΝΟΣ",1984,"Σ.Α.ΓΑΛΑΤΣΙΟΥ","Θ"]
[22149,"M","ΑΝΑΣΤΑΣΑΚΗΣ ΚΩΝΣΤΑΝΤΙΝΟΣ",1995,"Ο.Α.ΧΑΝΙΩΝ","Ζ"]
[27595,"M","ΑΝΑΣΤΑΣΑΚΗΣ ΜΙΧΑΗΛ",1994,"Α.Ο.ΚΥΔΩΝΙΑΣ","Ζ"]
[33587,"M","ΑΝΑΣΤΑΣΑΚΗΣ ΝΙΚΟΛΑΟΣ",1966,"Ο.Α.ΚΕΡΑΤΣΙΝΙΟΥ","Θ"]
[36954,"M","ΑΝΑΣΤΑΣΑΚΗΣ ΠΑΝΑΓΙΩΤΗΣ",2001,"Α.Π.Μ.Σ.ΑΣΚΗΣΗ ΗΡΑΚΛΕΙΟΥ","Ζ"]
[14235,"M","ΑΝΑΣΤΑΣΑΚΗΣ ΧΡΗΣΤΟΣ",1989,"Ο.Α.ΕΛΕΥΣΙΝΑΣ ΑΙΣΧΥΛΟΣ","Θ"]
[26027,"F","ΑΝΑΣΤΑΣΙΑ ΑΠΟΣΤΟΛΙΑ",1980,"Π.Σ.ΑΜΠΕΛΩΝΟΣ Ο ΦΙΛΙΠΠΙΔΗΣ","Ε"]
[6600,"F","ΑΝΑΣΤΑΣΙΑΔΗ ΒΑΡΒΑΡΑ",1982,"Α.Ο.Π.ΦΑΛΗΡΟΥ","ΙΑ"]
[5268,"F","ΑΝΑΣΤΑΣΙΑΔΗ ΓΕΩΡΓΙΑ",1981,"Α.Ο.ΔΑΣΟΣ ΧΑΪΔΑΡΙΟΥ","Θ"]
[20990,"F","ΑΝΑΣΤΑΣΙΑΔΗ ΔΑΦΝΗ",1994,"Ο.Α.ΑΓΙΑΣ ΠΑΡΑΣΚΕΥΗΣ","Η"]
[37884,"F","ΑΝΑΣΤΑΣΙΑΔΗ ΚΩΝΣΤΑΝΤΙΝΑ",2000,"Α.Σ.ΝΗΡΕΑΣ ΒΕΡΟΙΑΣ","Γ"]
[24408,"F","ΑΝΑΣΤΑΣΙΑΔΗ ΜΑΡΙΛΕΝΑ",1992,"Ο.Α.ΚΕΡΑΤΣΙΝΙΟΥ","Θ"]
[24216,"F","ΑΝΑΣΤΑΣΙΑΔΗ ΣΤΕΛΛΑ",1992,"Π.Σ.ΑΜΠΕΛΩΝΟΣ Ο ΦΙΛΙΠΠΙΔΗΣ","Ε"]
[35203,"M","ΑΝΑΣΤΑΣΙΑΔΗΣ ΑΓΓΕΛΟΣ",2002,"Α.Ν.Ο.ΓΛΥΦΑΔΑΣ","ΙΑ"]
[21614,"M","ΑΝΑΣΤΑΣΙΑΔΗΣ ΑΘΑΝΑΣΙΟΣ",1996,"Σ.Α.ΣΕΡΡΩΝ","Α"]
[14263,"M","ΑΝΑΣΤΑΣΙΑΔΗΣ ΑΝΤΩΝΙΟΣ-ΑΛΕΞΗΣ",1987,"Α.Κ.Α.ΜΑΡΑΘΩΝΑ","Η"]
[25778,"M","ΑΝΑΣΤΑΣΙΑΔΗΣ ΑΠΟΣΤΟΛΟΣ",2000,"Α.Ο.Α.ΝΕΑΣ ΠΕΡΑΜΟΥ ΟΙ ΤΙΤΑΝΕΣ","Α"]
[10093,"M","ΑΝΑΣΤΑΣΙΑΔΗΣ ΑΡΙΣΤΕΙΔΗΣ",1971,"Σ.Α.ΚΑΣΤΟΡΙΑΣ ΠΡΩΤΕΑΣ","Γ"]
[20989,"M","ΑΝΑΣΤΑΣΙΑΔΗΣ ΒΥΡΩΝ",1992,"Ο.Α.ΑΓΙΑΣ ΠΑΡΑΣΚΕΥΗΣ","Η"]
[7216,"M","ΑΝΑΣΤΑΣΙΑΔΗΣ ΒΥΡΩΝ-ΠΑΡΑΣΚΕΥΑΣ",1981,"Ο.Α.ΒΟΛΟΥ","Ε"]
[19292,"M","ΑΝΑΣΤΑΣΙΑΔΗΣ ΓΕΩΡΓΙΟΣ",1987,"Α.Ε.ΠΟΡΤΟ ΡΑΦΤΗ","Η"]
[32762,"M","ΑΝΑΣΤΑΣΙΑΔΗΣ ΓΕΩΡΓΙΟΣ",2000,"Ο.Α.ΠΑΝΟΡΑΜΑΤΟΣ","Β"]
[16470,"M","ΑΝΑΣΤΑΣΙΑΔΗΣ ΔΗΜΗΤΡΗΣ",1989,"Α.Ε.Σ.Α.Φ.ΚΟΥΡΟΣ","Η"]
[20008,"M","ΑΝΑΣΤΑΣΙΑΔΗΣ ΘΕΟΔΩΡΟΣ",1988,"Α.Ο.Α.ΧΑΪΔΑΡΙΟΥ","Θ"]
[27891,"M","ΑΝΑΣΤΑΣΙΑΔΗΣ ΘΕΟΔΩΡΟΣ",1998,"Ο.Α.ΠΕΙΡΑΙΑ","Θ"]
[8073,"M","ΑΝΑΣΤΑΣΙΑΔΗΣ ΙΩΑΝΝΗΣ",1981,"Ο.Α.ΞΑΝΘΗΣ","Α"]
[13205,"M","ΑΝΑΣΤΑΣΙΑΔΗΣ ΙΩΑΝΝΗΣ",1981,"Ο.Α.ΚΩ","Θ"]
[13893,"M","ΑΝΑΣΤΑΣΙΑΔΗΣ ΙΩΑΝΝΗΣ",1986,"ΡΟΔΙΑΚΟΣ Ο.Α.","Θ"]
[4047,"M","ΑΝΑΣΤΑΣΙΑΔΗΣ ΚΛΕΑΝΘΗΣ",1978,"Α.Ο.Α.ΚΑΒΑΛΑΣ","Α"]
[14262,"M","ΑΝΑΣΤΑΣΙΑΔΗΣ ΝΙΚΟΣ",1984,"Α.Κ.Α.ΜΑΡΑΘΩΝΑ","Η"]
[22123,"M","ΑΝΑΣΤΑΣΙΑΔΗΣ ΣΑΒΒΑΣ",1997,"Α.Ο.Α.ΚΑΒΑΛΑΣ","Α"]
[24337,"M","ΑΝΑΣΤΑΣΙΑΔΗΣ ΦΟΙΒΟΣ",1995,"Ο.Α.ΚΕΡΑΤΣΙΝΙΟΥ","Θ"]
[31408,"M","ΑΝΑΣΤΑΣΙΑΔΗΣ ΦΩΤΙΟΣ",2000,"ΡΟΔΙΑΚΟΣ Ο.Α.","Θ"]
[14900,"M","ΑΝΑΣΤΑΣΙΑΔΗΣ ΧΡΥΣΑΝΘΟΣ",1988,"Ο.Α.ΞΑΝΘΗΣ","Α"]
[7939,"F","ΑΝΑΣΤΑΣΙΑΔΟΥ ΑΙΚΑΤΕΡΙΝΗ",1981,"Α.Ο.Α.ΚΑΒΑΛΑΣ","Α"]
[35009,"F","ΑΝΑΣΤΑΣΙΑΔΟΥ ΑΙΚΑΤΕΡΙΝΗ",1976,"Α.Σ.ΦΛΟΓΑ ΑΘΗΝΩΝ","Η"]
[28596,"F","ΑΝΑΣΤΑΣΙΑΔΟΥ ΑΝΤΩΝΙΑ-ΧΡΙΣΤΙΝΑ",1995,"Ο.Α.ΞΑΝΘΗΣ","Α"]
[5337,"F","ΑΝΑΣΤΑΣΙΑΔΟΥ ΕΙΡΗΝΗ",1974,"Α.Μ.Ε.Σ.Ν.ΕΡΥΘΡΑΙΑΣ","Η"]
[32053,"F","ΑΝΑΣΤΑΣΙΑΔΟΥ ΕΛΕΝΗ",1999,"Γ.Ε.ΠΡΕΒΕΖΑΣ","Δ"]
[14633,"F","ΑΝΑΣΤΑΣΙΑΔΟΥ ΕΥΑΓΓΕΛΙΑ",1987,"Γ.Σ.ΑΜΦΙΑΛΗΣ ΦΕΙΔΙΠΠΙΔΗΣ","Θ"]
[17599,"F","ΑΝΑΣΤΑΣΙΑΔΟΥ ΚΥΡΙΑΚΗ",1995,"Σ.Α.ΚΑΤΕΡΙΝΗΣ","Γ"]
[21662,"F","ΑΝΑΣΤΑΣΙΑΔΟΥ ΜΑΡΑΙΝΕΛΛΗ",1995,"Σ.Α.ΔΡΑΜΑΣ","Α"]
[872,"F","ΑΝΑΣΤΑΣΙΑΔΟΥ ΜΑΡΙΑ",1966,"Ο.Α.ΧΑΛΚΙΔΑΣ","Θ"]
[419,"F","ΑΝΑΣΤΑΣΙΑΔΟΥ ΞΕΝΙΑ",1966,"Α.Ο.Α.ΦΙΛΟΘΕΗΣ","Η"]
[26206,"M","ΑΝΑΣΤΑΣΙΟΣ ΚΑΓΚΛΗΣ",1974,"Σ.Α.ΤΡΙΠΟΛΗΣ","ΣΤ"]
[24499,"M","ΑΝΑΣΤΑΣΙΟΥ ΑΘΑΝΑΣΙΟΣ",1973,"Γ.Α.Σ.ΜΑΓΝΗΣΙΑΣ","Ε"]
[27078,"M","ΑΝΑΣΤΑΣΙΟΥ ΑΠΟΣΤΟΛΟΣ",1998,"Ο.Α.ΚΕΡΚΥΡΑΣ","Δ"]
[5006,"M","ΑΝΑΣΤΑΣΙΟΥ ΓΙΩΡΓΗΣ",1980,"Α.Σ.ΟΡΦΕΑΣ ΛΑΡΙΣΑΣ","Ε"]
[32078,"F","ΑΝΑΣΤΑΣΙΟΥ ΔΑΝΑΗ",2000,"ΚΕΦΑΛΛΗΝΙΑΚΟΣ Ο.Α.","ΣΤ"]
[18148,"M","ΑΝΑΣΤΑΣΙΟΥ ΔΗΜΗΤΡΙΟΣ",1992,"Μ.Γ.Σ.ΑΠΟΛΛΩΝ ΚΑΛΑΜΑΡΙΑΣ","Β"]
[24432,"F","ΑΝΑΣΤΑΣΙΟΥ ΕΥΘΥΜΙΑ",1975,"Γ.Α.Σ.ΜΑΓΝΗΣΙΑΣ","Ε"]
[20968,"F","ΑΝΑΣΤΑΣΙΟΥ ΗΛΕΚΤΡΑ-ΚΥΡΙΑΚΗ",1995,"ΑΚΑΔ.ΑΝΤΙΣΦ.ΙΩΑΝΝΙΝΩΝ","Δ"]
[3498,"M","ΑΝΑΣΤΑΣΙΟΥ ΙΩΑΝΝΗΣ",1975,"Ο.Α.ΑΙΓΙΟΥ","ΣΤ"]
[23843,"M","ΑΝΑΣΤΑΣΙΟΥ ΙΩΑΝΝΗΣ",1994,"Α.Σ.ΑΚΡΟΠΟΛΙΣ","Η"]
[23575,"F","ΑΝΑΣΤΑΣΙΟΥ ΚΩΝΣΤΑΝΤΙΝΑ",1994,"Ο.Α.ΑΘΗΝΩΝ","Η"]
[38065,"F","ΑΝΑΣΤΑΣΙΟΥ ΚΩΝΣΤΑΝΤΙΝΑ",2002,"Ο.Α.ΘΕΣΠΡΩΤΙΑΣ ΤΙΤΑΝΗ","Δ"]
[26897,"M","ΑΝΑΣΤΑΣΙΟΥ ΚΩΝΣΤΑΝΤΙΝΟΣ",1999,"ΦΘΙΩΤΙΚΟΣ Ο.Α.","Ε"]
[5304,"M","ΑΝΑΣΤΑΣΙΟΥ ΛΑΖΑΡΟΣ",1977,"Σ.Α.ΣΕΡΡΩΝ","Α"]
[29573,"F","ΑΝΑΣΤΑΣΙΟΥ ΜΑΡΙΑ",1997,"ΦΘΙΩΤΙΚΟΣ Ο.Α.","Ε"]
[24064,"M","ΑΝΑΣΤΑΣΙΟΥ ΜΑΡΙΟΣ",1997,"Ο.Α.ΚΟΡΙΝΘΟΥ","ΣΤ"]
[10822,"M","ΑΝΑΣΤΑΣΙΟΥ ΜΙΧΑΗΛ",1983,"Α.Α.ΙΩΑΝΝΙΝΩΝ","Δ"]
[29864,"M","ΑΝΑΣΤΑΣΙΟΥ ΝΙΚΟΛΑΟΣ",2000,"Ο.Α.ΓΛΥΦΑΔΑΣ","ΙΑ"]
[13408,"M","ΑΝΑΣΤΑΣΙΟΥ ΠΑΝΑΓΙΩΤΗΣ",1985,"Α.Ο.ΑΡΓΥΡΟΥΠΟΛΗΣ","ΙΑ"]
[10934,"M","ΑΝΑΣΤΑΣΙΟΥ ΠΑΝΤΕΛΗΣ",1984,"Ο.Α.ΙΑΛΥΣΣΟΣ ΡΟΔΟΥ","Θ"]
[16265,"M","ΑΝΑΣΤΑΣΙΟΥ ΠΕΤΡΟΣ",1995,"ΦΘΙΩΤΙΚΟΣ Ο.Α.","Ε"]
[10286,"F","ΑΝΑΣΤΑΣΙΟΥ ΣΤΕΦΑΝΙΑ",1985,"Ο.Α.ΓΛΥΦΑΔΑΣ","ΙΑ"]
[5298,"M","ΑΝΑΣΤΑΣΙΟΥ ΣΩΤΗΡΙΟΣ",1981,"Σ.Α.ΣΕΡΡΩΝ","Α"]
[7490,"M","ΑΝΑΣΤΑΣΙΟΥ ΣΩΤΗΡΙΟΣ",1983,"ΑΙΟΛΟΣ Α.Λ.ΙΛΙΟΥ","Θ"]
[24526,"M","ΑΝΑΣΤΑΣΟΠΟΥΛΟΣ ΑΛΕΞΑΝΔΡΟΣ-ΑΝΑΣΤΑΣΙΟΣ",1993,"Ο.Α.ΚΟΡΙΝΘΟΥ","ΣΤ"]
[26430,"M","ΑΝΑΣΤΑΣΟΠΟΥΛΟΣ ΑΝΑΣΤΑΣΙΟΣ",1994,"Α.Ο.Α.ΧΑΪΔΑΡΙΟΥ","Θ"]
[26867,"M","ΑΝΑΣΤΑΣΟΠΟΥΛΟΣ ΑΝΑΣΤΑΣΙΟΣ-ΦΩΚΑΣ",1998,"Ο.Α.ΑΓΙΑΣ ΠΑΡΑΣΚΕΥΗΣ","Η"]
[15343,"M","ΑΝΑΣΤΑΣΟΠΟΥΛΟΣ ΒΑΣΙΛΕΙΟΣ",1988,"Ο.Α.ΓΛΥΦΑΔΑΣ","ΙΑ"]
[17297,"M","ΑΝΑΣΤΑΣΟΠΟΥΛΟΣ ΒΑΣΙΛΕΙΟΣ",1977,"ΠΑΝΘΡΑΚΙΚΟΣ Ο.Α.ΚΟΜΟΤΗΝΗΣ","Α"]
[8004,"M","ΑΝΑΣΤΑΣΟΠΟΥΛΟΣ ΓΕΩΡΓΙΟΣ",1977,"Ο.Α.ΧΑΛΚΙΔΑΣ","Θ"]
[17676,"M","ΑΝΑΣΤΑΣΟΠΟΥΛΟΣ ΓΕΩΡΓΙΟΣ",1990,"Α.Ο.Ν.ΣΜΥΡΝΗΣ Ο ΜΙΛΩΝ","ΙΑ"]
[22649,"M","ΑΝΑΣΤΑΣΟΠΟΥΛΟΣ ΔΗΜΗΤΡΙΟΣ",1993,"Α.Ο.ΤΑΤΑΥΛΑ ΚΩΝΣΤΑΝΤΙΝΟΥΠΟΛΕΩΣ","ΙΑ"]
[22648,"M","ΑΝΑΣΤΑΣΟΠΟΥΛΟΣ ΙΩΑΝΝΗΣ",1994,"Α.Ο.ΤΑΤΑΥΛΑ ΚΩΝΣΤΑΝΤΙΝΟΥΠΟΛΕΩΣ","ΙΑ"]
[28906,"M","ΑΝΑΣΤΑΣΟΠΟΥΛΟΣ ΙΩΑΝΝΗΣ",1998,"Σ.Α.ΜΕΣΣΗΝΗΣ","ΣΤ"]
[29352,"M","ΑΝΑΣΤΑΣΟΠΟΥΛΟΣ ΙΩΑΝΝΗΣ",1998,"Σ.Α.ΤΡΙΠΟΛΗΣ","ΣΤ"]
[29351,"M","ΑΝΑΣΤΑΣΟΠΟΥΛΟΣ ΚΩΝΣΤΑΝΤΙΝΟΣ",1995,"Σ.Α.ΤΡΙΠΟΛΗΣ","ΣΤ"]
[28974,"M","ΑΝΑΣΤΑΣΟΠΟΥΛΟΣ ΜΑΡΙΟΣ",1998,"Ο.Α.ΚΑΛΑΜΑΤΑΣ","ΣΤ"]
[29836,"M","ΑΝΑΣΤΑΣΟΠΟΥΛΟΣ ΝΙΚΟΛΑΟΣ",1993,"Α.Σ.ΟΛΥΜΠΙΑΚΟΥ ΧΩΡΙΟΥ Ο ΦΟΙΒΟΣ","Θ"]
[1059,"M","ΑΝΑΣΤΑΣΟΠΟΥΛΟΣ ΝΙΚΟΣ",1969,"Ο.Α.ΑΘΗΝΩΝ","Η"]
[28973,"M","ΑΝΑΣΤΑΣΟΠΟΥΛΟΣ ΠΑΝΤΕΛΗΣ",1996,"Ο.Α.ΚΑΛΑΜΑΤΑΣ","ΣΤ"]
[31889,"M","ΑΝΑΣΤΑΣΟΠΟΥΛΟΣ ΣΤΥΛΙΑΝΟΣ",2002,"Α.Ε.Κ.ΤΡΙΠΟΛΗΣ","ΣΤ"]
[15741,"M","ΑΝΑΣΤΑΣΟΠΟΥΛΟΣ ΧΡΗΣΤΟΣ",1990,"Α.Ο.Α.ΗΛΙΟΥΠΟΛΗΣ","ΙΑ"]
[3234,"F","ΑΝΑΣΤΑΣΟΠΟΥΛΟΥ ΑΛΙΚΗ",1976,"Α.Κ.ΖΩΓΡΑΦΟΥ","ΙΑ"]
[3235,"F","ΑΝΑΣΤΑΣΟΠΟΥΛΟΥ ΑΝΝΑ",1976,"Α.Κ.ΖΩΓΡΑΦΟΥ","ΙΑ"]
[29563,"F","ΑΝΑΣΤΑΣΟΠΟΥΛΟΥ ΑΣΗΜΙΝΑ-ΕΛΕΝΗ",1997,"Α.Ο.Ν.Φ.ΑΤΤΑΛΟΣ","Η"]
[22304,"F","ΑΝΑΣΤΑΣΟΠΟΥΛΟΥ ΔΑΝΑΗ",1996,"Ο.Α.ΑΙΓΙΑΛΕΙΑΣ","ΣΤ"]
[26348,"F","ΑΝΑΣΤΑΣΟΠΟΥΛΟΥ ΔΕΣΠΟΙΝΑ",1995,"Α.Σ.ΚΑΡΠΕΝΗΣΙ ΤΕΝΙΣ ΚΛΑΜΠ","Ε"]
[26689,"F","ΑΝΑΣΤΑΣΟΠΟΥΛΟΥ ΔΕΣΠΟΙΝΑ",1997,"Ο.Α.ΒΙΚΕΛΑΣ ΒΕΡΟΙΑΣ","Γ"]
[29564,"F","ΑΝΑΣΤΑΣΟΠΟΥΛΟΥ ΗΡΩ",2002,"Α.Ο.Ν.Φ.ΑΤΤΑΛΟΣ","Η"]
[17678,"F","ΑΝΑΣΤΑΣΟΠΟΥΛΟΥ ΚΩΝΣΤΑΝΤΙΝΑ",1988,"Α.Ο.Ν.ΣΜΥΡΝΗΣ Ο ΜΙΛΩΝ","ΙΑ"]
[30754,"F","ΑΝΑΣΤΑΣΟΠΟΥΛΟΥ ΜΑΡΙΑ",2000,"Α.Ε.Τ.ΝΙΚΗ ΠΑΤΡΩΝ","ΣΤ"]
[21366,"F","ΑΝΑΣΤΑΣΟΠΟΥΛΟΥ ΜΑΡΙΕΤΤΑ",1995,"Ο.Α.ΠΕΙΡΑΙΑ","Θ"]
[29837,"F","ΑΝΑΣΤΑΣΟΠΟΥΛΟΥ ΜΑΡΙΝΑ-ΓΕΩΡΓΙΑ",1998,"Α.Σ.ΟΛΥΜΠΙΑΚΟΥ ΧΩΡΙΟΥ Ο ΦΟΙΒΟΣ","Θ"]
[26868,"F","ΑΝΑΣΤΑΣΟΠΟΥΛΟΥ ΤΑΤΙΑΝΑ-ΧΑΡΑΛΑΜΠΙΑ",1998,"Ο.Α.ΑΓΙΑΣ ΠΑΡΑΣΚΕΥΗΣ","Η"]
[15540,"F","ΑΝΑΣΤΑΣΟΠΟΥΛΟΥ ΦΑΝΗ",1987,"ΗΡΑΚΛΕΙΟ Ο.Α.& Α.","Ζ"]
[29321,"M","ΑΝΑΣΤΟΠΟΥΛΟΣ ΝΙΚΟΛΑΟΣ",2002,"Α.Ε.Κ.ΤΡΙΠΟΛΗΣ","ΣΤ"]
[7744,"F","ΑΝΑΣΤΟΠΟΥΛΟΥ ΑΡΙΕΤΤΑ",1983,"Α.Ο.Α.ΗΛΙΟΥΠΟΛΗΣ","ΙΑ"]
[24014,"F","ΑΝΑΣΤΟΠΟΥΛΟΥ ΓΕΩΡΓΙΑ",1995,"Ο.Α.ΑΘΗΝΩΝ","Η"]
[33438,"M","ΑΝΑΤΟΛΑΙΤΗΣ ΒΑΣΙΛΗΣ",1997,"Α.Ο.ΚΑΒΑΛΑΣ ΜΑΚΕΔΟΝΙΚΟΣ","Α"]
[25382,"F","ΑΝΑΤΟΛΙΤΗ ΓΕΩΡΓΙΑ",1998,"Α.Σ.Α.ΛΑΡΙΣΑΣ","Ε"]
[26041,"M","ΑΝΑΤΟΛΙΩΤΑΚΗΣ ΕΜΜΑΝΟΥΗΛ",1997,"Γ.Ε.ΠΡΕΒΕΖΑΣ","Δ"]
[2005,"M","ΑΝΑΤΟΛΙΩΤΑΚΗΣ ΚΩΝΣΤΑΝΤΙΝΟΣ",1970,"Γ.Ε.ΠΡΕΒΕΖΑΣ","Δ"]
[90017,"M","ΑΝΓΚΕΛΟΒ ΝΤΙΜΙΤΕΡ",1990,"Α.Κ.Α.ΜΑΡΑΘΩΝΑ","Η"]
[6889,"F","ΑΝΔΡΑΝΗ ΠΑΣΧΑΛΙΑ",1982,"Σ.Ο.Ι.Σ.ΝΕΑ ΠΝΟΗ","Α"]
[6890,"M","ΑΝΔΡΑΝΗΣ ΜΙΧΑΛΗΣ",1985,"Σ.Ο.Ι.Σ.ΝΕΑ ΠΝΟΗ","Α"]
[6857,"F","ΑΝΔΡΕΑΔΑΚΗ ΕΙΡΗΝΗ",1981,"Σ.Α.ΚΑΤΕΡΙΝΗΣ","Γ"]
[6856,"F","ΑΝΔΡΕΑΔΑΚΗ ΜΑΝΩΛΙΑ",1979,"Σ.Α.ΚΑΤΕΡΙΝΗΣ","Γ"]
[7156,"F","ΑΝΔΡΕΑΔΑΚΗ ΜΑΡΙΑ",1981,"Σ.Α.ΚΑΤΕΡΙΝΗΣ","Γ"]
[25685,"M","ΑΝΔΡΕΑΔΗΣ ΑΘΑΝΑΣΙΟΣ",1995,"Α.Ο.ΟΡΕΣΤΙΑΔΑΣ","Α"]
[15422,"M","ΑΝΔΡΕΑΔΗΣ ΒΑΣΙΛΕΙΟΣ",1973,"Γ.Α.Σ.ΝΙΓΡΙΤΑΣ ΒΙΣΑΛΤΗΣ","Α"]
[2683,"M","ΑΝΔΡΕΑΔΗΣ ΒΑΣΙΛΗΣ",1975,"ΗΡΑΚΛΕΙΟ Ο.Α.& Α.","Ζ"]
[20749,"M","ΑΝΔΡΕΑΔΗΣ ΘΩΜΑΣ",1994,"Ο.Α.ΚΑΒΑΛΑΣ ΑΛΕΞΑΝΔΡΟΣ","Α"]
[27192,"M","ΑΝΔΡΕΑΔΗΣ ΙΩΑΝΝΗΣ-ΕΛΕΥΘΕΡΙΟΣ",1993,"Ο.Α.ΧΙΟΥ","Η"]
[5687,"M","ΑΝΔΡΕΑΔΗΣ ΚΟΣΜΑΣ",1967,"Λ.Α.ΚΟΜΟΤΗΝΗΣ","Α"]
[19550,"M","ΑΝΔΡΕΑΔΗΣ ΜΙΧΑΗΛ",1992,"Ο.Α.ΧΙΟΥ","Θ"]
[20691,"M","ΑΝΔΡΕΑΔΗΣ-ΓΙΑΝΝΑΚΙΔΗΣ ΣΑΒΒΑΣ-ΓΕΡΑΣΙΜΟΣ",1995,"Μ.Γ.Σ.ΑΠΟΛΛΩΝ ΚΑΛΑΜΑΡΙΑΣ","Β"]
[8599,"F","ΑΝΔΡΕΑΔΟΥ ΕΙΡΗΝΗ",1976,"Φ.Σ.ΚΑΛΛΙΘΕΑΣ","Θ"]
[9967,"F","ΑΝΔΡΕΑΔΟΥ ΜΑΡΙΑ",1980,"Φ.Ο.Α.ΝΕΑΠΟΛΗΣ","Β"]
[28316,"F","ΑΝΔΡΕΑΔΟΥ ΜΕΛΙΝΑ",1999,"Μ.Γ.Σ.ΑΠΟΛΛΩΝ ΚΑΛΑΜΑΡΙΑΣ","Β"]
[26356,"M","ΑΝΔΡΕΑΚΗΣ ΑΝΔΡΕΑΣ",1995,"Α.Σ.ΚΑΡΠΕΝΗΣΙ ΤΕΝΙΣ ΚΛΑΜΠ","Ε"]
[24960,"M","ΑΝΔΡΕΑΚΟΣ ΝΙΚΟΛΑΟΣ",1992,"Ο.Α.ΚΑΛΑΜΑΤΑΣ","ΣΤ"]
[33409,"F","ΑΝΔΡΕΑΝΙΔΗ ΒΑΣΙΛΙΚΗ",2002,"Α.Γ.Ο.ΦΙΛΙΠΠΙΑΔΑΣ","Δ"]
[23518,"M","ΑΝΔΡΕΑΝΙΔΗΣ ΑΛΕΞΑΝΔΡΟΣ",1998,"Ο.Α.ΠΤΟΛΕΜΑΪΔΑΣ","Γ"]
[23519,"M","ΑΝΔΡΕΑΝΙΔΗΣ ΒΑΣΙΛΕΙΟΣ",1996,"Ο.Α.ΠΤΟΛΕΜΑΪΔΑΣ","Γ"]
[29432,"F","ΑΝΔΡΕΑΝΙΔΟΥ ΑΝΝΑ-ΜΑΡΙΑ",2001,"Α.Ο.Α.ΣΤΑΥΡΟΥΠΟΛΗΣ ΙΦΙΤΟΣ","Β"]
[32268,"F","ΑΝΔΡΕΑΣΙΔΟΥ ΕΙΡΗΝΗ",1996,"Φ.Ο.Α.ΝΕΑΠΟΛΗΣ","Β"]
[32267,"F","ΑΝΔΡΕΑΣΙΔΟΥ ΦΩΤΕΙΝΗ",2001,"Φ.Ο.Α.ΝΕΑΠΟΛΗΣ","Β"]
[15317,"M","ΑΝΔΡΕΑΤΟΣ ΝΙΚΟΛΑΟΣ",1989,"Ο.Α.ΙΩΛΚΟΣ ΒΟΛΟΥ","Ε"]
[13884,"F","ΑΝΔΡΕΑΤΟΥ ΣΤΑΜΑΤΙΑ",1986,"Ο.Α.ΙΩΛΚΟΣ ΒΟΛΟΥ","Ε"]
[915,"M","ΑΝΔΡΕΝΟΣ ΓΕΩΡΓΙΟΣ",1967,"ΠΑΝΕΛΛΗΝΙΟΣ Γ.Σ.","Θ"]
[32012,"M","ΑΝΔΡΕΟΓΛΟΥ ΑΛΕΞΑΝΔΡΟΣ",1996,"Σ.Α.ΔΡΑΜΑΣ","Α"]
[14077,"F","ΑΝΔΡΕΟΠΟΥΛΟΥ ΕΥΓΕΝΙΑ",1987,"ΑΙΟΛΟΣ Α.Λ.ΙΛΙΟΥ","Θ"]
[17041,"F","ΑΝΔΡΕΟΠΟΥΛΟΥ ΜΑΡΙΑ",1992,"Α.Γ.Ο.ΝΑΥΠΑΚΤΟΥ","Δ"]
[18583,"F","ΑΝΔΡΕΟΠΟΥΛΟΥ ΜΑΡΙΑ",1995,"Α.Γ.Ο.ΝΑΥΠΑΚΤΟΥ","Δ"]
[28455,"F","ΑΝΔΡΕΟΠΟΥΛΟΥ ΝΕΦΕΛΗ",2000,"Α.Ο.Α.ΠΑΠΑΓΟΥ","ΙΑ"]
[15723,"F","ΑΝΔΡΕΟΠΟΥΛΟΥ ΟΥΡΑΝΙΑ",1990,"Α.Γ.Ο.ΝΑΥΠΑΚΤΟΥ","Δ"]
[17040,"F","ΑΝΔΡΕΟΠΟΥΛΟΥ ΠΑΝΑΓΙΩΤΑ",1994,"Α.Γ.Ο.ΝΑΥΠΑΚΤΟΥ","Δ"]
[23154,"F","ΑΝΔΡΕΟΠΟΥΛΟΥ ΠΑΝΑΓΙΩΤΑ",1997,"Ο.Α.ΑΓΙΑΣ ΠΑΡΑΣΚΕΥΗΣ","Η"]
[13480,"F","ΑΝΔΡΕΟΠΟΥΛΟΥ ΡΑΪΣΑ-ΜΑΡΙΑ",1987,"Α.Ο.ΦΙΛΙΠΠΟΣ ΠΟΛΥΔΡΟΣΟΥ","Η"]
[5680,"F","ΑΝΔΡΕΟΥ ΑΙΚΑΤΕΡΙΝΗ",1976,"Α.Ο.ΠΟΣΕΙΔΩΝ ΛΟΥΤΡΑΚΙΟΥ","ΣΤ"]
[15001,"M","ΑΝΔΡΕΟΥ ΑΝΤΩΝΗΣ",1987,"Α.Ο.ΓΛΥΦΑΔΑΣ ΦΙΛΙΑ 2000","ΙΑ"]
[15574,"F","ΑΝΔΡΕΟΥ ΒΑΣΙΛΙΚΗ",1983,"Ο.Α.ΝΑΟΥΣΑΣ","Γ"]
[19254,"F","ΑΝΔΡΕΟΥ ΒΑΣΙΛΙΚΗ",1992,"Ο.Α.ΝΑΟΥΣΑΣ","Γ"]
[9981,"F","ΑΝΔΡΕΟΥ ΒΑΣΩ",1979,"Φ.Ο.Α.ΝΕΑΠΟΛΗΣ","Β"]
[8523,"F","ΑΝΔΡΕΟΥ ΔΗΜΗΤΡΑ",1979,"Ο.Α.ΣΑΛΑΜΙΝΑΣ","Θ"]
[15000,"M","ΑΝΔΡΕΟΥ ΔΗΜΗΤΡΗΣ",1988,"Α.Ν.Ο.ΓΛΥΦΑΔΑΣ","ΙΑ"]
[11577,"M","ΑΝΔΡΕΟΥ ΔΗΜΗΤΡΙΟΣ",1988,"Α.Ε.ΠΟΡΤΟ ΡΑΦΤΗ","Η"]
[12269,"M","ΑΝΔΡΕΟΥ ΕΥΘΥΜΙΟΣ",1984,"Δ.Α.Σ.ΑΝΩ ΛΙΟΣΙΩΝ","Θ"]
[9493,"M","ΑΝΔΡΕΟΥ ΗΛΙΑΣ",1979,"ΦΘΙΩΤΙΚΟΣ Ο.Α.","Ε"]
[35565,"M","ΑΝΔΡΕΟΥ ΗΛΙΑΣ-ΡΑΦΑΗΛ",2002,"Ο.Α.ΚΩ","Θ"]
[11578,"F","ΑΝΔΡΕΟΥ ΚΑΛΛΙΟΠΗ",1987,"Α.Ε.ΠΟΡΤΟ ΡΑΦΤΗ","Η"]
[5681,"F","ΑΝΔΡΕΟΥ ΚΩΝΣΤΑΝΤΙΝΑ",1978,"Α.Ο.ΠΟΣΕΙΔΩΝ ΛΟΥΤΡΑΚΙΟΥ","ΣΤ"]
[15355,"F","ΑΝΔΡΕΟΥ ΜΑΡΓΑΡΙΤΑ",1990,"Σ.Α.ΣΕΡΡΩΝ","Α"]
[22684,"F","ΑΝΔΡΕΟΥ ΜΑΡΙΑΝΝΑ",1993,"Α.Σ.Α.ΛΑΡΙΣΑΣ","Ε"]
[20273,"F","ΑΝΔΡΕΟΥ ΠΑΡΑΣΚΕΥΗ-ΖΩΗ",1991,"Α.Σ.Α.ΛΑΡΙΣΑΣ","Ε"]
[32224,"F","ΑΝΔΡΕΟΥ ΣΤΑΜΑΤΙΝΑ",2000,"Ο.Α.ΣΑΛΑΜΙΝΑΣ","Θ"]
[28269,"M","ΑΝΔΡΕΟΥ ΣΤΕΡΓΙΟΣ",1999,"Α.Ψ.Λ.ΜΕΔΕΩΝ","Ε"]
[15354,"F","ΑΝΔΡΕΟΥ ΤΡΙΑΝΤΑΦΥΛΛΙΑ",1989,"Σ.Α.ΣΕΡΡΩΝ","Α"]
[8835,"M","ΑΝΔΡΕΟΥ ΧΡΗΣΤΟΣ",1978,"Ο.Α.ΝΑΟΥΣΑΣ","Γ"]
[26683,"M","ΑΝΔΡΕΟΥ ΧΡΗΣΤΟΣ",1978,"Ο.Α.Ο ΦΙΛΑΘΛΟΣ","Η"]
[18826,"M","ΑΝΔΡΕΟΥ-ΖΑΦΕΙΡΑΤΟΣ ΑΝΔΡΕΑΣ-ΒΙΤΤΟΡΙΟ",1991,"Α.Ο.Α.ΧΑΪΔΑΡΙΟΥ","Θ"]
[11891,"M","ΑΝΔΡΕΣΑΚΗΣ ΑΛΕΞΑΝΔΡΟΣ",1985,"ΑΙΟΛΟΣ Α.Λ.ΙΛΙΟΥ","Θ"]
[34025,"F","ΑΝΔΡΕΩΛΑ ΑΘΗΝΑ",1972,"ΖΑΚΥΝΘΙΝΟΣ Α.Ο.Α","ΣΤ"]
[9456,"F","ΑΝΔΡΙΑΝΑΚΗ ΜΑΡΙΑ",1985,"Α.Ο.Α.ΑΙΓΑΛΕΩ 92","Θ"]
[25904,"M","ΑΝΔΡΙΑΝΑΚΟΣ ΓΕΩΡΓΙΟΣ",1994,"Σ.Α.ΤΡΙΠΟΛΗΣ","ΣΤ"]
[5665,"M","ΑΝΔΡΙΑΝΑΚΟΣ ΠΑΝΑΓΙΩΤΗΣ",1976,"Α.Ο.Α./Χ.ΤΡΙΠΟΛΗΣ","ΣΤ"]
[21686,"F","ΑΝΔΡΙΑΝΑΚΟΥ ΑΝΘΟΥΛΑ-ΗΛΙΑΝΝΑ",1995,"Σ.Α.ΤΡΙΠΟΛΗΣ","ΣΤ"]
[21685,"F","ΑΝΔΡΙΑΝΑΚΟΥ ΓΕΩΡΓΙΑ",1994,"Σ.Α.ΤΡΙΠΟΛΗΣ","ΣΤ"]
[25906,"F","ΑΝΔΡΙΑΝΑΚΟΥ ΧΡΥΣΑΝΘΗ",1996,"Σ.Α.ΤΡΙΠΟΛΗΣ","ΣΤ"]
[24238,"F","ΑΝΔΡΙΑΝΝΗ ΜΠΕΜΠΛΙΔΑΚΗ",1996,"Ο.Α.ΧΑΝΙΩΝ","Ζ"]
[5274,"M","ΑΝΔΡΙΑΝΟΠΟΥΛΟΣ ΑΠΟΣΤΟΛΟΣ",1974,"Α.Ο.Α./Χ.ΤΡΙΠΟΛΗΣ","ΣΤ"]
[6683,"M","ΑΝΔΡΙΑΝΟΠΟΥΛΟΣ ΓΕΩΡΓΙΟΣ",1980,"Α.Σ.ΠΑΠΑΓΟΥ","ΙΑ"]
[12481,"M","ΑΝΔΡΙΑΝΟΠΟΥΛΟΣ ΓΕΩΡΓΙΟΣ",1985,"Α.Ο.ΜΥΤΙΛΗΝΗΣ","Θ"]
[33868,"M","ΑΝΔΡΙΑΝΟΠΟΥΛΟΣ ΓΕΩΡΓΙΟΣ",1987,"Φ.Ο.Α.ΝΕΑΠΟΛΗΣ","Β"]
[13027,"M","ΑΝΔΡΙΑΝΟΠΟΥΛΟΣ ΚΩΝΣΤΑΝΤΙΝΟΣ",1986,"Α.Ο.Α.ΠΑΠΑΓΟΥ","ΙΑ"]
[15248,"M","ΑΝΔΡΙΑΝΟΠΟΥΛΟΣ ΝΙΚΟΛΑΟΣ",1986,"Ο.Α.ΚΑΤΕΡΙΝΗΣ","Γ"]
[25424,"M","ΑΝΔΡΙΑΝΟΠΟΥΛΟΣ ΠΑΝΑΓΙΩΤΗΣ",1992,"Α.Ε.Κ.ΤΡΙΠΟΛΗΣ","ΣΤ"]
[25981,"M","ΑΝΔΡΙΑΝΟΠΟΥΛΟΣ ΧΡΗΣΤΟΣ",1996,"Ο.Α.ΓΟΥΔΙΟΥ","ΙΑ"]
[6684,"F","ΑΝΔΡΙΑΝΟΠΟΥΛΟΥ ΜΑΙΡΗ-ΡΟΟΥΖ",1984,"Α.Σ.ΠΑΠΑΓΟΥ","ΙΑ"]
[13014,"F","ΑΝΔΡΙΑΝΟΠΟΥΛΟΥ ΜΑΡΙΑ",1983,"Ο.Α.ΚΑΤΕΡΙΝΗΣ","Γ"]
[21081,"F","ΑΝΔΡΙΑΝΟΠΟΥΛΟΥ ΜΑΡΙΑ",1988,"Ο.Α.ΣΥΡΟΥ","Η"]
[38205,"F","ΑΝΔΡΙΑΝΟΠΟΥΛΟΥ ΣΤΑΥΡΟΥΛΑ",1983,"Ο.Α.ΚΑΛΑΜΑΤΑΣ","ΣΤ"]
[12024,"M","ΑΝΔΡΙΑΝΟΣ ΜΙΧΑΗΛ",1986,"Α.Ο.Α.ΦΙΛΟΘΕΗΣ","Η"]
[12025,"M","ΑΝΔΡΙΑΝΟΣ ΠΑΝΑΓΙΩΤΗΣ",1987,"Α.Ο.Α.ΦΙΛΟΘΕΗΣ","Η"]
[15408,"F","ΑΝΔΡΙΑΝΟΥ ΒΑΣΙΛΙΚΗ",1986,"Ο.Α.ΣΟΥΔΑΣ","Ζ"]
[19107,"F","ΑΝΔΡΙΑΝΟΥ ΓΕΩΡΓΙΑ",1992,"Α.Ο.ΜΟΡΤΕΡΟΥ","Η"]
[23596,"F","ΑΝΔΡΙΑΝΟΥ ΙΩΑΝΝΑ",1988,"Ο.Α.ΣΑΛΑΜΙΝΑΣ","Θ"]
[18054,"M","ΑΝΔΡΙΑΝΟΥ ΡΑΦΑΗΛ",1991,"Ο.Α.ΣΑΛΑΜΙΝΑΣ","Θ"]
[6472,"M","ΑΝΔΡΙΑΝΟΥΠΟΛΙΤΗΣ ΒΑΣΙΛΕΙΟΣ",1976,"Γ.Σ.ΗΛΙΟΥΠΟΛΗΣ","ΙΑ"]
[9999,"M","ΑΝΔΡΙΕΛΗΣ ΧΑΡΑΛΑΜΠΟΣ",1968,"Λ.Α.ΚΟΜΟΤΗΝΗΣ","Α"]
[26891,"M","ΑΝΔΡΙΚΟΠΟΥΛΟΣ ΑΓΓΕΛΟΣ",1998,"Ο.Α.ΠΑΡΟΥ","Η"]
[18808,"M","ΑΝΔΡΙΚΟΠΟΥΛΟΣ ΑΛΕΞΑΝΔΡΟΣ",1989,"Α.Ο.Α.ΗΛΙΟΥΠΟΛΗΣ","ΙΑ"]
[6599,"M","ΑΝΔΡΙΚΟΠΟΥΛΟΣ ΑΝΑΣΤΑΣΙΟΣ",1980,"Α.Ο.Π.ΦΑΛΗΡΟΥ","ΙΑ"]
[1332,"M","ΑΝΔΡΙΚΟΠΟΥΛΟΣ ΑΝΔΡΕΑΣ",1970,"Α.Κ.ΖΩΓΡΑΦΟΥ","ΙΑ"]
[12172,"M","ΑΝΔΡΙΚΟΠΟΥΛΟΣ ΕΥΑΓΓΕΛΟΣ",1987,"Ο.Α.ΓΛΥΦΑΔΑΣ","ΙΑ"]
[1875,"M","ΑΝΔΡΙΚΟΠΟΥΛΟΣ ΘΕΟΔΩΡΟΣ",1971,"Ο.Α.ΑΘΗΝΩΝ","Η"]
[24382,"M","ΑΝΔΡΙΚΟΠΟΥΛΟΣ ΚΩΝΣΤΑΝΤΙΝΟΣ",1997,"Α.Ο.Α.ΠΑΤΡΩΝ","ΣΤ"]
[31976,"F","ΑΝΔΡΙΚΟΠΟΥΛΟΥ ΑΙΚΑΤΕΡΙΝΗ",1996,"Α.Ο.Α.ΗΛΙΟΥΠΟΛΗΣ","ΙΑ"]
[12798,"F","ΑΝΔΡΙΚΟΠΟΥΛΟΥ ΒΙΚΤΩΡΙΑ-ΜΑΡΙΑ",1984,"Α.Ο.ΜΑΡΚΟΠΟΥΛΟΥ","Η"]
[17179,"F","ΑΝΔΡΙΚΟΠΟΥΛΟΥ ΜΕΛΙΝΑ",1989,"Α.Α.Α.ΑΛΙΜΟΥ","ΙΑ"]
[29222,"F","ΑΝΔΡΙΚΟΠΟΥΛΟΥ-ΤΖΙΜΠΕΛΛΙΝΙ ΙΡΙΣ",1996,"Α.Ε.ΠΟΡΤΟ ΡΑΦΤΗ","Η"]
[15352,"M","ΑΝΔΡΙΚΟΣ ΠΑΝΑΓΙΩΤΗΣ",1990,"Σ.Α.ΣΕΡΡΩΝ","Α"]
[4993,"M","ΑΝΔΡΙΚΟΣ ΠΡΟΚΟΠΗΣ",1976,"Ο.Α.ΧΑΛΚΙΔΑΣ","Θ"]
[15273,"F","ΑΝΔΡΙΚΟΥ ΠΟΛΥΞΕΝΗ",1984,"Α.Σ.Α.ΜΥΤΙΛΗΝΗΣ","Θ"]
[28967,"M","ΑΝΔΡΙΝΟΠΟΥΛΟΣ ΔΗΜΗΤΡΙΟΣ-ΓΕΡΑΡΔΟΣ",1991,"Α.Κ.ΖΩΓΡΑΦΟΥ","ΙΑ"]
[31561,"F","ΑΝΔΡΙΟΛΑ ΜΑΡΙΑ",2001,"Γ.Σ.ΛΙΒΥΚΟΣ ΙΕΡΑΠΕΤΡΑΣ","Ζ"]
[28546,"M","ΑΝΔΡΙΟΠΟΥΛΟΣ ΚΩΝΣΤΑΝΤΙΝΟΣ",1999,"Α.Ο.Α.ΠΑΤΡΩΝ","ΣΤ"]
[30563,"F","ΑΝΔΡΙΟΠΟΥΛΟΥ ΑΓΓΕΛΙΚΗ-ΑΘΑΝΑΣΙΑ",2002,"Α.Ε.Τ.ΝΙΚΗ ΠΑΤΡΩΝ","ΣΤ"]
[15761,"F","ΑΝΔΡΙΟΠΟΥΛΟΥ ΕΒΙΤΑ",1989,"Ο.Α.ΝΕΟΥ ΦΑΛΗΡΟΥ","Θ"]
[11685,"F","ΑΝΔΡΙΟΠΟΥΛΟΥ ΜΑΡΙΑ",1976,"Α.Ο.ΑΛΦΕΙΟΣ ΕΠΙΤΑΛΙΟΥ","ΣΤ"]
[30580,"F","ΑΝΔΡΙΟΠΟΥΛΟΥ ΜΑΡΙΑ",2000,"Α.Ν.Ο.ΓΛΥΦΑΔΑΣ","ΙΑ"]
[22178,"F","ΑΝΔΡΙΤΣΑΚΗ ΕΛΕΝΗ",1994,"ΠΕΥΚΗ Γ.ΚΑΛΟΒΕΛΩΝΗΣ","Η"]
[1304,"M","ΑΝΔΡΙΤΣΑΚΗΣ ΙΩΑΝΝΗΣ",1967,"Σ.Α.ΣΕΡΡΩΝ","Α"]
[2103,"M","ΑΝΔΡΙΤΣΑΝΟΣ ΒΑΣΙΛΗΣ",1973,"Ο.Α.ΓΛΥΦΑΔΑΣ","ΙΑ"]
[2407,"M","ΑΝΔΡΙΤΣΑΝΟΣ ΓΙΩΡΓΟΣ",1975,"Ο.Α.ΓΛΥΦΑΔΑΣ","ΙΑ"]
[14995,"M","ΑΝΔΡΙΤΣΟΠΟΥΛΟΣ ΑΝΔΡΕΑΣ",1987,"Σ.Α.ΓΑΛΑΤΣΙΟΥ","Θ"]
[2072,"M","ΑΝΔΡΙΤΣΟΠΟΥΛΟΣ ΙΩΑΝΝΗΣ",1969,"Ο.Α.ΙΩΑΝΝΙΝΩΝ","Δ"]
[23883,"M","ΑΝΔΡΙΤΣΟΣ ΓΕΩΡΓΙΟΣ",1991,"ΠΕΥΚΗ Γ.ΚΑΛΟΒΕΛΩΝΗΣ","Η"]
[20314,"F","ΑΝΔΡΙΤΣΟΥ ΠΑΝΑΓΙΩΤΑ",1992,"Σ.Α.ΓΑΛΑΤΣΙΟΥ","Θ"]
[7408,"F","ΑΝΔΡΙΩΤΗ ΖΩΗ",1981,"Α.Ο.Α.ΧΑΪΔΑΡΙΟΥ","Θ"]
[15415,"F","ΑΝΔΡΙΩΤΗ ΚΛΕΑΝΘΗ",1987,"Ο.Α.ΣΟΥΔΑΣ","Ζ"]
[14147,"F","ΑΝΔΡΙΩΤΗ ΧΡΙΣΤΙΝΑ-ΑΙΚΑΤΕΡΙΝΗ",1988,"ΚΕΡΚΥΡΑΪΚΗ Λ.Τ.","Δ"]
[12264,"M","ΑΝΔΡΙΩΤΗΣ ΑΛΕΞΑΝΔΡΟΣ",1985,"Δ.Α.Σ.ΑΝΩ ΛΙΟΣΙΩΝ","Θ"]
[33108,"M","ΑΝΔΡΙΩΤΗΣ ΑΝΑΣΤΑΣΙΟΣ",2002,"Ο.Α.ΚΕΡΚΥΡΑΣ","Δ"]
[7410,"M","ΑΝΔΡΙΩΤΗΣ ΙΩΑΝΝΗΣ",1982,"Α.Ο.Α.ΧΑΪΔΑΡΙΟΥ","Θ"]
[34032,"M","ΑΝΔΡΙΩΤΗΣ ΠΑΝΑΓΙΩΤΗΣ",1982,"Α.Ο.ΚΥΔΩΝΙΑΣ","Ζ"]
[19883,"F","ΑΝΔΡΟΝΙΚΙΔΗ ΑΙΚΑΤΕΡΙΝΗ-ΑΝΝΑ",1994,"Ο.Α.& Α.ΜΑΛΙΩΝ","Ζ"]
[25093,"M","ΑΝΔΡΟΝΙΚΟΥ ΚΩΝΣΤΑΝΤΙΝΟΣ",1992,"Ο.Α.ΑΡΙΔΑΙΑΣ","Γ"]
[18457,"F","ΑΝΔΡΟΥΛΑΚΗ ΓΡΗΓΟΡΙΑ-ΜΑΡΙΑ",1987,"Ο.Α.ΣΟΥΔΑΣ","Ζ"]
[10919,"F","ΑΝΔΡΟΥΛΑΚΗ ΕΛΕΟΥΣΑ",1981,"Ο.Α.ΙΑΛΥΣΣΟΣ ΡΟΔΟΥ","Θ"]
[29986,"F","ΑΝΔΡΟΥΛΑΚΗ ΙΩΑΝΝΑ-ΜΕΛΙΤΙΝΗ",2000,"Ο.Α.ΚΑΙΣΑΡΙΑΝΗΣ","Θ"]
[4731,"F","ΑΝΔΡΟΥΛΑΚΗ ΝΑΤΑΛΙΑ",1975,"Α.Ο.ΒΟΥΛΙΑΓΜΕΝΗΣ","ΙΑ"]
[16431,"F","ΑΝΔΡΟΥΛΑΚΗ ΣΤΕΛΛΑ",1987,"Ο.Α.ΣΟΥΔΑΣ","Ζ"]
[10920,"M","ΑΝΔΡΟΥΛΑΚΗΣ ΘΕΟΔΩΡΟΣ",1986,"Ο.Α.ΙΑΛΥΣΣΟΣ ΡΟΔΟΥ","Θ"]
[34243,"M","ΑΝΔΡΟΥΛΑΚΗΣ ΚΩΝΣΤΑΝΤΙΝΟΣ",2002,"Α.Ο.Α.ΧΑΪΔΑΡΙΟΥ","Θ"]
[21672,"M","ΑΝΔΡΟΥΛΑΚΗΣ ΜΑΡΚΟΣ",1992,"Γ.Σ.ΛΙΒΥΚΟΣ ΙΕΡΑΠΕΤΡΑΣ","Ζ"]
[9090,"M","ΑΝΔΡΟΥΛΑΚΗΣ ΝΙΚΟΛΑΟΣ",1983,"Ο.Α.ΣΟΥΔΑΣ","Ζ"]
[19579,"M","ΑΝΔΡΟΥΛΑΚΗΣ ΟΡΕΣΤΗΣ",1993,"Ο.Α.ΧΑΝΙΩΝ","Ζ"]
[3022,"M","ΑΝΔΡΟΥΛΙΔΑΚΗΣ ΓΙΑΝΝΗΣ",1978,"Α.Μ.Σ.ΠΑΝΟΡΑΜΑΤΟΣ","Β"]
[23357,"M","ΑΝΔΡΟΥΤΣΕΛΗΣ ΑΛΕΞΙΟΣ",1996,"Α.Ο.Α.ΠΑΤΡΩΝ","ΣΤ"]
[15936,"M","ΑΝΔΡΟΥΤΣΕΛΗΣ ΘΩΜΑΣ",1990,"Α.Ο.Α.ΠΑΤΡΩΝ","ΣΤ"]
[17656,"M","ΑΝΔΡΟΥΤΣΕΛΗΣ ΙΩΑΝΝΗΣ",1992,"Α.Ο.Α.ΠΑΤΡΩΝ","ΣΤ"]
[7428,"M","ΑΝΔΡΟΥΤΣΟΠΟΥΛΟΣ ΜΙΧΑΗΛ",1978,"Ο.Α.ΚΕΡΚΥΡΑΣ","Δ"]
[28042,"F","ΑΝΔΡΟΥΤΣΟΠΟΥΛΟΥ ΑΛΕΞΑΝΔΡΑ",1992,"ΦΙΛΑΘΛ.ΟΜΙΛΟΣ ΠΥΡΓΟΥ","ΣΤ"]
[28541,"F","ΑΝΔΡΟΥΤΣΟΠΟΥΛΟΥ ΜΑΡΙΑ-ΑΙΚΑΤΕΡΙΝΗ",2000,"Α.Ε.Τ.ΝΙΚΗ ΠΑΤΡΩΝ","ΣΤ"]
[31065,"F","ΑΝΔΡΟΥΤΣΟΠΟΥΛΟΥ ΧΡΙΣΤΙΝΑ",1996,"Ο.Α.ΑΓΙΩΝ ΑΝΑΡΓΥΡΩΝ","Θ"]
[23356,"M","ΑΝΔΡΟΥΤΣΟΣ ΑΛΕΞΑΝΔΡΟΣ",1996,"Α.Ο.Α.ΠΑΤΡΩΝ","ΣΤ"]
[33601,"M","ΑΝΔΡΟΥΤΣΟΣ ΑΡΙΣΤΟΤΕΛΗΣ",2002,"Ο.Α.ΞΥΛΟΚΑΣΤΡΟΥ ΣΥΘΑΣ","ΣΤ"]
[26137,"M","ΑΝΔΡΟΥΤΣΟΣ ΓΕΩΡΓΙΟΣ",1995,"ΑΙΟΛΟΣ Α.Λ.ΙΛΙΟΥ","Θ"]
[5512,"M","ΑΝΔΡΟΥΤΣΟΣ ΣΤΥΛΙΑΝΟΣ",1978,"Ο.Α.ΒΟΛΟΥ","Ε"]
[28824,"F","ΑΝΔΡΟΥΤΣΟΥ ΕΛΕΝΗ",1996,"ΡΗΓΑΣ Α.Ο.Α.ΑΡΓΟΛΙΔΑΣ","ΣΤ"]
[4505,"F","ΑΝΔΡΟΥΤΣΟΥ ΛΟΡΕΝΑ",1980,"Α.Ο.ΑΛΦΕΙΟΣ ΕΠΙΤΑΛΙΟΥ","ΣΤ"]
[24657,"F","ΑΝΔΡΩΝΗ ΑΘΗΝΑ",1997,"Ο.Α.ΑΓΙΑΣ ΠΑΡΑΣΚΕΥΗΣ","Η"]
[26190,"M","ΑΝΔΡΩΝΗΣ ΙΩΑΝΝΗΣ",1999,"Α.Ο.Α.ΦΙΛΟΘΕΗΣ","Η"]
[27737,"M","ΑΝΕΖΙΝΗΣ ΔΗΜΗΤΡΙΟΣ",2002,"Α.Α.ΑΙΓΑΛΕΩ","Θ"]
[39029,"F","ΑΝΕΖΥΡΗ ΒΑΣΙΛΙΚΗ",2002,"Α.Ο.Α.ΗΛΙΟΥΠΟΛΗΣ","ΙΑ"]
[32392,"M","ΑΝΕΜΟΖΑΛΗΣ ΚΩΝΣΤΑΝΤΙΝΟΣ",2000,"ΑΙΟΛΟΣ Α.Λ.ΙΛΙΟΥ","Θ"]
[16649,"F","ΑΝΕΜΟΥΔΗ ΚΑΛΛΙΡΟΗ",1985,"Μ.Γ.Σ.ΑΠΟΛΛΩΝ ΚΑΛΑΜΑΡΙΑΣ","Β"]
[27463,"M","ΑΝΕΣΙΑΔΗΣ ΧΑΡΑΛΑΜΠΟΣ",1971,"Α.Ο.Α.ΣΤΑΥΡΟΥΠΟΛΗΣ ΙΦΙΤΟΣ","Β"]
[31595,"M","ΑΝΕΣΙΔΗΣ ΔΗΜΗΤΡΙΟΣ",2002,"Α.Ο.Α.ΠΑΤΡΩΝ","ΣΤ"]
[11194,"F","ΑΝΕΣΤΗ ΑΝΑΣΤΑΣΙΑ",1984,"Α.Ο.ΒΑΡΗΣ ΑΝΑΓΥΡΟΥΣ","Η"]
[8176,"M","ΑΝΕΣΤΗΣ ΑΠΟΣΤΟΛΟΣ",1980,"Ο.Α.ΚΑΙΣΑΡΙΑΝΗΣ","Θ"]
[11195,"M","ΑΝΕΣΤΗΣ ΓΕΩΡΓΙΟΣ",1987,"Α.Ο.ΒΑΡΗΣ ΑΝΑΓΥΡΟΥΣ","Η"]
[11967,"M","ΑΝΕΣΤΟΠΟΥΛΟΣ ΙΩΑΝΝΗΣ",1983,"Ο.Α.ΛΑΜΙΑΣ","Ε"]
[1377,"M","ΑΝΕΣΤΟΠΟΥΛΟΣ ΚΩΝΣΤΑΝΤΙΝΟΣ",1971,"Α.Κ.ΖΩΓΡΑΦΟΥ","ΙΑ"]
[16651,"M","ΑΝΕΤΟΠΟΥΛΟΣ ΣΤΑΥΡΟΣ-ΤΣΕΦΡΙ-ΡΙΤΣΑΡΝΤ",1990,"Ο.Α.ΙΩΛΚΟΣ ΒΟΛΟΥ","Ε"]
[29954,"F","ΑΝΗΣΙΜΩΦ ΠΑΥΛΙΝΑ",2000,"Α.Ο.ΣΙΚΥΩΝΟΣ ΚΙΑΤΟΥ","ΣΤ"]
[12527,"F","ΑΝΗΨΗΤΑΚΗ ΜΑΝΤΑΛΕΝΑ",1987,"Ο.Α.ΣΗΤΕΙΑΣ","Ζ"]
[18255,"M","ΑΝΗΨΗΤΑΚΗΣ ΑΝΔΡΕΑΣ",1990,"Ο.Α.ΣΗΤΕΙΑΣ","Ζ"]
[20671,"F","ΑΝΘΗ ΑΝΑΪΣ-ΑΠΟΛΛΙΝΑ-ΛΕΟΝΣ",1995,"Ο.Α.ΚΕΡΚΥΡΑΣ","Δ"]
[19817,"F","ΑΝΘΗ ΕΙΡΗΝΗ-ΣΟΦΙΑ",1990,"Ο.Α.ΚΕΡΚΥΡΑΣ","Δ"]
[23478,"F","ΑΝΘΗ ΦΩΤΕΙΝΗ-ΑΙΚΑΤΕΡΙΝΗ",1991,"Ο.Α.ΠΑΝΟΡΑΜΑΤΟΣ","Β"]
[22361,"F","ΑΝΘΗ ΧΛΟΗ-ΜΑΡΙ",1993,"ΚΕΡΚΥΡΑΪΚΗ Λ.Τ.","Δ"]
[18146,"M","ΑΝΘΗΣ ΑΛΕΞΑΝΔΡΟΣ-ΕΡΜΑΝ",1992,"Ο.Α.ΚΕΡΚΥΡΑΣ","Δ"]
[13650,"M","ΑΝΘΗΣ ΘΩΜΑΣ",1982,"Ο.Α.ΚΕΡΚΥΡΑΣ","Δ"]
[4554,"M","ΑΝΘΗΣ ΝΙΚΟΛΑΟΣ",1976,"Ο.Α.ΚΕΡΚΥΡΑΣ","Δ"]
[19639,"M","ΑΝΘΗΣ ΦΟΙΒΟΣ",1994,"Ο.Α.ΚΕΡΚΥΡΑΣ","Δ"]
[6567,"M","ΑΝΘΙΔΗΣ ΔΗΜΗΤΡΙΟΣ",1972,"Ε.Φ.Τ.ΑΙΟΛΙΚΗ","Β"]
[14039,"M","ΑΝΘΙΜΟΣ ΕΥΑΓΓΕΛΟΣ",1986,"Ο.Α.ΘΕΣΣΑΛΟΝΙΚΗΣ","Β"]
[31127,"M","ΑΝΘΙΜΟΥ ΔΗΜΗΤΡΙΟΣ",1979,"Ε.Α.Σ.ΟΛΥΜΠΙΑΔΑ","Β"]
[9913,"M","ΑΝΘΟΠΟΥΛΟΣ ΣΤΑΥΡΟΣ",1976,"Ο.Α.ΝΑΟΥΣΑΣ","Γ"]
[16409,"M","ΑΝΘΟΠΟΥΛΟΣ ΧΑΡΑΛΑΜΠΟΣ",1989,"Ο.Α.ΞΑΝΘΗΣ","Α"]
[5832,"F","ΑΝΘΟΠΟΥΛΟΥ ΕΥΑ",1980,"Α.Α.ΑΛΜΠΑΤΡΟΣ","Β"]
[16332,"F","ΑΝΘΟΥΛΗ ΠΑΝΑΓΙΩΤΑ",1990,"Ο.Α.ΑΓΙΑΣ ΠΑΡΑΣΚΕΥΗΣ","Η"]
[27704,"M","ΑΝΘΟΥΛΗΣ ΚΩΝΣΤΑΝΤΙΝΟΣ",1994,"Ο.Α.ΠΤΟΛΕΜΑΪΔΑΣ","Γ"]
[18848,"M","ΑΝΘΥΜΙΑΔΗΣ ΑΠΟΣΤΟΛΟΣ",1991,"Ο.Α.ΕΥΟΣΜΟΥ ΘΕΣΣΑΛΟΝΙΚΗΣ","Β"]
[18713,"F","ΑΝΝΗ ΑΝΝΑ",1993,"Α.Ο.Α.ΧΑΪΔΑΡΙΟΥ","Θ"]
[34031,"M","ΑΝΡΙΩΤΗΣ ΣΤΥΛΙΑΝΟΣ",1984,"Α.Ο.ΚΥΔΩΝΙΑΣ","Ζ"]
[34660,"M","ΑΝΣΤΑΣΑΚΗΣ ΝΙΚΗΦΟΡΟΣ",2001,"ΠΑΝΕΛΛΗΝΙΟΣ Γ.Σ.","Θ"]
[27911,"F","ΑΝΤΑΛΗ ΙΦΙΓΕΝΕΙΑ",1996,"Ο.Α.ΛΑΡΙΣΑΣ","Ε"]
[2959,"F","ΑΝΤΑΛΗ ΣΟΦΙΑ",1970,"Ο.Α.ΒΙΚΕΛΑΣ ΒΕΡΟΙΑΣ","Γ"]
[90064,"M","ΑΝΤΑΜ-ΜΠΑΤΕΣΟΝ ΤΕΟ",1997,"Α.Σ.ΠΕΡΑ","ΙΑ"]
[34034,"M","ΑΝΤΑΣΟΥΡΟΣ ΓΕΩΡΓΙΟΣ",1983,"Α.Ο.ΚΥΔΩΝΙΑΣ","Ζ"]
[12949,"F","ΑΝΤΕΝΑ ΑΘΗΝΑ",1981,"Α.Ο.ΜΥΤΙΛΗΝΗΣ","Θ"]
[21350,"M","ΑΝΤΕΡΣΟΝ ΚΡΙΣΤΙΑΝ-ΑΛΕΞΑΝΔΡΟΣ",1990,"Α.Ο.ΜΕΓΑΣ ΑΛΕΞΑΝΔΡΟΣ","ΙΑ"]
[547,"M","ΑΝΤΖΟΥΛΑΚΟΣ ΓΕΩΡΓΙΟΣ",1967,"Ο.Α.ΛΑΡΙΣΑΣ","Ε"]
[33532,"F","ΑΝΤΖΟΥΛΑΚΟΥ ΑΛΙΚΗ",2002,"Α.Σ.ΟΡΦΕΑΣ ΛΑΡΙΣΑΣ","Ε"]
[21283,"M","ΑΝΤΖΟΥΛΑΤΟΣ ΓΕΩΡΓΙΟΣ-ΝΙΚΟΛΑΟΣ",1994,"Α.Ο.Α.ΠΑΤΡΩΝ","ΣΤ"]
[21624,"F","ΑΝΤΖΟΥΛΑΤΟΥ ΝΙΚΟΛΙΤΣΑ-ΙΩΑΝΝΑ",1991,"Α.Ο.Α.ΠΑΤΡΩΝ","ΣΤ"]
[13165,"F","ΑΝΤΙΜΑΧΙΤΗ ΚΑΛΛΙΟΠΗ",1987,"Ο.Α.ΝΕΟΥ ΦΑΛΗΡΟΥ","Θ"]
[28334,"M","ΑΝΤΙΟΧΟΣ ΠΑΝΑΓΙΩΤΗΣ",1995,"Α.Ο.Α.ΦΙΛΟΘΕΗΣ","Η"]
[32019,"F","ΑΝΤΙΟΧΟΥ ΑΘΗΝΑ",2000,"Ο.Α.ΚΕΡΚΥΡΑΣ","Δ"]
[21785,"F","ΑΝΤΟΝΕΣΚΟΥ ΓΑΒΡΙΕΛΑ",1970,"Α.Ο.Α.ΠΑΤΡΩΝ","ΣΤ"]
[90054,"F","ΑΝΤΟΝΟΒΑ ΑΝΑΣΤΑΣΙΑ",1999,"Α.Κ.ΖΩΓΡΑΦΟΥ","ΙΑ"]
[16630,"F","ΑΝΤΟΥΒΑ ΑΘΗΝΑ",1991,"Α.Ο.Ν.ΣΜΥΡΝΗΣ Ο ΜΙΛΩΝ","ΙΑ"]
[12271,"F","ΑΝΤΟΥΛΙΝΑΚΗ ΣΩΤΗΡΙΑ",1980,"Δ.Α.Σ.ΑΝΩ ΛΙΟΣΙΩΝ","Θ"]
[26007,"M","ΑΝΤΡΙΑΣ ΧΡΗΣΤΟΣ",1998,"ΕΘΝΙΚΟΣ ΠΑΝΟΡΑΜΑΤΟΣ 2005","Β"]
[10199,"M","ΑΝΤΥΠΑΣ ΧΑΡΑΛΑΜΠΟΣ",1971,"ΠΑΝΕΛΛΗΝΙΟΣ Γ.Σ.","Θ"]
[11917,"M","ΑΝΤΥΠΑΣ ΧΑΡΑΛΑΜΠΟΣ",1971,"Α.Ο.ΑΛΦΕΙΟΣ ΕΠΙΤΑΛΙΟΥ","ΣΤ"]
[20485,"F","ΑΝΤΩΝΑΚΑΚΗ ΑΝΝΑ-ΜΑΡΙΑ",1993,"Α.Ο.ΓΛΥΦΑΔΑΣ ΦΙΛΙΑ 2000","ΙΑ"]
[6863,"F","ΑΝΤΩΝΑΚΑΚΗ ΘΕΟΔΩΡΑ",1977,"Σ.Α.ΚΑΤΕΡΙΝΗΣ","Γ"]
[731,"M","ΑΝΤΩΝΑΚΑΚΗΣ ΔΗΜΗΤΡΙΟΣ",1968,"ΗΡΑΚΛΕΙΟ Ο.Α.& Α.","Ζ"]
[26107,"F","ΑΝΤΩΝΑΚΗ ΕΜΜΑΝΟΥΕΛΑ",2000,"Α.Ο.Α.ΑΤΤΙΚΟΣ ΗΛΙΟΣ","Η"]
[26108,"F","ΑΝΤΩΝΑΚΗ ΕΥΓΕΝΙΑ",1998,"Α.Ο.Α.ΑΤΤΙΚΟΣ ΗΛΙΟΣ","Η"]
[17184,"M","ΑΝΤΩΝΑΚΗΣ ΑΝΑΣΤΑΣΙΟΣ",1989,"Ο.Α.ΛΕΣΒΟΥ","Θ"]
[9009,"M","ΑΝΤΩΝΑΚΗΣ ΕΛΕΥΘΕΡΙΟΣ",1980,"Α.Ν.Ο.ΓΛΥΦΑΔΑΣ","ΙΑ"]
[9680,"M","ΑΝΤΩΝΑΚΗΣ ΙΩΑΝΝΗΣ",1984,"Α.Ο.ΛΑΤΩ ΑΓ.ΝΙΚΟΛΑΟΥ","Ζ"]
[8207,"M","ΑΝΤΩΝΑΚΗΣ ΤΡΥΦΩΝ",1983,"Α.Ο.Α.ΦΙΛΟΘΕΗΣ","Η"]
[14644,"F","ΑΝΤΩΝΑΚΟΓΛΟΥ ΙΩΑΝΝΑ",1990,"Α.Ο.Ν.Φ.ΑΤΤΑΛΟΣ","Η"]
[14645,"M","ΑΝΤΩΝΑΚΟΓΛΟΥ ΚΩΝΣΤΑΝΤΙΝΟΣ",1988,"Α.Ο.Ν.Φ.ΑΤΤΑΛΟΣ","Η"]
[2693,"F","ΑΝΤΩΝΑΚΟΠΟΥΛΟΥ ΧΡΙΣΤΙΝΑ",1971,"Α.Ο.ΑΛΦΕΙΟΣ ΕΠΙΤΑΛΙΟΥ","ΣΤ"]
[1256,"M","ΑΝΤΩΝΑΚΟΣ ΑΝΑΣΤΑΣΙΟΣ",1968,"Α.Ο.ΚΗΦΙΣΙΑΣ","Η"]
[6950,"M","ΑΝΤΩΝΑΚΟΣ ΔΗΜΗΤΡΙΟΣ",1985,"ΡΗΓΑΣ Α.Ο.Α.ΑΡΓΟΛΙΔΑΣ","ΣΤ"]
[8825,"M","ΑΝΤΩΝΑΚΟΣ ΙΩΑΝΝΗΣ",1981,"Γ.Σ.ΗΛΙΟΥΠΟΛΗΣ","ΙΑ"]
[32699,"M","ΑΝΤΩΝΑΚΟΣ ΙΩΑΝΝΗΣ",1993,"Ο.Α.ΚΕΡΑΤΣΙΝΙΟΥ","Θ"]
[15684,"M","ΑΝΤΩΝΑΚΟΣ ΠΑΝΑΓΙΩΤΗΣ",1990,"Ο.Α.ΚΑΛΑΜΑΚΙΟΥ","ΙΑ"]
[31017,"M","ΑΝΤΩΝΑΚΟΣ ΠΑΝΑΓΙΩΤΗΣ",2001,"Α.Σ.Ν.ΒΟΥΤΖΑ ΡΑΦΗΝΑΣ Η ΠΡΟΟΔΟΣ","Η"]
[1465,"M","ΑΝΤΩΝΑΚΟΣ ΦΡΕΝΤΥ",1969,"Α.Ο.Α.ΦΙΛΟΘΕΗΣ","Η"]
[32700,"M","ΑΝΤΩΝΑΚΟΣ ΧΑΡΑΛΑΜΠΟΣ",2000,"Ο.Α.ΚΕΡΑΤΣΙΝΙΟΥ","Θ"]
[36542,"F","ΑΝΤΩΝΑΚΟΥ ΠΑΝΑΓΙΩΤΑ",1974,"Α.Ο.ΤΑΤΟΪΟΥ","Η"]
[18409,"M","ΑΝΤΩΝΑΚΟΥΔΗΣ ΜΑΡΚΟΣ",1990,"Ο.Α.ΑΛΕΞΑΝΔΡΟΥΠΟΛΗΣ","Α"]
[12424,"M","ΑΝΤΩΝΑΡΑΚΗΣ ΜΙΧΑΗΛ",1981,"ΡΟΔΙΑΚΟΣ Ο.Α.","Θ"]
[2530,"M","ΑΝΤΩΝΑΡΑΚΟΣ ΝΙΚΟΛΑΟΣ",1971,"Ο.Α.ΑΛΕΞΑΝΔΡΟΥΠΟΛΗΣ","Α"]
[2527,"F","ΑΝΤΩΝΑΡΑΚΟΥ ΕΙΡΗΝΗ",1968,"Ο.Α.ΑΛΕΞΑΝΔΡΟΥΠΟΛΗΣ","Α"]
[30558,"M","ΑΝΤΩΝΑΡΟΣ ΘΕΟΔΩΡΟΣ",1995,"Α.Ο.Α.ΠΟΣΕΙΔΩΝ ΘΕΣΣΑΛΟΝΙΚΗΣ","Β"]
[5123,"M","ΑΝΤΩΝΑΤΟΣ ΑΝΤΩΝΗΣ",1980,"Α.Ο.Α.ΗΛΙΟΥΠΟΛΗΣ","ΙΑ"]
[9694,"M","ΑΝΤΩΝΑΤΟΣ ΒΥΡΩΝ",1983,"ΚΕΦΑΛΛΗΝΙΑΚΟΣ Ο.Α.","ΣΤ"]
[4939,"M","ΑΝΤΩΝΑΤΟΣ ΓΕΡΑΣΙΜΟΣ",1978,"ΚΕΦΑΛΛΗΝΙΑΚΟΣ Ο.Α.","ΣΤ"]
[26089,"M","ΑΝΤΩΝΑΤΟΣ ΓΕΡΑΣΙΜΟΣ",1994,"ΚΕΦΑΛΛΗΝΙΑΚΟΣ Ο.Α.","ΣΤ"]
[4532,"M","ΑΝΤΩΝΑΤΟΣ ΓΕΩΡΓΙΟΣ",1978,"ΚΕΦΑΛΛΗΝΙΑΚΟΣ Ο.Α.","ΣΤ"]
[8577,"M","ΑΝΤΩΝΑΤΟΣ ΙΩΑΝΝΗΣ",1984,"Φ.Σ.ΚΑΛΛΙΘΕΑΣ","Θ"]
[28800,"M","ΑΝΤΩΝΑΤΟΣ ΚΩΝΣΤΑΝΤΙΝΟΣ",1975,"ΚΕΦΑΛΛΗΝΙΑΚΟΣ Ο.Α.","ΣΤ"]
[28015,"M","ΑΝΤΩΝΑΤΟΣ ΣΠΥΡΟΣ",1997,"Ο.Α.ΒΡΙΛΗΣΣΙΩΝ","Η"]
[5125,"F","ΑΝΤΩΝΑΤΟΥ ΑΓΓΕΛΙΚΗ",1976,"Α.Ο.Α.ΗΛΙΟΥΠΟΛΗΣ","ΙΑ"]
[30483,"F","ΑΝΤΩΝΑΤΟΥ ΑΝΝΑ",2001,"ΚΕΦΑΛΛΗΝΙΑΚΟΣ Ο.Α.","ΣΤ"]
[28809,"F","ΑΝΤΩΝΑΤΟΥ ΕΙΡΗΝΗ",2000,"ΚΕΦΑΛΛΗΝΙΑΚΟΣ Ο.Α.","ΣΤ"]
[4534,"F","ΑΝΤΩΝΑΤΟΥ ΚΑΤΕΡΙΝΑ",1975,"ΚΕΦΑΛΛΗΝΙΑΚΟΣ Ο.Α.","ΣΤ"]
[9599,"M","ΑΝΤΩΝΕΛΟΣ ΣΠΥΡΟΣ",1983,"ΚΕΦΑΛΛΗΝΙΑΚΟΣ Ο.Α.","ΣΤ"]
[23059,"F","ΑΝΤΩΝΙΑΔΗ ΑΝΑΣΤΑΣΙΑ",1995,"Ο.Α.ΕΛΕΥΣΙΝΑΣ ΑΙΣΧΥΛΟΣ","Θ"]
[1910,"M","ΑΝΤΩΝΙΑΔΗΣ .",1971,"Ν.Ο.ΘΕΣΣΑΛΟΝΙΚΗΣ","Β"]
[1909,"M","ΑΝΤΩΝΙΑΔΗΣ ΑΘΑΝΑΣΙΟΣ",1969,"Ν.Ο.ΘΕΣΣΑΛΟΝΙΚΗΣ","Β"]
[5342,"M","ΑΝΤΩΝΙΑΔΗΣ ΑΘΑΝΑΣΙΟΣ",1979,"Α.Μ.Ε.Σ.Ν.ΕΡΥΘΡΑΙΑΣ","Η"]
[14031,"M","ΑΝΤΩΝΙΑΔΗΣ ΑΛΕΞΑΝΔΡΟΣ",1989,"Α.Ο.Ν.Φ.ΑΤΤΑΛΟΣ","Η"]
[32908,"M","ΑΝΤΩΝΙΑΔΗΣ ΑΛΕΞΑΝΔΡΟΣ",2000,"Ο.Α.ΘΕΣΣΑΛΟΝΙΚΗΣ","Β"]
[4508,"M","ΑΝΤΩΝΙΑΔΗΣ ΑΠΟΣΤΟΛΟΣ",1978,"Ο.Α.ΚΑΒΑΛΑΣ ΑΛΕΞΑΝΔΡΟΣ","Α"]
[3783,"M","ΑΝΤΩΝΙΑΔΗΣ ΓΕΩΡΓΙΟΣ",1976,"Λ.Α.ΚΟΜΟΤΗΝΗΣ","Α"]
[13401,"M","ΑΝΤΩΝΙΑΔΗΣ ΓΕΩΡΓΙΟΣ",1985,"Α.Σ.ΠΕΡΑ","ΙΑ"]
[16030,"M","ΑΝΤΩΝΙΑΔΗΣ ΓΕΩΡΓΙΟΣ",1986,"Ο.Α.ΞΑΝΘΗΣ","Α"]
[26447,"M","ΑΝΤΩΝΙΑΔΗΣ ΓΕΩΡΓΙΟΣ",1994,"Ο.Α.ΑΝΑΤΟΛΙΚΗΣ ΦΘΙΩΤΙΔΑΣ","Ε"]
[4403,"M","ΑΝΤΩΝΙΑΔΗΣ ΔΗΜΗΤΡΗΣ",1976,"Μ.Γ.Σ.ΑΠΟΛΛΩΝ ΚΑΛΑΜΑΡΙΑΣ","Β"]
[25443,"M","ΑΝΤΩΝΙΑΔΗΣ ΔΗΜΗΤΡΗΣ",1998,"Ο.Α.ΒΟΥΛΙΑΓΜΕΝΗΣ ΜΙΚΡΟΙ ΑΣΣΟΙ","ΙΑ"]
[27809,"M","ΑΝΤΩΝΙΑΔΗΣ ΔΗΜΗΤΡΗΣ-ΠΑΝΑΓΙΩΤΗΣ",2002,"Σ.Α.ΚΑΣΤΟΡΙΑΣ ΠΡΩΤΕΑΣ","Γ"]
[8399,"M","ΑΝΤΩΝΙΑΔΗΣ ΔΗΜΗΤΡΙΟΣ",1981,"Ο.Α.ΤΡΙΚΑΛΩΝ","Ε"]
[27373,"M","ΑΝΤΩΝΙΑΔΗΣ ΔΗΜΗΤΡΙΟΣ",1996,"Ο.Α.ΞΑΝΘΗΣ","Α"]
[37524,"M","ΑΝΤΩΝΙΑΔΗΣ ΕΥΘΥΜΙΟΣ",2002,"Α.Ο.Α.ΗΛΙΟΥΠΟΛΗΣ","ΙΑ"]
[11363,"M","ΑΝΤΩΝΙΑΔΗΣ ΕΥΣΤΡΑΤΙΟΣ",1986,"Σ.Α.ΣΕΡΡΩΝ","Α"]
[38232,"M","ΑΝΤΩΝΙΑΔΗΣ ΘΕΟΔΩΡΟΣ",1970,"Σ.Α.ΣΚΥΔΡΑΣ","Γ"]
[4217,"M","ΑΝΤΩΝΙΑΔΗΣ ΙΩΑΚΕΙΜ",1971,"Α.Σ.Α.ΛΑΡΙΣΑΣ","Ε"]
[10487,"M","ΑΝΤΩΝΙΑΔΗΣ ΜΕΛΕΤΗΣ",1979,"Γ.Σ.ΚΗΦΙΣΙΑΣ","Η"]
[5663,"M","ΑΝΤΩΝΙΑΔΗΣ ΜΙΛΤΙΑΔΗΣ",1979,"Μ.Γ.Σ.ΑΠΟΛΛΩΝ ΚΑΛΑΜΑΡΙΑΣ","Β"]
[33313,"M","ΑΝΤΩΝΙΑΔΗΣ ΜΙΧΑΗΛ",1996,"Ο.Α.ΠΕΙΡΑΙΑ","Θ"]
[35410,"M","ΑΝΤΩΝΙΑΔΗΣ ΜΙΧΑΗΛ-ΝΕΚΤΑΡΙΟΣ",1999,"Ο.Α.ΠΕΤΡΟΥΠΟΛΗΣ","Θ"]
[18608,"M","ΑΝΤΩΝΙΑΔΗΣ ΠΑΝΑΓΙΩΤΗΣ-ΓΕΩΡΓΙΟΣ",1993,"Ο.Α.ΣΟΥΡΩΤΗΣ ΑΛΕΞΑΝΔΡΟΣ","Β"]
[33701,"M","ΑΝΤΩΝΙΑΔΗΣ ΦΩΤΙΟΣ-ΑΝΔΡΕΑΣ",2002,"Α.Ν.Ο.ΓΛΥΦΑΔΑΣ","ΙΑ"]
[5955,"M","ΑΝΤΩΝΙΑΔΗΣ ΧΡΗΣΤΟΣ",1978,"Ο.Α.ΤΡΙΚΑΛΩΝ","Ε"]
[15897,"F","ΑΝΤΩΝΙΑΔΟΥ ΑΓΓΕΛΙΚΗ",1986,"Ο.Α.ΘΕΣΣΑΛΟΝΙΚΗΣ","Β"]
[4507,"F","ΑΝΤΩΝΙΑΔΟΥ ΑΙΚΑΤΕΡΙΝΗ",1978,"Ο.Α.ΚΑΒΑΛΑΣ ΑΛΕΞΑΝΔΡΟΣ","Α"]
[36485,"F","ΑΝΤΩΝΙΑΔΟΥ ΑΙΚΑΤΕΡΙΝΗ",2000,"Σ.Α.ΘΕΣΣΑΛΟΝΙΚΗΣ","Β"]
[16322,"F","ΑΝΤΩΝΙΑΔΟΥ ΑΛΕΞΑΝΔΡΑ",1991,"Ο.Α.ΣΟΥΡΩΤΗΣ ΑΛΕΞΑΝΔΡΟΣ","Β"]
[35673,"F","ΑΝΤΩΝΙΑΔΟΥ ΑΝΑΣΤΑΣΙΑ",1997,"Ο.Α.ΛΑΓΚΑΔΑ ΘΕΣΣΑΛΟΝΙΚΗΣ","Β"]
[29417,"F","ΑΝΤΩΝΙΑΔΟΥ ΑΡΙΑΔΝΗ",2001,"Α.Σ.Α.ΠΑΝΟΡΑΜΑΤΟΣ","Β"]
[11710,"F","ΑΝΤΩΝΙΑΔΟΥ ΒΑΣΙΛΙΚΗ",1981,"Σ.Α.ΚΑΣΤΟΡΙΑΣ ΠΡΩΤΕΑΣ","Γ"]
[38461,"F","ΑΝΤΩΝΙΑΔΟΥ ΒΑΣΙΛΙΚΗ",2002,"Α.Σ.ΟΡΦΕΑΣ ΛΑΡΙΣΑΣ","Ε"]
[23982,"F","ΑΝΤΩΝΙΑΔΟΥ ΕΛΕΝΗ",1996,"Α.Σ.Α.ΠΑΝΟΡΑΜΑΤΟΣ","Β"]
[24591,"F","ΑΝΤΩΝΙΑΔΟΥ ΕΛΕΝΗ",1996,"Ο.Α.ΒΕΡΟΙΑΣ","Γ"]
[17444,"F","ΑΝΤΩΝΙΑΔΟΥ ΗΛΙΑΝΑ",1986,"Ν.Α.Σ.Π.ΑΙΟΛΟΣ ΜΥΤΙΛΗΝΗΣ","Θ"]
[9031,"F","ΑΝΤΩΝΙΑΔΟΥ ΜΑΡΙΑ",1980,"Ο.Α.ΕΛΕΥΘΕΡΟΥΠΟΛΗΣ","Α"]
[14142,"F","ΑΝΤΩΝΙΑΔΟΥ ΜΑΡΙΑ",1983,"Α.Ε.ΒΟΥΛΑΣ","ΙΑ"]
[26959,"F","ΑΝΤΩΝΙΑΔΟΥ ΜΑΡΙΑ",1995,"Φ.Ο.Α.ΝΕΑΠΟΛΗΣ","Β"]
[12073,"F","ΑΝΤΩΝΙΑΔΟΥ ΝΑΤΑΣΑ",1987,"Ο.Α.ΣΟΥΡΩΤΗΣ ΑΛΕΞΑΝΔΡΟΣ","Β"]
[14301,"F","ΑΝΤΩΝΙΑΔΟΥ ΣΟΦΙΑ",1984,"Α.Ο.ΤΕΡΨΙΘΕΑΣ ΓΛΥΦΑΔΑΣ","ΙΑ"]
[19198,"F","ΑΝΤΩΝΙΑΔΟΥ ΣΟΦΙΑ",1992,"ΕΘΝΙΚΟΣ ΠΑΝΟΡΑΜΑΤΟΣ 2005","Β"]
[32328,"F","ΑΝΤΩΝΙΑΔΟΥ-ΣΑΜΑΡΤΖΙΔΟΥ ΣΟΦΙΑ-ΜΑΡΤΙΝΑ",2000,"Ο.Α.ΤΟΥΜΠΑΣ","Β"]
[22424,"M","ΑΝΤΩΝΙΟΥ ΑΘΑΝΑΣΙΟΣ",1994,"Α.Ο.ΚΑΒΑΛΑΣ ΜΑΚΕΔΟΝΙΚΟΣ","Α"]
[21320,"F","ΑΝΤΩΝΙΟΥ ΑΘΗΝΑ",1994,"Ο.Α.ΞΥΛΟΚΑΣΤΡΟΥ ΣΥΘΑΣ","ΣΤ"]
[23285,"F","ΑΝΤΩΝΙΟΥ ΑΙΚΑΤΕΡΙΝΗ",1995,"Ο.Α.ΣΠΑΡΤΗΣ","ΣΤ"]
[15381,"M","ΑΝΤΩΝΙΟΥ ΑΛΕΞΑΝΔΡΟΣ",1983,"Α.Ν.Ο.ΓΛΥΦΑΔΑΣ","ΙΑ"]
[22546,"F","ΑΝΤΩΝΙΟΥ ΑΝΑΣΤΑΣΙΑ",1999,"Α.Ε.Κ.ΤΡΙΠΟΛΗΣ","ΣΤ"]
[13316,"F","ΑΝΤΩΝΙΟΥ ΑΝΝΑ",1983,"Ο.Α.ΑΡΤΑΣ","Δ"]
[22547,"M","ΑΝΤΩΝΙΟΥ ΑΝΤΩΝΗΣ",1999,"Α.Ε.Κ.ΤΡΙΠΟΛΗΣ","ΣΤ"]
[28660,"M","ΑΝΤΩΝΙΟΥ ΑΝΤΩΝΗΣ",2000,"Μ.Γ.Σ.ΑΠΟΛΛΩΝ ΚΑΛΑΜΑΡΙΑΣ","Β"]
[19082,"F","ΑΝΤΩΝΙΟΥ ΑΝΤΩΝΙΑ-ΔΑΝΑΗ",1993,"Μ.Γ.Σ.ΑΠΟΛΛΩΝ ΚΑΛΑΜΑΡΙΑΣ","Β"]
[30886,"M","ΑΝΤΩΝΙΟΥ ΑΝΤΩΝΙΟΣ",1985,"Σ.Α.ΤΡΙΠΟΛΗΣ","ΣΤ"]
[17866,"F","ΑΝΤΩΝΙΟΥ ΑΣΗΜΙΝΑ",1991,"Α.Ν.Σ.ΕΛΛΗΝΙΚΙΩΤΩΝ","ΙΑ"]
[27000,"F","ΑΝΤΩΝΙΟΥ ΒΑΛΕΡΗ",1994,"Α.Κ.Α.ΜΑΡΑΘΩΝΑ","Η"]
[18556,"M","ΑΝΤΩΝΙΟΥ ΒΑΣΙΛΗΣ",1988,"Γ.Ο.ΠΕΡΙΣΤΕΡΙΟΥ Γ.ΠΑΛΑΣΚΑΣ","Θ"]
[38975,"M","ΑΝΤΩΝΙΟΥ ΒΑΣΙΛΗΣ",2001,"Α.Ο.Α.ΓΙΕΛΟΟΥ","Η"]
[22548,"F","ΑΝΤΩΝΙΟΥ ΒΑΣΙΛΙΚΗ",1996,"Α.Ε.Κ.ΤΡΙΠΟΛΗΣ","ΣΤ"]
[24025,"F","ΑΝΤΩΝΙΟΥ ΓΕΩΡΓΙΑ",1992,"Ο.Α.ΣΠΑΡΤΗΣ","ΣΤ"]
[22364,"F","ΑΝΤΩΝΙΟΥ ΓΕΩΡΓΙΑ-ΕΛΕΥΘΕΡΙΑ",1993,"ΚΕΡΚΥΡΑΪΚΗ Λ.Τ.","Δ"]
[10251,"M","ΑΝΤΩΝΙΟΥ ΓΕΩΡΓΙΟΣ",1980,"Ο.Α.ΙΩΛΚΟΣ ΒΟΛΟΥ","Ε"]
[29647,"M","ΑΝΤΩΝΙΟΥ ΓΕΩΡΓΙΟΣ",1996,"Ο.Α.ΣΟΦΑΔΩΝ & ΚΑΡΔΙΤΣΑΣ ΟΛΥΜΠΙΑΔΑ","Ε"]
[24229,"M","ΑΝΤΩΝΙΟΥ ΓΙΩΡΓΟΣ",1997,"Π.Σ.ΑΜΠΕΛΩΝΟΣ Ο ΦΙΛΙΠΠΙΔΗΣ","Ε"]
[23763,"M","ΑΝΤΩΝΙΟΥ ΔΗΜΗΤΡΗΣ",1994,"Α.Α.ΑΛΜΠΑΤΡΟΣ","Β"]
[8853,"F","ΑΝΤΩΝΙΟΥ ΕΛΕΝΗ",1982,"Σ.Ο.Ι.Σ.ΝΕΑ ΠΝΟΗ","Α"]
[22056,"F","ΑΝΤΩΝΙΟΥ ΕΛΕΝΗ",1996,"Α.Α.ΑΛΜΠΑΤΡΟΣ","Β"]
[12784,"F","ΑΝΤΩΝΙΟΥ ΕΛΙΣΑΒΕΤ",1980,"Σ.Α.Α.Κ.ΑΝΑΤΟΛΙΑ","Β"]
[22363,"F","ΑΝΤΩΝΙΟΥ ΕΛΛΗ-ΑΝΝΑ-ΡΕΒΕΚΑ",1995,"ΚΕΡΚΥΡΑΪΚΗ Λ.Τ.","Δ"]
[20783,"M","ΑΝΤΩΝΙΟΥ ΕΜΜΑΝΟΥΗΛ",1995,"Ο.Α.ΓΟΥΔΙΟΥ","ΙΑ"]
[16660,"F","ΑΝΤΩΝΙΟΥ ΘΑΛΕΙΑ",1988,"Α.Ν.Σ.ΕΛΛΗΝΙΚΙΩΤΩΝ","ΙΑ"]
[28937,"F","ΑΝΤΩΝΙΟΥ ΘΕΟΔΩΡΑ",1999,"Ο.Α.ΜΑΓΝΗΣΙΑΣ","Ε"]
[18563,"M","ΑΝΤΩΝΙΟΥ ΘΩΜΑΣ",1994,"ΦΘΙΩΤΙΚΟΣ Ο.Α.","Ε"]
[25759,"F","ΑΝΤΩΝΙΟΥ ΙΩΑΝΝΑ",1997,"Σ.Ο.Α.ΚΑΡΔΙΤΣΑΣ ΦΩΚΙΑΝΟΣ","Ε"]
[38088,"F","ΑΝΤΩΝΙΟΥ ΚΑΤΕΡΙΝΑ",1995,"Ο.Α.ΠΕΙΡΑΙΑ","Θ"]
[18562,"F","ΑΝΤΩΝΙΟΥ ΚΩΝΣΤΑΝΤΙΝΑ",1992,"ΦΘΙΩΤΙΚΟΣ Ο.Α.","Ε"]
[27661,"M","ΑΝΤΩΝΙΟΥ ΚΩΝΣΤΑΝΤΙΝΟΣ",2000,"Σ.Ο.Α.ΚΑΡΔΙΤΣΑΣ ΦΩΚΙΑΝΟΣ","Ε"]
[19074,"F","ΑΝΤΩΝΙΟΥ ΛΥΔΙΑ",1991,"Μ.Γ.Σ.ΑΠΟΛΛΩΝ ΚΑΛΑΜΑΡΙΑΣ","Β"]
[14419,"M","ΑΝΤΩΝΙΟΥ ΜΑΡΙΟΣ",1987,"Α.Ο.ΟΛΥΜΠΙΑΔΑ ΒΥΡΩΝΑ","Η"]
[14889,"F","ΑΝΤΩΝΙΟΥ ΝΑΤΑΣΑ",1988,"Α.Ν.Ο.ΓΛΥΦΑΔΑΣ","ΙΑ"]
[10870,"M","ΑΝΤΩΝΙΟΥ ΠΑΝΑΓΙΩΤΗΣ",1984,"Σ.Ο.Α.ΚΑΡΔΙΤΣΑΣ ΦΩΚΙΑΝΟΣ","Ε"]
[5724,"M","ΑΝΤΩΝΙΟΥ ΠΑΝΤΕΛΗΣ",1981,"Α.Ο.ΔΑΣΟΣ ΧΑΪΔΑΡΙΟΥ","Θ"]
[17181,"M","ΑΝΤΩΝΙΟΥ ΠΑΥΛΟΣ",1987,"Ο.Α.ΛΕΣΒΟΥ","Θ"]
[24220,"M","ΑΝΤΩΝΙΟΥ ΠΑΥΛΟΣ",1995,"Π.Σ.ΑΜΠΕΛΩΝΟΣ Ο ΦΙΛΙΠΠΙΔΗΣ","Ε"]
[22790,"M","ΑΝΤΩΝΙΟΥ ΠΑΥΣΑΝΙΑΣ-ΚΩΝΣΤΑΝΤΙΝΟΣ",1997,"Σ.Ο.Α.ΚΑΡΔΙΤΣΑΣ ΦΩΚΙΑΝΟΣ","Ε"]
[21862,"M","ΑΝΤΩΝΙΟΥ ΣΩΚΡΑΤΗΣ",1993,"Α.Ο.ΜΕΓΑΣ ΑΛΕΞΑΝΔΡΟΣ","ΙΑ"]
[14390,"M","ΑΝΤΩΝΙΟΥ ΦΙΛΟΚΤΗΜΩΝ",1985,"Α.Ο.Α.ΑΙΓΑΛΕΩ 92","Θ"]
[31211,"F","ΑΝΤΩΝΙΟΥ-ΚΑΡΑΔΕΜΗΤΡΟΥ ΝΙΚΟΛΕΤΑ",2000,"Ο.Α.ΒΟΛΟΥ","Ε"]
[765,"M","ΑΝΤΩΝΟΓΙΑΝΝΑΚΗΣ ΕΜΜΑΝΟΥΗΛ",1970,"ΗΡΑΚΛΕΙΟ Ο.Α.& Α.","Ζ"]
[766,"M","ΑΝΤΩΝΟΓΙΑΝΝΑΚΗΣ ΝΙΚΟΛΑΟΣ",1967,"ΗΡΑΚΛΕΙΟ Ο.Α.& Α.","Ζ"]
[16689,"M","ΑΝΤΩΝΟΓΙΑΝΝΑΚΗΣ ΣΤΥΛΙΑΝΟΣ",1988,"Ο.Α.ΛΕΣΒΟΥ","Θ"]
[13270,"M","ΑΝΤΩΝΟΓΛΟΥ ΓΕΩΡΓΙΟΣ",1987,"Ο.Α.ΜΑΓΝΗΣΙΑΣ","Ε"]
[27216,"F","ΑΝΤΩΝΟΓΛΟΥ ΝΑΤΑΛΙΑ",1998,"Ο.Α.ΘΕΣΠΡΩΤΙΑΣ ΤΙΤΑΝΗ","Δ"]
[17326,"M","ΑΝΤΩΝΟΓΛΟΥ ΣΑΒΒΑΣ",1990,"Ο.Α.ΘΕΣΣΑΛΟΝΙΚΗΣ","Β"]
[1365,"F","ΑΝΤΩΝΟΜΑΝΩΛΑΚΗ ΑΙΚΑΤΕΡΙΝΗ",1966,"Α.Κ.ΖΩΓΡΑΦΟΥ","ΙΑ"]
[2240,"F","ΑΝΤΩΝΟΜΑΝΩΛΑΚΗ ΡΟΣΜΑΡΙ",1970,"Α.Κ.ΖΩΓΡΑΦΟΥ","ΙΑ"]
[32302,"M","ΑΝΤΩΝΟΠΟΥΛΟΣ ΑΛΚΙΝΟΟΣ",1998,"Α.Ο.Α.ΗΛΙΟΥΠΟΛΗΣ","ΙΑ"]
[16151,"M","ΑΝΤΩΝΟΠΟΥΛΟΣ ΑΝΑΣΤΑΣΙΟΣ",1991,"Ο.Α.ΓΛΥΦΑΔΑΣ","ΙΑ"]
[11410,"M","ΑΝΤΩΝΟΠΟΥΛΟΣ ΑΝΔΡΕΑΣ",1985,"ΝΑΥΠΛΙΑΚΟΣ Ο.Α.","ΣΤ"]
[2694,"M","ΑΝΤΩΝΟΠΟΥΛΟΣ ΑΝΤΩΝΗΣ",1969,"Α.Ο.ΑΛΦΕΙΟΣ ΕΠΙΤΑΛΙΟΥ","ΣΤ"]
[16072,"M","ΑΝΤΩΝΟΠΟΥΛΟΣ ΒΑΣΙΛΕΙΟΣ",1988,"Α.Ε.Τ.ΝΙΚΗ ΠΑΤΡΩΝ","ΣΤ"]
[30441,"M","ΑΝΤΩΝΟΠΟΥΛΟΣ ΓΕΩΡΓΙΟΣ",2001,"Α.Σ.ΑΚΡΟΠΟΛΙΣ","Η"]
[26870,"M","ΑΝΤΩΝΟΠΟΥΛΟΣ ΔΙΟΝΥΣΙΟΣ",1996,"Α.Ε.ΠΟΡΤΟ ΡΑΦΤΗ","Η"]
[20301,"M","ΑΝΤΩΝΟΠΟΥΛΟΣ ΔΙΟΝΥΣΙΟΣ(ΒΛΜΗΤΡΩΟ)",1991,"Ο.Α.ΛΙΒΑΔΕΙΑΣ","Ε"]
[33746,"M","ΑΝΤΩΝΟΠΟΥΛΟΣ ΚΩΝΣΤΑΝΤΙΝΟΣ",2000,"Α.Σ.ΑΚΑΔΗΜΙΕΣ ΠΡΩΤΑΘΛΗΤΩΝ ΠΕΥΚΩΝ","Β"]
[9877,"M","ΑΝΤΩΝΟΠΟΥΛΟΣ ΜΙΧΑΗΛ",1970,"Α.Ο.Π.ΦΑΛΗΡΟΥ","ΙΑ"]
[2695,"M","ΑΝΤΩΝΟΠΟΥΛΟΣ ΝΙΚΟΛΑΟΣ",1971,"Α.Ο.ΑΛΦΕΙΟΣ ΕΠΙΤΑΛΙΟΥ","ΣΤ"]
[30557,"M","ΑΝΤΩΝΟΠΟΥΛΟΣ ΝΙΚΟΛΑΟΣ",2000,"Α.Ο.ΑΙΓΙΟΥ ΜΟΡΕΑΣ","ΣΤ"]
[33859,"M","ΑΝΤΩΝΟΠΟΥΛΟΣ ΝΙΚΟΣ",1996,"Ο.Α.ΠΕΙΡΑΙΑ","Θ"]
[3594,"M","ΑΝΤΩΝΟΠΟΥΛΟΣ ΠΑΝΑΓΙΩΤΗΣ",1973,"Α.Ο.ΑΡΓΥΡΟΥΠΟΛΗΣ","ΙΑ"]
[9876,"M","ΑΝΤΩΝΟΠΟΥΛΟΣ ΠΑΝΑΓΙΩΤΗΣ",1971,"Α.Ο.Π.ΦΑΛΗΡΟΥ","ΙΑ"]
[10476,"M","ΑΝΤΩΝΟΠΟΥΛΟΣ ΠΑΝΑΓΙΩΤΗΣ",1981,"Ε.Α.Σ.ΟΛΥΜΠΙΑΔΑ","Β"]
[9914,"M","ΑΝΤΩΝΟΠΟΥΛΟΣ ΣΤΑΥΡΟΣ",1979,"Ο.Α.ΠΕΤΡΟΥΠΟΛΗΣ","Θ"]
[3593,"M","ΑΝΤΩΝΟΠΟΥΛΟΣ ΤΙΩΗΣ",1972,"Α.Ο.ΑΡΓΥΡΟΥΠΟΛΗΣ","ΙΑ"]
[9064,"M","ΑΝΤΩΝΟΠΟΥΛΟΣ ΧΡΗΣΤΟΣ",1973,"Σ.Ο.Α.ΚΑΡΔΙΤΣΑΣ ΦΩΚΙΑΝΟΣ","Ε"]
[13005,"M","ΑΝΤΩΝΟΠΟΥΛΟΣ ΧΡΗΣΤΟΣ",1987,"Α.Α.Α.ΑΛΙΜΟΥ","ΙΑ"]
[23775,"M","ΑΝΤΩΝΟΠΟΥΛΟΣ ΧΡΗΣΤΟΣ",1998,"Ο.Α.ΚΕΡΑΤΣΙΝΙΟΥ","Θ"]
[29889,"M","ΑΝΤΩΝΟΠΟΥΛΟΣ ΧΡΗΣΤΟΣ",2000,"Α.Ο.ΑΙΓΙΟΥ ΜΟΡΕΑΣ","ΣΤ"]
[34424,"M","ΑΝΤΩΝΟΠΟΥΛΟΣ ΧΡΗΣΤΟΣ",1999,"Α.Γ.Ο.ΝΑΥΠΑΚΤΟΥ","Δ"]
[12785,"M","ΑΝΤΩΝΟΠΟΥΛΟΣ-ΠΑΠΑΓΕΩΡΓΙΟΥ ΒΑΣΙΛΕΙΟΣ",1984,"Σ.Α.Α.Κ.ΑΝΑΤΟΛΙΑ","Β"]
[8597,"F","ΑΝΤΩΝΟΠΟΥΛΟΥ ΑΓΓΕΛΙΚΗ",1976,"Φ.Σ.ΚΑΛΛΙΘΕΑΣ","Θ"]
[13320,"F","ΑΝΤΩΝΟΠΟΥΛΟΥ ΑΙΚΑΤΕΡΙΝΗ",1982,"Ο.Α.ΑΡΓΟΥΣ","ΣΤ"]
[23901,"F","ΑΝΤΩΝΟΠΟΥΛΟΥ ΑΙΚΑΤΕΡΙΝΗ",1994,"Ο.Α.ΠΕΤΑΛΟΥΔΩΝ","Θ"]
[4506,"F","ΑΝΤΩΝΟΠΟΥΛΟΥ ΒΑΣΙΛΙΚΗ",1976,"Α.Ο.ΑΛΦΕΙΟΣ ΕΠΙΤΑΛΙΟΥ","ΣΤ"]
[16150,"F","ΑΝΤΩΝΟΠΟΥΛΟΥ ΒΑΣΙΛΙΚΗ",1990,"Ο.Α.ΓΛΥΦΑΔΑΣ","ΙΑ"]
[34416,"F","ΑΝΤΩΝΟΠΟΥΛΟΥ ΒΙΟΛΕΤΤΑ",2001,"Α.Γ.Ο.ΝΑΥΠΑΚΤΟΥ","Δ"]
[4267,"F","ΑΝΤΩΝΟΠΟΥΛΟΥ ΕΛΕΝΗ-ΚΩΝΣΤΑΝΤΙΝΑ",1974,"Α.Ο.ΑΛΦΕΙΟΣ ΕΠΙΤΑΛΙΟΥ","ΣΤ"]
[31806,"F","ΑΝΤΩΝΟΠΟΥΛΟΥ ΕΥΑΓΓΕΛΙΑ",1982,"Α.Ε.Κ.ΤΡΙΠΟΛΗΣ","ΣΤ"]
[36678,"F","ΑΝΤΩΝΟΠΟΥΛΟΥ ΕΥΑΓΓΕΛΙΑ",2000,"Α.Ο.Α.ΧΑΪΔΑΡΙΟΥ","Θ"]
[22791,"F","ΑΝΤΩΝΟΠΟΥΛΟΥ ΗΡΑ",1989,"Σ.Ο.Α.ΚΑΡΔΙΤΣΑΣ ΦΩΚΙΑΝΟΣ","Ε"]
[6964,"F","ΑΝΤΩΝΟΠΟΥΛΟΥ ΙΩΑΝΝΑ",1978,"ΗΡΑΚΛΕΙΟ Ο.Α.& Α.","Ζ"]
[32116,"F","ΑΝΤΩΝΟΠΟΥΛΟΥ ΚΑΛΛΙΟΠΗ",2001,"Ο.Α.ΑΙΓΙΑΛΕΙΑΣ","ΣΤ"]
[35181,"F","ΑΝΤΩΝΟΠΟΥΛΟΥ ΚΑΛΛΙΟΠΗ",2001,"Α.Σ.Α.ΑΓΡΙΝΙΟΥ","Δ"]
[32038,"F","ΑΝΤΩΝΟΠΟΥΛΟΥ ΚΩΝΣΤΑΝΤΙΝΑ",1999,"Ε.Σ.Ο.ΕΠΙΚΟΥΡΟΣ ΠΟΛΙΧΝΗΣ","Β"]
[2687,"F","ΑΝΤΩΝΟΠΟΥΛΟΥ ΜΑΡΙΑ",1970,"ΗΡΑΚΛΕΙΟ Ο.Α.& Α.","Ζ"]
[11854,"F","ΑΝΤΩΝΟΠΟΥΛΟΥ ΜΑΡΙΑ",1984,"ΖΑΚΥΝΘΙΝΟΣ Α.Ο.","ΣΤ"]
[30442,"F","ΑΝΤΩΝΟΠΟΥΛΟΥ ΠΗΝΕΛΟΠΗ",2001,"Σ.Φ.Α.ΜΕΛΙΣΣΙΩΝ Ο ΦΟΙΒΟΣ","Η"]
[31337,"F","ΑΝΤΩΝΟΠΟΥΛΟΥ ΣΟΦΙΑ",2000,"Ο.Α.ΚΑΙΣΑΡΙΑΝΗΣ","Θ"]
[33903,"F","ΑΝΤΩΝΟΠΟΥΛΟΥ ΧΡΙΣΤΙΝΑ",2001,"Α.Α.ΑΙΓΑΛΕΩ","Θ"]
[9808,"F","ΑΝΤΩΝΟΠΟΥΛΟΥ ΧΡΥΣΑΛΕΙΑ",1983,"Ο.Α.ΓΛΥΦΑΔΑΣ","ΙΑ"]
[17334,"F","ΑΝΤΩΝΟΥ ΠΕΤΡΟΥΛΑ",1990,"Γ.Σ.ΛΙΒΥΚΟΣ ΙΕΡΑΠΕΤΡΑΣ","Ζ"]
[1914,"M","ΑΝΤΩΝΟΥΛΑΣ ΑΝΤΩΝΗΣ",1970,"Α.Ο.Α.ΦΙΛΟΘΕΗΣ","Η"]
[28382,"M","ΑΝΤΩΝΟΥΛΑΣ ΒΑΣΙΛΕΙΟΣ",1967,"Σ.Ο.Α.ΚΑΡΔΙΤΣΑΣ ΦΩΚΙΑΝΟΣ","Ε"]
[25756,"F","ΑΝΥΦΑΝΤΑΚΗ ΓΕΩΡΓΙΑ",1992,"Γ.Σ.ΛΙΒΥΚΟΣ ΙΕΡΑΠΕΤΡΑΣ","Ζ"]
[11343,"M","ΑΝΥΦΑΝΤΑΚΗΣ ΔΗΜΗΤΡΙΟΣ",1985,"ΗΡΑΚΛΕΙΟ Ο.Α.& Α.","Ζ"]
[6148,"M","ΑΝΥΦΑΝΤΑΚΗΣ ΜΙΧΑΗΛ",1980,"ΗΡΑΚΛΕΙΟ Ο.Α.& Α.","Ζ"]
[14318,"M","ΑΝΥΦΑΝΤΑΚΗΣ ΝΙΚΟΛΑΟΣ",1986,"Ο.Α.ΡΕΘΥΜΝΟΥ","Ζ"]
[14855,"M","ΑΝΥΦΑΝΤΑΚΗΣ ΣΤΕΛΙΟΣ",1988,"ΗΡΑΚΛΕΙΟ Ο.Α.& Α.","Ζ"]
[17032,"M","ΑΝΥΦΑΝΤΑΚΗΣ ΣΤΥΛΙΑΝΟΣ",1988,"ΗΡΑΚΛΕΙΟ Ο.Α.& Α.","Ζ"]
[5453,"F","ΑΝΥΦΑΝΤΗ ΣΠΥΡΙΔΟΥΛΑ",1985,"Α.Κ.ΖΩΓΡΑΦΟΥ","ΙΑ"]
[7190,"M","ΑΝΥΦΑΝΤΗΣ ΓΕΩΡΓΙΟΣ",1979,"ΝΑΥΠΛΙΑΚΟΣ Ο.Α.","ΣΤ"]
[38635,"M","ΑΝΥΦΑΝΤΗΣ ΧΡΗΣΤΟΣ",2002,"Α.Ο.Α.ΗΛΙΟΥΠΟΛΗΣ","ΙΑ"]
[12502,"M","ΑΝΥΨΗΤΑΚΗΣ ΙΩΑΝΝΗΣ",1970,"Ο.Α.ΧΕΡΣΟΝΗΣΟΥ","Ζ"]
[32174,"F","ΑΝΥΨΥΤΑΚΗ ΔΕΣΠΟΙΝΑ",1998,"Ο.Α.ΣΗΤΕΙΑΣ","Ζ"]
[30436,"F","ΑΝΩΜΕΡΙΑΝΑΚΗ ΠΟΛΥΞΕΝΗ",1999,"Ο.Α.ΧΑΝΙΩΝ","Ζ"]
[28425,"M","ΑΝΩΜΕΡΙΑΝΑΚΗΣ ΠΑΝΑΓΙΩΤΗΣ",2000,"Ο.Α.ΧΑΝΙΩΝ","Ζ"]
[25732,"F","ΑΞΑΡΛΗ ΜΑΡΙΑ",1997,"Ο.Α.ΣΟΥΡΩΤΗΣ ΑΛΕΞΑΝΔΡΟΣ","Β"]
[20302,"F","ΑΞΕΛΗ ΠΑΝΑΓΙΩΤΑ",1994,"Γ.Σ.ΗΛΙΟΥΠΟΛΗΣ","ΙΑ"]
[20514,"M","ΑΞΕΛΟΣ ΒΑΣΙΛΕΙΟΣ",1994,"Ο.Α.ΜΑΓΝΗΣΙΑΣ","Ε"]
[20513,"M","ΑΞΕΛΟΣ ΚΩΝΣΤΑΝΤΙΝΟΣ",1995,"Ο.Α.ΜΑΓΝΗΣΙΑΣ","Ε"]
[4050,"F","ΑΞΕΛΟΥ ΙΩΑΝΝΑ",1975,"Ο.Α.ΒΟΛΟΥ","Ε"]
[22433,"M","ΑΞΙΑΡΗΣ ΓΙΩΡΓΟΣ",1997,"ΣΕΡΡΑΪΚΟΣ Ο.Α.","Α"]
[39139,"F","ΑΞΙΜΙΩΤΗ ΕΙΡΗΝΗ-ΧΡΥΣΟΒΑΛΑΝΤΟΥ",2000,"Α.Ο.ΔΙΑΣ ΠΟΛΙΧΝΗΣ","Β"]
[1612,"F","ΑΞΙΩΤΗ ΑΘΗΝΑ",1974,"Ν.Ο.ΚΑΛΑΜΑΚΙΟΥ","ΙΑ"]
[4011,"M","ΑΞΙΩΤΗΣ ΑΝΤΩΝΗΣ",1978,"Ο.Α.ΑΡΤΑΣ","Δ"]
[2622,"M","ΑΞΙΩΤΗΣ ΓΕΩΡΓΙΟΣ",1972,"Α.Ο.Α.ΚΑΒΑΛΑΣ","Α"]
[28135,"M","ΑΞΙΩΤΗΣ ΔΗΜΗΤΡΗΣ",1996,"Ο.Α.ΒΕΡΟΙΑΣ","Γ"]
[38118,"M","ΑΞΙΩΤΗΣ ΕΥΣΤΡΑΤΙΟΣ",1991,"Α.Ο.ΒΟΥΛΙΑΓΜΕΝΗΣ","ΙΑ"]
[5292,"M","ΑΞΙΩΤΗΣ ΙΩΑΚΕΙΜ-ΙΩΑΝΝΗΣ",1977,"Ο.Α.ΚΑΒΑΛΑΣ ΑΛΕΞΑΝΔΡΟΣ","Α"]
[4012,"M","ΑΞΙΩΤΗΣ ΚΩΝΣΤΑΝΤΙΝΟΣ",1976,"Ο.Α.ΑΡΤΑΣ","Δ"]
[12035,"M","ΑΞΙΩΤΗΣ ΚΩΝΣΤΑΝΤΙΝΟΣ",1987,"Α.Ο.Α.ΗΛΙΟΥΠΟΛΗΣ","ΙΑ"]
[26694,"M","ΑΞΙΩΤΗΣ ΣΤΡΑΤΟΣ",1991,"Α.Ο.ΒΟΥΛΙΑΓΜΕΝΗΣ","ΙΑ"]
[33953,"F","ΑΞΙΩΤΟΥ ΜΑΡΙΑ-ΕΛΕΝΗ",2001,"Α.Ο.ΧΡΥΣΟΥΠΟΛΗΣ","Α"]
[30173,"M","ΑΞΟΥΡΙΣΤΟΣ ΔΗΜΗΤΡΙΟΣ",1999,"ΕΘΝΙΚΟΣ ΠΑΝΟΡΑΜΑΤΟΣ 2005","Β"]
[30174,"M","ΑΞΟΥΡΙΣΤΟΣ ΧΡΗΣΤΟΣ",2000,"ΕΘΝΙΚΟΣ ΠΑΝΟΡΑΜΑΤΟΣ 2005","Β"]
[1333,"M","ΑΠΑΤΖΙΑΔΗΣ ΙΑΚΩΒΟΣ",1971,"Α.Κ.ΖΩΓΡΑΦΟΥ","ΙΑ"]
[11816,"M","ΑΠΑΤΣΙΔΗΣ ΙΩΑΝΝΗΣ",1981,"Σ.Α.ΚΑΤΕΡΙΝΗΣ","Γ"]
[14230,"F","ΑΠΕΙΡΑΝΘΙΤΗ ΔΑΝΑΗ",1986,"Α.Σ.ΣΠΑΡΤΑΚΟΣ ΓΛΥΦΑΔΑΣ","ΙΑ"]
[15506,"F","ΑΠΕΡΓΗ ΑΓΓΕΛΙΚΗ",1984,"Α.Ο.ΚΗΦΙΣΙΑΣ","Η"]
[28158,"F","ΑΠΕΡΓΗ ΑΓΓΕΛΙΚΗ",1997,"Α.Ο.Α.ΗΛΙΟΥΠΟΛΗΣ","ΙΑ"]
[17723,"F","ΑΠΕΡΓΗ ΑΝΝΑ",1985,"Α.Ο.ΠΑΡΑΔΕΙΣΟΣ ΑΜΑΡΟΥΣΙΟΥ","Η"]
[6665,"F","ΑΠΕΡΓΗ ΚΟΡΙΝΑ",1980,"Α.Σ.ΠΑΠΑΓΟΥ","ΙΑ"]
[25506,"M","ΑΠΕΡΓΗΣ ΒΙΚΤΩΡΑΣ",1997,"Α.Ο.ΔΙΛΟΦΟ ΒΑΡΗΣ","Η"]
[35334,"M","ΑΠΕΡΓΗΣ ΔΗΜΗΤΡΗΣ",1998,"Α.Ο.Α.ΑΙΓΑΛΕΩ 92","Θ"]
[30523,"M","ΑΠΕΡΓΗΣ ΚΟΜΝΗΝΟΣ",1999,"Α.Ο.ΚΑΛΛΙΤΕΧΝΟΥΠΟΛΗΣ","Η"]
[37532,"F","ΑΠΙΔΙΑΝΑΚΗ ΕΥΘΥΜΙΑ",2001,"Α.Ο.Α.ΗΛΙΟΥΠΟΛΗΣ","ΙΑ"]
[6728,"F","ΑΠΙΔΟΠΟΥΛΟΥ ΚΑΛΛΙΟΠΗ",1983,"Σ.Ο.Ι.Σ.ΝΕΑ ΠΝΟΗ","Α"]
[6451,"F","ΑΠΚΑΡΙΑΝ ΑΝΝΥ",1981,"Α.Ο.Π.ΦΑΛΗΡΟΥ","ΙΑ"]
[6452,"M","ΑΠΚΑΡΙΑΝ ΤΑΛΙΝ",1983,"Α.Ο.Π.ΦΑΛΗΡΟΥ","ΙΑ"]
[10115,"M","ΑΠΟΓΕΝΗΣ ΚΩΣΤΑΣ",1982,"Α.Τ.ΧΟΛΑΡΓΟΥ","ΙΑ"]
[10114,"M","ΑΠΟΓΕΝΗΣ ΦΩΤΗΣ",1982,"Α.Τ.ΧΟΛΑΡΓΟΥ","ΙΑ"]
[30444,"M","ΑΠΟΔΟΥΛΙΑΝΑΚΗΣ ΣΤΥΛΙΑΝΟΣ",2001,"Ο.Α.ΡΕΘΥΜΝΟΥ","Ζ"]
[32050,"F","ΑΠΟΣΚΙΤΗ ΧΡΥΣΑΝΘΗ",2000,"Α.Ο.Α.ΗΛΙΟΥΠΟΛΗΣ","ΙΑ"]
[32852,"M","ΑΠΟΣΚΙΤΗΣ ΑΡΓΥΡΙΟΣ",1998,"Α.Ο.Α.ΗΛΙΟΥΠΟΛΗΣ","ΙΑ"]
[13334,"F","ΑΠΟΣΤΟΛΑΚΗ ΕΙΡΗΝΗ",1986,"ΗΡΑΚΛΕΙΟ Ο.Α.& Α.","Ζ"]
[24180,"F","ΑΠΟΣΤΟΛΑΚΗ ΕΜΜΑΝΟΥΕΛΑ",1996,"Ο.Α.ΣΗΤΕΙΑΣ","Ζ"]
[29866,"F","ΑΠΟΣΤΟΛΑΚΗ ΜΑΡΙΑ",2000,"Ο.Α.ΡΕΘΥΜΝΟΥ","Ζ"]
[22430,"F","ΑΠΟΣΤΟΛΑΚΗ ΠΑΓΩΝΑ",1993,"Σ.Α.ΣΕΡΡΩΝ","Α"]
[23339,"F","ΑΠΟΣΤΟΛΑΚΗ ΣΤΕΛΛΑ",1991,"Ο.Α.ΧΑΝΙΩΝ","Ζ"]
[20915,"F","ΑΠΟΣΤΟΛΑΚΗ ΣΤΥΛΙΑΝΗ",1991,"Α.Ο.Α.ΡΕΘΥΜΝΟ Τ.Κ.","Ζ"]
[31451,"M","ΑΠΟΣΤΟΛΑΚΗΣ ΑΛΕΞΑΝΔΡΟΣ-ΙΩΑΝΝΗΣ",2002,"Α.Ο.ΛΑΤΩ ΑΓ.ΝΙΚΟΛΑΟΥ","Ζ"]
[14016,"M","ΑΠΟΣΤΟΛΑΚΗΣ ΒΑΣΙΛΕΙΟΣ",1987,"Α.Ε.Σ.Α.Φ.ΚΟΥΡΟΣ","Η"]
[17035,"M","ΑΠΟΣΤΟΛΑΚΗΣ ΒΑΣΙΛΗΣ",1990,"ΗΡΑΚΛΕΙΟ Ο.Α.& Α.","Ζ"]
[30896,"M","ΑΠΟΣΤΟΛΑΚΗΣ ΓΡΗΓΟΡΗΣ",1998,"Α.Ο.ΛΑΤΩ ΑΓ.ΝΙΚΟΛΑΟΥ","Ζ"]
[973,"M","ΑΠΟΣΤΟΛΑΚΗΣ ΕΜΜΑΝΟΥΗΛ",1967,"ΗΡΑΚΛΕΙΟ Ο.Α.& Α.","Ζ"]
[10289,"M","ΑΠΟΣΤΟΛΑΚΗΣ ΙΩΑΝΝΗΣ",1969,"Ε.Α.Σ.Α.ΘΕΣΣΑΛΙΚΟΣ","Ε"]
[23401,"M","ΑΠΟΣΤΟΛΑΚΗΣ ΚΩΝΣΤΑΝΤΙΝΟΣ",1994,"Ο.Α.ΣΗΤΕΙΑΣ","Ζ"]
[15236,"M","ΑΠΟΣΤΟΛΑΚΗΣ ΜΙΧΑΗΛ-ΓΕΩΡΓΙΟΣ",1987,"Α.Ο.Α.ΗΛΙΟΥΠΟΛΗΣ","ΙΑ"]
[9783,"M","ΑΠΟΣΤΟΛΑΚΙΔΗΣ ΚΩΝΣΤΑΝΤΙΝΟΣ",1980,"Ο.Α.ΚΑΛΑΜΑΤΑΣ","ΣΤ"]
[16913,"M","ΑΠΟΣΤΟΛΑΚΟΣ ΑΝΔΡΟΝΙΚΟΣ-ΔΗΜΗΤΡΙΟΣ",1984,"Ο.Α.ΣΠΑΡΤΗΣ","ΣΤ"]
[22034,"M","ΑΠΟΣΤΟΛΑΤΟΣ ΜΙΧΑΗΛ",1990,"Ο.Α.ΓΛΥΦΑΔΑΣ","ΙΑ"]
[4766,"F","ΑΠΟΣΤΟΛΑΤΟΥ ΑΝΘΗ",1976,"Γ.Σ.ΚΗΦΙΣΙΑΣ","Η"]
[4765,"F","ΑΠΟΣΤΟΛΑΤΟΥ ΕΥΑΓΓΕΛΙΑ",1976,"Γ.Σ.ΚΗΦΙΣΙΑΣ","Η"]
[5920,"M","ΑΠΟΣΤΟΛΙΑΔΗΣ ΤΡΙΑΝΤΑΦΥΛΛΟΣ",1977,"Ο.Α.ΧΟΛΑΡΓΟΥ","ΙΑ"]
[14957,"M","ΑΠΟΣΤΟΛΙΔΗΣ ΓΕΩΡΓΙΟΣ",1984,"Α.Σ.ΠΕΡΑ","ΙΑ"]
[31484,"M","ΑΠΟΣΤΟΛΙΔΗΣ ΓΕΩΡΓΙΟΣ",1978,"Σ.Α.ΕΛΑΣΣΟΝΑΣ","Ε"]
[31703,"M","ΑΠΟΣΤΟΛΙΔΗΣ ΓΕΩΡΓΙΟΣ",1982,"Σ.Α.ΕΛΑΣΣΟΝΑΣ","Ε"]
[7179,"M","ΑΠΟΣΤΟΛΙΔΗΣ ΔΗΜΗΤΡΙΟΣ",1979,"Ο.Α.ΞΑΝΘΗΣ","Α"]
[21822,"M","ΑΠΟΣΤΟΛΙΔΗΣ ΔΗΜΗΤΡΙΟΣ",1995,"Ο.Α.ΛΑΡΙΣΑΣ","Ε"]
[5074,"M","ΑΠΟΣΤΟΛΙΔΗΣ ΕΜΜΑΝΟΥΗΛ",1978,"Ν.Ο.ΘΕΣΣΑΛΟΝΙΚΗΣ","Β"]
[9988,"M","ΑΠΟΣΤΟΛΙΔΗΣ ΚΙΜΩΝ-ΜΑΡΚΟΣ",1984,"Ο.Α.ΑΘΗΝΩΝ","Η"]
[16537,"M","ΑΠΟΣΤΟΛΙΔΗΣ ΚΩΝΣΤΑΝΤΙΝΟΣ",1988,"Α.Ο.Α.ΗΛΙΟΥΠΟΛΗΣ","ΙΑ"]
[37521,"M","ΑΠΟΣΤΟΛΙΔΗΣ ΚΩΝΣΤΑΝΤΙΝΟΣ",2001,"Ο.Α.ΚΑΒΑΛΑΣ ΑΛΕΞΑΝΔΡΟΣ","Α"]
[9240,"F","ΑΠΟΣΤΟΛΙΔΗΣ ΜΑΡΙΑ",1980,"Σ.Α.ΕΛΑΣΣΟΝΑΣ","Ε"]
[11328,"M","ΑΠΟΣΤΟΛΙΔΗΣ ΝΙΚΟΛΑΟΣ",1985,"Σ.Α.ΕΛΑΣΣΟΝΑΣ","Ε"]
[26098,"M","ΑΠΟΣΤΟΛΙΔΗΣ ΝΙΚΟΛΑΟΣ",1994,"Σ.Α.ΣΕΡΡΩΝ","Α"]
[22042,"M","ΑΠΟΣΤΟΛΙΔΗΣ ΠΑΝΑΓΙΩΤΗΣ",1996,"Ο.Α.ΒΡΙΛΗΣΣΙΩΝ","Η"]
[31581,"M","ΑΠΟΣΤΟΛΙΔΗΣ ΠΕΡΙΚΛΗΣ",2001,"Α.Ο.Α.ΠΡΩΤΑΘΛ.ΚΑΒΑΛΑΣ","Α"]
[37705,"M","ΑΠΟΣΤΟΛΙΔΗΣ ΡΑΦΑΗΛ",2001,"Ε.Α.Σ.ΟΛΥΜΠΙΑΔΑ","Β"]
[20684,"M","ΑΠΟΣΤΟΛΙΔΗΣ ΦΙΛΙΠΠΟΣ",1995,"Ο.Α.ΒΡΙΛΗΣΣΙΩΝ","Η"]
[31126,"F","ΑΠΟΣΤΟΛΙΔΟΥ ΑΝΔΡΟΜΑΧΗ",1984,"Ε.Α.Σ.ΟΛΥΜΠΙΑΔΑ","Β"]
[33507,"F","ΑΠΟΣΤΟΛΙΔΟΥ ΔΗΜΗΤΡΑ",2001,"Α.Ο.Α.ΠΡΩΤΑΘΛ.ΚΑΒΑΛΑΣ","Α"]
[18387,"F","ΑΠΟΣΤΟΛΙΔΟΥ ΜΑΡΙΑΝΘΗ",1990,"Α.Ο.Π.ΦΑΛΗΡΟΥ","ΙΑ"]
[6411,"F","ΑΠΟΣΤΟΛΙΔΟΥ ΜΑΡΙΑΝΝΑ",1977,"Λ.Α.ΚΟΜΟΤΗΝΗΣ","Α"]
[21514,"F","ΑΠΟΣΤΟΛΙΔΟΥ ΜΑΡΙΑΝΝΑ",1993,"Ο.Α.ΖΩΓΡΑΦΟΥ","Η"]
[24665,"M","ΑΠΟΣΤΟΛΟΠΟΥΛΟΣ ΑΛΕΞΑΝΔΡΟΣ",1997,"Α.Σ.Α.ΛΑΡΙΣΑΣ","Ε"]
[15920,"M","ΑΠΟΣΤΟΛΟΠΟΥΛΟΣ ΑΛΚΙΒΙΑΔΗΣ",1989,"Ο.Α.ΝΙΚΑΙΑ ΛΑΡΙΣΑΣ","Ε"]
[22246,"M","ΑΠΟΣΤΟΛΟΠΟΥΛΟΣ ΑΝΤΩΝΗΣ",1995,"Ο.Α.ΑΡΓΟΥΣ","ΣΤ"]
[19942,"M","ΑΠΟΣΤΟΛΟΠΟΥΛΟΣ ΒΑΣΙΛΕΙΟΣ",1994,"Ο.Α.ΞΥΛΟΚΑΣΤΡΟΥ ΣΥΘΑΣ","ΣΤ"]
[15931,"M","ΑΠΟΣΤΟΛΟΠΟΥΛΟΣ ΓΕΩΡΓΙΟΣ",1990,"Α.Α.Α.ΑΛΙΜΟΥ","ΙΑ"]
[16069,"M","ΑΠΟΣΤΟΛΟΠΟΥΛΟΣ ΓΕΩΡΓΙΟΣ",1989,"Α.Ε.Τ.ΝΙΚΗ ΠΑΤΡΩΝ","ΣΤ"]
[1169,"M","ΑΠΟΣΤΟΛΟΠΟΥΛΟΣ ΘΕΟΔΩΡΟΣ",1973,"Ο.Α.ΑΘΗΝΩΝ","Η"]
[7617,"M","ΑΠΟΣΤΟΛΟΠΟΥΛΟΣ ΙΩΑΝΝΗΣ",1981,"Ο.Α.ΒΕΡΟΙΑΣ","Γ"]
[29619,"M","ΑΠΟΣΤΟΛΟΠΟΥΛΟΣ ΙΩΑΝΝΗΣ",1999,"Α.Σ.Α.ΑΓΡΙΝΙΟΥ","Δ"]
[3416,"M","ΑΠΟΣΤΟΛΟΠΟΥΛΟΣ ΝΙΚΟΛΑΟΣ",1977,"Α.Ο.Π.ΦΑΛΗΡΟΥ","ΙΑ"]
[31109,"M","ΑΠΟΣΤΟΛΟΠΟΥΛΟΣ ΝΙΚΟΛΑΟΣ",2000,"Α.Ο.Α.ΠΑΤΡΩΝ","ΣΤ"]
[16070,"M","ΑΠΟΣΤΟΛΟΠΟΥΛΟΣ ΠΑΝΑΓΙΩΤΗΣ",1987,"Α.Ε.Τ.ΝΙΚΗ ΠΑΤΡΩΝ","ΣΤ"]
[11494,"M","ΑΠΟΣΤΟΛΟΠΟΥΛΟΣ ΠΑΝΤΕΛΗΣ",1984,"Α.Ο.Α.ΠΑΤΡΩΝ","ΣΤ"]
[10710,"M","ΑΠΟΣΤΟΛΟΠΟΥΛΟΣ ΧΡΗΣΤΟΣ",1967,"Ν.Ο.ΚΑΛΑΜΑΚΙΟΥ","ΙΑ"]
[31390,"M","ΑΠΟΣΤΟΛΟΠΟΥΛΟΣ-ΚΑΛΚΑΒΟΥΡΑΣ ΚΩΝΣΤΑΝΤΙΝΟΣ",1997,"Ο.Α.ΠΕΤΡΟΥΠΟΛΗΣ","Θ"]
[29516,"M","ΑΠΟΣΤΟΛΟΠΟΥΛΟΣ-ΚΟΥΓΙΑΝΗΣ ΠΑΝΑΓΙΩΤΗΣ",2000,"Α.Ο.ΑΙΓΙΟΥ ΜΟΡΕΑΣ","ΣΤ"]
[3658,"F","ΑΠΟΣΤΟΛΟΠΟΥΛΟΥ ΑΘΑΝΑΣΙΑ",1967,"Ο.Α.ΖΩΓΡΑΦΟΥ","Η"]
[7616,"F","ΑΠΟΣΤΟΛΟΠΟΥΛΟΥ ΑΙΚΑΤΕΡΙΝΗ",1979,"Ο.Α.ΒΕΡΟΙΑΣ","Γ"]
[32747,"F","ΑΠΟΣΤΟΛΟΠΟΥΛΟΥ ΑΙΚΑΤΕΡΙΝΗ",2001,"Σ.Α.ΜΕΣΣΗΝΗΣ","ΣΤ"]
[4494,"F","ΑΠΟΣΤΟΛΟΠΟΥΛΟΥ ΑΦΡΟΔΙΤΗ",1968,"ΦΘΙΩΤΙΚΟΣ Ο.Α.","Ε"]
[24669,"F","ΑΠΟΣΤΟΛΟΠΟΥΛΟΥ ΒΑΡΣΑΜΙΑ",1995,"Α.Σ.Α.ΛΑΡΙΣΑΣ","Ε"]
[1957,"F","ΑΠΟΣΤΟΛΟΠΟΥΛΟΥ ΒΑΣΙΛΙΚΗ",1970,"Α.Ν.Ο.ΓΛΥΦΑΔΑΣ","ΙΑ"]
[28818,"F","ΑΠΟΣΤΟΛΟΠΟΥΛΟΥ ΒΑΣΙΛΙΚΗ",1999,"ΡΗΓΑΣ Α.Ο.Α.ΑΡΓΟΛΙΔΑΣ","ΣΤ"]
[38407,"F","ΑΠΟΣΤΟΛΟΠΟΥΛΟΥ ΓΕΩΡΓΙΑ",1980,"Ο.Α.UNIQUE TENNIS TEAM","ΣΤ"]
[23216,"F","ΑΠΟΣΤΟΛΟΠΟΥΛΟΥ ΓΛΥΚΕΡΙΑ",1994,"Ο.Α.ΝΙΚΑΙΑ ΛΑΡΙΣΑΣ","Ε"]
[20177,"F","ΑΠΟΣΤΟΛΟΠΟΥΛΟΥ ΔΑΦΝΗ",1990,"Α.Ο.Α.ΧΑΪΔΑΡΙΟΥ","Θ"]
[20601,"F","ΑΠΟΣΤΟΛΟΠΟΥΛΟΥ ΕΡΑΣΜΙΑ",1994,"Α.Σ.Α.ΑΓΡΙΝΙΟΥ","Δ"]
[10008,"F","ΑΠΟΣΤΟΛΟΠΟΥΛΟΥ ΚΑΛΛΙΟΠΗ",1980,"Γ.Σ.ΗΛΙΟΥΠΟΛΗΣ","ΙΑ"]
[15847,"F","ΑΠΟΣΤΟΛΟΠΟΥΛΟΥ ΜΑΡΙΑ",1990,"Α.Α.Α.ΑΛΙΜΟΥ","ΙΑ"]
[30373,"F","ΑΠΟΣΤΟΛΟΠΟΥΛΟΥ ΜΑΡΙΑ",2000,"ΦΙΛΑΘΛ.ΟΜΙΛΟΣ ΠΥΡΓΟΥ","ΣΤ"]
[32748,"F","ΑΠΟΣΤΟΛΟΠΟΥΛΟΥ ΜΑΡΙΑ-ΑΓΓΕΛΙΚΗ",1999,"Σ.Α.ΜΕΣΣΗΝΗΣ","ΣΤ"]
[12998,"F","ΑΠΟΣΤΟΛΟΠΟΥΛΟΥ ΧΑΡΟΥΛΑ",1987,"Α.Α.Α.ΑΛΙΜΟΥ","ΙΑ"]
[15849,"F","ΑΠΟΣΤΟΛΟΠΟΥΛΟΥ ΧΡΙΣΤΙΝΑ",1992,"Α.Α.Α.ΑΛΙΜΟΥ","ΙΑ"]
[2218,"F","ΑΠΟΣΤΟΛΟΠΟΥΛΟΥ ΧΡΥΣΟΠ",1974,"Α.Κ.ΖΩΓΡΑΦΟΥ","ΙΑ"]
[28994,"M","ΑΠΟΣΤΟΛΟΣ ΓΕΩΡΓΙΟΣ",1999,"Α.Σ.ΑΚΡΟΠΟΛΙΣ","Η"]
[19361,"M","ΑΠΟΣΤΟΛΟΥ ΑΛΕΞΑΝΔΡΟΣ",1994,"Ο.Α.ΘΕΣΠΡΩΤΙΑΣ ΤΙΤΑΝΗ","Δ"]
[26871,"M","ΑΠΟΣΤΟΛΟΥ ΑΧΙΛΛΕΑΣ",1997,"Α.Ε.ΠΟΡΤΟ ΡΑΦΤΗ","Η"]
[30901,"M","ΑΠΟΣΤΟΛΟΥ ΑΧΙΛΛΕΑΣ",1998,"Γ.Σ.ΕΛΕΥΘΕΡΙΟΥ ΚΟΡΔ.ΑΡΓΟΝΑΥΤΕΣ","Β"]
[6961,"M","ΑΠΟΣΤΟΛΟΥ ΓΕΩΡΓΙΟΣ",1979,"Α.Ο.ΠΟΣΕΙΔΩΝ ΛΟΥΤΡΑΚΙΟΥ","ΣΤ"]
[11532,"M","ΑΠΟΣΤΟΛΟΥ ΓΙΑΝΝΗΣ",1984,"Ο.Α.ΑΓΙΑΣ ΠΑΡΑΣΚΕΥΗΣ","Η"]
[17836,"F","ΑΠΟΣΤΟΛΟΥ ΔΗΜΗΤΡΑ",1987,"Ο.Α.ΣΥΡΟΥ","Η"]
[35175,"M","ΑΠΟΣΤΟΛΟΥ ΙΩΑΝΝΗΣ",1999,"Α.Ο.Α.ΑΙΓΑΛΕΩ 92","Θ"]
[11108,"F","ΑΠΟΣΤΟΛΟΥ ΜΑΡΙΑ",1980,"Ο.Α.ΑΓΙΑΣ ΠΑΡΑΣΚΕΥΗΣ","Η"]
[18107,"F","ΑΠΟΣΤΟΛΟΥ ΝΙΚΟΛΕΤΑ",1991,"Ο.Α.ΛΙΒΑΔΕΙΑΣ","Ε"]
[18444,"M","ΑΠΟΣΤΟΛΟΥ ΠΡΟΔΡΟΜΟΣ",1988,"ΡΟΔΙΑΚΟΣ Ο.Α.","Θ"]
[27100,"F","ΑΠΟΣΤΟΛΟΥ ΣΟΦΙΑ",1986,"Α.Ε.Κ.ΤΡΙΠΟΛΗΣ","ΣΤ"]
[3374,"M","ΑΠΟΤΟΡΗΣ ΔΗΜΗΤΡΗΣ",1977,"Ο.Α.ΑΡΤΑΣ","Δ"]
[7947,"M","ΑΠΟΤΣΟΣ ΠΕΤΡΟΣ",1979,"Ε.Φ.Τ.ΑΙΟΛΙΚΗ","Β"]
[21976,"F","ΑΠΤΣΙΑΟΥΡΙ ΑΝΝΑ",1993,"Α.Ο.Ν.Φ.ΑΤΤΑΛΟΣ","Η"]
[12711,"F","ΑΡΑΒΑΝΗ ΑΓΓΕΛΙΚΗ-ΣΟΦΙΑ",1976,"Ο.Α.ΓΟΥΔΙΟΥ","ΙΑ"]
[14643,"F","ΑΡΑΒΑΝΗ ΧΡΙΣΤΙΝΑ-ΑΝΝΑ",1990,"Α.Ο.Ν.Φ.ΑΤΤΑΛΟΣ","Η"]
[38669,"M","ΑΡΑΒΑΝΤΙΝΟΣ-ΦΑΤΩΡΟΣ ΔΙΟΝΥΣΗΣ",2001,"Α.Σ.ΑΣΤΕΡΑΣ ΠΕΝΤΕΛΙΚΟΥ","Η"]
[21625,"F","ΑΡΑΒΑΝΤΙΝΟΥ ΙΩΑΝΝΑ-ΜΑΡΙΑ",1995,"Α.Ε.Τ.ΝΙΚΗ ΠΑΤΡΩΝ","ΣΤ"]
[6558,"F","ΑΡΑΒΑΝΤΙΝΟΥ ΟΥΡΑΝΙΑ",1979,"Α.Ν.Ο.ΓΛΥΦΑΔΑΣ","ΙΑ"]
[28841,"M","ΑΡΑΒΟΣΙΤΑΣ ΔΗΜΗΤΡΙΟΣ",1983,"Α.Ο.ΑΜΥΝΤΑΣ ΥΜΗΤΤΟΥ","ΙΑ"]
[21902,"M","ΑΡΑΒΟΣΙΤΑΣ ΚΩΝΣΤΑΝΤΙΝΟΣ",1991,"Α.Ο.ΦΙΛΙΠΠΟΣ ΠΟΛΥΔΡΟΣΟΥ","Η"]
[25437,"M","ΑΡΑΘΥΜΟΣ ΠΑΝΑΓΙΩΤΗΣ",1993,"Ο.Α.ΚΕΡΚΥΡΑΣ","Δ"]
[25807,"F","ΑΡΑΪΛΟΥΔΗ ΑΘΗΝΑ",2000,"Ο.Α.ΠΤΟΛΕΜΑΪΔΑΣ","Γ"]
[25808,"F","ΑΡΑΪΛΟΥΔΗ ΑΝΝΑ",1995,"Ο.Α.ΠΤΟΛΕΜΑΪΔΑΣ","Γ"]
[27886,"F","ΑΡΑΪΛΟΥΔΗ-ΑΛΕΞΙΑΔΟΥ ΛΕΥΚΟΘΕΑ",1993,"Ο.Α.ΠΤΟΛΕΜΑΪΔΑΣ","Γ"]
[26002,"F","ΑΡΑΜΠΑΝΟΥ ΒΑΣΙΛΙΚΗ",1980,"Α.Σ.ΠΑΠΑΓΟΥ","ΙΑ"]
[6384,"F","ΑΡΑΜΠΑΤΖΑΚΗ ΒΑΣΙΛΙΚΗ",1978,"ΠΑΝΘΡΑΚΙΚΟΣ Ο.Α.ΚΟΜΟΤΗΝΗΣ","Α"]
[14471,"F","ΑΡΑΜΠΑΤΖΗ ΑΘΗΝΑ",1989,"Γ.Α.Σ.ΝΙΓΡΙΤΑΣ ΒΙΣΑΛΤΗΣ","Α"]
[32415,"F","ΑΡΑΜΠΑΤΖΗ ΑΝΝΑ-ΝΕΚΤΑΡΙΑ",2001,"Ο.Α.ΞΑΝΘΗΣ","Α"]
[6394,"F","ΑΡΑΜΠΑΤΖΗ ΒΙΚΥ",1976,"ΠΑΝΘΡΑΚΙΚΟΣ Ο.Α.ΚΟΜΟΤΗΝΗΣ","Α"]
[7025,"F","ΑΡΑΜΠΑΤΖΗ ΕΙΡΗΝΗ",1980,"Σ.Α.ΔΡΑΜΑΣ","Α"]
[23509,"F","ΑΡΑΜΠΑΤΖΗ ΕΥΑΓΓΕΛΙΑ",1995,"Ο.Α.ΠΤΟΛΕΜΑΪΔΑΣ","Γ"]
[14470,"F","ΑΡΑΜΠΑΤΖΗ ΜΑΡΙΑ",1990,"Γ.Α.Σ.ΝΙΓΡΙΤΑΣ ΒΙΣΑΛΤΗΣ","Α"]
[32829,"F","ΑΡΑΜΠΑΤΖΗ ΜΑΡΙΑ",2000,"Ο.Α.ΣΑΛΑΜΙΝΑΣ","Θ"]
[22749,"F","ΑΡΑΜΠΑΤΖΗ ΠΕΤΡΟΥΛΑ",1996,"ΣΕΡΡΑΪΚΟΣ Ο.Α.","Α"]
[22750,"F","ΑΡΑΜΠΑΤΖΗ ΦΩΤΕΙΝΗ",1994,"ΣΕΡΡΑΪΚΟΣ Ο.Α.","Α"]
[22436,"M","ΑΡΑΜΠΑΤΖΗΣ ΆΓΓΕΛΟΣ",1993,"Ο.Α.ΛΕΣΒΟΥ","Θ"]
[23977,"M","ΑΡΑΜΠΑΤΖΗΣ ΑΠΟΣΤΟΛΟΣ",1996,"ΕΘΝΙΚΟΣ ΠΑΝΟΡΑΜΑΤΟΣ 2005","Β"]
[16173,"M","ΑΡΑΜΠΑΤΖΗΣ ΓΕΩΡΓΙΟΣ",1976,"Ο.Α.ΚΑΒΑΛΑΣ ΑΛΕΞΑΝΔΡΟΣ","Α"]
[2624,"M","ΑΡΑΜΠΑΤΖΗΣ ΓΙΑΝΝΗΣ",1973,"Σ.Α.ΣΕΡΡΩΝ","Α"]
[17769,"M","ΑΡΑΜΠΑΤΖΗΣ ΔΗΜΗΤΡΙΟΣ",1986,"Ο.Α.ΕΥΟΣΜΟΥ ΘΕΣΣΑΛΟΝΙΚΗΣ","Β"]
[29058,"M","ΑΡΑΜΠΑΤΖΗΣ ΔΗΜΗΤΡΙΟΣ-ΜΑΡΤΙΝ",1996,"Α.Ο.Α.ΣΤΑΥΡΟΥΠΟΛΗΣ ΙΦΙΤΟΣ","Β"]
[22065,"M","ΑΡΑΜΠΑΤΖΗΣ ΕΜΜΑΝΟΥΗΛ",1994,"Σ.Α.ΣΕΡΡΩΝ","Α"]
[7001,"M","ΑΡΑΜΠΑΤΖΗΣ ΘΕΟΔΩΡΟΣ",1976,"Σ.Α.ΔΡΑΜΑΣ","Α"]
[11585,"M","ΑΡΑΜΠΑΤΖΗΣ ΜΙΧΑΗΛ",1986,"Α.Ε.ΠΟΡΤΟ ΡΑΦΤΗ","Η"]
[32781,"M","ΑΡΑΜΠΑΤΖΗΣ ΜΙΧΑΗΛ",2001,"Ο.Α.ΠΟΛΥΚΑΣΤΡΟΥ","Β"]
[32940,"M","ΑΡΑΜΠΑΤΖΗΣ ΠΑΝΑΓΙΩΤΗΣ",1999,"Ο.Α.ΑΡΙΔΑΙΑΣ","Γ"]
[5455,"M","ΑΡΑΜΠΑΤΖΗΣ ΠΑΝΤΕΛΗΣ",1976,"Ο.Α.ΚΑΒΑΛΑΣ ΑΛΕΞΑΝΔΡΟΣ","Α"]
[28019,"M","ΑΡΑΜΠΑΤΖΗΣ ΡΑΦΑΗΛ",1997,"Ο.Α.ΒΡΙΛΗΣΣΙΩΝ","Η"]
[17768,"F","ΑΡΑΜΠΑΤΣΗ ΕΛΕΝΗ",1990,"Ο.Α.ΕΥΟΣΜΟΥ ΘΕΣΣΑΛΟΝΙΚΗΣ","Β"]
[28056,"F","ΑΡΑΝΙΤΗ ΑΙΚΑΤΕΡΙΝΗ",1997,"Α.Ο.Α.ΠΑΠΑΓΟΥ","ΙΑ"]
[29603,"M","ΑΡΑΝΙΤΗΣ ΚΩΝΣΤΑΝΤΙΝΟΣ",2001,"Α.Ο.Α.ΠΑΠΑΓΟΥ","ΙΑ"]
[12710,"M","ΑΡΑΟΥΖΟΣ ΝΙΚΟΛΑΟΣ",1975,"Ο.Α.ΓΟΥΔΙΟΥ","ΙΑ"]
[2864,"F","ΑΡΑΠΑΚΗ ΜΑΡΙΑ",1971,"Ο.Α.ΧΑΛΚΙΔΑΣ","Θ"]
[2863,"M","ΑΡΑΠΑΚΗΣ ΓΕΩΡΓΙΟΣ",1972,"Ο.Α.ΧΑΛΚΙΔΑΣ","Θ"]
[24704,"F","ΑΡΑΠΑΝΤΩΝΗ ΠΟΤΙΤΣΑ-ΕΙΡΗΝΗ",1984,"Ο.Α.ΠΕΙΡΑΙΑ","Θ"]
[15685,"F","ΑΡΑΠΗ ΒΑΡΒΑΡΑ",1989,"Ο.Α.ΚΑΛΑΜΑΤΑΣ","ΣΤ"]
[27525,"F","ΑΡΑΠΗ ΕΛΙΣΑΒΕΤ",1995,"Α.Σ.ΠΕΡΑ","ΙΑ"]
[10129,"M","ΑΡΑΠΗΣ ΓΕΩΡΓΙΟΣ",1966,"Α.Ο.ΚΗΦΙΣΙΑΣ","Η"]
[18254,"F","ΑΡΑΠΟΓΛΟΥ ΑΓΑΠΗ",1987,"Ο.Α.ΣΗΤΕΙΑΣ","Ζ"]
[14641,"M","ΑΡΑΠΟΓΛΟΥ ΑΛΕΞΑΝΔΡΟΣ",1984,"Α.Κ.Α.ΜΑΡΑΘΩΝΑ","Η"]
[26042,"M","ΑΡΑΠΟΓΛΟΥ ΑΝΔΡΕΑΣ",1998,"Α.Ο.ΤΑΤΑΥΛΑ ΚΩΝΣΤΑΝΤΙΝΟΥΠΟΛΕΩΣ","ΙΑ"]
[90145,"M","ΑΡΑΠΟΓΛΟΥ ΒΥΡΩΝ",1991,"Α.Σ.ΠΕΡΑ","ΙΑ"]
[26043,"M","ΑΡΑΠΟΓΛΟΥ ΔΗΜΗΤΡΗΣ",1998,"Α.Ο.ΤΑΤΑΥΛΑ ΚΩΝΣΤΑΝΤΙΝΟΥΠΟΛΕΩΣ","ΙΑ"]
[5259,"M","ΑΡΑΠΟΓΛΟΥ ΚΩΝΣΤΑΝΤΙΝΟΣ",1980,"Α.Ο.ΔΑΣΟΣ ΧΑΪΔΑΡΙΟΥ","Θ"]
[26044,"F","ΑΡΑΠΟΓΛΟΥ ΝΑΤΑΛΙΑ",2000,"Α.Ο.ΤΑΤΑΥΛΑ ΚΩΝΣΤΑΝΤΙΝΟΥΠΟΛΕΩΣ","ΙΑ"]
[3553,"M","ΑΡΑΠΟΓΛΟΥ ΠΑΝΑΓΙΩΤΗΣ",1976,"Ο.Α.ΚΑΒΑΛΑΣ ΑΛΕΞΑΝΔΡΟΣ","Α"]
[14640,"M","ΑΡΑΠΟΓΛΟΥ ΠΕΤΡΟΣ",1986,"Α.Κ.Α.ΜΑΡΑΘΩΝΑ","Η"]
[28907,"M","ΑΡΑΠΟΓΛΟΥ ΣΠΥΡΙΔΩΝ",1968,"Σ.Α.ΜΕΣΣΗΝΗΣ","ΣΤ"]
[26841,"M","ΑΡΑΠΟΠΟΥΛΟΣ ΓΕΩΡΓΙΟΣ",1999,"Ο.Α.ΚΩ","Θ"]
[23768,"M","ΑΡΑΠΟΠΟΥΛΟΣ ΝΙΚΟΣ",1995,"Μ.Γ.Σ.ΑΠΟΛΛΩΝ ΚΑΛΑΜΑΡΙΑΣ","Β"]
[13626,"F","ΑΡΑΧΩΒΙΤΗ ΑΛΕΞΑΝΔΡΑ",1983,"Α.Σ.Α.ΑΓΡΙΝΙΟΥ","Δ"]
[20338,"F","ΑΡΒΑΝΑΚΟΥ ΚΛΕΙΩ",1993,"Ο.Α.ΚΕΡΚΥΡΑΣ","Δ"]
[5725,"F","ΑΡΒΑΝΙΤΑΚΗ ΔΗΜΗΤΡΑ",1978,"Α.Ο.ΔΑΣΟΣ ΧΑΪΔΑΡΙΟΥ","Θ"]
[15968,"F","ΑΡΒΑΝΙΤΑΚΗ ΚΑΤΕΡΙΝΑ",1988,"Σ.Α.ΚΑΣΤΟΡΙΑΣ ΠΡΩΤΕΑΣ","Γ"]
[8881,"F","ΑΡΒΑΝΙΤΑΚΗ ΜΑΡΙΑ",1980,"ΖΑΚΥΝΘΙΝΟΣ Α.Ο.","ΣΤ"]
[26850,"F","ΑΡΒΑΝΙΤΑΚΗ ΧΡΥΣΑΝΘΗ-ΜΑΡΙΑ",1996,"Ο.Α.ΚΩ","Θ"]
[19970,"M","ΑΡΒΑΝΙΤΑΚΗΣ ΑΝΔΡΕΑΣ",1994,"Ο.Α.ΚΩ","Θ"]
[5726,"M","ΑΡΒΑΝΙΤΑΚΗΣ ΑΠΟΣΤΟΛΟΣ",1975,"Α.Ο.ΔΑΣΟΣ ΧΑΪΔΑΡΙΟΥ","Θ"]
[19971,"M","ΑΡΒΑΝΙΤΑΚΗΣ ΔΙΟΝΥΣΙΟΣ",1992,"Ο.Α.ΚΩ","Θ"]
[6579,"M","ΑΡΒΑΝΙΤΑΚΗΣ ΚΩΝΣΤΑΝΤΙΝΟΣ",1981,"Σ.Α.ΣΕΡΡΩΝ","Α"]
[10725,"M","ΑΡΒΑΝΙΤΑΚΗΣ ΚΩΝΣΤΑΝΤΙΝΟΣ",1967,"Ο.Α.ΠΕΤΡΟΥΠΟΛΗΣ","Θ"]
[18426,"M","ΑΡΒΑΝΙΤΑΚΗΣ ΚΩΝΣΤΑΝΤΙΝΟΣ",1986,"Γ.Ο.ΠΕΡΙΣΤΕΡΙΟΥ Γ.ΠΑΛΑΣΚΑΣ","Θ"]
[1133,"M","ΑΡΒΑΝΙΤΑΚΗΣ ΝΙΚΟΛΑΟΣ",1968,"Ο.Α.ΡΙΟΥ","ΣΤ"]
[20605,"M","ΑΡΒΑΝΙΤΑΚΗΣ ΣΤΕΦΑΝΟΣ",1993,"ΖΑΚΥΝΘΙΝΟΣ Α.Ο.Α","ΣΤ"]
[12709,"M","ΑΡΒΑΝΙΤΑΝΤΩΝΗΣ ΣΩΤΗΡΙΟΣ",1970,"Ο.Α.ΓΟΥΔΙΟΥ","ΙΑ"]
[10823,"F","ΑΡΒΑΝΙΤΗ ΑΓΛΑΪΑ",1983,"Α.Α.ΙΩΑΝΝΙΝΩΝ","Δ"]
[10394,"F","ΑΡΒΑΝΙΤΗ ΑΙΚΑΤΕΡΙΝΗ",1984,"Α.Α.ΙΩΑΝΝΙΝΩΝ","Δ"]
[24871,"F","ΑΡΒΑΝΙΤΗ ΑΙΚΑΤΕΡΙΝΗ",1998,"Ο.Α.ΚΟΡΙΝΘΟΥ","ΣΤ"]
[17080,"F","ΑΡΒΑΝΙΤΗ ΑΡΙΣΤΕΑ",1984,"Α.Ο.ΓΛΥΦΑΔΑΣ ΦΙΛΙΑ 2000","ΙΑ"]
[7872,"F","ΑΡΒΑΝΙΤΗ ΒΑΣΕΛΙΝΑ",1983,"Α.Ο.ΒΑΡΗΣ ΑΝΑΓΥΡΟΥΣ","Η"]
[35173,"F","ΑΡΒΑΝΙΤΗ ΔΑΝΑΗ",2000,"ΑΙΟΛΟΣ Α.Λ.ΙΛΙΟΥ","Θ"]
[34687,"F","ΑΡΒΑΝΙΤΗ ΜΑΡΙΑ",1998,"Ο.Α.ΑΛΕΞΑΝΔΡΟΥΠΟΛΗΣ","Α"]
[18871,"F","ΑΡΒΑΝΙΤΗ ΜΑΡΙΑ-ΛΟΥΚΙΑ",1989,"Γ.Ο.ΠΕΡΙΣΤΕΡΙΟΥ Γ.ΠΑΛΑΣΚΑΣ","Θ"]
[27508,"F","ΑΡΒΑΝΙΤΗ ΝΙΚΟΛΙΑ",1998,"Α.Ν.Ο.ΓΛΥΦΑΔΑΣ","ΙΑ"]
[7873,"F","ΑΡΒΑΝΙΤΗ ΣΟΦΙΑ",1981,"Α.Ο.ΒΑΡΗΣ ΑΝΑΓΥΡΟΥΣ","Η"]
[30576,"F","ΑΡΒΑΝΙΤΗ ΣΟΦΙΑ",2000,"Α.Ν.Ο.ΓΛΥΦΑΔΑΣ","ΙΑ"]
[23183,"F","ΑΡΒΑΝΙΤΗ ΦΩΤΕΙΝΗ",1994,"Α.Ο.Α.ΑΙΓΑΛΕΩ 92","Θ"]
[37938,"M","ΑΡΒΑΝΙΤΗΣ ΑΘΑΝΑΣΙΟΣ",2001,"Γ.Ο.ΠΕΡΙΣΤΕΡΙΟΥ Γ.ΠΑΛΑΣΚΑΣ","Θ"]
[29399,"M","ΑΡΒΑΝΙΤΗΣ ΑΛΕΞΑΝΔΡΟΣ",2001,"Α.Κ.Α.ΜΑΡΑΘΩΝΑ","Η"]
[10525,"M","ΑΡΒΑΝΙΤΗΣ ΑΝΑΣΤΑΣΙΟΣ",1983,"Ο.Α.ΚΟΡΙΝΘΟΥ","ΣΤ"]
[9423,"M","ΑΡΒΑΝΙΤΗΣ ΒΑΣΙΛΕΙΟΣ",1983,"Α.Σ.ΣΠΑΡΤΑΚΟΣ ΓΛΥΦΑΔΑΣ","ΙΑ"]
[21867,"M","ΑΡΒΑΝΙΤΗΣ ΒΑΣΙΛΕΙΟΣ",1991,"Α.Ο.Ν.Φ.ΑΤΤΑΛΟΣ","Η"]
[3532,"M","ΑΡΒΑΝΙΤΗΣ ΓΕΡΑΣΙΜΟΣ",1969,"Γ.Σ.ΚΟΡΩΠΙΟΥ","Η"]
[30739,"M","ΑΡΒΑΝΙΤΗΣ ΓΕΩΡΓΙΟΣ",2000,"Ο.Α.ΑΙΓΙΑΛΕΙΑΣ","ΣΤ"]
[23182,"M","ΑΡΒΑΝΙΤΗΣ ΓΡΗΓΟΡΙΟΣ",1995,"Α.Ο.Α.ΑΙΓΑΛΕΩ 92","Θ"]
[10857,"M","ΑΡΒΑΝΙΤΗΣ ΔΗΜΗΤΡΙΟΣ",1974,"ΠΑΝΘΡΑΚΙΚΟΣ Ο.Α.ΚΟΜΟΤΗΝΗΣ","Α"]
[19125,"M","ΑΡΒΑΝΙΤΗΣ ΔΗΜΗΤΡΙΟΣ",1974,"Γ.Σ.ΩΡΩΠΟΥ","Η"]
[34292,"M","ΑΡΒΑΝΙΤΗΣ ΕΡΜΗΣ",1999,"ΑΙΟΛΟΣ Α.Λ.ΙΛΙΟΥ","Θ"]
[11287,"M","ΑΡΒΑΝΙΤΗΣ ΕΥΑΓΓΕΛΟΣ",1984,"Α.Ο.Α.ΗΛΙΟΥΠΟΛΗΣ","ΙΑ"]
[35172,"M","ΑΡΒΑΝΙΤΗΣ ΙΑΣΩΝΑΣ",1998,"ΑΙΟΛΟΣ Α.Λ.ΙΛΙΟΥ","Θ"]
[7736,"M","ΑΡΒΑΝΙΤΗΣ ΙΩΑΝΝΗΣ",1979,"Α.Ο.Α.ΗΛΙΟΥΠΟΛΗΣ","ΙΑ"]
[11753,"M","ΑΡΒΑΝΙΤΗΣ ΙΩΑΝΝΗΣ",1986,"Ο.Α.ΚΟΡΙΝΘΟΥ","ΣΤ"]
[8642,"M","ΑΡΒΑΝΙΤΗΣ ΚΩΝΣΤΑΝΤΙΝΟΣ",1982,"Α.Σ.ΣΠΑΡΤΑΚΟΣ ΓΛΥΦΑΔΑΣ","ΙΑ"]
[26593,"M","ΑΡΒΑΝΙΤΗΣ ΚΩΝΣΤΑΝΤΙΝΟΣ",1998,"Α.Κ.Α.ΜΑΡΑΘΩΝΑ","Η"]
[26656,"M","ΑΡΒΑΝΙΤΗΣ ΚΩΝΣΤΑΝΤΙΝΟΣ",1998,"Α.Ο.Α.ΠΑΤΡΩΝ","ΣΤ"]
[16283,"M","ΑΡΒΑΝΙΤΗΣ ΜΑΡΙΟΣ",1985,"Σ.Ο.Α.ΚΑΡΔΙΤΣΑΣ ΦΩΚΙΑΝΟΣ","Ε"]
[9006,"M","ΑΡΒΑΝΙΤΗΣ ΝΗΛ",1980,"Α.Ν.Ο.ΓΛΥΦΑΔΑΣ","ΙΑ"]
[22306,"M","ΑΡΒΑΝΙΤΗΣ ΧΡΗΣΤΟΣ",1978,"Α.Ε.Τ.ΝΙΚΗ ΠΑΤΡΩΝ","ΣΤ"]
[9908,"M","ΑΡΒΑΝΙΤΙΔΗΣ ΑΝΑΣΤΑΣΙΟΣ",1983,"Σ.Α.ΓΑΛΑΤΣΙΟΥ","Θ"]
[6563,"M","ΑΡΒΑΝΙΤΙΔΗΣ ΔΗΜΗΤΡΙΟΣ",1979,"Ε.Φ.Τ.ΑΙΟΛΙΚΗ","Β"]
[36916,"M","ΑΡΒΑΝΙΤΙΔΗΣ ΕΥΣΤΡΑΤΙΟΣ",2002,"Ο.Α.ΑΛΕΞΑΝΔΡΟΥΠΟΛΗΣ","Α"]
[20360,"M","ΑΡΒΑΝΙΤΙΔΗΣ ΝΙΚΟΛΑΟΣ",1989,"Ο.Α.ΒΙΚΕΛΑΣ ΒΕΡΟΙΑΣ","Γ"]
[13620,"M","ΑΡΒΑΝΙΤΙΔΗΣ ΣΤΥΛΙΑΝΟΣ",1986,"Α.Ο.ΟΡΕΣΤΙΑΔΑΣ","Α"]
[20359,"M","ΑΡΒΑΝΙΤΙΔΗΣ ΤΙΜΟΘΕΟΣ",1990,"Ο.Α.ΒΙΚΕΛΑΣ ΒΕΡΟΙΑΣ","Γ"]
[24992,"F","ΑΡΒΑΝΙΤΙΔΟΥ ΑΙΚΑΤΕΡΙΝΗ",1998,"ΠΑΝΘΡΑΚΙΚΟΣ Ο.Α.ΚΟΜΟΤΗΝΗΣ","Α"]
[27487,"F","ΑΡΒΑΝΙΤΙΔΟΥ ΑΙΚΑΤΕΡΙΝΗ",1999,"Ν.Ο.ΘΕΣΣΑΛΟΝΙΚΗΣ","Β"]
[12824,"F","ΑΡΒΑΝΙΤΙΔΟΥ ΒΑΣΙΛΕΙΑ",1967,"Γ.Α.Σ.ΝΙΓΡΙΤΑΣ ΒΙΣΑΛΤΗΣ","Α"]
[27486,"F","ΑΡΒΑΝΙΤΙΔΟΥ ΕΙΡΗΝΗ",1999,"Ν.Ο.ΘΕΣΣΑΛΟΝΙΚΗΣ","Β"]
[17093,"M","ΑΡΒΑΝΙΤΟΠΟΥΛΟΣ ΓΕΩΡΓΙΟΣ",1967,"Α.Ο.ΓΛΥΦΑΔΑΣ ΦΙΛΙΑ 2000","ΙΑ"]
[17081,"M","ΑΡΒΑΝΙΤΟΠΟΥΛΟΣ ΔΗΜΗΤΡΗΣ",1971,"Α.Ο.ΓΛΥΦΑΔΑΣ ΦΙΛΙΑ 2000","ΙΑ"]
[29089,"F","ΑΡΒΑΝΙΤΟΠΟΥΛΟΥ ΒΑΣΙΛΙΚΗ",1999,"Α.Ο.Α.ΠΑΤΡΩΝ","ΣΤ"]
[15433,"F","ΑΡΒΑΝΙΤΟΠΟΥΛΟΥ ΕΛΕΑΝΑ",1987,"Α.Σ.Α.ΛΑΡΙΣΑΣ","Ε"]
[21045,"M","ΑΡΓΑΛΙΑΣ ΝΙΚΟΛΑΟΣ",1997,"Α.Ο.ΜΕΓΑΣ ΑΛΕΞΑΝΔΡΟΣ","ΙΑ"]
[17015,"F","ΑΡΓΕΙΤΗ ΚΩΝΣΤΑΝΤΙΝΑ",1994,"Ο.Α.ΠΕΙΡΑΙΑ","Θ"]
[5683,"M","ΑΡΓΙΜΑΚΗΣ ΙΩΑΝΝΗΣ",1970,"Α.Ο.ΚΑΛΛΙΤΕΧΝΟΥΠΟΛΗΣ","Η"]
[19733,"F","ΑΡΓΥΡΑΚΗ ΔΗΜΗΤΡΑ",1988,"Ο.Α.ΞΑΝΘΗΣ","Α"]
[39092,"F","ΑΡΓΥΡΑΚΗ ΕΥΑΓΓΕΛΙΑ-ΑΝΝΑ",1983,"Α.Σ.ΠΑΝΟΡΑΜΑ","Β"]
[16620,"F","ΑΡΓΥΡΑΚΗ ΕΥΓΕΝΙΑ-ΑΝΝΑ",1990,"Ο.Α.ΠΕΤΡΟΥΠΟΛΗΣ","Θ"]
[19459,"F","ΑΡΓΥΡΑΚΗ ΡΟΔΑΝΘΗ",1993,"Ο.Α.& Α.ΜΑΛΙΩΝ","Ζ"]
[1698,"F","ΑΡΓΥΡΑΚΗ ΣΟΦΙΑ",1968,"Ο.Α.ΒΟΛΟΥ","Ε"]
[25882,"M","ΑΡΓΥΡΑΚΗΣ ΙΩΑΝΝΗΣ",1994,"Α.Ο.Α.ΦΙΛΟΘΕΗΣ","Η"]
[6110,"F","ΑΡΓΥΡΕΛΛΗ ΑΝΤΩΝΙΑ",1977,"Α.Ο.ΜΥΤΙΛΗΝΗΣ","Θ"]
[13578,"F","ΑΡΓΥΡΗ ΑΓΓΕΛΙΚΗ",1985,"Ο.Α.ΓΛΥΦΑΔΑΣ","ΙΑ"]
[10690,"F","ΑΡΓΥΡΗ ΕΛΕΝΗ",1981,"Γ.Σ.ΗΛΙΟΥΠΟΛΗΣ","ΙΑ"]
[9429,"F","ΑΡΓΥΡΗ ΕΛΙΝΑ",1982,"Α.Σ.ΣΠΑΡΤΑΚΟΣ ΓΛΥΦΑΔΑΣ","ΙΑ"]
[13579,"F","ΑΡΓΥΡΗ ΕΛΙΝΑ",1982,"Ο.Α.ΓΛΥΦΑΔΑΣ","ΙΑ"]
[16376,"F","ΑΡΓΥΡΗ ΚΑΤΕΡΙΝΑ",1990,"Ο.Α.ΚΑΛΑΜΑΤΑΣ","ΣΤ"]
[7694,"F","ΑΡΓΥΡΗ ΤΑΤΙΑΝΑ",1983,"Α.Ο.ΑΜΥΝΤΑΣ ΥΜΗΤΤΟΥ","ΙΑ"]
[16169,"F","ΑΡΓΥΡΗ ΧΡΙΣΤΙΝΑ",1991,"Ο.Α.ΜΑΓΝΗΣΙΑΣ","Ε"]
[9828,"M","ΑΡΓΥΡΗΣ ΑΛΚΙΒΙΑΔΗΣ",1980,"Α.Ο.ΒΟΥΛΙΑΓΜΕΝΗΣ","ΙΑ"]
[4771,"M","ΑΡΓΥΡΗΣ ΚΩΝΣΤΑΝΤΙΝΟΣ",1980,"Α.Ο.ΑΜΥΝΤΑΣ ΥΜΗΤΤΟΥ","ΙΑ"]
[28139,"M","ΑΡΓΥΡΗΣ ΠΡΟΚΟΠΙΟΣ",1985,"Ο.Α.ΑΓΙΑΣ ΠΑΡΑΣΚΕΥΗΣ","Η"]
[2489,"F","ΑΡΓΥΡΙΑΔΗ ΑΝΔΡΙΑΝΝΑ",1974,"Α.Ο.Α.ΠΑΤΡΩΝ","ΣΤ"]
[18135,"F","ΑΡΓΥΡΙΑΔΗ ΜΑΡΙΝΑ-ΜΑΡΙΑ",1992,"Ο.Α.ΚΩ","Θ"]
[18284,"M","ΑΡΓΥΡΙΑΔΗΣ ΔΗΜΗΤΡΙΟΣ",1990,"Ο.Α.ΚΩ","Θ"]
[34336,"M","ΑΡΓΥΡΙΑΔΗΣ ΕΚΤΩΡ-ΑΡΓΥΡΙΟΣ",1998,"Ο.Α.ΑΝΑΦΛΥΣΤΟΣ ΣΑΡΩΝΙΔΑΣ","Η"]
[14377,"M","ΑΡΓΥΡΙΑΔΗΣ ΘΑΝΟΣ",1987,"Σ.Α.ΣΕΡΡΩΝ","Α"]
[34337,"M","ΑΡΓΥΡΙΑΔΗΣ ΚΙΜΩΝ-ΛΑΖΑΡΟΣ",1998,"Ο.Α.ΑΝΑΦΛΥΣΤΟΣ ΣΑΡΩΝΙΔΑΣ","Η"]
[25413,"M","ΑΡΓΥΡΙΑΔΗΣ ΠΑΥΛΟΣ",1976,"Π.Σ.ΑΜΠΕΛΩΝΟΣ Ο ΦΙΛΙΠΠΙΔΗΣ","Ε"]
[13304,"M","ΑΡΓΥΡΙΟΥ ΑΘΑΝΑΣΙΟΣ",1985,"Ο.Α.ΛΙΒΑΔΕΙΑΣ","Ε"]
[32899,"F","ΑΡΓΥΡΙΟΥ ΑΙΚΑΤΕΡΙΝΗ",2001,"Ο.Α.ΦΟΙΒΟΣ ΛΑΡΙΣΑΣ","Ε"]
[21570,"F","ΑΡΓΥΡΙΟΥ ΑΛΕΞΑΝΔΡΑ",1995,"Ο.Α.ΒΡΙΛΗΣΣΙΩΝ","Η"]
[3222,"M","ΑΡΓΥΡΙΟΥ ΑΛΕΞΑΝΔΡΟΣ",1966,"Α.Ο.Π.ΦΑΛΗΡΟΥ","ΙΑ"]
[18465,"M","ΑΡΓΥΡΙΟΥ ΑΛΕΞΑΝΔΡΟΣ",1991,"Σ.Α.Α.Κ.ΑΝΑΤΟΛΙΑ","Β"]
[21722,"M","ΑΡΓΥΡΙΟΥ ΑΛΕΞΑΝΔΡΟΣ",1991,"Ο.Α.ΕΥΟΣΜΟΥ ΘΕΣΣΑΛΟΝΙΚΗΣ","Β"]
[34678,"M","ΑΡΓΥΡΙΟΥ ΑΝΑΣΤΑΣΙΟΣ",2000,"Σ.Α.ΣΕΡΡΩΝ","Α"]
[9693,"M","ΑΡΓΥΡΙΟΥ ΔΗΜΗΤΡΗΣ",1983,"Α.Σ.Α.ΛΑΡΙΣΑΣ","Ε"]
[32380,"M","ΑΡΓΥΡΙΟΥ ΔΙΟΓΕΝΗΣ",1996,"Ε.Α.Σ.ΟΛΥΜΠΙΑΔΑ","Β"]
[13303,"M","ΑΡΓΥΡΙΟΥ ΗΡΑΚΛΗΣ",1983,"Ο.Α.ΛΙΒΑΔΕΙΑΣ","Ε"]
[22830,"F","ΑΡΓΥΡΙΟΥ ΘΩΜΑΗ",1997,"Ο.Α.ΒΙΚΕΛΑΣ ΒΕΡΟΙΑΣ","Γ"]
[29189,"F","ΑΡΓΥΡΙΟΥ ΙΩΑΝΝΑ",1995,"Ο.Α.ΒΕΡΟΙΑΣ","Γ"]
[15481,"F","ΑΡΓΥΡΙΟΥ ΛΟΥΪΖΑ",1987,"Α.Ο.Ν.ΣΜΥΡΝΗΣ Ο ΜΙΛΩΝ","ΙΑ"]
[9062,"M","ΑΡΓΥΡΙΟΥ ΝΙΚΟΛΑΟΣ",1973,"Σ.Ο.Α.ΚΑΡΔΙΤΣΑΣ ΦΩΚΙΑΝΟΣ","Ε"]
[11147,"F","ΑΡΓΥΡΙΟΥ ΠΑΓΩΝΑ",1969,"Ο.Α.ΛΙΒΑΔΕΙΑΣ","Ε"]
[2154,"M","ΑΡΓΥΡΙΟΥ ΣΠΥΡΟΣ",1971,"Ο.Α.ΑΘΗΝΩΝ","Η"]
[28968,"F","ΑΡΓΥΡΟΚΑΣΤΡΙΤΗ ΜΑΡΙΑΝΝΑ",2001,"Α.Ο.Α.ΦΙΛΟΘΕΗΣ","Η"]
[26758,"M","ΑΡΓΥΡΟΠΟΥΛΟΣ ΑΛΕΞΑΝΔΡΟΣ",1993,"Α.Ε.Κ.ΤΡΙΠΟΛΗΣ","ΣΤ"]
[9072,"M","ΑΡΓΥΡΟΠΟΥΛΟΣ ΑΠΟΣΤΟΛΟΣ",1977,"Σ.Ο.Α.ΚΑΡΔΙΤΣΑΣ ΦΩΚΙΑΝΟΣ","Ε"]
[8667,"M","ΑΡΓΥΡΟΠΟΥΛΟΣ ΘΕΜΗΣ",1982,"Α.Ο.Α.ΦΙΛΟΘΕΗΣ","Η"]
[11730,"M","ΑΡΓΥΡΟΠΟΥΛΟΣ ΘΕΜΙΣΤΟΚΛΗΣ",1985,"Α.Μ.Σ.ΠΑΝΟΡΑΜΑΤΟΣ","Β"]
[32725,"M","ΑΡΓΥΡΟΠΟΥΛΟΣ ΘΕΟΦΑΝΗΣ",1988,"Α.Ο.Α.ΑΙΓΑΛΕΩ 92","Θ"]
[16569,"M","ΑΡΓΥΡΟΠΟΥΛΟΣ ΙΩΑΝΝΗΣ",1989,"Α.Ο.Α.ΗΛΙΟΥΠΟΛΗΣ","ΙΑ"]
[38212,"M","ΑΡΓΥΡΟΠΟΥΛΟΣ ΙΩΑΝΝΗΣ",1971,"Ο.Α.ΒΕΡΟΙΑΣ","Γ"]
[14534,"M","ΑΡΓΥΡΟΠΟΥΛΟΣ ΚΙΜΩΝ",1987,"Ο.Α.ΧΟΛΑΡΓΟΥ","ΙΑ"]
[23601,"M","ΑΡΓΥΡΟΠΟΥΛΟΣ ΜΙΧΑΗΛ-ΑΓΓΕΛΟΣ",1990,"Ο.Α.ΠΕΙΡΑΙΑ","Θ"]
[9071,"M","ΑΡΓΥΡΟΠΟΥΛΟΣ ΣΩΤΗΡΙΟΣ",1979,"Σ.Ο.Α.ΚΑΡΔΙΤΣΑΣ ΦΩΚΙΑΝΟΣ","Ε"]
[28987,"M","ΑΡΓΥΡΟΠΟΥΛΟΣ ΦΙΛΙΠΠΟΣ",2000,"Ο.Α.ΑΝΑΦΛΥΣΤΟΣ ΣΑΡΩΝΙΔΑΣ","Η"]
[14481,"F","ΑΡΓΥΡΟΠΟΥΛΟΥ ΑΘΗΝΑ",1989,"Α.Ο.Ν.Φ.ΑΤΤΑΛΟΣ","Η"]
[24427,"F","ΑΡΓΥΡΟΠΟΥΛΟΥ ΑΙΚΑΤΕΡΙΝΗ",1982,"Γ.Α.Σ.ΜΑΓΝΗΣΙΑΣ","Ε"]
[20386,"F","ΑΡΓΥΡΟΠΟΥΛΟΥ ΒΑΣΙΛΙΚΗ",1991,"Ο.Α.ΑΡΓΟΥΣ","ΣΤ"]
[31358,"F","ΑΡΓΥΡΟΠΟΥΛΟΥ ΔΕΣΠΟΙΝΑ",2001,"Ο.Α.ΚΕΡΑΤΣΙΝΙΟΥ","Θ"]
[14802,"F","ΑΡΓΥΡΟΠΟΥΛΟΥ ΕΙΡΗΝΗ",1986,"Α.Σ.Α.ΜΥΤΙΛΗΝΗΣ","Θ"]
[30935,"F","ΑΡΓΥΡΟΠΟΥΛΟΥ ΕΥΑΓΓΕΛΙΑ",1980,"Σ.Α.ΤΡΙΠΟΛΗΣ","ΣΤ"]
[2387,"F","ΑΡΓΥΡΟΠΟΥΛΟΥ ΚΟΝΥ",1973,"Ο.Α.ΓΛΥΦΑΔΑΣ","ΙΑ"]
[20387,"F","ΑΡΓΥΡΟΠΟΥΛΟΥ ΚΥΡΙΑΚΗ",1992,"Ο.Α.ΑΡΓΟΥΣ","ΣΤ"]
[7480,"F","ΑΡΓΥΡΟΠΟΥΛΟΥ ΜΑΡΙΑΝΘΗ-ΚΛΕΛΙΑ",1978,"Α.Ε.ΒΟΥΛΑΣ","ΙΑ"]
[21742,"F","ΑΡΓΥΡΟΠΟΥΛΟΥ ΜΑΡΙΛΕΝΑ",1989,"Γ.Σ.ΗΛΙΟΥΠΟΛΗΣ","ΙΑ"]
[6158,"F","ΑΡΓΥΡΟΠΟΥΛΟΥ ΧΡΙΣΤΙΝΑ",1979,"Σ.Α.ΡΑΦΗΝΑΣ","Η"]
[2883,"M","ΑΡΓΥΡΟΣ ΕΥΑΓΓΕΛΟΣ",1972,"Γ.Ε.ΑΡΓΟΛΙΔΑΣ","ΣΤ"]
[8601,"M","ΑΡΓΥΡΟΣ ΙΑΚΩΒΟΣ",1976,"Φ.Σ.ΚΑΛΛΙΘΕΑΣ","Θ"]
[32262,"M","ΑΡΓΥΡΟΣ ΛΟΥΚΑΣ",1996,"Α.Σ.ΠΕΡΑ","ΙΑ"]
[4965,"M","ΑΡΓΥΡΟΣ ΜΑΡΙΟΣ",1980,"Α.Ο.ΑΜΥΝΤΑΣ ΥΜΗΤΤΟΥ","ΙΑ"]
[22010,"F","ΑΡΓΥΡΟΥ ΧΡΙΣΤΙΝΑ",1995,"Α.Ο.Α.ΧΑΪΔΑΡΙΟΥ","Θ"]
[18186,"F","ΑΡΓΥΡΟΥΛΗ ΑΣΠΑΣΙΑ",1990,"Α.Ο.Α.ΗΛΙΟΥΠΟΛΗΣ","ΙΑ"]
[29451,"M","ΑΡΓΥΡΟΥΛΗΣ ΑΝΤΩΝΙΟΣ",1998,"Α.Σ.Ε.ΘΗΣΕΑΣ ΑΓΙΟΥ ΔΗΜΗΤΡΙΟΥ","ΙΑ"]
[37118,"F","ΑΡΓΥΡΩ ΚΑΡΑΚΟΝΤΗ",1996,"Ο.Α.ΑΘΗΝΩΝ","Η"]
[23062,"M","ΑΡΔΑΜΗΣ ΧΡΗΣΤΟΣ-ΝΙΚΟΛΑΟΣ",1995,"Α.Ο.ΓΛΥΦΑΔΑΣ ΦΙΛΙΑ 2000","ΙΑ"]
[16782,"F","ΑΡΕΣΤΗ ΑΓΓΕΛΙΚΗ-ΕΛΕΝΗ",1988,"Ο.Α.ΠΕΤΡΟΥΠΟΛΗΣ","Θ"]
[20579,"M","ΑΡΕΣΤΗΣ-ΧΑΡΤΑΜΠΙΛΑΣ ΖΗΣΗΣ",1991,"Ε.Σ.Ο.ΕΠΙΚΟΥΡΟΣ ΠΟΛΙΧΝΗΣ","Β"]
[20578,"M","ΑΡΕΣΤΗΣ-ΧΑΡΤΑΜΠΙΛΑΣ ΣΤΑΥΡΟΣ",1989,"Ε.Σ.Ο.ΕΠΙΚΟΥΡΟΣ ΠΟΛΙΧΝΗΣ","Β"]
[2948,"F","ΑΡΕΤΑΚΗ ΑΝΝΑ",1969,"Ο.Α.ΓΙΑΝΝΙΤΣΩΝ","Γ"]
[32665,"F","ΑΡΕΤΑΚΗ ΕΡΜΙΟΝΗ",2001,"Ο.Α.ΝΕΣΤΩΡΑΣ ΓΙΑΝΝΙΤΣΩΝ","Γ"]
[2947,"F","ΑΡΕΤΑΚΗ ΘΕΟΔΩΡΑ",1970,"Ο.Α.ΓΙΑΝΝΙΤΣΩΝ","Γ"]
[36837,"F","ΑΡΕΤΑΚΗ ΚΑΣΣΙΑΝΗ",2000,"Γ.Α.Σ ΓΟΥΡΝΩΝ","Ζ"]
[6173,"M","ΑΡΕΤΑΚΗΣ ΕΥΓΕΝΙΟΣ",1976,"Ο.Α.ΧΑΝΙΩΝ","Ζ"]
[26457,"M","ΑΡΕΤΑΚΗΣ ΙΩΑΝΝΗΣ",1999,"Ο.Α.ΧΑΝΙΩΝ","Ζ"]
[15596,"M","ΑΡΖΙΔΗΣ ΒΛΑΔΙΜΗΡΟΣ",1989,"Ο.Α.ΑΛΕΞΑΝΔΡΟΥΠΟΛΗΣ","Α"]
[21810,"M","ΑΡΖΟΓΛΟΥ ΕΛΕΥΘΕΡΙΟΣ",1991,"Α.Ο.ΚΑΒΑΛΑΣ ΜΑΚΕΔΟΝΙΚΟΣ","Α"]
[2854,"M","ΑΡΖΟΓΛΟΥ ΣΠΥΡΙΔΩΝ",1976,"Ο.Α.ΚΑΙΣΑΡΙΑΝΗΣ","Θ"]
[24737,"F","ΑΡΖΟΜΑΝΙΔΟΥ ΕΥΑΝΘΙΑ",1991,"Α.Σ.Α.ΛΑΡΙΣΑΣ","Ε"]
[17178,"F","ΑΡΖΟΥΜΑΝΙΔΗ ΕΙΡΗΝΗ",1974,"Ο.Α.ΓΟΥΔΙΟΥ","ΙΑ"]
[34982,"M","ΑΡΙΑ ΚΟΥΡΤΗ",2001,"Α.Ο.ΤΑΤΟΪΟΥ","Η"]
[37367,"M","ΑΡΙΔΑΣ ΘΕΟΔΩΡΟΣ",1974,"Α.Σ.Α.ΖΕΦΥΡΟΣ","Γ"]
[31150,"M","ΑΡΙΔΑΣ ΚΩΝΣΤΑΝΤΙΝΟΣ-ΛΥΚΑΩΝ",1996,"Γ.Α.Ε.ΤΡΙΦΥΛΙΑΣ ΔΙΩΝ ΚΥΠΑΡΙΣΣΕΥΣ","ΣΤ"]
[24430,"F","ΑΡΙΔΗ ΖΩΗ",1997,"Γ.Α.Σ.ΜΑΓΝΗΣΙΑΣ","Ε"]
[33512,"M","ΑΡΙΣΤΕΙΔΗΣ ΠΑΝΑΓΙΩΤΙΔΗΣ",1998,"Α.Ο.Α.ΚΑΤΕΡΙΝΗΣ","Γ"]
[28025,"M","ΑΡΙΣΤΕΙΔΟΠΟΥΛΟΣ ΔΗΜΗΤΡΙΟΣ",1999,"ΦΙΛΑΘΛ.ΟΜΙΛΟΣ ΠΥΡΓΟΥ","ΣΤ"]
[28045,"F","ΑΡΙΣΤΕΙΔΟΠΟΥΛΟΥ ΝΙΚΗ",1997,"ΦΙΛΑΘΛ.ΟΜΙΛΟΣ ΠΥΡΓΟΥ","ΣΤ"]
[13324,"M","ΑΡΙΣΤΕΙΔΟΥ ΑΛΕΞΗΣ",1983,"Α.Ο.Α.ΠΑΤΡΩΝ","ΣΤ"]
[14371,"F","ΑΡΙΣΤΕΙΔΟΥ ΦΑΝΗ",1989,"Σ.Α.ΣΕΡΡΩΝ","Α"]
[19356,"F","ΑΡΚΑ ΔΕΣΠΟΙΝΑ",1994,"Γ.Σ.ΚΗΦΙΣΙΑΣ","Η"]
[30051,"F","ΑΡΚΑΔΙΑΝΟΥ ΑΝΝΑ",2001,"Α.Ο.Α.ΧΑΪΔΑΡΙΟΥ","Θ"]
[10016,"F","ΑΡΚΑΔΙΑΝΟΥ ΛΟΥΚΙΑ",1966,"ΖΑΚΥΝΘΙΝΟΣ Α.Ο.","ΣΤ"]
[16929,"F","ΑΡΚΑΛΑΚΗ ΕΥΔΟΞΙΑ-ΑΛΙΚΗ",1988,"Ο.Α.ΑΝΑΦΛΥΣΤΟΣ ΣΑΡΩΝΙΔΑΣ","Η"]
[19729,"M","ΑΡΚΙΤΣΑΙΟΣ ΔΗΜΗΤΡΙΟΣ",1994,"ΑΙΟΛΟΣ Α.Λ.ΙΛΙΟΥ","Θ"]
[10399,"F","ΑΡΚΟΜΑΝΗ ΑΜΑΛΙΑ",1986,"Α.Ο.ΑΜΥΝΤΑΣ ΥΜΗΤΤΟΥ","ΙΑ"]
[15382,"F","ΑΡΚΟΥΔΑ ΔΗΜΗΤΡΑ",1988,"Ο.Α.ΚΑΤΕΡΙΝΗΣ","Γ"]
[25030,"M","ΑΡΚΟΥΔΑΡΗΣ-ΔΑΡΗΣ ΒΑΣΙΛΕΙΟΣ",1997,"Α.Ο.Π.ΦΑΛΗΡΟΥ","ΙΑ"]
[17509,"F","ΑΡΚΟΥΛΗ ΚΩΝΣΤΑΝΤΙΝΑ",1990,"Ο.Α.ΚΑΛΑΜΑΚΙΟΥ","ΙΑ"]
[36647,"F","ΑΡΚΟΥΛΗ ΝΕΦΕΛΗ",1997,"Α.Ο.Α.ΠΑΤΡΩΝ","ΣΤ"]
[36775,"F","ΑΡΚΟΥΛΗ ΣΜΑΡΑΓΔΑ",1996,"Α.Ο.Α.ΠΑΤΡΩΝ","ΣΤ"]
[36776,"M","ΑΡΚΟΥΛΗΣ ΙΩΑΝΝΗΣ",1997,"Α.Ο.Α.ΠΑΤΡΩΝ","ΣΤ"]
[24287,"M","ΑΡΚΟΥΛΗΣ ΜΑΡΙΣ",1994,"Α.Ε.Τ.ΝΙΚΗ ΠΑΤΡΩΝ","ΣΤ"]
[21300,"F","ΑΡΚΟΥΜΑΝΗ ΕΛΕΝΗ",1991,"Α.Σ.ΚΑΡΠΕΝΗΣΙ ΤΕΝΙΣ ΚΛΑΜΠ","Ε"]
[19043,"F","ΑΡΚΟΥΜΑΝΗ ΜΑΡΙΑ",1992,"ΦΘΙΩΤΙΚΟΣ Ο.Α.","Ε"]
[1164,"F","ΑΡΛΑΠΑΝΟΥ ΔΕΣΠΟΙΝΑ",1968,"Α.Κ.ΖΩΓΡΑΦΟΥ","ΙΑ"]
[28052,"M","ΑΡΛΕΤΗΣ ΑΘΑΝΑΣΙΟΣ",1999,"ΦΙΛΑΘΛ.ΟΜΙΛΟΣ ΠΥΡΓΟΥ","ΣΤ"]
[36265,"M","ΑΡΜΑΚΟΛΑΣ ΗΡΑΚΛΗΣ",2002,"Α.Ο.Α.ΑΙΓΑΛΕΩ 92","Θ"]
[11659,"F","ΑΡΜΑΟ ΙΡΙΣ",1986,"Ο.Α.ΒΟΥΛΙΑΓΜΕΝΗΣ ΜΙΚΡΟΙ ΑΣΣΟΙ","ΙΑ"]
[16709,"M","ΑΡΜΑΟ ΜΑΡΙΟ",1988,"Α.Ο.ΒΑΡΗΣ ΑΝΑΓΥΡΟΥΣ","Η"]
[26922,"M","ΑΡΜΑΟΓΛΟΥ ΚΩΝΣΤΑΝΤΙΝΟΣ",1999,"Α.Ο.Π.ΦΑΛΗΡΟΥ","ΙΑ"]
[24852,"M","ΑΡΜΑΟΓΛΟΥ ΛΑΖΑΡΟΣ",1994,"Α.Ο.Π.ΦΑΛΗΡΟΥ","ΙΑ"]
[24851,"F","ΑΡΜΑΟΓΛΟΥ ΠΑΡΑΣΚΕΥΗ",1995,"Α.Ο.Π.ΦΑΛΗΡΟΥ","ΙΑ"]
[1824,"M","ΑΡΜΑΟΣ ΔΗΜΗΤΡΙΟΣ",1968,"Ο.Α.ΑΘΗΝΩΝ","Η"]
[1823,"M","ΑΡΜΑΟΣ ΙΑΚΩΒΟΣ-ΑΝΤΩΝΙΟΣ",1971,"Α.Σ.ΠΕΡΑ","ΙΑ"]
[32271,"M","ΑΡΜΑΟΣ ΚΩΝΣΤΑΝΤΙΝΟΣ",2001,"Α.Ν.Ο.ΓΛΥΦΑΔΑΣ","ΙΑ"]
[1600,"F","ΑΡΜΑΟΥ ΑΓΝΗ-ΘΗΡΕΣΙΑ",1970,"Α.Κ.ΖΩΓΡΑΦΟΥ","ΙΑ"]
[17472,"F","ΑΡΜΑΟΥ ΜΑΡΓΑΡΙΤΑ-ΦΑΒΙΑΝΗ",1988,"ΑΙΟΛΟΣ Α.Λ.ΙΛΙΟΥ","Θ"]
[19730,"M","ΑΡΜΑΤΑΣ ΔΗΜΗΤΡΙΟΣ",1989,"ΑΙΟΛΟΣ Α.Λ.ΙΛΙΟΥ","Θ"]
[18006,"M","ΑΡΜΑΤΑΣ ΔΗΜΉΤΡΙΟΣ",1989,"ΑΙΟΛΟΣ Α.Λ.ΙΛΙΟΥ","Θ"]
[15929,"F","ΑΡΜΕΝΑΚΗ ΜΑΡΙΑΝΝΑ",1991,"Α.Α.Α.ΑΛΙΜΟΥ","ΙΑ"]
[21435,"M","ΑΡΜΕΝΑΚΗΣ ΚΩΝΣΤΑΝΤΙΝΟΣ",1991,"Ο.Α.ΓΛΥΦΑΔΑΣ","ΙΑ"]
[20776,"F","ΑΡΜΕΝΗ ΜΑΡΙΑ",1992,"ΖΑΚΥΝΘΙΝΟΣ Α.Ο.","ΣΤ"]
[8884,"F","ΑΡΜΕΝΗ ΠΑΡΑΣΚΕΥΗ",1984,"ΖΑΚΥΝΘΙΝΟΣ Α.Ο.","ΣΤ"]
[32754,"M","ΑΡΜΕΝΙΑΚΟΣ ΧΡΙΣΤΟΔΟΥΛΟΣ",2000,"Ο.Α.ΚΕΡΚΥΡΑΣ","Δ"]
[24791,"M","ΑΡΜΟΝΗΣ ΑΝΤΩΝΙΟΣ",1996,"Ο.Α.ΧΑΛΚΙΔΑΣ","Θ"]
[25518,"M","ΑΡΜΟΝΗΣ ΠΑΝΑΓΙΩΤΗΣ",1998,"Ο.Α.ΧΑΛΚΙΔΑΣ","Θ"]
[5671,"M","ΑΡΜΟΥΤΗΣ ΓΕΩΡΓΙΟΣ",1971,"Α.Ο.Α.ΗΛΙΟΥΠΟΛΗΣ","ΙΑ"]
[38458,"F","ΑΡΜΠΟΥΝΙΩΤΗ ΑΡΤΕΜΙΣ-ΕΥΑΓΓΕΛΙΑ",2001,"Α.Ο.Α.ΚΑΙΣΑΡΙΑΝΗΣ","Θ"]
[35304,"F","ΑΡΜΥΡΙΩΤΗ ΕΛΕΝΗ",1977,"Α.Σ.Α.ΩΡΩΠΟΥ","Η"]
[21719,"M","ΑΡΜΥΡΙΩΤΗΣ ΚΩΝΣΤΑΝΤΙΝΟΣ",1995,"Ο.Α.ΧΟΛΑΡΓΟΥ","ΙΑ"]
[6613,"M","ΑΡΝΑΟΥΤΗΣ ΠΕΤΡΟΣ",1980,"Ο.Α.ΖΩΓΡΑΦΟΥ","Η"]
[6618,"M","ΑΡΝΑΟΥΤΗΣ ΣΤΑΥΡΟΣ",1978,"Ο.Α.ΖΩΓΡΑΦΟΥ","Η"]
[13982,"M","ΑΡΝΑΟΥΤΟΓΛΟΥ ΔΗΜΗΤΡΙΟΣ",1983,"Ο.Α.ΓΛΥΦΑΔΑΣ","ΙΑ"]
[30224,"M","ΑΡΝΑΟΥΤΟΓΛΟΥ ΠΑΝΑΓΙΩΤΗΣ-ΔΗΜΗΤΡΙΟΣ",2001,"ΑΚΑΔΗΜΙΑ ΑΝΤΙΣΦ.ΣΕΡΡΩΝ 2008","Α"]
[5289,"M","ΑΡΝΟΚΟΥΡΟΣ ΠΑΝΑΓΙΩΤΗΣ",1979,"ΡΟΔΙΑΚΟΣ Ο.Α.","Θ"]
[4269,"F","ΑΡΝΟΚΟΥΡΟΥ ΒΑΣΙΛΙΚΗ",1977,"ΡΟΔΙΑΚΟΣ Ο.Α.","Θ"]
[8533,"M","ΑΡΟΥΓΚΑΣ ΛΟΥΚΑΣ",1984,"Μ.Γ.Σ.ΑΠΟΛΛΩΝ ΚΑΛΑΜΑΡΙΑΣ","Β"]
[18636,"F","ΑΡΟΥΣΤΑΜΙΑΝ ΑΙΚΑΤΕΡΙΝΗ",1992,"Ε.Α.Τ.Ε.Κ.ΕΛΛΗΝΙΚΟΥ ΚΟΛΛΕΓΙΟΥ","Β"]
[14968,"M","ΑΡΟΥΤΙΟΥΝΙΔΗΣ ΒΑΡΝΤΑΝ",1987,"Α.Ο.ΑΡΓΥΡΟΥΠΟΛΗΣ","ΙΑ"]
[14969,"M","ΑΡΟΥΤΙΟΥΝΙΔΗΣ ΤΙΓΚΡΑΝ",1986,"Α.Ο.ΑΡΓΥΡΟΥΠΟΛΗΣ","ΙΑ"]
[21800,"F","ΑΡΣΕΝΑΚΗ ΜΑΡΙΑ",1995,"Α.Ο.ΚΑΒΑΛΑΣ ΜΑΚΕΔΟΝΙΚΟΣ","Α"]
[27305,"F","ΑΡΣΕΝΗ ΑΙΚΑΤΕΡΙΝΗ",1971,"Ε.Α.Σ.ΛΑΚΚΑΣ ΔΗΜΟΥ ΣΥΜΠΟΛΙΤΕΙΑΣ","ΣΤ"]
[29749,"M","ΑΡΣΕΝΗΣ ΕΥΑΓΓΕΛΟΣ",1997,"Ο.Α.ΝΙΚΑΙΑ ΛΑΡΙΣΑΣ","Ε"]
[25193,"M","ΑΡΣΕΝΙΟΣ ΦΙΛΛΙΟΣ",1983,"Ν.Ο.ΘΕΣΣΑΛΟΝΙΚΗΣ","Β"]
[30020,"M","ΑΡΤΕΜΙΗΣ ΣΠΥΡΙΔΩΝ",2000,"Ο.Α.ΚΕΡΚΥΡΑΣ","Δ"]
[19780,"M","ΑΡΤΖΟΓΛΟΥ ΕΥΣΤΡΑΤΙΟΣ",1993,"Σ.Α.ΣΕΡΡΩΝ","Α"]
[19779,"F","ΑΡΤΖΟΓΛΟΥ ΘΕΟΠΙΣΤΗ",1992,"Σ.Α.ΣΕΡΡΩΝ","Α"]
[17112,"F","ΑΡΤΖΟΥΧΑΛΤΖΗ ΑΙΚΑΤΕΡΙΝΗ",1991,"Ο.Α.ΣΟΥΔΑΣ","Ζ"]
[30026,"F","ΑΡΤΙΝΟΠΟΥΛΟΥ ΜΑΡΓΑΡΙΤΑ",2000,"ΑΙΟΛΟΣ Α.Λ.ΙΛΙΟΥ","Θ"]
[990,"M","ΑΡΤΙΝΟΣ ΑΛΕΞΑΝΔΡΟΣ",1969,"Ο.Α.ΑΘΗΝΩΝ","Η"]
[989,"M","ΑΡΤΙΝΟΣ ΙΩΑΝΝΗΣ",1966,"Α.Ο.Α.ΚΑΒΑΛΑΣ","Α"]
[29071,"F","ΑΡΤΟΠΟΙΟΥ ΕΛΕΝΗ",1999,"Ο.Α.ΞΑΝΘΗΣ","Α"]
[31096,"M","ΑΡΤΟΠΟΥΛΟΣ ΧΡΗΣΤΟΣ-ΑΘΑΝΑΣΙΟΣ",2002,"Σ.Α.ΤΡΙΠΟΛΗΣ","ΣΤ"]
[15133,"F","ΑΡΤΟΠΟΥΛΟΥ ΕΜΜΑΝΟΥΕΛΑ",1988,"Ο.Α.ΒΡΙΛΗΣΣΙΩΝ","Η"]
[21700,"F","ΑΡΤΟΠΟΥΛΟΥ ΙΩΑΝΝΑ-ΠΑΝΑΓΙΩΤΑ",1992,"Σ.Α.ΤΡΙΠΟΛΗΣ","ΣΤ"]
[21200,"F","ΑΡΤΟΠΟΥΛΟΥ ΚΑΤΕΡΙΝΑ",1998,"Α.Ε.Κ.ΤΡΙΠΟΛΗΣ","ΣΤ"]
[14892,"F","ΑΡΤΟΠΟΥΛΟΥ ΜΥΡΣΙΝΗ",1986,"Ο.Α.ΒΡΙΛΗΣΣΙΩΝ","Η"]
[5107,"M","ΑΡΦΑΡΑΣ ΙΩΑΝΝΗΣ",1977,"ΡΟΔΙΑΚΟΣ Ο.Α.","Θ"]
[17329,"M","ΑΡΧΑΚΗΣ ΒΙΚΤΩΡ",1990,"Ο.Α.ΘΕΣΣΑΛΟΝΙΚΗΣ","Β"]
[17172,"M","ΑΡΧΑΚΗΣ ΔΗΜΗΤΡΗΣ",1988,"Ο.Α.ΘΕΣΣΑΛΟΝΙΚΗΣ","Β"]
[31043,"F","ΑΡΧΑΥΛΗ ΑΡΙΑΔΝΗ",2002,"Α.Σ.Ν.ΒΟΥΤΖΑ ΡΑΦΗΝΑΣ Η ΠΡΟΟΔΟΣ","Η"]
[1467,"M","ΑΡΧΙΜΑΝΔΡΙΤΗΣ ΝΙΚΟΛΑΟΣ",1968,"Α.Ο.Α.ΦΙΛΟΘΕΗΣ","Η"]
[1168,"F","ΑΡΧΙΜΑΝΔΡΙΤΟΥ ΕΥΓΕΝΙΑ",1966,"Α.Κ.ΖΩΓΡΑΦΟΥ","ΙΑ"]
[5807,"F","ΑΡΧΟΝΤΑ ΑΙΚΑΤΕΡΙΝΗ",1977,"Ο.Α.ΑΡΓΟΥΣ","ΣΤ"]
[14964,"F","ΑΡΧΟΝΤΑΚΗ ΑΛΙΚΗ",1989,"Α.Ο.Α.ΗΛΙΟΥΠΟΛΗΣ","ΙΑ"]
[31413,"F","ΑΡΧΟΝΤΑΚΗ ΕΙΡΗΝΗ",1999,"Ο.Α.ΧΑΝΙΩΝ","Ζ"]
[34690,"F","ΑΡΧΟΝΤΑΚΗ ΚΩΝΣΤΑΝΤΙΝΑ",2001,"Ο.Α.ΧΑΝΙΩΝ","Ζ"]
[1355,"F","ΑΡΧΟΝΤΑΚΗ ΜΑΡΙΑ",1968,"Ο.Α.ΧΑΝΙΩΝ","Ζ"]
[32771,"F","ΑΡΧΟΝΤΑΚΗ ΜΑΡΙΑ",2001,"Ο.Α.ΧΕΡΣΟΝΗΣΟΥ","Ζ"]
[31412,"M","ΑΡΧΟΝΤΑΚΗΣ ΑΠΟΣΤΟΛΟΣ",1998,"Ο.Α.ΧΑΝΙΩΝ","Ζ"]
[32418,"M","ΑΡΧΟΝΤΑΚΗΣ ΕΠΑΜΕΙΝΩΝΔΑΣ",2002,"Ο.Α.ΞΑΝΘΗΣ","Α"]
[34407,"F","ΑΡΧΟΝΤΗ ΕΥΣΤΑΘΙΑ",2002,"Ο.Α.ΝΙΚΑΙΑ ΛΑΡΙΣΑΣ","Ε"]
[34406,"M","ΑΡΧΟΝΤΗΣ ΑΠΟΣΤΟΛΟΣ",2000,"Ο.Α.ΝΙΚΑΙΑ ΛΑΡΙΣΑΣ","Ε"]
[26614,"M","ΑΡΧΟΝΤΗΣ ΕΥΑΓΓΕΛΟΣ",2002,"Ο.Α.ΣΟΦΑΔΩΝ & ΚΑΡΔΙΤΣΑΣ ΟΛΥΜΠΙΑΔΑ","Ε"]
[26613,"M","ΑΡΧΟΝΤΗΣ ΠΑΝΑΓΙΩΤΗΣ",1999,"Ο.Α.ΣΟΦΑΔΩΝ & ΚΑΡΔΙΤΣΑΣ ΟΛΥΜΠΙΑΔΑ","Ε"]
[16665,"M","ΑΡΧΟΝΤΙΤΣΗΣ ΓΕΩΡΓΙΟΣ",1987,"Ο.Α.ΛΕΣΒΟΥ","Θ"]
[2443,"F","ΑΡΩΝΗ ΑΓΓΕΛΙΚΗ",1973,"Α.Ο.Α.ΦΙΛΟΘΕΗΣ","Η"]
[28332,"F","ΑΡΩΝΗ ΧΑΡΙΣ",1998,"Ε.Σ.Ο.ΕΠΙΚΟΥΡΟΣ ΠΟΛΙΧΝΗΣ","Β"]
[20339,"M","ΑΡΩΝΗΣ ΑΧΙΛΛΕΑΣ",1995,"Ο.Α.ΚΕΡΚΥΡΑΣ","Δ"]
[33580,"M","ΑΡΩΝΗΣ ΕΥΑΓΓΕΛΟΣ",1975,"Ο.Α.ΚΕΡΑΤΣΙΝΙΟΥ","Θ"]
[7430,"M","ΑΡΩΝΗΣ ΘΕΟΔΩΡΟΣ",1980,"Ο.Α.ΚΕΡΚΥΡΑΣ","Δ"]
[15441,"M","ΑΡΩΝΗΣ ΧΑΡΑΛΑΜΠΟΣ",1990,"Ο.Α.ΚΕΡΚΥΡΑΣ","Δ"]
[2227,"M","ΑΣΑΡΙΩΤΗΣ ΕΜΜΑΝΟΥΗΛ",1974,"Α.Κ.ΖΩΓΡΑΦΟΥ","ΙΑ"]
[16924,"M","ΑΣΒΕΣΤΑΣ ΚΥΡΙΑΚΟΣ",1988,"Ο.Α.ΑΝΑΦΛΥΣΤΟΣ ΣΑΡΩΝΙΔΑΣ","Η"]
[25079,"F","ΑΣΒΕΣΤΗ ΝΕΛΛΗ-ΑΘΗΝΑ",1997,"Α.Ν.Ο.ΓΛΥΦΑΔΑΣ","ΙΑ"]
[25081,"M","ΑΣΒΕΣΤΗΣ ΠΑΝΑΓΙΩΤΗΣ",1998,"Α.Ν.Ο.ΓΛΥΦΑΔΑΣ","ΙΑ"]
[12008,"F","ΑΣΒΕΣΤΟΠΟΥΛΟΥ ΔΗΜΗΤΡΑ",1986,"Μ.Γ.Σ.ΑΠΟΛΛΩΝ ΚΑΛΑΜΑΡΙΑΣ","Β"]
[33312,"F","ΑΣΒΕΣΤΟΠΟΥΛΟΥ ΕΥΔΟΚΙΑ",1995,"Ο.Α.ΠΕΙΡΑΙΑ","Θ"]
[10680,"F","ΑΣΔΕΡΑΚΗ ΕΥΑ",1982,"Ο.Α.ΧΑΛΚΙΔΑΣ","Θ"]
[12344,"M","ΑΣΔΕΡΑΚΗΣ ΠΑΝΑΓΙΩΤΗΣ",1986,"Α.Ο.Α.ΦΙΛΟΘΕΗΣ","Η"]
[90094,"M","ΑΣΕΝΟΒΑ ΜΕΓΚΑΝ",1996,"Ο.Α.ΚΑΛΑΜΑΤΑΣ","ΣΤ"]
[8893,"M","ΑΣΗΚΟΠΟΥΛΟΣ ΣΤΥΛΙΑΝΟΣ",1982,"Μ.Γ.Σ.ΑΠΟΛΛΩΝ ΚΑΛΑΜΑΡΙΑΣ","Β"]
[15353,"F","ΑΣΗΜΑΚΗ ΑΝΔΡΟΜΑΧΗ",1990,"Σ.Α.ΣΕΡΡΩΝ","Α"]
[28466,"F","ΑΣΗΜΑΚΗ ΜΑΡΙΝΑ",2000,"Α.Σ.Ε.ΘΗΣΕΑΣ ΑΓΙΟΥ ΔΗΜΗΤΡΙΟΥ","ΙΑ"]
[15738,"M","ΑΣΗΜΑΚΗΣ ΑΓΓΕΛΟΣ",1990,"Α.Ο.Α.ΗΛΙΟΥΠΟΛΗΣ","ΙΑ"]
[23747,"M","ΑΣΗΜΑΚΗΣ ΑΝΤΩΝΙΟΣ-ΝΕΚΤΑΡΙΟΣ",1992,"Ο.Α.ΛΑΥΡΙΟΥ","Η"]
[31992,"M","ΑΣΗΜΑΚΗΣ ΒΑΣΙΛΕΙΟΣ",1999,"Ο.Α.ΑΘΛΗΤ.ΠΑΙΔΕΙΑ","Η"]
[34490,"M","ΑΣΗΜΑΚΗΣ ΓΙΩΡΓΟΣ",2002,"Α.Ο.Α.ΦΙΛΟΘΕΗΣ","Η"]
[1679,"M","ΑΣΗΜΑΚΗΣ ΔΗΜΗΤΡΙΟΣ",1970,"Ο.Α.ΑΓΡΙΝΙΟΥ","Δ"]
[20024,"M","ΑΣΗΜΑΚΗΣ ΚΩΝΣΤΑΝΤΙΝΟΣ",1992,"Ο.Α.ΑΘΗΝΩΝ","Η"]
[23016,"M","ΑΣΗΜΑΚΗΣ ΝΙΚΟΛΑΟΣ",1992,"Α.Ο.ΑΡΓΥΡΟΥΠΟΛΗΣ","ΙΑ"]
[2102,"M","ΑΣΗΜΑΚΟΠΟΥΛΟΣ ΑΛΕΞΑΝΔΡΟΣ",1972,"Ο.Α.ΓΛΥΦΑΔΑΣ","ΙΑ"]
[1830,"M","ΑΣΗΜΑΚΟΠΟΥΛΟΣ ΑΝΑΣΤΑΣΙΟΣ",1975,"Ο.Α.ΑΘΗΝΩΝ","Η"]
[17861,"M","ΑΣΗΜΑΚΟΠΟΥΛΟΣ ΑΝΤΩΝΙΟΣ",1992,"Ο.Α.ΓΛΥΦΑΔΑΣ","ΙΑ"]
[23839,"M","ΑΣΗΜΑΚΟΠΟΥΛΟΣ ΒΑΣΙΛΕΙΟΣ",1997,"Ο.Α.ΞΑΝΘΗΣ","Α"]
[7983,"M","ΑΣΗΜΙΝΑΣ ΑΝΑΣΤΑΣΙΟΣ",1979,"Γ.Σ.ΣΑΛΑΜΙΝΑΣ","Θ"]
[26803,"M","ΑΣΗΜΟΠΟΥΛΟΣ ΚΩΝΣΤΑΝΤΙΝΟΣ",1998,"Α.Σ.ΤΕΝΙΣ ΚΛΑΜΠ ΚΟΖΑΝΗΣ","Γ"]
[3493,"M","ΑΣΛΑΝΙΔΗΣ ΑΛΕΞΑΝΔΡΟΣ",1972,"Ο.Α.ΚΑΤΕΡΙΝΗΣ","Γ"]
[4559,"F","ΑΣΛΟΓΛΟΥ ΒΑΣΙΛΙΚΗ",1979,"Α.Α.ΑΙΓΑΛΕΩ","Θ"]
[13593,"F","ΑΣΠΡΟΥΛΟΠΟΥΛΟΥ ΓΕΩΡΓΙΑ",1988,"Ο.Α.ΓΟΥΔΙΟΥ","ΙΑ"]
[31104,"F","ΑΣΤΡΕΙΝΙΔΗ ΑΛΕΞΑΝΔΡΑ",2000,"Α.Ο.Α.ΠΑΠΑΓΟΥ","ΙΑ"]
[25070,"M","ΑΤΣΑΒΕΣ ΗΛΙΑΣ",1995,"Ο.Α.ΛΙΤΟΧΩΡΟΥ","Γ"]
[7994,"M","ΑΥΓΕΡΗΣ ΔΗΜΗΤΡΙΟΣ",1973,"Γ.Σ.ΣΑΛΑΜΙΝΑΣ","Θ"]
[15963,"F","ΑΥΓΕΡΙΝΟΥ ΒΑΣΙΛΙΚΗ",1990,"Ο.Α.ΧΡΥΣΟΥΠΟΛΗΣ","Α"]
[12906,"F","ΑΥΓΟΥΣΙΑΝΑΚΗ ΕΥΑΓΓΕΛΙΑ",1985,"Α.Ε.ΠΟΡΤΟ ΡΑΦΤΗ","Η"]
[1298,"M","ΑΥΞΕΝΤΙΑΔΗΣ ΝΙΚΟΛΑΟΣ",1968,"Σ.Α.ΣΕΡΡΩΝ","Α"]
[2222,"M","ΑΦΡΟΥΔΑΚΗΣ ΠΑΝΑΓΙΩΤΗΣ",1977,"Α.Κ.ΖΩΓΡΑΦΟΥ","ΙΑ"]
[6794,"M","ΑΨΗΛΙΔΗΣ ΚΩΝΣΤΑΝΤΙΝΟΣ",1983,"Σ.Ο.Ι.Σ.ΝΕΑ ΠΝΟΗ","Α"]
[26739,"F","ΒΑΒΟΥΡΗ ΒΑΣΙΛΙΚΗ",1973,"Σ.Ο.Α.ΚΑΡΔΙΤΣΑΣ ΦΩΚΙΑΝΟΣ","Ε"]
[13042,"M","ΒΑΓΙΑΚΟΣ ΕΥΘΥΜΙΟΣ",1985,"Σ.Α.ΓΑΛΑΤΣΙΟΥ","Θ"]
[11323,"F","ΒΑΖΑΝΑ ΕΛΕΝΑ",1983,"Ο.Α.ΝΕΑΣ ΜΑΚΡΗΣ","Η"]
[28639,"F","ΒΑΙΝΔΗΡΛΗ ΑΝΝΑ",1997,"Α.Σ.ΠΕΡΑ","ΙΑ"]
[3195,"M","ΒΑΚΑΛΟΣ ΠΕΤΡΟΣ",1971,"Γ.Ο.ΠΕΡΙΣΤΕΡΙΟΥ Γ.ΠΑΛΑΣΚΑΣ","Θ"]
[19527,"F","ΒΑΚΟΥΦΤΣΗ ΘΕΟΔΩΡΑ",1990,"Α.Σ.ΤΕΝΙΣ ΚΛΑΜΠ ΚΟΖΑΝΗΣ","Γ"]
[17700,"M","ΒΑΛΑΗΣ ΤΙΜΟΣ",1990,"Α.Σ.ΣΠΑΡΤΑΚΟΣ ΓΛΥΦΑΔΑΣ","ΙΑ"]
[26940,"M","ΒΑΛΑΣΗΣ ΧΡΥΣΟΒΑΛΑΝΤΗΣ",1995,"Ο.Α.ΝΙΚΑΙΑ ΛΑΡΙΣΑΣ","Ε"]
[27510,"F","ΒΑΛΒΗ ΦΛΩΡΑ",1983,"Ο.Α.ΠΕΙΡΑΙΑ","Θ"]
[11258,"M","ΒΑΛΚΑΤΖΗΣ ΜΑΡΙΟΣ",1983,"Ο.Α.ΠΕΤΡΟΥΠΟΛΗΣ","Θ"]
[19685,"F","ΒΑΛΟΠΗΤΑ ΚΩΝΣΤΑΝΤΙΝΑ",1990,"Ο.Α.ΣΑΛΑΜΙΝΑΣ","Θ"]
[20163,"F","ΒΑΛΤΑΔΩΡΟΥ ΕΥΦΡΟΣΥΝΗ",1991,"Α.Α.ΝΑΟΥΣΑΣ","Γ"]
[10312,"M","ΒΑΜΒΑΚΑΣ ΚΩΝΣΤΑΝΤΙΝΟΣ",1984,"Ο.Α.ΘΕΣΣΑΛΟΝΙΚΗΣ","Β"]
[18420,"M","ΒΑΜΒΟΥΝΑΚΗΣ ΒΑΣΙΛΕΙΟΣ",1987,"Ο.Α.ΧΑΝΙΩΝ","Ζ"]
[23101,"F","ΒΑΝΤΟΛΑ ΕΙΡΗΝΗ",1992,"Γ.Ο.ΠΕΡΙΣΤΕΡΙΟΥ Γ.ΠΑΛΑΣΚΑΣ","Θ"]
[33836,"F","ΒΑΡΑΚΛΑ ΜΑΡΙΑ",2002,"ΦΙΛΙΑ Τ.Κ.","Ζ"]
[3923,"M","ΒΑΡΒΕΡΗΣ ΑΛΕΞΑΝΔΡΟΣ",1974,"Γ.Ε.ΑΡΓΟΛΙΔΑΣ","ΣΤ"]
[11529,"F","ΒΑΡΔΑΚΗ ΜΑΡΙΑ",1984,"Ο.Α.ΒΟΛΟΥ","Ε"]
[22863,"F","ΒΑΡΔΑΛΗ ΘΩΜΑΗ",1995,"Ο.Α.ΚΟΥΦΑΛΙΩΝ ΘΕΣΣΑΛΟΝΙΚΗΣ","Β"]
[26141,"F","ΒΑΡΕΝΤΖΗ ΑΡΤΕΜΙΣ",2002,"ΑΙΟΛΟΣ Α.Λ.ΙΛΙΟΥ","Θ"]
[20992,"M","ΒΑΡΚΑΣ ΜΙΧΑΛΗΣ",1994,"Ο.Α.ΛΙΤΟΧΩΡΟΥ","Γ"]
[14857,"F","ΒΑΡΟΥΧΑΚΗ ΕΛΕΝΗ",1988,"ΗΡΑΚΛΕΙΟ Ο.Α.& Α.","Ζ"]
[4796,"M","ΒΑΡΦΗΣ ΜΙΧΑΗΛ",1980,"Α.Ο.ΚΗΦΙΣΙΑΣ","Η"]
[16051,"F","ΒΑΣΙΑΔΗ ΒΑΛΕΡΙΑ",1993,"Ο.Α.ΓΛΥΦΑΔΑΣ","ΙΑ"]
[16050,"F","ΒΑΣΙΑΔΗ ΣΙΒΥΛΛΑ",1991,"Ο.Α.ΓΛΥΦΑΔΑΣ","ΙΑ"]
[8658,"F","ΒΑΣΙΛΑΚΗ ΧΡΥΣΗ",1981,"ΗΡΑΚΛΕΙΟ Ο.Α.& Α.","Ζ"]
[18158,"M","ΒΑΣΙΛΑΚΗΣ ΠΑΝΑΓΙΩΤΗΣ",1988,"Α.Ο.ΚΗΦΙΣΙΑΣ","Η"]
[2131,"F","ΒΑΣΙΛΑΚΟΥ-ΓΕΡΟΥ ΕΛΕΝΗ",1969,"ΠΑΝΕΛΛΗΝΙΟΣ Γ.Σ.","Θ"]
[31641,"F","ΒΑΣΙΛΕΙΑΔΗ ΔΕΣΠΟΙΝΑ",2001,"Α.Σ.ΚΟΛΛΕΓΙΟΥ ΝΤΕΡΗ","Η"]
[14014,"M","ΒΑΣΙΛΕΙΑΔΗΣ ΔΗΜΗΤΡΗΣ-ΒΑΣΙΛΗΣ",1986,"Α.Ο.ΔΙΛΟΦΟ ΒΑΡΗΣ","Η"]
[20325,"M","ΒΑΣΙΛΕΙΑΔΗΣ ΠΕΤΡΟΣ",1989,"Ο.Α.ΞΑΝΘΗΣ","Α"]
[33224,"F","ΒΑΣΙΛΕΙΑΔΟΥ ΚΩΝΣΤΑΝΤΙΝΑ",1976,"Ν.Ο.Ν.Α.Μ","Γ"]
[1659,"M","ΒΑΣΙΛΕΙΟΥ ΑΡΙΣΤΕΙΔΗΣ",1971,"Ο.Α.ΞΑΝΘΗΣ","Α"]
[25227,"M","ΒΑΣΙΛΕΙΟΥ ΙΩΑΝΝΗΣ",1998,"Α.Ο.Α.ΦΙΛΟΘΕΗΣ","Η"]
[3373,"M","ΒΑΣΙΛΕΙΟΥ ΝΙΚΟΛΑΟΣ",1973,"Ο.Α.ΑΡΤΑΣ","Δ"]
[24788,"F","ΒΑΣΙΛΕΙΟΥ ΧΡΥΣΟΥΛΑ",1995,"Α.Ο.Α.ΧΑΪΔΑΡΙΟΥ","Θ"]
[22789,"M","ΒΑΣΙΛΟΠΟΥΛΟΣ ΆΡΗΣ",1997,"Σ.Ο.Α.ΚΑΡΔΙΤΣΑΣ ΦΩΚΙΑΝΟΣ","Ε"]
[7593,"M","ΒΑΣΙΛΟΠΟΥΛΟΣ ΦΩΤΙΟΣ",1979,"Ο.Α.ΛΑΡΙΣΑΣ","Ε"]
[23492,"M","ΒΑΣΙΛΟΥΔΗΣ ΓΕΩΡΓΙΟΣ",1967,"Ο.Α.ΑΡΙΔΑΙΑΣ","Γ"]
[26166,"M","ΒΑΣΣΟΣ ΙΩΑΝΝΗΣ",1993,"Α.Ο.ΜΥΤΙΛΗΝΗΣ","Θ"]
[31256,"F","ΒΑΤΣΙΟΥ ΠΑΥΛΙΝΑ",2000,"Α.Σ.Α.ΑΓΡΙΝΙΟΥ","Δ"]
[20722,"F","ΒΑΦΕΙΔΟΥ ΑΙΚΑΤΕΡΙΝΗ",1993,"Ο.Α.ΒΕΡΟΙΑΣ","Γ"]
[26816,"M","ΒΕΖΑΚΙΑΔΗΣ ΝΙΚΟΛΑΟΣ",1998,"Σ.Α.ΔΡΑΜΑΣ","Α"]
[20913,"M","ΒΕΚΡΗΣ ΝΙΚΗΤΑΣ",1995,"Ο.Α.ΣΥΡΟΥ","Η"]
[31852,"F","ΒΕΛΙΒΑΣΑΚΗ ΧΑΡΙΚΛΕΙΑ",2002,"ΗΡΑΚΛΕΙΟ Ο.Α.& Α.","Ζ"]
[21858,"F","ΒΕΛΚΟΥ ΜΑΡΙΑ",1997,"Ο.Α.ΚΑΒΑΛΑΣ ΑΛΕΞΑΝΔΡΟΣ","Α"]
[13361,"F","ΒΕΝΕΔΙΚΗ ΑΝΝΑ-ΔΕΣΠΟΙΝΑ",1988,"Α.Ο.Α.ΦΙΛΟΘΕΗΣ","Η"]
[14092,"F","ΒΕΝΕΤΣΑΝΟΥ ΑΣΗΜΙΝΑ",1986,"ΝΑΥΠΛΙΑΚΟΣ Ο.Α.","ΣΤ"]
[24588,"M","ΒΕΝΤΟΥΡΗΣ ΑΛΕΞΑΝΔΡΟΣ",1993,"Ο.Α.ΚΕΡΑΤΣΙΝΙΟΥ","Θ"]
[2233,"F","ΒΕΡΒΕΝΙΩΤΗ ΜΑΡΙΑ",1970,"Γ.Ε.ΑΡΓΟΛΙΔΑΣ","ΣΤ"]
[18253,"F","ΒΕΡΙΓΟΥ ΦΩΤΕΙΝΗ",1987,"Ο.Α.ΣΗΤΕΙΑΣ","Ζ"]
[18988,"M","ΒΕΡΡΟΣ ΓΕΩΡΓΙΟΣ",1992,"ΣΕΡΡΑΪΚΟΣ Ο.Α.","Α"]
[7309,"F","ΒΕΣΙΡΤΖΟΓΛΟΥ ΦΑΙΗ",1981,"Σ.Α.ΔΡΑΜΑΣ","Α"]
[3347,"F","ΒΗΧΟΥ ΒΕΝΕΤΙΑ",1971,"Α.Σ.ΣΠΑΡΤΑΚΟΣ ΓΛΥΦΑΔΑΣ","ΙΑ"]
[14687,"M","ΒΙΚΗΣ ΔΗΜΗΤΡΙΟΣ",1985,"ΖΑΚΥΝΘΙΝΟΣ Α.Ο.","ΣΤ"]
[10889,"F","ΒΙΝΤΖΗΛΑΙΟΥ ΔΗΜΗΤΡΑ",1984,"Α.Κ.Α.ΜΑΡΑΘΩΝΑ","Η"]
[38094,"M","ΒΙΤΣΑΣ ΒΑΣΙΛΕΙΟΣ",1986,"Ο.Α.ΠΕΤΡΟΥΠΟΛΗΣ","Θ"]
[18202,"M","ΒΛΑΔΙΚΑΣ ΣΤΥΛΙΑΝΟΣ",1988,"Ο.Α.ΙΩΑΝΝΙΝΩΝ","Δ"]
[12733,"F","ΒΛΑΣΣΗ ΚΩΝΣΤΑΝΤΙΝΑ",1987,"Α.Ο.ΠΑΡΓΑΣ","Δ"]
[4745,"M","ΒΛΑΣΤΟΣ ΓΙΩΡΓΟΣ",1980,"Σ.Α.ΡΑΦΗΝΑΣ","Η"]
[14498,"F","ΒΛΑΧΑΚΗ ΑΝΝΑ",1988,"Α.Ο.Ν.Φ.ΑΤΤΑΛΟΣ","Η"]
[7522,"M","ΒΛΑΧΟΓΙΑΝΝΗΣ ΒΑΣΙΛΕΙΟΣ",1977,"Α.Ο.Α.ΠΑΠΑΓΟΥ","ΙΑ"]
[25194,"F","ΒΛΑΧΟΠΟΥΛΟΥ ΑΘΗΝΑ",1994,"Ν.Ο.ΘΕΣΣΑΛΟΝΙΚΗΣ","Β"]
[32095,"F","ΒΛΑΧΟΠΟΥΛΟΥ ΑΝΑΣΤΑΣΙΑ",1999,"ΚΕΡΚΥΡΑΪΚΗ Λ.Τ.","Δ"]
[38277,"M","ΒΛΑΧΟΣ ΓΕΩΡΓΙΟΣ",2002,"Α.Σ.ΚΟΛΛΕΓΙΟΥ ΝΤΕΡΗ","Η"]
[29948,"M","ΒΛΑΧΟΣΠΥΡΟΣ ΣΠΥΡΙΔΩΝ",1997,"Ο.Α.ΖΩΓΡΑΦΟΥ","Η"]
[29415,"F","ΒΛΑΧΟΥ ΑΝΑΣΤΑΣΙΑ",1998,"Ε.Σ.Ο.ΕΠΙΚΟΥΡΟΣ ΠΟΛΙΧΝΗΣ","Β"]
[17479,"F","ΒΛΑΧΟΥ ΘΑΛΕΙΑ",1990,"Γ.Σ.ΗΛΙΟΥΠΟΛΗΣ","ΙΑ"]
[28816,"F","ΒΛΑΧΟΥΤΣΗ ΠΕΤΡΟΥΛΑ",2000,"ΡΗΓΑΣ Α.Ο.Α.ΑΡΓΟΛΙΔΑΣ","ΣΤ"]
[4711,"M","ΒΛΟΥΤΗΣ ΚΩΝΣΤΑΝΤΙΝΟΣ",1980,"Α.Ο.ΑΡΓΥΡΟΥΠΟΛΗΣ","ΙΑ"]
[12342,"F","ΒΟΓΙΑΤΖΗ ΕΙΡΗΝΗ",1982,"Α.Ο.ΜΥΤΙΛΗΝΗΣ","Θ"]
[13889,"M","ΒΟΓΙΑΤΖΗΣ ΜΙΧΑΛΗΣ",1986,"ΡΟΔΙΑΚΟΣ Ο.Α.","Θ"]
[33555,"F","ΒΟΓΙΑΤΖΟΠΟΥΛΟΥ ΕΛΠΙΔΑ",2001,"Ο.Α.ΝΑΟΥΣΑΣ","Γ"]
[23914,"M","ΒΟΛΑΣ ΤΣΑΜΠΙΚΟΣ",1997,"Ο.Α.ΠΕΤΑΛΟΥΔΩΝ","Θ"]
[23599,"F","ΒΟΡΕΟΠΟΥΛΟΥ-ΚΡΑΛΗ ΕΥΓΕΝΙΑ",1996,"Α.Ο.ΒΑΡΗΣ ΑΝΑΓΥΡΟΥΣ","Η"]
[11887,"F","ΒΟΤΑΝΟΥ ΝΙΚΟΛΕΤΑ",1986,"ΑΙΟΛΟΣ Α.Λ.ΙΛΙΟΥ","Θ"]
[7894,"M","ΒΟΥΓΙΟΥΚΑΛΑΚΗΣ ΕΜΜΑΝΟΥΗΛ",1983,"Α.Γ.Ο.ΘΕΣΠΡΩΤΙΚΟΥ","Δ"]
[35646,"F","ΒΟΥΖΑΒΑΛΗ ΕΛΛΗΣΩ",2002,"Α.Ο.Α.ΑΤΤΙΚΟΣ ΗΛΙΟΣ","Η"]
[31125,"F","ΒΟΥΛΓΑΡΑΚΗ ΓΕΩΡΓΙΑ",1990,"Ε.Α.Σ.ΟΛΥΜΠΙΑΔΑ","Β"]
[11975,"M","ΒΟΥΛΓΑΡΗΣ ΚΩΝΣΤΑΝΤΙΝΟΣ",1985,"Ο.Α.ΛΑΜΙΑΣ","Ε"]
[12543,"M","ΒΟΥΛΓΑΡΙΔΗΣ ΚΡΙΣΤΙΑΝ",1986,"Ο.Α.ΑΛΕΞΑΝΔΡΟΥΠΟΛΗΣ","Α"]
[90166,"F","ΒΟΥΟΡΕΛΑ ΑΙΜΙΛΙΑ-ΜΑΡΙΑ",1989,"Α.Ε.Κ.ΤΡΙΠΟΛΗΣ","ΣΤ"]
[30481,"M","ΒΟΥΡΕΞΑΚΗΣ ΑΝΑΣΤΑΣΙΟΣ",1996,"Ο.Α.ΚΩ","Θ"]
[18868,"M","ΒΟΥΡΟΥΚΟΣ ΕΥΑΓΓΕΛΟΣ",1993,"ΗΡΑΚΛΕΙΟ Ο.Α.& Α.","Ζ"]
[3895,"M","ΒΟΥΤΣΕΛΑΣ ΣΩΤΗΡΗΣ",1974,"Ο.Α.ΤΡΙΚΑΛΩΝ","Ε"]
[30293,"F","ΒΡΑΔΗ ΕΛΛΗ",2000,"ΚΕΡΚΥΡΑΪΚΗ ΑΚΑΔ.ΤΕΝΝΙΣ","Δ"]
[28358,"M","ΒΡΑΝΑΣ ΜΑΡΙΟΣ",2002,"Ο.Α.ΒΙΚΕΛΑΣ ΒΕΡΟΙΑΣ","Γ"]
[28964,"M","ΒΡΕΚΟΣ ΑΠΟΣΤΟΛΟΣ",1999,"Σ.Ο.Α.ΚΑΡΔΙΤΣΑΣ ΦΩΚΙΑΝΟΣ","Ε"]
[37312,"M","ΒΡΕΤΤΟΣ ΝΙΚΟΛΑΟΣ",2002,"Α.Ο.ΠΕΥΚΗΣ TIE BREAK","Η"]
[26503,"M","ΒΡΟΥΛΑΚΟΣ ΛΑΖΑΡΟΣ",1995,"Α.Ο.Α.ΚΑΒΑΛΑΣ","Α"]
[22918,"F","ΒΥΝΙΟΥ ΔΗΜΗΤΡΑ",1996,"Γ.Ο.ΠΕΡΙΣΤΕΡΙΟΥ Γ.ΠΑΛΑΣΚΑΣ","Θ"]
[27588,"F","ΓΑΒΑΛΑΚΗ ΧΡΥΣΗ",1995,"Α.Ο.ΚΥΔΩΝΙΑΣ","Ζ"]
[24816,"M","ΓΑΒΡΙΗΛ ΕΥΣΤΡΑΤΙΟΣ",1996,"Ο.Α.ΛΕΣΒΟΥ","Θ"]
[23342,"M","ΓΑΒΡΙΗΛΙΔΗΣ ΧΑΡΑΛΑΜΠΟΣ",1998,"Ο.Α.ΒΕΡΟΙΑΣ","Γ"]
[9435,"M","ΓΑΒΡΙΛΑΚΗΣ ΕΛΕΥΘΕΡΙΟΣ",1978,"Α.Ο.Α.ΑΙΓΑΛΕΩ 92","Θ"]
[31880,"F","ΓΑΖΟΠΟΥΛΟΥ ΙΩΑΝΝΑ",1999,"Ο.Α.ΓΙΑΝΝΙΤΣΩΝ","Γ"]
[5057,"F","ΓΑΚΗ ΜΠΕΑΤΡΙΣ",1978,"Ε.Φ.Τ.ΑΙΟΛΙΚΗ","Β"]
[30621,"F","ΓΑΛΑΖΟΥΛΑ ΙΩΑΝΝΑ",1995,"Α.Ο.Α.ΠΡΩΤΑΘΛ.ΚΑΒΑΛΑΣ","Α"]
[8813,"F","ΓΑΛΑΝΗ ΔΗΜΗΤΡΑ",1969,"Σ.Α.ΓΑΛΑΤΣΙΟΥ","Θ"]
[12988,"M","ΓΑΛΑΝΗΣ ΕΥΡΙΠΙΔΗΣ",1983,"Γ.Σ.ΕΛΕΥΘΕΡΙΟΥ ΚΟΡΔ.ΑΡΓΟΝΑΥΤΕΣ","Β"]
[12921,"F","ΓΑΛΑΝΟΠΟΥΛΟΥ ΣΟΦΙΑ",1977,"Ο.Α.ΣΗΤΕΙΑΣ","Ζ"]
[24896,"M","ΓΑΛΑΤΙΑΝΟΣ ΓΕΩΡΓΙΟΣ",1996,"Ο.Α.ΘΕΣΣΑΛΟΝΙΚΗΣ","Β"]
[24144,"F","ΓΑΛΕΡΟΥ ΣΤΕΛΙΝΑ",1997,"Ο.Α.ΡΕΘΥΜΝΟΥ","Ζ"]
[20403,"M","ΓΑΛΕΤΑΚΗΣ ΓΕΩΡΓΙΟΣ",1990,"Ο.Α.ΣΗΤΕΙΑΣ","Ζ"]
[18902,"F","ΓΑΛΛΟΥ ΑΛΕΞΑΝΔΡΑ",1990,"Ο.Α.ΠΕΙΡΑΙΑ","Θ"]
[27750,"F","ΓΑΝΙΩΤΗ ΑΙΚΑΤΕΡΙΝΗ",1969,"Ο.Α.ΤΟΥΜΠΑΣ","Β"]
[9764,"F","ΓΑΡΑΤΣΙΔΟΥ ΠΑΝΑΓΙΩΤΑ",1979,"Α.Σ.ΠΙΕΡΙΑ ΤΕΝΙΣ","Γ"]
[26698,"M","ΓΑΡΕΦΗΣ ΠΕΤΡΟΣ",2000,"Σ.Α.ΘΕΣΣΑΛΟΝΙΚΗΣ","Β"]
[23474,"M","ΓΑΡΟΥΦΑΣ ΓΕΩΡΓΙΟΣ",1996,"Α.Ο.Α.ΚΑΒΑΛΑΣ","Α"]
[4940,"M","ΓΑΣΠΑΡΙΝΑΤΟΣ ΣΠΥΡΙΔΩΝ",1966,"ΚΕΦΑΛΛΗΝΙΑΚΟΣ Ο.Α.","ΣΤ"]
[32335,"F","ΓΑΤΟΥ ΜΑΡΙΑ",2002,"Ο.Α.ΒΕΡΟΙΑΣ","Γ"]
[13865,"F","ΓΕΛΑΔΑ ΑΝΑΣΤΑΣΙΑ",1986,"Α.Σ.ΠΕΡΑ","ΙΑ"]
[1170,"M","ΓΕΝΕΡΑΛΗΣ ΚΩΝΣΤΑΝΤΙΝΟΣ",1971,"Ο.Α.ΑΘΗΝΩΝ","Η"]
[26426,"M","ΓΕΝΝΑΤΟΣ ΠΕΤΡΟΣ",1996,"Α.Ο.ΒΟΥΛΙΑΓΜΕΝΗΣ","ΙΑ"]
[12971,"F","ΓΕΡΑΝΙΟΥ ΧΡΙΣΤΙΝΑ",1985,"Σ.Α.ΓΑΛΑΤΣΙΟΥ","Θ"]
[19190,"F","ΓΕΡΑΣΙΜΙΔΟΥ ΜΕΡΟΠΗ",1989,"Ο.Α.ΘΕΣΠΡΩΤΙΑΣ ΤΙΤΑΝΗ","Δ"]
[10586,"M","ΓΕΡΓΟΣ ΙΩΑΝΝΗΣ",1967,"Ο.Α.ΒΕΡΟΙΑΣ","Γ"]
[15339,"F","ΓΕΡΟΓΙΑΝΝΗ ΝΙΚΟΛΕΤΤΑ",1985,"Α.Σ.Α.ΛΑΡΙΣΑΣ","Ε"]
[27127,"M","ΓΕΡΟΛΥΜΟΣ ΑΘΑΝΑΣΙΟΣ",1997,"Α.Σ.ΑΚΡΟΠΟΛΙΣ","Η"]
[38054,"M","ΓΕΡΟΠΟΥΛΟΣ ΜΙΛΤΙΑΔΗΣ",2001,"Ο.Α.ΕΥΟΣΜΟΥ ΘΕΣΣΑΛΟΝΙΚΗΣ","Β"]
[34712,"M","ΓΕΡΟΥ ΟΔΥΣΣΕΑΣ-ΑΓΓΕΛΟΣ",1999,"Α.Ο.ΚΑΛΛΙΤΕΧΝΟΥΠΟΛΗΣ","Η"]
[4584,"F","ΓΕΩΡΓΑΔΑΚΗ ΚΑΤΕΡΙΝΑ",1980,"Α.Γ.Ο.ΒΟΛΟΥ","Ε"]
[8906,"M","ΓΕΩΡΓΑΚΗΣ ΑΛΕΞΑΝΔΡΟΣ",1979,"Α.Σ.ΠΕΡΑ","ΙΑ"]
[22459,"M","ΓΕΩΡΓΑΚΟΠΟΥΛΟΣ ΓΕΩΡΓΙΟΣ",1968,"Α.Ο.Α.ΦΙΛΟΘΕΗΣ","Η"]
[8692,"F","ΓΕΩΡΓΑΚΟΠΟΥΛΟΥ ΣΟΥΖΑΝΑ-ΕΛΕΝΗ",1983,"Ο.Α.ΣΑΛΑΜΙΝΑΣ","Θ"]
[17985,"F","ΓΕΩΡΓΑΝΑ ΦΙΛΑΝΘΗ",1991,"Ο.Α.ΚΑΛΑΜΑΤΑΣ","ΣΤ"]
[8607,"M","ΓΕΩΡΓΑΝΤΙΔΗΣ-ΔΟΥΚΑΣ ΧΡΗΣΤΟΣ",1988,"Φ.Σ.ΚΑΛΛΙΘΕΑΣ","Θ"]
[30685,"M","ΓΕΩΡΓΑΣ ΣΩΤΗΡΗΣ-ΜΑΡΙΟΣ",1996,"Α.Ο.Α.ΗΛΙΟΥΠΟΛΗΣ","ΙΑ"]
[2259,"F","ΓΕΩΡΓΙΑΔΗ ΕΙΡΗΝΗ",1974,"Α.Γ.Ο.ΦΙΛΙΠΠΙΑΔΑΣ","Δ"]
[27768,"M","ΓΕΩΡΓΙΑΔΗΣ ΙΩΑΝΝΗΣ",1993,"Ο.Α.ΤΟΥΜΠΑΣ","Β"]
[1255,"M","ΓΕΩΡΓΙΑΔΗΣ ΝΙΚΟΣ",1969,"Ο.Α.ΘΕΣΣΑΛΟΝΙΚΗΣ","Β"]
[25615,"F","ΓΕΩΡΓΙΑΔΟΥ ΔΗΜΗΤΡΑ",1999,"Σ.Α.ΔΡΑΜΑΣ","Α"]
[90059,"F","ΓΕΩΡΓΙΑΔΟΥ ΚΑΡΟΛΙΝΑ-ΑΘΗΝΑ",1995,"Α.Ο.ΒΑΡΗΣ ΑΝΑΓΥΡΟΥΣ","Η"]
[37022,"F","ΓΕΩΡΓΙΛΗ-ΠΟΠΠ ΑΘΗΝΑ",1970,"Α.Ο.ΤΑΤΟΪΟΥ","Η"]
[37523,"F","ΓΕΩΡΓΙΟΥ ΓΕΩΡΓΙΑ",2002,"Ο.Α.ΚΕΡΚΥΡΑΣ","Δ"]
[30467,"F","ΓΕΩΡΓΙΟΥ ΜΑΡΙΑ",2000,"Ο.Α.ΤΡΙΚΑΛΩΝ","Ε"]
[32170,"M","ΓΕΩΡΓΙΤΣΑΡΟΣ ΚΩΝΣΤΑΝΤΙΝΟΣ",2000,"Ο.Α.ΠΟΛΥΚΑΣΤΡΟΥ","Β"]
[15068,"M","ΓΕΩΡΓΟΠΟΥΛΟΣ ΓΕΩΡΓΙΟΣ",1979,"Ο.Α.ΘΕΣΣΑΛΟΝΙΚΗΣ","Β"]
[22633,"M","ΓΕΩΡΓΟΠΟΥΛΟΣ ΠΑΝΑΓΙΩΤΗΣ",1995,"Ο.Α.ΚΑΛΑΜΑΤΑΣ","ΣΤ"]
[37858,"F","ΓΕΩΡΓΟΠΟΥΛΟΥ ΠΑΡΑΣΚΕΥΗ-ΤΣΑΜΠΙΚΑ",2002,"Α.Ο.Α.ΚΑΙΣΑΡΙΑΝΗΣ","Θ"]
[17934,"F","ΓΕΩΡΓΟΥΛΑΚΟΥ ΑΣΠΑΣΙΑ",1988,"Ο.Α.ΛΕΣΒΟΥ","Θ"]
[5412,"M","ΓΕΩΡΓΟΥΝΤΖΟΣ ΝΙΚΟΛΑΟΣ",1984,"Α.Κ.ΖΩΓΡΑΦΟΥ","ΙΑ"]
[30035,"M","ΓΕΩΡΓΟΥΣΑΚΗΣ ΓΕΩΡΓΙΟΣ",1999,"Ο.Α.ΧΑΝΙΩΝ","Ζ"]
[4620,"F","ΓΙΑΒΡΟΠΟΥΛΟΥ ΜΑΡΙΑ",1978,"Σ.Α.ΣΕΡΡΩΝ","Α"]
[13734,"M","ΓΙΑΓΤΖΗΣ ΝΙΚΟΛΑΟΣ",1991,"ΦΘΙΩΤΙΚΟΣ Ο.Α.","Ε"]
[6507,"F","ΓΙΑΚΟΥΜΑΚΗ ΒΑΣΙΛΙΚΗ",1979,"Α.Ο.ΑΣΤΕΡΑΣ ΗΛΙΟΥΠΟΛΗΣ","ΙΑ"]
[20536,"F","ΓΙΑΚΟΥΜΑΤΟΥ ΧΡΙΣΤΙΝΑ",1993,"Ο.Α.ΘΕΣΠΡΩΤΙΑΣ ΤΙΤΑΝΗ","Δ"]
[28993,"M","ΓΙΑΛΕΔΑΚΗΣ ΕΜΜΑΝΟΥΗΛ",1994,"Α.Σ.ΑΚΡΟΠΟΛΙΣ","Η"]
[3939,"F","ΓΙΑΛΟΥΣΗ ΜΑΡΙΑ",1966,"Α.Σ.ΠΕΡΑ","ΙΑ"]
[17774,"F","ΓΙΑΜΠΑΤΖΙΔΟΥ ΑΣΗΜΕΝΙΑ",1987,"Γ.Σ.ΕΛΕΥΘΕΡΙΟΥ ΚΟΡΔ.ΑΡΓΟΝΑΥΤΕΣ","Β"]
[16244,"M","ΓΙΑΝΝΑΚΑΚΗΣ ΑΘΑΝΑΣΙΟΣ",1990,"Α.Ο.ΑΜΥΝΤΑΣ ΥΜΗΤΤΟΥ","ΙΑ"]
[15605,"F","ΓΙΑΝΝΑΚΗ ΧΡΙΣΤΙΝΑ",1989,"Α.Ο.Α.ΦΙΛΟΘΕΗΣ","Η"]
[33148,"F","ΓΙΑΝΝΑΚΟΒΙΤΗ ΕΥΦΡΟΣΙΝΗ",2001,"Α.Α.ΝΑΟΥΣΑΣ","Γ"]
[26268,"M","ΓΙΑΝΝΑΚΟΠΟΥΛΟΣ ΤΡΥΦΩΝΑΣ",1995,"Ο.Α.ΚΑΛΑΜΑΤΑΣ","ΣΤ"]
[18270,"M","ΓΙΑΝΝΑΚΟΥ ΑΝΔΡΕΑΣ",1990,"Ο.Α.ΒΡΙΛΗΣΣΙΩΝ","Η"]
[27870,"M","ΓΙΑΝΝΑΚΟΥΛΑΣ ΕΥΡΙΠΙΔΗΣ",1998,"Ο.Α.ΚΙΛΚΙΣ","Β"]
[30240,"F","ΓΙΑΝΝΕΖΗ ΓΕΩΡΓΙΑ-ΝΕΦΕΛΗ",1999,"Α.Σ.ΑΚΑΔΗΜΙΕΣ ΠΡΩΤΑΘΛΗΤΩΝ ΠΕΥΚΩΝ","Β"]
[13886,"M","ΓΙΑΝΝΙΑΣ ΑΝΤΩΝΗΣ",1985,"ΡΟΔΙΑΚΟΣ Ο.Α.","Θ"]
[9519,"F","ΓΙΑΝΝΙΡΗ ΜΑΡΙΛΕΝΑ",1983,"Α.Ο.Ν.ΣΜΥΡΝΗΣ Ο ΜΙΛΩΝ","ΙΑ"]
[23272,"M","ΓΙΑΝΝΟΠΟΥΛΟΣ ΑΝΔΡΕΑΣ",1996,"Ο.Α.ΒΟΥΛΙΑΓΜΕΝΗΣ ΜΙΚΡΟΙ ΑΣΣΟΙ","ΙΑ"]
[3992,"M","ΓΙΑΝΝΟΠΟΥΛΟΣ ΗΛΙΑΣ",1977,"Ο.Α.ΓΛΥΦΑΔΑΣ","ΙΑ"]
[5172,"F","ΓΙΑΝΝΟΠΟΥΛΟΥ ΔΕΣΠΟΙΝΑ",1981,"Α.Ο.Α.ΗΛΙΟΥΠΟΛΗΣ","ΙΑ"]
[21442,"F","ΓΙΑΝΝΟΠΟΥΛΟΥ ΦΡΥΝΗ",1992,"ΚΕΦΑΛΛΗΝΙΑΚΟΣ Ο.Α.","ΣΤ"]
[30388,"M","ΓΙΑΝΝΟΥΛΑΚΗΣ ΛΑΜΠΡΟΣ",2001,"Φ.Ο.Α.ΝΕΑΠΟΛΗΣ","Β"]
[6243,"M","ΓΙΑΝΝΟΥΛΗΣ ΕΥΣΤΡΑΤΙΟΣ",1978,"Α.Σ.Α.ΜΥΤΙΛΗΝΗΣ","Θ"]
[36930,"M","ΓΙΑΝΝΟΥΛΤΣΗΣ ΙΩΑΝΝΗΣ",2002,"Ο.Α.ΕΔΕΣΣΑΣ","Γ"]
[24039,"M","ΓΙΑΝΤΣΗΣ ΧΡΗΣΤΟΣ",1995,"Ο.Α.ΝΑΟΥΣΑΣ","Γ"]
[25557,"M","ΓΙΑΡΙΣΚΑΝΗΣ ΓΕΩΡΓΙΟΣ",1997,"Ο.Α.ΣΤΑΥΡΟΥ ΑΣΠΡΟΒΑΛΤΑΣ","Β"]
[32164,"F","ΓΙΑΤΣΟΥ ΕΛΕΝΗ",1994,"Ο.Α.ΑΙΓΙΑΛΕΙΑΣ","ΣΤ"]
[31959,"F","ΓΙΔΟΠΟΥΛΟΥ ΒΑΪΑ",2001,"Ο.Α.ΤΡΙΚΑΛΩΝ","Ε"]
[23974,"F","ΓΙΟΒΑΝΟΠΟΥΛΟΥ ΕΛΕΝΗ",1990,"ΕΘΝΙΚΟΣ ΠΑΝΟΡΑΜΑΤΟΣ 2005","Β"]
[16292,"F","ΓΙΟΡΚΑ ΕΛΕΝΗ",1989,"Σ.Ο.Α.ΚΑΡΔΙΤΣΑΣ ΦΩΚΙΑΝΟΣ","Ε"]
[15940,"M","ΓΙΟΥΝΗΣ ΧΡΟΝΗΣ",1990,"Α.Ο.ΒΑΡΗΣ ΑΝΑΓΥΡΟΥΣ","Η"]
[22400,"F","ΓΙΩΝΝΑ-ΜΑΣΣΕΛΟΥ ΜΥΡΣΙΝΗ",1995,"Α.Κ.Α.ΜΑΡΑΘΩΝΑ","Η"]
[8503,"M","ΓΙΩΤΑΣ ΝΙΚΟΛΑΟΣ",1985,"ΦΘΙΩΤΙΚΟΣ Ο.Α.","Ε"]
[2436,"M","ΓΙΩΤΗΣ ΧΡΗΣΤΟΣ",1970,"Α.Ν.Ο.ΓΛΥΦΑΔΑΣ","ΙΑ"]
[18603,"M","ΓΚΑΒΑΡΔΙΝΑΣ ΟΘΩΝΑΣ",1995,"Α.Γ.Ο.ΦΙΛΙΠΠΙΑΔΑΣ","Δ"]
[13785,"F","ΓΚΑΔΡΗ ΕΛΙΣΣΑΒΕΤ",1987,"Γ.Α.Σ.ΝΙΓΡΙΤΑΣ ΒΙΣΑΛΤΗΣ","Α"]
[29259,"M","ΓΚΑΛΙΤΣΙΟΣ ΙΩΑΝΝΗΣ",1998,"Ο.Α.ΝΙΚΑΙΑ ΛΑΡΙΣΑΣ","Ε"]
[9483,"M","ΓΚΑΝΑΣΗΣ ΠΑΥΛΟΣ",1981,"Α.Ο.Ν.ΣΜΥΡΝΗΣ Ο ΜΙΛΩΝ","ΙΑ"]
[5015,"F","ΓΚΑΡΑΓΚΟΥΝΗ ΧΑΡΙΚΛΕΙΑ",1979,"Α.Σ.Α.ΛΑΡΙΣΑΣ","Ε"]
[35767,"F","ΓΚΑΡΑΜΕΤΣΗ ΒΑΣΙΛΙΚΗ",1970,"Ο.Α.ΙΩΑΝΝΙΝΩΝ","Δ"]
[13512,"M","ΓΚΑΡΤΖΙΟΣ ΙΩΑΝΝΗΣ",1979,"Α.Ο.ΠΟΣΕΙΔΩΝ ΛΟΥΤΡΑΚΙΟΥ","ΣΤ"]
[1753,"M","ΓΚΑΣΝΑΚΗΣ ΑΣΤΕΡΙΟΣ",1968,"Ο.Α.ΒΙΚΕΛΑΣ ΒΕΡΟΙΑΣ","Γ"]
[33630,"F","ΓΚΕΖΕΟΓΛΟΥ ΞΕΝΙΑ",2000,"Α.Α.ΑΙΓΑΛΕΩ","Θ"]
[3018,"M","ΓΚΕΝΟΣ ΠΟΛΥΧΡΟΝΗΣ",1973,"Α.Μ.Σ.ΠΑΝΟΡΑΜΑΤΟΣ","Β"]
[3058,"M","ΓΚΙΑΤΑΣ ΝΙΚΟΛΑΟΣ",1971,"Ο.Α.ΚΑΤΕΡΙΝΗΣ","Γ"]
[30763,"F","ΓΚΙΚΑ ΜΑΡΙΑ",1999,"Α.Ν.Ο.ΓΛΥΦΑΔΑΣ","ΙΑ"]
[6922,"M","ΓΚΙΚΑΣ ΞΕΝΟΦΩΝ",1981,"ΝΑΥΠΛΙΑΚΟΣ Ο.Α.","ΣΤ"]
[7405,"M","ΓΚΙΝΗΣ ΕΥΑΓΓΕΛΟΣ",1985,"Α.Ο.Α.ΦΙΛΟΘΕΗΣ","Η"]
[33306,"F","ΓΚΙΟΞΗ ΕΥΑΓΓΕΛΙΑ",2000,"Ο.Α.ΠΕΙΡΑΙΑ","Θ"]
[19017,"F","ΓΚΙΩΝΗ ΑΛΕΞΑΝΔΡΑ",1991,"Ν.Ο.ΚΑΛΑΜΑΚΙΟΥ","ΙΑ"]
[20619,"M","ΓΚΛΙΑΤΗΣ ΙΩΑΝΝΗΣ",1993,"Α.Ε.ΠΟΡΤΟ ΡΑΦΤΗ","Η"]
[21373,"M","ΓΚΟΓΚΙΔΗΣ ΔΗΜΗΤΡΙΟΣ",1967,"Ο.Α.ΚΟΥΦΑΛΙΩΝ ΘΕΣΣΑΛΟΝΙΚΗΣ","Β"]
[29748,"F","ΓΚΟΓΚΟΥ ΧΡΙΣΤΙΝΑ",1997,"Ο.Α.ΝΙΚΑΙΑ ΛΑΡΙΣΑΣ","Ε"]
[26524,"M","ΓΚΟΛΟΜΑΖΟΣ ΔΗΜΗΤΡΗΣ",1998,"Ο.Α.ΑΡΤΑΣ","Δ"]
[27898,"F","ΓΚΟΝΤΕΡΤΖΙΣΒΙΛΙ ΡΟΖΑ",1996,"Ο.Α.ΧΡΥΣΟΥΠΟΛΗΣ","Α"]
[18896,"M","ΓΚΟΡΟΣ ΠΟΛΥΧΡΟΝΗΣ",1989,"Ο.Α.ΓΛΥΦΑΔΑΣ","ΙΑ"]
[19384,"F","ΓΚΟΤΣΗ ΜΑΡΙΑ",1990,"Ο.Α.ΝΕΟΥ ΦΑΛΗΡΟΥ","Θ"]
[28638,"F","ΓΚΟΥΓΚΟΥ ΑΝΑΣΤΑΣΙΑ",1997,"Α.Σ.ΠΕΡΑ","ΙΑ"]
[25745,"F","ΓΚΟΥΛΕΜΑ ΜΑΡΙΑΝΘΗ",1999,"Γ.Α.Σ.ΚΑΡΑΤΕ ΕΡΜΗΣ","Γ"]
[13784,"F","ΓΚΟΥΜΑ ΜΑΡΙΑ",1988,"Γ.Α.Σ.ΝΙΓΡΙΤΑΣ ΒΙΣΑΛΤΗΣ","Α"]
[25231,"F","ΓΚΟΥΝΙΑΡΟΥΔΗ ΜΑΡΙΑ",1998,"Ο.Α.ΝΙΚΑΙΑ ΛΑΡΙΣΑΣ","Ε"]
[4259,"M","ΓΚΟΥΝΤΟΥΦΑΣ ΧΑΡΙΤΩΝ",1981,"Γ.Σ.ΚΗΦΙΣΙΑΣ","Η"]
[17989,"M","ΓΚΟΥΣΚΟΣ ΔΙΟΝΥΣΙΟΣ",1991,"ΖΑΚΥΝΘΙΝΟΣ Α.Ο.","ΣΤ"]
[90097,"M","ΓΚΡΑΤΣΙΟΖΙ ΜΑΞΙΜ",1999,"Ο.Α.ΚΟΥΦΑΛΙΩΝ ΘΕΣΣΑΛΟΝΙΚΗΣ","Β"]
[10062,"M","ΓΚΩΓΚΟΣ ΚΩΝΣΤΑΝΤΙΝΟΣ",1980,"Ο.Α.ΘΕΣΣΑΛΟΝΙΚΗΣ","Β"]
[12637,"F","ΓΛΥΚΟΦΡΥΔΗ ΑΘΗΝΑ",1986,"Α.Ο.ΠΟΣΕΙΔΩΝ ΛΟΥΤΡΑΚΙΟΥ","ΣΤ"]
[20348,"F","ΓΟΓΟΥΛΟΥ ΒΑΣΙΛΙΚΗ",1993,"Ο.Α.ΘΕΣΠΡΩΤΙΑΣ ΤΙΤΑΝΗ","Δ"]
[19362,"F","ΓΟΥΑΝΤΙΛ ΤΙΦΑΝΥ-ΜΑΡΙΑ",1993,"Σ.Α.Α.Κ.ΑΝΑΤΟΛΙΑ","Β"]
[25730,"M","ΓΟΥΪΛΛΙΣ ΜΙΧΑΛΗΣ-ΜΠΡΟΥΣ",1994,"Α.Ο.ΑΤΡΟΜΗΤΟΣ ΤΡΙΑΔΙΟΥ","Β"]
[13996,"M","ΓΟΥΛΑΤΗΣ ΙΩΑΝΝΗΣ",1982,"Α.Σ.Α.ΛΑΡΙΣΑΣ","Ε"]
[19589,"F","ΓΟΥΝΑΡΑ ΑΝΑΣΤΑΣΙΑ",1992,"Α.Σ.Α.ΛΑΡΙΣΑΣ","Ε"]
[17045,"M","ΓΟΥΡΓΟΥΛΕΤΗΣ ΚΩΝΣΤΑΝΤΙΝΟΣ",1992,"Α.Γ.Ο.ΝΑΥΠΑΚΤΟΥ","Δ"]
[18201,"M","ΓΟΥΣΗΣ ΧΑΡΙΛΑΟΣ",1990,"Ο.Α.ΙΩΑΝΝΙΝΩΝ","Δ"]
[8875,"M","ΓΡΑΒΙΑΣ ΓΙΩΡΓΟΣ",1982,"Ο.Α.ΛΙΤΟΧΩΡΟΥ","Γ"]
[23962,"F","ΓΡΑΜΜΑΤΙΚΟΠΟΥΛΟΥ ΜΑΡΙΑ",1993,"Ο.Α.ΠΟΛΥΚΑΣΤΡΟΥ","Β"]
[25686,"M","ΓΡΑΜΜΕΝΟΣ ΣΤΕΦΑΝΟΣ",1994,"Α.Κ.Α.ΜΑΡΑΘΩΝΑ","Η"]
[36009,"M","ΓΡΑΤΣΙΑΣ ΜΙΧΑΛΗΣ",2001,"Σ.Α.ΡΑΦΗΝΑΣ","Η"]
[13257,"F","ΓΡΗΓΟΡΑΤΟΥ ΑΡΕΤΗ",1985,"Ο.Α.ΝΕΟΥ ΦΑΛΗΡΟΥ","Θ"]
[13172,"M","ΓΡΗΓΟΡΙΑΔΗΣ ΚΙΜΩΝ-ΕΜΜΑΝΟΥΗΛ",1983,"Ο.Α.ΚΩ","Θ"]
[29104,"M","ΓΡΗΓΟΡΙΑΔΗΣ ΚΩΝΣΤΑΝΤΙΝΟΣ",1998,"Ε.Σ.Ο.ΕΠΙΚΟΥΡΟΣ ΠΟΛΙΧΝΗΣ","Β"]
[22054,"F","ΓΡΗΓΟΡΙΑΔΟΥ ΣΟΦΙΑ",1994,"Α.Α.ΑΛΜΠΑΤΡΟΣ","Β"]
[28631,"F","ΓΡΙΒΑ ΒΑΡΒΑΡΑ",2000,"ΑΙΟΛΟΣ Α.Λ.ΙΛΙΟΥ","Θ"]
[20943,"F","ΓΡΙΒΑ ΧΑΡΟΥΛΑ-ΠΑΝΑΓΙΩΤΑ",1990,"Σ.Α.ΓΑΛΑΤΣΙΟΥ","Θ"]
[3727,"F","ΓΡΟΥΖΙΔΟΥ ΜΑΡΙΑ",1978,"Σ.Α.ΣΕΡΡΩΝ","Α"]
[8821,"M","ΓΥΝΑΡΓΥΡΟΣ ΙΩΑΝΝΗΣ",1981,"Ο.Α.ΚΕΡΚΥΡΑΣ","Δ"]
[12229,"F","ΓΩΝΙΑΝΑΚΗ ΓΑΡΥΦΑΛΙΑ",1985,"ΗΡΑΚΛΕΙΟ Ο.Α.& Α.","Ζ"]
[23886,"M","ΔΑΒΙΛΛΑΣ ΙΩΑΝΝΗΣ",1993,"ΠΕΥΚΗ Γ.ΚΑΛΟΒΕΛΩΝΗΣ","Η"]
[8105,"M","ΔΑΓΚΛΗΣ ΝΙΚΟΛΑΟΣ",1980,"Σ.Ο.Ι.Σ.ΝΕΑ ΠΝΟΗ","Α"]
[16921,"M","ΔΑΛΑΚΟΓΛΟΥ ΔΗΜΗΤΡΙΟΣ",1986,"Ο.Α.ΑΝΑΦΛΥΣΤΟΣ ΣΑΡΩΝΙΔΑΣ","Η"]
[10898,"F","ΔΑΛΑΜΑΝΓΚΑ ΑΓΛΑΪΑ",1981,"Α.Κ.Α.ΜΑΡΑΘΩΝΑ","Η"]
[9950,"F","ΔΑΛΙΑΝΗ ΠΑΓΩΝΑ",1978,"Γ.Ε.ΑΤΑΛΑΝΤΗΣ","Ε"]
[17844,"M","ΔΑΛΛΑΣ ΛΑΜΠΡΟΣ",1991,"ΗΠΕΙΡΩΤΙΚΟΣ Σ.Α.ΙΩΑΝΝΙΝΩΝ","Δ"]
[19367,"F","ΔΑΜΒΕΡΓΗ ΔΕΣΠΟΙΝΑ-ΒΑΡΒΑΡΑ",1990,"Ο.Α.ΠΕΙΡΑΙΑ","Θ"]
[15096,"F","ΔΑΜΙΑΝΙΔΟΥ ΕΥΑ",1984,"Α.Σ.ΠΙΕΡΙΑ ΤΕΝΙΣ","Γ"]
[22631,"F","ΔΑΜΟΥΛΑΚΗ ΙΩΑΝΝΑ",1995,"Γ.Σ.ΛΙΒΥΚΟΣ ΙΕΡΑΠΕΤΡΑΣ","Ζ"]
[10821,"M","ΔΑΝΕΖΗΣ ΑΝΑΡΓΥΡΟΣ-ΟΡΕΣΤΗΣ",1983,"Ο.Α.ΚΟΡΙΝΘΟΥ","ΣΤ"]
[22976,"M","ΔΑΝΙΗΛ ΘΩΜΑΣ",1997,"Ο.Α.ΒΡΙΛΗΣΣΙΩΝ","Η"]
[3837,"F","ΔΑΠΟΝΤΕ ΑΓΓΕΛΙΚΗ",1980,"Α.Ο.ΑΡΓΥΡΟΥΠΟΛΗΣ","ΙΑ"]
[12578,"F","ΔΑΡΔΙΩΤΗ ΝΕΦΕΛΗ",1985,"ΦΘΙΩΤΙΚΟΣ Ο.Α.","Ε"]
[34039,"F","ΔΑΡΜΑΝΗ ΕΛΕΝΗ",1999,"Ο.Α.ΚΕΡΚΥΡΑΣ","Δ"]
[7713,"M","ΔΑΣΚΑΛΑΚΗΣ ΜΑΡΚΟΣ",1980,"Α.Ο.Α.ΗΛΙΟΥΠΟΛΗΣ","ΙΑ"]
[11090,"F","ΔΑΣΚΑΛΟΥ ΒΙΚΤΩΡΙΑ",1982,"Α.Α.ΚΕΡΚΥΡΑΣ","Δ"]
[13392,"M","ΔΑΦΕΡΕΡΑΣ ΑΝΑΣΤΑΣΙΟΣ",1986,"Ο.Α.ΒΟΛΟΥ","Ε"]
[17877,"F","ΔΕΒΕΤΖΗ ΔΕΣΠΟΙΝΑ",1991,"Α.Ο.Π.ΦΑΛΗΡΟΥ","ΙΑ"]
[11876,"M","ΔΕΔΕΣ ΕΛΕΥΘΕΡΙΟΣ",1986,"Ο.Α.ΚΑΙΣΑΡΙΑΝΗΣ","Θ"]
[35941,"M","ΔΕΛΕΓΚΟΣ ΙΩΑΝΝΗΣ",1998,"ΛΕΣΧΗ ΠΟΛΙΤΙΣΜΟΥ ΦΛΩΡΙΝΑΣ","Γ"]
[12278,"M","ΔΕΛΗΒΕΛΙΩΤΗΣ ΔΗΜΗΤΡΙΟΣ",1984,"Σ.Ο.Α.ΚΑΡΔΙΤΣΑΣ ΦΩΚΙΑΝΟΣ","Ε"]
[1447,"M","ΔΕΛΗΓΙΑΝΝΗΣ ΔΗΜΗΤΡΗΣ",1970,"Ο.Α.ΑΘΗΝΩΝ","Η"]
[25087,"F","ΔΕΛΗΔΗΜΟΥΛΗ ΙΩΑΝΝΑ-ΑΜΑΡΥΛΙΣ",1999,"Ο.Α.ΚΟΥΦΑΛΙΩΝ ΘΕΣΣΑΛΟΝΙΚΗΣ","Β"]
[20401,"M","ΔΕΛΗΜΠΑΣΗΣ ΑΠΟΣΤΟΛΟΣ",1991,"Α.Ο.Α.ΡΕΘΥΜΝΟ Τ.Κ.","Ζ"]
[26604,"M","ΔΕΛΗΣ ΧΡΙΣΤΟΣ-ΕΡΡΙΚΟΣ",1997,"ΡΗΓΑΣ Α.Ο.Α.ΑΡΓΟΛΙΔΑΣ","ΣΤ"]
[19158,"M","ΔΕΛΛΑΜΑΝΗΣ ΑΛΕΞΑΝΔΡΟΣ-ΣΤΑΥΡΟΣ",1992,"Α.Ε.ΠΟΡΤΟ ΡΑΦΤΗ","Η"]
[10519,"M","ΔΕΛΛΙΟΣ ΧΡΗΣΤΟΣ",1979,"Ο.Α.ΘΕΣΣΑΛΟΝΙΚΗΣ","Β"]
[5403,"M","ΔΕΜΙΡΟΠΟΥΛΟΣ ΜΙΧΑΗΛ-ΠΑΝΑΓΙΩΤΗΣ",1980,"Ο.Α.ΑΘΗΝΩΝ","Η"]
[12145,"F","ΔΕΝΕΔΙΟΥ ΚΑΤΕΡΙΝΑ",1981,"Ο.Α.ΒΡΙΛΗΣΣΙΩΝ","Η"]
[7188,"M","ΔΕΡΖΕΚΟΣ ΔΗΜΗΤΡΙΟΣ",1980,"ΝΑΥΠΛΙΑΚΟΣ Ο.Α.","ΣΤ"]
[2630,"M","ΔΕΡΜΙΤΖΑΚΗΣ ΜΑΝΩΛΗΣ",1972,"Α.Ο.Α.ΦΙΛΟΘΕΗΣ","Η"]
[15498,"M","ΔΕΣΠΟΤΗΣ ΘΩΜΑΣ",1991,"Α.Ο.ΤΑΤΑΥΛΑ ΚΩΝΣΤΑΝΤΙΝΟΥΠΟΛΕΩΣ","ΙΑ"]
[21262,"F","ΔΕΣΠΟΤΙΔΗ ΕΙΡΗΝΗ",1995,"Α.Σ.ΣΠΑΡΤΑΚΟΣ ΓΛΥΦΑΔΑΣ","ΙΑ"]
[14346,"M","ΔΕΣΥΛΛΑΣ ΜΙΧΑΛΗΣ",1986,"Ο.Α.ΒΡΙΛΗΣΣΙΩΝ","Η"]
[18084,"F","ΔΗΜΑ ΓΕΩΡΓΙΑ-ΝΑΥΣΙΚΑ-ΜΑΡΙΑ",1986,"Ο.Α.ΞΥΛΟΚΑΣΤΡΟΥ ΣΥΘΑΣ","ΣΤ"]
[14090,"M","ΔΗΜΑΚΗΣ ΝΙΚΟΛΑΣ",1984,"ΝΑΥΠΛΙΑΚΟΣ Ο.Α.","ΣΤ"]
[32210,"M","ΔΗΜΑΣ ΝΙΚΟΛΑΟΣ",1999,"Ο.Α.ΚΟΡΩΠΙΟΥ","Η"]
[25310,"M","ΔΗΜΗΤΡΑΚΟΠΟΥΛΟΣ ΑΝΑΣΤΑΣΙΟΣ",1997,"Ο.Α.ΠΕΙΡΑΙΑ","Θ"]
[11475,"M","ΔΗΜΗΤΡΑΚΟΠΟΥΛΟΣ ΦΩΤΙΟΣ",1984,"Γ.Σ.ΑΜΦΙΑΛΗΣ ΦΕΙΔΙΠΠΙΔΗΣ","Θ"]
[21723,"M","ΔΗΜΗΤΡΗ ΔΗΜΗΤΡΗΣ",1992,"Α.Σ.ΠΕΡΑ","ΙΑ"]
[19150,"F","ΔΗΜΗΤΡΙΑΔΗ ΧΡΙΣΤΙΝΑ-ΓΑΡΥΦΑΛΛΙΑ",1992,"Σ.Α.ΚΑΣΤΟΡΙΑΣ ΠΡΩΤΕΑΣ","Γ"]
[17490,"M","ΔΗΜΗΤΡΙΑΔΗΣ ΚΩΝΣΤΑΝΤΙΝΟΣ",1988,"Ν.Ο.ΘΕΣΣΑΛΟΝΙΚΗΣ","Β"]
[35534,"F","ΔΗΜΗΤΡΙΑΔΟΥ ΙΩΑΝΝΑ-ΜΑΡΙΑ",2002,"Α.Σ.ΑΚΑΔΗΜΙΕΣ ΠΡΩΤΑΘΛΗΤΩΝ ΠΕΥΚΩΝ","Β"]
[14340,"M","ΔΗΜΗΤΡΙΟΥ ΑΠΟΣΤΟΛΟΣ",1989,"Α.Ο.ΠΑΡΑΔΕΙΣΟΣ ΑΜΑΡΟΥΣΙΟΥ","Η"]
[30245,"F","ΔΗΜΗΤΡΙΟΥ ΜΑΡΙΑ",1999,"Α.Σ.ΑΚΑΔΗΜΙΕΣ ΠΡΩΤΑΘΛΗΤΩΝ ΠΕΥΚΩΝ","Β"]
[21900,"M","ΔΗΜΗΤΡΟΠΟΥΛΟΣ ΚΩΝΣΤΑΝΤΙΝΟΣ",1992,"Α.Ο.ΦΙΛΙΠΠΟΣ ΠΟΛΥΔΡΟΣΟΥ","Η"]
[22063,"M","ΔΗΜΗΤΡΟΥΛΗΣ ΑΘΑΝΑΣΙΟΣ",1994,"Σ.Α.ΣΕΡΡΩΝ","Α"]
[8546,"F","ΔΗΜΟΛΙΤΣΑ ΧΡΥΣΑΝΘΗ",1982,"Ο.Α.ΧΑΝΙΩΝ","Ζ"]
[27204,"M","ΔΗΜΟΠΟΥΛΟΣ ΚΩΝΣΤΑΝΤΙΝΟΣ",1993,"Ο.Α.ΛΕΣΒΟΥ","Θ"]
[13356,"F","ΔΗΜΟΠΟΥΛΟΥ ΑΙΚΑΤΕΡΙΝΗ",1987,"Ο.Α.ΑΘΗΝΩΝ","Η"]
[16727,"F","ΔΗΜΟΠΟΥΛΟΥ ΜΑΡΙΑ",1991,"Α.Ο.Α.ΑΙΓΑΛΕΩ 92","Θ"]
[25614,"F","ΔΗΜΟΥ ΕΥΘΥΜΙΑ",1999,"Σ.Α.ΔΡΑΜΑΣ","Α"]
[3967,"F","ΔΗΜΟΥΛΗ ΕΥΑΓΓΕΛΙΑ",1977,"Ο.Α.ΒΟΛΟΥ","Ε"]
[9725,"M","ΔΙΑΚΟΝΙΚΟΛΑΟΥ ΓΙΑΝΝΗΣ",1983,"Σ.Α.ΓΑΛΑΤΣΙΟΥ","Θ"]
[20781,"F","ΔΙΑΚΟΥΜΟΓΙΑΝΝΟΠΟΥΛΟΥ ΜΕΛΠΟΜΕΝΗ",1995,"ΑΙΟΛΟΣ Α.Λ.ΙΛΙΟΥ","Θ"]
[23015,"M","ΔΙΑΜΑΝΤΗ ΜΑΡΙΟΣ-ΑΛΕΞΑΝΔΡΟΣ",1996,"Ο.Α.ΓΟΥΔΙΟΥ","ΙΑ"]
[3651,"M","ΔΙΑΜΑΝΤΗΣ ΗΛΙΑΣ",1974,"Ο.Α.ΙΩΑΝΝΙΝΩΝ","Δ"]
[1475,"M","ΔΙΑΜΑΝΤΟΠΟΥΛΟΣ ΑΘΑΝΑΣΙΟΣ",1967,"Α.Ο.Α.ΦΙΛΟΘΕΗΣ","Η"]
[18736,"M","ΔΙΑΜΑΝΤΟΠΟΥΛΟΣ ΜΙΛΤΟΣ",1991,"Α.Γ.Σ.ΜΥΛΩΝ Ο ΛΕΡΝΟΣ","ΣΤ"]
[14100,"F","ΔΙΓΑΛΑΚΗ ΕΛΕΝΗ",1986,"Α.Σ.ΣΠΑΡΤΑΚΟΣ ΓΛΥΦΑΔΑΣ","ΙΑ"]
[10791,"F","ΔΙΟΛΑΤΖΗ ΚΟΥΖΙΝΙΑ",1982,"Α.Σ.Α.ΜΥΤΙΛΗΝΗΣ","Θ"]
[27773,"F","ΔΙΟΝΥΣΟΠΟΥΛΟΥ ΕΙΡΗΝΗ",1996,"Α.Σ.ΟΛΥΜΠΙΑΚΟΥ ΧΩΡΙΟΥ Ο ΦΟΙΒΟΣ","Θ"]
[36946,"M","ΔΟΓΟΡΙΤΗΣ ΑΘΑΝΑΣΙΟΣ",1999,"Α.Ο.Π.ΦΑΛΗΡΟΥ","ΙΑ"]
[4360,"M","ΔΟΛΗΣ ΕΥΑΓΓΕΛΟΣ",1971,"ΠΑΝΕΛΛΗΝΙΟΣ Γ.Σ.","Θ"]
[25753,"M","ΔΟΝΟΣ ΓΕΩΡΓΙΟΣ",1995,"Α.Γ.Ο.ΦΙΛΙΠΠΙΑΔΑΣ","Δ"]
[15242,"F","ΔΟΡΙΖΑ ΒΑΣΙΛΙΚΗ",1989,"Α.Κ.Α.ΜΑΡΑΘΩΝΑ","Η"]
[3118,"F","ΔΟΥΔΟΥ ΜΑΡΙΑ",1968,"Ο.Α.ΘΕΣΣΑΛΟΝΙΚΗΣ","Β"]
[14841,"M","ΔΟΥΚΑΡΗΣ ΝΙΚΟΛΑΟΣ",1984,"Ο.Α.ΛΕΣΒΟΥ","Θ"]
[5615,"F","ΔΟΥΛΓΕΡΑΚΗ ΤΖΕΣΙΚΑ",1980,"Α.Ο.Π.ΦΑΛΗΡΟΥ","ΙΑ"]
[22675,"F","ΔΟΥΛΙΓΕΡΗ ΕΛΕΝΗ-ΕΥΓΕΝΙΑ",1994,"ΝΑΥΠΛΙΑΚΟΣ Ο.Α.","ΣΤ"]
[31015,"M","ΔΟΥΜΟΥΛΙΑΤΟΣ ΛΕΩΝΙΔΑΣ",1996,"Α.Σ.Ν.ΒΟΥΤΖΑ ΡΑΦΗΝΑΣ Η ΠΡΟΟΔΟΣ","Η"]
[23841,"F","ΔΟΥΜΠΑ ΜΑΡΙΑ",1992,"Ε.Σ.Ο.ΕΠΙΚΟΥΡΟΣ ΠΟΛΙΧΝΗΣ","Β"]
[5222,"F","ΔΟΥΡΑΛΑ ΝΙΚΟΛ",1977,"Ν.Ο.ΘΕΣΣΑΛΟΝΙΚΗΣ","Β"]
[27860,"F","ΔΟΥΦΛΙΑ ΑΝΑΣΤΑΣΙΑ",1998,"Α.Σ.Α.ΜΑΥΡΟΧΩΡΙΟΥ ΚΑΣΤΟΡΙΑΣ","Γ"]
[11236,"F","ΔΡΑΓΑΣΗ ΚΑΤΕΡΙΝΑ",1986,"Α.Ο.ΑΡΓΥΡΟΥΠΟΛΗΣ","ΙΑ"]
[5000,"M","ΔΡΑΓΩΤΗΣ ΣΠΥΡΟΣ",1981,"Α.Ο.Π.ΦΑΛΗΡΟΥ","ΙΑ"]
[4670,"M","ΔΡΑΚΑΤΟΣ ΚΩΝΣΤΑΝΤΙΝΟΣ",1979,"ΚΕΦΑΛΛΗΝΙΑΚΟΣ Ο.Α.","ΣΤ"]
[32654,"M","ΔΡΑΚΟΠΟΥΛΟΣ ΠΕΤΡΟΣ-ΑΠΟΣΤΟΛΟΣ",2001,"Α.Ο.Α.ΗΛΙΟΥΠΟΛΗΣ","ΙΑ"]
[21209,"M","ΔΡΑΚΟΣ ΔΗΜΗΤΡΙΟΣ",1988,"Σ.Α.ΡΑΦΗΝΑΣ","Η"]
[24093,"F","ΔΡΑΜΑ ΣΟΦΙΑ",1973,"Σ.Α.ΚΑΣΤΟΡΙΑΣ ΠΡΩΤΕΑΣ","Γ"]
[1116,"M","ΔΡΕΤΑΚΗΣ ΙΩΑΝΝΗΣ",1968,"ΗΡΑΚΛΕΙΟ Ο.Α.& Α.","Ζ"]
[27082,"M","ΔΡΙΤΣΟΠΟΥΛΟΣ ΑΘΑΝΑΣΙΟΣ",1997,"Α.Ο.ΣΙΚΥΩΝΟΣ ΚΙΑΤΟΥ","ΣΤ"]
[21309,"M","ΔΡΟΣΙΝΗΣ ΓΕΩΡΓΙΟΣ",1976,"Α.Σ.ΚΑΡΠΕΝΗΣΙ ΤΕΝΙΣ ΚΛΑΜΠ","Ε"]
[13212,"F","ΔΡΟΣΟΥ ΚΥΡΙΑΚΗ",1984,"Ο.Α.ΚΩ","Θ"]
[18165,"F","ΔΡΟΥΜΠΛΗ ΔΑΦΝΗ",1992,"Γ.Α.Σ.ΝΙΓΡΙΤΑΣ ΒΙΣΑΛΤΗΣ","Α"]
[38320,"F","ΕΓΓΛΕΖΟΥ ΚΥΡΙΑΚΗ",2002,"Α.Ο.Α.ΧΑΪΔΑΡΙΟΥ","Θ"]
[27270,"M","ΕΛΕΥΘΕΡΑΚΗΣ ΠΑΝΑΓΙΩΤΗΣ-ΕΛΕΥΘΕΡΙΟΣ",1998,"Ο.Α.Ο ΦΙΛΑΘΛΟΣ","Η"]
[30077,"M","ΕΛΕΥΘΕΡΙΑΔΗΣ ΣΤΥΛΙΑΝΟΣ",1997,"Μ.Α.Σ.ΑΕΤΟΣ ΘΕΣΣΑΛΟΝΙΚΗΣ","Β"]
[22691,"F","ΕΛΕΥΘΕΡΙΟΥ ΕΛΕΝΗ",1991,"Α.Σ.Α.ΛΑΡΙΣΑΣ","Ε"]
[31727,"F","ΕΛΛΗΝΟΥΔΗ ΑΘΑΝΑΣΙΑ",1996,"ΑΚΑΔΗΜΙΑ ΑΝΤΙΣΦ.ΣΕΡΡΩΝ 2008","Α"]
[7554,"M","ΕΜΙΡΖΑΣ ΘΕΟΔΩΡΟΣ",1975,"Α.Ν.Ο.ΓΛΥΦΑΔΑΣ","ΙΑ"]
[8259,"M","ΕΜΜΑΝΟΥΗΛΙΔΗΣ ΑΛΕΞΑΝΔΡΟΣ",1981,"Σ.Α.ΣΕΡΡΩΝ","Α"]
[6731,"F","ΕΜΜΑΝΟΥΗΛΙΔΟΥ ΘΑΛΕΙΑ",1982,"Σ.Ο.Ι.Σ.ΝΕΑ ΠΝΟΗ","Α"]
[14781,"M","ΕΞΑΡΧΟΣ ΑΝΔΡΕΑΣ",1986,"ΦΘΙΩΤΙΚΟΣ Ο.Α.","Ε"]
[29672,"F","ΕΞΑΡΧΟΥ ΠΑΝΑΓΙΩΤΑ",2001,"Α.Γ.Ο.ΦΙΛΙΠΠΙΑΔΑΣ","Δ"]
[20672,"F","ΕΡΗΜΟΥ ΑΣΗΜΙΝΑ",1995,"Ο.Α.ΒΡΙΛΗΣΣΙΩΝ","Η"]
[31034,"F","ΕΥΑΓΓΕΛΑΤΟΥ ΕΙΡΗΝΗ-ΙΩΑΝΝΑ",2000,"Α.Σ.Ν.ΒΟΥΤΖΑ ΡΑΦΗΝΑΣ Η ΠΡΟΟΔΟΣ","Η"]
[33376,"M","ΕΥΑΓΓΕΛΟΠΟΥΛΟΣ ΧΑΡΑΛΑΜΠΟΣ",2001,"ΦΘΙΩΤΙΚΟΣ Ο.Α.","Ε"]
[9340,"M","ΕΥΑΓΓΕΛΟΥ ΦΩΤΙΟΣ",1981,"Α.Σ.Α.ΛΑΡΙΣΑΣ","Ε"]
[23304,"M","ΕΥΘΥΜΙΑΔΗΣ ΝΙΚΟΛΑΟΣ",1996,"Α.Ο.Α.ΑΙΓΑΛΕΩ 92","Θ"]
[7938,"M","ΕΥΘΥΜΙΟΥ ΓΕΩΡΓΙΟΣ",1981,"Α.Ο.ΒΑΡΗΣ ΑΝΑΓΥΡΟΥΣ","Η"]
[12192,"M","ΕΥΚΑΡΠΙΔΗΣ ΚΩΝΣΤΑΝΤΙΝΟΣ-ΕΥΑΓΓΕΛΟΣ",1985,"Ο.Α.ΠΑΝΟΡΑΜΑΤΟΣ","Β"]
[30625,"F","ΕΥΣΤΑΘΙΑΔΟΥ ΕΙΡΗΝΗ",1993,"Α.Ο.Α.ΠΡΩΤΑΘΛ.ΚΑΒΑΛΑΣ","Α"]
[32085,"M","ΕΥΣΤΑΘΙΟΥ ΠΑΡΑΣΚΕΥΑΣ",1996,"Ο.Α.ΑΓΙΑΣ ΠΑΡΑΣΚΕΥΗΣ","Η"]
[15480,"M","ΕΥΤΑΞΙΑΣ ΘΑΝΑΣΗΣ",1984,"Α.Ο.Α.ΦΙΛΟΘΕΗΣ","Η"]
[4859,"F","ΖΑΒΙΤΣΑΝΟΥ ΕΛΕΝΑ",1966,"Ο.Α.ΖΩΓΡΑΦΟΥ","Η"]
[28069,"F","ΖΑΓΚΛΑΤΑ ΝΙΚΟΛΕΤΑ",1994,"Α.Σ.Α.ΑΓΡΙΝΙΟΥ","Δ"]
[21436,"M","ΖΑΔΕΣ ΙΩΑΝΝΗΣ",1990,"Ο.Α.ΓΛΥΦΑΔΑΣ","ΙΑ"]
[3890,"M","ΖΑΚΚΑΣ ΝΙΚΟΛΑΟΣ",1975,"Α.Σ.ΠΕΡΑ","ΙΑ"]
[28895,"M","ΖΑΜΠΑΡΑΣ ΝΙΚΟΛΑΟΣ",1997,"Α.Ο.ΕΜΙΛΕΩΝ","Δ"]
[21901,"M","ΖΑΜΠΑΣ ΑΛΕΞΑΝΔΡΟΣ",1991,"Α.Ο.ΦΙΛΙΠΠΟΣ ΠΟΛΥΔΡΟΣΟΥ","Η"]
[3135,"M","ΖΑΜΠΡΑΣ ΔΗΜΗΤΡΗΣ",1971,"Α.Κ.ΖΩΓΡΑΦΟΥ","ΙΑ"]
[13712,"F","ΖΑΝΤΙΔΟΥ ΧΡΙΣΤΙΝΑ",1988,"Σ.Α.ΚΑΣΤΟΡΙΑΣ ΠΡΩΤΕΑΣ","Γ"]
[18388,"M","ΖΑΡΑΚΛΑΝΗΣ ΚΩΝΣΤΑΝΤΙΝΟΣ",1986,"Ο.Α.ΙΩΛΚΟΣ ΒΟΛΟΥ","Ε"]
[12211,"M","ΖΑΡΚΑΔΑΣ ΕΥΓΕΝΙΟΣ-ΣΤΑΜΑΤΗΣ",1984,"Ο.Α.ΙΩΑΝΝΙΝΩΝ","Δ"]
[30387,"M","ΖΑΡΟΥΧΑΣ ΔΗΜΗΤΡΗΣ",1997,"Ο.Α.ΩΡΑΙΟΚΑΣΤΡΟΥ Ο ΑΝΤΑΙΟΣ","Β"]
[2370,"F","ΖΑΦΕΙΡΗ ΧΡΙΣΤΙΝΑ",1969,"Α.Ο.Π.ΦΑΛΗΡΟΥ","ΙΑ"]
[1630,"F","ΖΑΦΕΙΡΙΟΥ ΕΥΤΥΧΙΑ",1972,"Ν.Ο.ΚΑΛΑΜΑΚΙΟΥ","ΙΑ"]
[30715,"F","ΖΑΦΕΙΡΟΠΟΥΛΟΥ ΣΤΑΥΡΟΥΛΑ",1999,"Σ.Α.ΤΡΙΠΟΛΗΣ","ΣΤ"]
[13498,"F","ΖΑΧΑΡΗ ΘΕΟΔΩΡΑ",1983,"Σ.Ο.Α.ΚΑΡΔΙΤΣΑΣ ΦΩΚΙΑΝΟΣ","Ε"]
[27286,"M","ΖΑΧΑΡΙΑΔΑΚΗΣ ΕΜΜΑΝΟΥΗΛ",1996,"Γ.Σ.ΛΙΒΥΚΟΣ ΙΕΡΑΠΕΤΡΑΣ","Ζ"]
[3684,"M","ΖΑΧΑΡΙΟΥ ΜΑΡΙΝΟΣ",1979,"Α.Ο.ΑΡΓΥΡΟΥΠΟΛΗΣ","ΙΑ"]
[16965,"M","ΖΑΧΑΡΟΠΟΥΛΟΣ ΝΙΚΟΛΑΟΣ",1983,"Γ.Σ.ΛΙΒΥΚΟΣ ΙΕΡΑΠΕΤΡΑΣ","Ζ"]
[7334,"F","ΖΑΧΕΙΛΑ ΧΡΙΣΤΙΝΑ",1968,"Ο.Α.ΤΡΙΚΑΛΩΝ","Ε"]
[9267,"F","ΖΓΕΡΑ ΧΡΙΣΤΙΝΑ",1986,"Σ.Α.ΣΕΡΡΩΝ","Α"]
[34863,"F","ΖΕΚΑ ΘΕΟΔΟΥΛΗ",2001,"Ο.Α.ΣΟΥΡΩΤΗΣ ΑΛΕΞΑΝΔΡΟΣ","Β"]
[22703,"F","ΖΕΡΒΑ ΑΙΚΑΤΕΡΙΝΗ",1978,"Γ.Ο.ΠΕΡΙΣΤΕΡΙΟΥ Γ.ΠΑΛΑΣΚΑΣ","Θ"]
[28910,"M","ΖΕΡΒΑΚΟΣ ΝΙΚΟΛΑΟΣ",1980,"Σ.Α.ΜΕΣΣΗΝΗΣ","ΣΤ"]
[6930,"F","ΖΕΡΒΟΠΟΥΛΟΥ ΔΗΜΗΤΡΑ",1985,"ΝΑΥΠΛΙΑΚΟΣ Ο.Α.","ΣΤ"]
[23788,"F","ΖΕΡΒΟΥ ΕΥΑΓΓΕΛΙΑ",1998,"Ο.Α.ΚΕΡΑΤΣΙΝΙΟΥ","Θ"]
[8574,"F","ΖΕΡΜΑ ΑΝΑΣΤΑΣΙΑ",1968,"Φ.Σ.ΚΑΛΛΙΘΕΑΣ","Θ"]
[25206,"M","ΖΗΚΟΠΟΥΛΟΣ ΑΛΕΞΑΝΔΡΟΣ",1997,"Ο.Α.ΙΩΑΝΝΙΝΩΝ","Δ"]
[30595,"F","ΖΗΚΟΥ ΠΟΛΥΞΕΝΗ",2000,"Α.Ν.Ο.ΓΛΥΦΑΔΑΣ","ΙΑ"]
[15057,"F","ΖΗΡΟΥ ΒΑΝΕΣΣΑ",1981,"Γ.Ο.ΠΕΡΙΣΤΕΡΙΟΥ Γ.ΠΑΛΑΣΚΑΣ","Θ"]
[5918,"M","ΖΗΣΙΜΑΤΟΣ ΕΜΜΑΝΟΥΗΛ",1975,"Ο.Α.ΧΟΛΑΡΓΟΥ","ΙΑ"]
[2357,"F","ΖΗΣΟΠΟΥΛΟΥ ΑΛΙΚΗ",1976,"Σ.Α.ΣΕΡΡΩΝ","Α"]
[9799,"M","ΖΗΤΟΧΝΗΣ ΜΕΛΕΤΗΣ",1985,"Ο.Α.ΒΟΥΛΙΑΓΜΕΝΗΣ ΜΙΚΡΟΙ ΑΣΣΟΙ","ΙΑ"]
[33208,"F","ΖΙΩΓΑ ΑΝΔΡΟΜΑΧΗ",2001,"Ο.Α.ΙΩΑΝΝΙΝΩΝ","Δ"]
[4605,"M","ΖΙΩΓΑΣ ΝΙΚΟΣ",1977,"Ο.Α.ΧΑΛΚΙΔΑΣ","Θ"]
[28840,"M","ΖΙΩΡΗΣ ΕΛΕΥΘΕΡΙΟΣ",1997,"Α.Ο.ΑΜΥΝΤΑΣ ΥΜΗΤΤΟΥ","ΙΑ"]
[36609,"M","ΖΟΛΩΤΑΣ ΣΠΥΡΙΔΩΝ",1966,"Α.Ο.ΤΑΤΟΪΟΥ","Η"]
[27805,"M","ΖΟΡΠΙΔΗΣ ΝΙΚΟΛΑΟΣ",1998,"Ο.Α.ΚΑΣΤΟΡΙΑΣ ΚΕΛΕΤΡΟΝ","Γ"]
[16463,"F","ΖΟΥΛΑ ΧΡΥΣΙΔΑ",1989,"ΚΕΡΚΥΡΑΪΚΗ Λ.Τ.","Δ"]
[23626,"M","ΖΟΥΜΠΑΤΟΠΟΥΛΟΣ ΓΙΩΡΓΟΣ",1994,"Γ.Σ.ΛΙΒΥΚΟΣ ΙΕΡΑΠΕΤΡΑΣ","Ζ"]
[35153,"M","ΖΟΥΜΠΟΥΝΕΛΗΣ ΣΤΕΛΙΟΣ-ΝΙΚΗΦΟΡΟΣ",2001,"Α.Ο.Α.ΗΛΙΟΥΠΟΛΗΣ","ΙΑ"]
[27018,"M","ΖΟΥΡΑΣ ΘΕΟΔΩΡΟΣ",1999,"Α.Σ.ΠΕΡΑ","ΙΑ"]
[33850,"M","ΖΟΥΡΟΣ ΜΙΧΑΛΗΣ",1999,"Α.Κ.Α.ΜΑΡΑΘΩΝΑ","Η"]
[27468,"F","ΖΥΓΟΥΡΗ ΜΑΓΔΑΛΗΝΗ",1999,"Α.Ο.ΒΑΡΗΣ ΑΝΑΓΥΡΟΥΣ","Η"]
[28175,"M","ΖΩΓΡΑΦΑΚΗΣ ΝΙΚΟΣ",1997,"Ο.Α.ΣΗΤΕΙΑΣ","Ζ"]
[21492,"M","ΖΩΖΙΟΣ ΓΙΑΝΝΗΣ",1992,"Ο.Α.ΣΤΑΥΡΟΥ ΑΣΠΡΟΒΑΛΤΑΣ","Β"]
[25550,"M","ΖΩΖΙΟΣ ΧΡΗΣΤΟΣ",1997,"Ο.Α.ΣΤΑΥΡΟΥ ΑΣΠΡΟΒΑΛΤΑΣ","Β"]
[24298,"F","ΖΩΙΤΣΑ ΒΑΡΒΑΡΑ",1993,"Σ.Α.ΓΑΛΑΤΣΙΟΥ","Θ"]
[6391,"F","ΖΩΤΟΥ ΙΣΜΗΝΗ",1978,"ΠΑΝΘΡΑΚΙΚΟΣ Ο.Α.ΚΟΜΟΤΗΝΗΣ","Α"]
[9091,"M","ΗΛΙΑΔΗΣ ΑΝΤΩΝΙΟΣ",1985,"Ο.Α.ΣΟΥΔΑΣ","Ζ"]
[7569,"F","ΗΛΙΑΔΟΥ ΑΛΕΞΑΝΔΡΑ",1975,"Α.Μ.Σ.ΠΑΝΟΡΑΜΑΤΟΣ","Β"]
[36187,"F","ΗΛΙΑΝΑ ΓΙΑΚΟΥΜΕΛΟΥ",2001,"Ο.Α.ΑΓΙΑΣ ΠΑΡΑΣΚΕΥΗΣ","Η"]
[28022,"M","ΗΛΙΟΠΟΥΛΟΣ ΗΛΙΑΣ",1993,"ΦΙΛΑΘΛ.ΟΜΙΛΟΣ ΠΥΡΓΟΥ","ΣΤ"]
[31897,"F","ΗΛΙΟΠΟΥΛΟΥ ΜΑΡΙΑ",1999,"ΡΗΓΑΣ Α.Ο.Α.ΑΡΓΟΛΙΔΑΣ","ΣΤ"]
[1640,"M","ΘΑΛΑΣΣΙΝΟΣ ΑΘΑΝΑΣΙΟΣ",1969,"Α.Ψ.Λ.ΜΕΔΕΩΝ","Ε"]
[3296,"M","ΘΑΝΑΣΟΥΛΙΑΣ ΙΩΑΝΝΗΣ",1975,"Ο.Α.ΑΙΓΙΟΥ","ΣΤ"]
[11399,"M","ΘΑΝΟΣ ΑΡΙΣΤΕΙΔΗΣ",1984,"Α.Σ.Α.ΛΑΡΙΣΑΣ","Ε"]
[8471,"F","ΘΕΜΕΛΗ ΜΑΡΙΑ",1982,"Ο.Α.ΞΥΛΟΚΑΣΤΡΟΥ ΣΥΘΑΣ","ΣΤ"]
[17793,"M","ΘΕΟΔΟΣΙΑΔΗΣ ΝΙΚΟΛΑΟΣ",1988,"Γ.Σ.ΕΛΕΥΘΕΡΙΟΥ ΚΟΡΔ.ΑΡΓΟΝΑΥΤΕΣ","Β"]
[17243,"M","ΘΕΟΔΟΤΟΣ ΑΛΕΞΑΝΔΡΟΣ",1989,"Ο.Α.ΚΕΡΚΥΡΑΣ","Δ"]
[25623,"M","ΘΕΟΔΩΡΑΚΗΣ ΧΡΙΣΤΟΦΟΡΟΣ",1998,"ΗΡΑΚΛΕΙΟ Ο.Α.& Α.","Ζ"]
[20829,"M","ΘΕΟΔΩΡΙΔΗΣ ΒΑΣΙΛΕΙΟΣ",1992,"Φ.Ο.Α.ΝΕΑΠΟΛΗΣ","Β"]
[14932,"M","ΘΕΟΔΩΡΙΔΗΣ ΝΕΣΤΩΡΑΣ",1988,"Σ.Α.ΣΕΡΡΩΝ","Α"]
[2174,"F","ΘΕΟΔΩΡΙΔΟΥ ΠΑΥΛΙΝΑ",1968,"Σ.Α.ΣΕΡΡΩΝ","Α"]
[8758,"F","ΘΕΟΔΩΡΟΠΟΥΛΟΥ ΔΕΣΠΟΙΝΑ",1978,"Ο.Α.ΠΑΝΟΡΑΜΑΤΟΣ","Β"]
[27977,"F","ΘΕΟΔΩΡΟΠΟΥΛΟΥ ΧΡΥΣΟΥΛΑ-ΠΑΡΑΣΚΕΥΗ",1997,"Ο.Α.ΣΟΦΑΔΩΝ & ΚΑΡΔΙΤΣΑΣ ΟΛΥΜΠΙΑΔΑ","Ε"]
[14712,"M","ΘΕΟΔΩΡΟΥ ΛΕΩΝΙΔΑΣ",1989,"Ο.Α.ΒΟΛΟΥ","Ε"]
[6571,"M","ΘΕΟΛΟΓΙΔΗΣ ΠΕΡΙΚΛΗΣ",1984,"Σ.Α.ΣΕΡΡΩΝ","Α"]
[13692,"M","ΘΕΟΦΑΝΙΔΗΣ ΑΧΙΛΛΕΑΣ",1984,"Ο.Α.ΓΛΥΦΑΔΑΣ","ΙΑ"]
[24057,"M","ΘΕΟΦΙΛΟΠΟΥΛΟΣ ΝΙΚΟΛΑΟΣ",1992,"Α.Κ.Α.Α.ΠΑΝΤΑΛΚΗΣ","Θ"]
[19792,"F","ΘΕΟΧΑΡΗ ΚΥΡΙΑΚΗ",1992,"Α.Ο.Ν.ΣΜΥΡΝΗΣ Ο ΜΙΛΩΝ","ΙΑ"]
[15782,"F","ΘΕΟΧΑΡΙΔΟΥ ΓΑΡΥΦΑΛΛΙΑ-ΕΙΡΗΝΗ",1990,"Σ.Α.ΣΕΡΡΩΝ","Α"]
[8469,"M","ΘΗΡΑΙΟΣ ΙΑΚΩΒΟΣ",1982,"Ο.Α.ΣΑΛΑΜΙΝΑΣ","Θ"]
[23012,"M","ΘΩΜΑΔΑΚΗΣ ΕΥΣΤΡΑΤΙΟΣ",1998,"Ο.Α.ΣΟΥΡΩΤΗΣ ΑΛΕΞΑΝΔΡΟΣ","Β"]
[11868,"M","ΘΩΜΑΣ ΣΕΒΑΣΤΙΑΝΟΣ",1982,"Α.Ο.Α.ΠΑΠΑΓΟΥ","ΙΑ"]
[30249,"F","ΙΑΚΩΒΑΚΗ ΒΑΣΙΛΙΚΗ",1998,"Α.Σ.ΑΚΑΔΗΜΙΕΣ ΠΡΩΤΑΘΛΗΤΩΝ ΠΕΥΚΩΝ","Β"]
[18175,"F","ΙΑΤΡΙΔΗ ΕΛΕΝΗ",1992,"Α.Ε.ΠΟΡΤΟ ΡΑΦΤΗ","Η"]
[2486,"F","ΙΓΓΛΕΣΗ ΔΑΦΝΗ",1974,"Α.Ο.Α.ΠΑΤΡΩΝ","ΣΤ"]
[957,"F","ΙΕΡΩΝΥΜΙΔΟΥ ΜΑΡΓΑΡΙΤΑ",1966,"ΗΡΑΚΛΕΙΟ Ο.Α.& Α.","Ζ"]
[10731,"F","ΙΝΤΖΙΚΙΩΤΗ ΑΣΗΜΙΝΑ",1985,"Ο.Π.ΘΕΣΣΑΛΟΝΙΚΗΣ ΜΑΚΕΔΟΝΙΑ 92","Β"]
[21395,"F","ΙΟΡΔΑΝΙΔΟΥ ΔΗΜΗΤΡΑ",1979,"Ο.Α.ΚΟΥΦΑΛΙΩΝ ΘΕΣΣΑΛΟΝΙΚΗΣ","Β"]
[24535,"M","ΙΤΣΙΝΕΣ ΑΛΕΞΑΝΔΡΟΣ",1997,"Ο.Α.ΚΩ","Θ"]
[33384,"F","ΙΩΑΚΕΙΜΙΔΟΥ ΑΘΗΝΑ",2002,"Α.Ο.Α.ΚΑΒΑΛΑΣ","Α"]
[15024,"F","ΙΩΑΝΝΙΔΗ ΕΥΑΓΓΕΛΙΑ",1987,"Ο.Α.ΝΙΚΑΙΑ ΛΑΡΙΣΑΣ","Ε"]
[33042,"M","ΙΩΑΝΝΙΔΗΣ ΘΕΟΔΩΡΟΣ",2000,"Ν.Ο.Ν.Α.Μ","Γ"]
[11200,"M","ΙΩΑΝΝΙΔΗΣ ΙΩΑΝΝΗΣ",1987,"Ε.Σ.Ο.ΕΠΙΚΟΥΡΟΣ ΠΟΛΙΧΝΗΣ","Β"]
[18400,"M","ΙΩΑΝΝΙΔΗΣ ΣΤΑΥΡΟΣ",1992,"Α.Ο.Α.ΗΛΙΟΥΠΟΛΗΣ","ΙΑ"]
[34203,"F","ΙΩΑΝΝΙΔΟΥ ΣΟΦΙΑ",1997,"ΛΕΣΧΗ ΠΟΛΙΤΙΣΜΟΥ ΦΛΩΡΙΝΑΣ","Γ"]
[23317,"F","ΙΩΑΝΝΟΥ ΕΙΡΗΝΗ",1980,"Σ.Α.ΤΡΙΠΟΛΗΣ","ΣΤ"]
[36777,"M","ΙΩΑΝΝΟΥ ΜΑΡΚΟΣ",2000,"Α.Ο.Α.ΗΛΙΟΥΠΟΛΗΣ","ΙΑ"]
[25282,"F","ΙΩΣΗΦΙΔΗ ΑΛΙΚΗ",1995,"Α.Ε.ΠΟΡΤΟ ΡΑΦΤΗ","Η"]
[36727,"M","ΙΩΣΗΦΙΔΗΣ ΧΡΗΣΤΟΣ-ΘΕΟΛΟΓΟΣ",2002,"Ο.Α.ΧΑΛΚΙΔΑΣ","Θ"]
[2169,"F","ΚΑΒΑΚΙΔΟΥ ΔΟΜΝΑ",1968,"Σ.Α.ΣΕΡΡΩΝ","Α"]
[26840,"M","ΚΑΒΑΞΗΣ ΙΜΠΡΑΗΛ",1999,"Ο.Α.ΚΩ","Θ"]
[16823,"M","ΚΑΒΒΑΔΙΑΣ ΓΕΡΑΣΙΜΟΣ",1993,"Ο.Α.ΠΕΤΡΟΥΠΟΛΗΣ","Θ"]
[16937,"F","ΚΑΒΟΥΡΑ ΔΗΜΗΤΡΑ-ΝΙΚΗ",1990,"Α.Σ.Α.ΛΑΡΙΣΑΣ","Ε"]
[34127,"F","ΚΑΒΟΥΣΑΝΟΥ ΜΑΡΙΛΕΝΑ",1998,"Α.Ο.ΛΑΤΩ ΑΓ.ΝΙΚΟΛΑΟΥ","Ζ"]
[29140,"F","ΚΑΓΙΑΣΗ ΑΝΑΣΤΑΣΙΑ",2001,"Ο.Α.ΠΕΙΡΑΙΑ","Θ"]
[29805,"F","ΚΑΖΑΚΗ ΣΤΥΛΙΑΝΗ",1997,"Ν.Ο.ΘΕΣΣΑΛΟΝΙΚΗΣ","Β"]
[11411,"F","ΚΑΖΑΚΟΥ ΚΩΝΣΤΑΝΤΙΝΑ",1984,"Α.Ε.Κ.ΤΡΙΠΟΛΗΣ","ΣΤ"]
[19728,"M","ΚΑΖΑΝΗΣ ΑΡΣΕΝΙΟΣ",1994,"ΑΙΟΛΟΣ Α.Λ.ΙΛΙΟΥ","Θ"]
[25061,"F","ΚΑΖΑΝΤΖΙΔΟΥ ΑΝΑΣΤΑΣΙΑ",1995,"Σ.Α.ΚΑΤΕΡΙΝΗΣ","Γ"]
[30933,"M","ΚΑΖΙΑΝΗΣ ΙΩΑΝΝΗΣ",1997,"Α.Ο.ΜΕΓΑΣ ΑΛΕΞΑΝΔΡΟΣ","ΙΑ"]
[30682,"F","ΚΑΪΑΦΑ ΕΛΕΝΑ",2001,"Ο.Α.ΠΕΙΡΑΙΑ","Θ"]
[7901,"M","ΚΑΙΝΟΥΡΓΙΟΣ ΚΩΝΣΤΑΝΤΙΝΟΣ",1975,"Α.Γ.Ο.ΘΕΣΠΡΩΤΙΚΟΥ","Δ"]
[3882,"M","ΚΑΙΣΑΡΗΣ ΑΝΤΩΝΗΣ",1975,"Α.Ο.Α.ΠΑΤΡΩΝ","ΣΤ"]
[8371,"M","ΚΑΪΤΑΤΖΗΣ ΝΙΚΟΛΑΟΣ",1984,"Ο.Α.ΚΑΒΑΛΑΣ ΑΛΕΞΑΝΔΡΟΣ","Α"]
[33502,"F","ΚΑΚΑΚΗ ΚΟΜΗΣΑ-ΣΤΑΥΡΟΥΛΑ",2000,"ΡΟΔΙΑΚΟΣ Ο.Α.","Θ"]
[33364,"M","ΚΑΚΑΡΗΣ ΓΕΩΡΓΙΟΣ",1998,"Ο.Α.ΙΩΑΝΝΙΝΩΝ","Δ"]
[10670,"M","ΚΑΚΚΑΒΗΣ ΝΙΚΟΛΑΟΣ",1987,"Ο.Α.ΙΩΛΚΟΣ ΒΟΛΟΥ","Ε"]
[26029,"F","ΚΑΚΟΪΜΑΜΗ ΔΑΝΑΗ",1993,"Α.Ν.Σ.ΕΛΛΗΝΙΚΙΩΤΩΝ","ΙΑ"]
[33357,"M","ΚΑΚΟΥΛΙΑΔΗΣ ΓΙΩΡΓΟΣ",1998,"Ο.Α.ΞΑΝΘΗΣ","Α"]
[27219,"M","ΚΑΛΑΓΑΝΗΣ ΓΕΩΡΓΙΟΣ",1998,"Ο.Α.ΘΕΣΠΡΩΤΙΑΣ ΤΙΤΑΝΗ","Δ"]
[12232,"M","ΚΑΛΑΪΤΖΑΚΗΣ ΓΙΑΝΝΗΣ",1986,"ΗΡΑΚΛΕΙΟ Ο.Α.& Α.","Ζ"]
[25621,"F","ΚΑΛΑΪΤΖΙΔΗ ΜΑΡΙΑ",1997,"Ο.Α.ΑΝΑΦΛΥΣΤΟΣ ΣΑΡΩΝΙΔΑΣ","Η"]
[26025,"M","ΚΑΛΑΪΤΖΟΓΛΟΥ ΙΩΑΝΝΗΣ",1996,"Π.Σ.ΑΜΠΕΛΩΝΟΣ Ο ΦΙΛΙΠΠΙΔΗΣ","Ε"]
[20682,"M","ΚΑΛΑΜΑΡΑΣ ΑΘΑΝΑΣΙΟΣ-ΒΑΣΙΛΕΙΟΣ",1988,"Ο.Α.ΚΟΡΙΝΘΟΥ","ΣΤ"]
[14875,"F","ΚΑΛΑΜΠΑΛΙΚΗ ΜΑΡΙΑ",1989,"Α.Ψ.Λ.ΑΓ.ΓΕΩΡΓΙΟΥ Ο ΗΣΙΟΔΟΣ","Ε"]
[28379,"M","ΚΑΛΑΜΩΤΟΥΣΑΚΗΣ ΑΛΕΞΑΝΔΡΟΣ-ΝΙΚΟΛΑΟΣ",2000,"Α.Ο.Α.ΦΙΛΟΘΕΗΣ","Η"]
[33324,"M","ΚΑΛΑΝΤΖΗΣ ΝΙΚΟΛΑΟΣ",2002,"Ο.Α.ΘΕΣΠΡΩΤΙΑΣ ΤΙΤΑΝΗ","Δ"]
[9685,"F","ΚΑΛΑΤΖΗ ΕΥΔΟΚΙΑ",1973,"Σ.Ο.Α.ΚΑΡΔΙΤΣΑΣ ΦΩΚΙΑΝΟΣ","Ε"]
[4938,"M","ΚΑΛΑΦΑΤΗΣ ΔΙΟΝΥΣΗΣ",1978,"ΚΕΦΑΛΛΗΝΙΑΚΟΣ Ο.Α.","ΣΤ"]
[9716,"M","ΚΑΛΔΙΡΙΜΤΖΗΣ ΦΩΤΙΟΣ",1978,"Λ.Α.ΚΟΜΟΤΗΝΗΣ","Α"]
[20500,"M","ΚΑΛΗΜΕΡΗΣ ΓΕΩΡΓΙΟΣ",1991,"Γ.Σ.ΕΛΕΥΘΕΡΙΟΥ ΚΟΡΔ.ΑΡΓΟΝΑΥΤΕΣ","Β"]
[24771,"M","ΚΑΛΗΜΕΡΗΣ ΓΕΩΡΓΙΟΣ",1998,"ΖΑΚΥΝΘΙΝΟΣ Α.Ο.","ΣΤ"]
[8316,"M","ΚΑΛΙΤΣΗΣ ΗΛΙΑΣ",1982,"Ο.Α.ΑΘΗΝΩΝ","Η"]
[31471,"M","ΚΑΛΛΑΝΤΖΗΣ ΑΝΤΩΝΗΣ",2001,"Ο.Α.ΞΑΝΘΗΣ","Α"]
[10142,"F","ΚΑΛΛΙΑΝΙΩΤΗ ΒΑΣΙΛΙΚΗ",1984,"Α.Ο.Π.ΦΑΛΗΡΟΥ","ΙΑ"]
[9730,"M","ΚΑΛΛΙΚΑΚΗΣ ΣΤΕΦΑΝΟΣ",1980,"Σ.Α.ΓΑΛΑΤΣΙΟΥ","Θ"]
[11719,"M","ΚΑΛΛΙΠΟΛΙΤΗΣ ΣΤΥΛΙΑΝΟΣ",1984,"Α.Α.ΚΕΡΚΥΡΑΣ","Δ"]
[36748,"F","ΚΑΛΛΙΩΡΑ ΑΓΓΕΛΙΚΗ",1984,"Ο.Α.ΠΕΙΡΑΙΑ","Θ"]
[30864,"F","ΚΑΛΟΓΕΡΑ ΜΑΡΙΑ",1997,"Γ.Ο.ΠΕΡΙΣΤΕΡΙΟΥ Γ.ΠΑΛΑΣΚΑΣ","Θ"]
[19267,"M","ΚΑΛΟΓΕΡΑΚΗΣ ΝΙΚΟΛΑΟΣ",1993,"ΦΙΛΙΑ Τ.Κ.","Ζ"]
[29042,"M","ΚΑΛΟΓΕΡΟΠΟΥΛΟΣ ΘΕΟΔΩΡΟΣ",2000,"Σ.Α.ΡΑΦΗΝΑΣ","Η"]
[4943,"M","ΚΑΛΟΓΗΡΑΤΟΣ ΑΝΑΣΤΑΣΙΟΣ",1981,"ΚΕΦΑΛΛΗΝΙΑΚΟΣ Ο.Α.","ΣΤ"]
[13169,"F","ΚΑΛΟΓΙΑΝΝΗ ΑΙΚΑΤΕΡΙΝΗ",1986,"Α.Ο.ΒΑΡΗΣ ΑΝΑΓΥΡΟΥΣ","Η"]
[34679,"F","ΚΑΛΟΓΡΑ ΒΑΣΙΛΙΚΗ",2002,"Σ.Α.ΣΕΡΡΩΝ","Α"]
[34284,"F","ΚΑΛΟΚΥΡΗ ΜΑΡΙΑ",2002,"Α.Ο.ΜΕΓΑΣ ΑΛΕΞΑΝΔΡΟΣ","ΙΑ"]
[7634,"M","ΚΑΛΟΠΙΣΗΣ ΧΡΥΣΟΣΤΟΜΟΣ",1983,"Α.Ο.Α./Χ.ΤΡΙΠΟΛΗΣ","ΣΤ"]
[32007,"F","ΚΑΛΟΥΜΕΝΟΥ ΜΑΡΙΑ-ΘΗΡΕΣΙΑ",1999,"Α.Ο.Α.ΗΛΙΟΥΠΟΛΗΣ","ΙΑ"]
[7746,"M","ΚΑΛΟΦΩΝΟΣ ΓΕΩΡΓΙΟΣ",1980,"Α.Ο.Α.ΗΛΙΟΥΠΟΛΗΣ","ΙΑ"]
[26193,"M","ΚΑΛΠΑΚΙΔΗΣ ΣΤΑΥΡΟΣ",1997,"Γ.Ο.ΠΕΡΙΣΤΕΡΙΟΥ Γ.ΠΑΛΑΣΚΑΣ","Θ"]
[9803,"M","ΚΑΛΤΗΣ ΑΠΟΣΤΟΛΟΣ",1980,"Α.Ο.Α.ΠΑΠΑΓΟΥ","ΙΑ"]
[24206,"M","ΚΑΛΤΣΙΔΗΣ ΒΑΣΙΛΕΙΟΣ",1994,"Ε.Φ.Τ.ΑΙΟΛΙΚΗ","Β"]
[1825,"M","ΚΑΛΥΒΑΣ ΣΤΥΛΙΑΝΟΣ",1973,"Ο.Α.ΑΘΗΝΩΝ","Η"]
[19681,"F","ΚΑΛΦΑΝΤΗ ΜΕΛΙΝΑ-ΑΙΚΑΤΕΡΙΝΗ",1993,"Α.Ο.ΚΑΛΛΙΤΕΧΝΟΥΠΟΛΗΣ","Η"]
[8070,"F","ΚΑΜΑΓΙΑΝΝΗ ΔΡΟΣΙΑ",1980,"Ο.Α.ΚΑΤΕΡΙΝΗΣ","Γ"]
[14543,"M","ΚΑΜΒΑΣ ΣΤΕΛΙΟΣ",1987,"Α.Ν.Ο.ΓΛΥΦΑΔΑΣ","ΙΑ"]
[25704,"F","ΚΑΜΠΑ ΙΩΣΗΦΙΝΑ",1995,"Ο.Α.ΛΕΣΒΟΥ","Θ"]
[11653,"F","ΚΑΜΠΑΝΟΥ ΜΑΡΙΑ-ΕΛΕΝΗ",1986,"Α.Ο.ΒΑΡΗΣ ΑΝΑΓΥΡΟΥΣ","Η"]
[30326,"M","ΚΑΜΠΕΡΗΣ ΙΩΑΝΝΗΣ",2000,"Α.Σ.Α.ΠΑΜΒΩΤΙΣ ΙΩΑΝΝΙΝΩΝ","Δ"]
[28404,"F","ΚΑΜΠΙΩΤΗ ΑΘΗΝΑ",2000,"ΖΑΚΥΝΘΙΝΟΣ Α.Ο.Α","ΣΤ"]
[13980,"F","ΚΑΜΠΟΥΡΗ ΤΑΞΙΑ",1979,"Α.Α.ΑΛΜΠΑΤΡΟΣ","Β"]
[27707,"F","ΚΑΜΠΡΟΓΙΑΝΝΗ ΧΡΙΣΤΙΑΝΑ",1995,"Α.Ν.Ο.ΓΛΥΦΑΔΑΣ","ΙΑ"]
[35336,"F","ΚΑΝΑΓΙΑΝ ΓΚΑΝΝΑ",1997,"Α.Ο.Α.ΑΙΓΑΛΕΩ 92","Θ"]
[36836,"M","ΚΑΝΑΚΗΣ ΓΙΩΡΓΟΣ",1998,"Γ.Α.Σ ΓΟΥΡΝΩΝ","Ζ"]
[28005,"M","ΚΑΝΑΤΑΣ ΣΩΤΗΡΗΣ",2002,"Γ.Σ.ΙΤΕΑΣ","Ε"]
[31867,"F","ΚΑΝΕΛΛΑΚΗ ΧΡΥΣΟΥΛΑ",2002,"Α.Ε.Κ.ΤΡΙΠΟΛΗΣ","ΣΤ"]
[38720,"M","ΚΑΝΕΛΛΙΔΗΣ ΙΩΑΝΝΗΣ",1967,"ΦΙΛΑΘΛΗΤΙΚΟΣ Γ.Σ.ΣΠΑΡΤΗΣ","ΣΤ"]
[15289,"M","ΚΑΝΕΛΛΟΠΟΥΛΟΣ ΠΕΡΙΚΛΗΣ",1990,"ΦΘΙΩΤΙΚΟΣ Ο.Α.","Ε"]
[9848,"M","ΚΑΝΕΛΛΟΣ ΧΡΗΣΤΟΣ",1980,"Ο.Α.ΑΡΓΟΥΣ","ΣΤ"]
[17314,"M","ΚΑΝΟΥΣΗΣ ΠΑΝΑΓΙΩΤΗΣ",1990,"ΝΑΥΠΛΙΑΚΟΣ Ο.Α.","ΣΤ"]
[11133,"M","ΚΑΝΤΑΣ ΒΑΣΙΛΕΙΟΣ",1966,"Ο.Α.ΛΙΒΑΔΕΙΑΣ","Ε"]
[27742,"M","ΚΑΝΤΑΣ ΧΑΡΑΛΑΜΠΟΣ",1966,"Α.Ο.Α.ΝΕΑΣ ΠΕΡΑΜΟΥ ΟΙ ΤΙΤΑΝΕΣ","Α"]
[16882,"F","ΚΑΟΥΣΤΟΥ ΕΜΜΑΝΟΥΕΛΑ",1988,"Α.Κ.Α.Α.ΠΑΝΤΑΛΚΗΣ","Θ"]
[17466,"M","ΚΑΠΑΝΤΑΗΣ ΚΩΝΣΤΑΝΤΙΝΟΣ",1990,"Α.Ε.Κ.ΤΡΙΠΟΛΗΣ","ΣΤ"]
[23021,"F","ΚΑΠΕΛΛΑ ΑΛΙΚΗ",1997,"Α.Ο.Α.ΗΛΙΟΥΠΟΛΗΣ","ΙΑ"]
[30449,"F","ΚΑΠΕΤΑΝΑΚΗ ΕΛΕΝΗ",2001,"ΗΡΑΚΛΕΙΟ Ο.Α.& Α.","Ζ"]
[21773,"F","ΚΑΠΕΤΑΝΟΥ ΜΑΡΙΑ",1992,"Α.Γ.Σ.ΜΥΛΩΝ Ο ΛΕΡΝΟΣ","ΣΤ"]
[32395,"F","ΚΑΠΛΑΝΗ ΓΕΩΡΓΙΑ",2001,"Α.Ο.Α.ΝΕΑΣ ΠΕΡΑΜΟΥ ΟΙ ΤΙΤΑΝΕΣ","Α"]
[19026,"F","ΚΑΠΟΓΙΑΝΝΗ ΕΙΡΗΝΗ",1988,"Α.Ο.Α.ΦΙΛΟΘΕΗΣ","Η"]
[2422,"M","ΚΑΠΟΤΑΡΑΝΗΣ ΙΩΑΝΝΗΣ",1975,"Ο.Α.ΚΑΒΑΛΑΣ ΑΛΕΞΑΝΔΡΟΣ","Α"]
[4663,"M","ΚΑΠΠΑΤΟΣ ΔΙΟΝΥΣΗΣ",1969,"ΚΕΦΑΛΛΗΝΙΑΚΟΣ Ο.Α.","ΣΤ"]
[7500,"M","ΚΑΠΡΙΔΗΣ ΠΛΑΤΩΝ",1980,"Α.Σ.ΣΠΑΡΤΑΚΟΣ ΓΛΥΦΑΔΑΣ","ΙΑ"]
[6766,"F","ΚΑΡΑΒΑΣΙΛΗ ΣΤΑΜΑΤΙΝΑ",1980,"Α.Ε.Κ.ΤΡΙΠΟΛΗΣ","ΣΤ"]
[36409,"M","ΚΑΡΑΒΕΛΑΚΗΣ ΒΑΣΙΛΗΣ",2001,"Α.Π.Μ.Σ.ΑΣΚΗΣΗ ΗΡΑΚΛΕΙΟΥ","Ζ"]
[32303,"M","ΚΑΡΑΓΕΩΡΓΑΣ ΑΣΗΜΑΚΗΣ",2001,"Α.Ο.Α.ΗΛΙΟΥΠΟΛΗΣ","ΙΑ"]
[32437,"F","ΚΑΡΑΓΕΩΡΓΟΠΟΥΛΟΥ ΕΛΕΝΗ",2002,"Ο.Α.ΑΙΓΙΑΛΕΙΑΣ","ΣΤ"]
[9093,"M","ΚΑΡΑΓΙΑΝΝΑΚΗΣ ΔΗΜΗΤΡΙΟΣ",1980,"Ο.Α.ΣΟΥΔΑΣ","Ζ"]
[18832,"F","ΚΑΡΑΓΙΑΝΝΗ ΕΥΘΥΜΙΑ",1991,"ΑΙΟΛΟΣ Α.Λ.ΙΛΙΟΥ","Θ"]
[3236,"F","ΚΑΡΑΓΙΑΝΝΗ ΣΠΥΡΙΔΟΥΛΑ",1975,"Α.Κ.ΖΩΓΡΑΦΟΥ","ΙΑ"]
[10275,"M","ΚΑΡΑΓΙΑΝΝΗΣ ΓΕΩΡΓΙΟΣ",1984,"Α.Ο.Α.ΦΙΛΟΘΕΗΣ","Η"]
[22949,"M","ΚΑΡΑΓΙΑΝΝΗΣ ΝΙΚΟΛΑΟΣ",1995,"ΦΘΙΩΤΙΚΟΣ Ο.Α.","Ε"]
[31122,"F","ΚΑΡΑΓΙΑΝΝΙΔΗ ΟΛΓΑ",1997,"Ε.Α.Σ.ΟΛΥΜΠΙΑΔΑ","Β"]
[18066,"F","ΚΑΡΑΓΙΑΝΝΙΔΟΥ-ΚΩΣΣΗ ΜΑΡΙΑ",1991,"Ο.Α.ΓΙΑΝΝΙΤΣΩΝ","Γ"]
[25859,"F","ΚΑΡΑΓΙΩΡΓΗ ΧΡΥΣΑΝΘΗ",1985,"Ο.Α.ΠΕΙΡΑΙΑ","Θ"]
[37975,"M","ΚΑΡΑΓΚΙΤΣΗΣ ΣΤΕΦΑΝΟΣ",2002,"Ο.Α.ΚΑΣΤΟΡΙΑΣ ΚΕΛΕΤΡΟΝ","Γ"]
[11782,"M","ΚΑΡΑΔΗΜΑΣ ΔΗΜΗΤΡΗΣ",1987,"Α.Ο.Α.ΗΛΙΟΥΠΟΛΗΣ","ΙΑ"]
[6109,"M","ΚΑΡΑΔΟΥΚΑΣ ΠΑΝΤΕΛΗΣ",1976,"Α.Ο.ΜΥΤΙΛΗΝΗΣ","Θ"]
[19929,"M","ΚΑΡΑΘΑΝΑΣΗΣ ΚΩΝΣΤΑΝΤΙΝΟΣ",1994,"Ο.Α.ΖΩΓΡΑΦΟΥ","Η"]
[14296,"F","ΚΑΡΑΪΝΔΡΟΥ ΜΑΡΙΑ",1988,"Α.Ο.ΤΕΡΨΙΘΕΑΣ ΓΛΥΦΑΔΑΣ","ΙΑ"]
[18572,"M","ΚΑΡΑΚΑΝΤΖΑΣ ΓΕΩΡΓΙΟΣ",1992,"ΦΘΙΩΤΙΚΟΣ Ο.Α.","Ε"]
[13397,"F","ΚΑΡΑΚΑΣΙΛΗ ΕΛΕΝΗ",1983,"Γ.Σ.ΑΠΟΛΛΩΝ ΠΥΡΓΟΥ","ΣΤ"]
[26644,"M","ΚΑΡΑΚΙΤΣΙΟΣ ΜΑΡΙΟΣ",2001,"Σ.Α.ΣΕΡΡΩΝ","Α"]
[11137,"F","ΚΑΡΑΚΟΥΣΗ ΕΥΣΤΑΘΙΑ",1985,"Ο.Α.ΛΙΒΑΔΕΙΑΣ","Ε"]
[17053,"M","ΚΑΡΑΚΩΣΤΑΣ ΧΡΗΣΤΟΣ",1994,"Α.Γ.Ο.ΝΑΥΠΑΚΤΟΥ","Δ"]
[15735,"F","ΚΑΡΑΛΗ ΒΑΣΙΛΙΚΗ",1989,"Σ.Α.ΓΑΛΑΤΣΙΟΥ","Θ"]
[14788,"M","ΚΑΡΑΛΗΣ ΕΥΑΓΓΕΛΟΣ",1989,"Α.Ο.Α.ΚΑΒΑΛΑΣ","Α"]
[32956,"M","ΚΑΡΑΜΑΛΙΚΗΣ ΔΙΟΝΥΣΙΟΣ",2000,"ΖΑΚΥΝΘΙΝΟΣ Α.Ο.Α","ΣΤ"]
[3101,"F","ΚΑΡΑΜΑΝΛΙΔΟΥ ΜΕΛΙΝΑ",1975,"Ν.Ο.ΘΕΣΣΑΛΟΝΙΚΗΣ","Β"]
[3661,"F","ΚΑΡΑΜΑΝΩΦ ΝΑΤΑΛΙΑ",1979,"Ο.Α.ΖΩΓΡΑΦΟΥ","Η"]
[11999,"M","ΚΑΡΑΜΗΤΡΟΣ ΧΡΗΣΤΟΣ",1984,"Ο.Α.ΛΑΜΙΑΣ","Ε"]
[25452,"M","ΚΑΡΑΜΟΛΕΓΚΟΣ ΔΗΜΗΤΡΙΟΣ",1997,"Ο.Α.ΣΑΛΑΜΙΝΑΣ","Θ"]
[22626,"M","ΚΑΡΑΜΟΛΕΓΚΟΣ ΕΥΑΓΓΕΛΟΣ",1995,"Ο.Α.ΣΑΛΑΜΙΝΑΣ","Θ"]
[18192,"F","ΚΑΡΑΜΠΑΣΗ ΑΓΓΕΛΙΚΗ",1992,"Ο.Α.ΚΑΛΑΜΑΚΙΟΥ","ΙΑ"]
[21769,"F","ΚΑΡΑΜΠΕΛΑ ΕΛΕΝΗ",1993,"Α.Ε.Τ.ΝΙΚΗ ΠΑΤΡΩΝ","ΣΤ"]
[8043,"M","ΚΑΡΑΜΠΕΤΣΟΣ ΒΑΣΙΛΕΙΟΣ",1985,"Ο.Α.ΓΛΥΦΑΔΑΣ","ΙΑ"]
[27761,"M","ΚΑΡΑΜΠΙΤΣΑΚΗΣ ΓΕΩΡΓΙΟΣ",2001,"Ο.Α.ΤΟΥΜΠΑΣ","Β"]
[24211,"F","ΚΑΡΑΝΑΣΤΑΣΗ ΑΝΑΣΤΑΣΙΑ",1995,"Π.Σ.ΑΜΠΕΛΩΝΟΣ Ο ΦΙΛΙΠΠΙΔΗΣ","Ε"]
[16134,"M","ΚΑΡΑΝΙΚΑΣ ΧΑΡΑΛΑΜΠΟΣ",1990,"ΦΘΙΩΤΙΚΟΣ Ο.Α.","Ε"]
[18266,"F","ΚΑΡΑΝΤΑΛΗ ΕΛΕΝΗ",1990,"Ο.Α.ΑΓΡΙΝΙΟΥ","Δ"]
[30218,"M","ΚΑΡΑΟΓΛΑΝΙΔΗΣ ΑΛΕΞΑΝΔΡΟΣ",2000,"ΑΚΑΔΗΜΙΑ ΑΝΤΙΣΦ.ΣΕΡΡΩΝ 2008","Α"]
[13756,"F","ΚΑΡΑΠΑΝΑΓΙΩΤΟΥ ΕΛΙΣΣΑΒΕΤ",1988,"Α.Ν.Σ.ΕΛΛΗΝΙΚΙΩΤΩΝ","ΙΑ"]
[13093,"F","ΚΑΡΑΠΕΤΣΑ ΕΛΛΗ",1986,"Γ.Ο.ΠΕΡΙΣΤΕΡΙΟΥ Γ.ΠΑΛΑΣΚΑΣ","Θ"]
[7071,"M","ΚΑΡΑΠΡΩΙΜΟΣ ΙΟΡΔΑΝΗΣ",1983,"Α.Ο.Α.ΚΑΒΑΛΑΣ","Α"]
[5349,"M","ΚΑΡΑΣΑΚΗΣ ΠΑΝΑΓΙΩΤΗΣ",1975,"Α.Μ.Ε.Σ.Ν.ΕΡΥΘΡΑΙΑΣ","Η"]
[23051,"F","ΚΑΡΑΤΑΙΡΗ ΓΕΩΡΓΙΑ",1993,"Α.Ο.Α.ΠΑΠΑΓΟΥ","ΙΑ"]
[3406,"M","ΚΑΡΑΤΖΑΣ ΑΡΙΣΤΕΙΔΗΣ",1974,"Α.Ο.ΠΑΡΑΔΕΙΣΟΣ ΑΜΑΡΟΥΣΙΟΥ","Η"]
[15986,"F","ΚΑΡΑΤΖΙΟΥ ΜΑΓΔΑΛΗΝΗ",1989,"Α.Σ.Α.ΜΑΥΡΟΧΩΡΙΟΥ ΚΑΣΤΟΡΙΑΣ","Γ"]
[20967,"M","ΚΑΡΑΦΥΛΙΔΗΣ ΦΙΛΙΠΠΟΣ",1980,"Ο.Α.ΧΟΛΑΡΓΟΥ","ΙΑ"]
[35010,"F","ΚΑΡΑΧΑΛΙΟΥ ΑΘΗΝΑ",1971,"Α.Σ.ΦΛΟΓΑ ΑΘΗΝΩΝ","Η"]
[5650,"F","ΚΑΡΒΕΛΑ ΑΘΑΝΑΣΙΑ",1975,"ΠΑΝΕΛΛΗΝΙΟΣ Γ.Σ.","Θ"]
[28387,"F","ΚΑΡΒΟΥΝΗ ΒΑΣΙΛΙΚΗ",2000,"Α.Σ.ΑΚΡΟΠΟΛΙΣ","Η"]
[10131,"M","ΚΑΡΓΑΔΟΥΡΗΣ ΝΙΚΟΛΑΟΣ",1981,"Ε.Φ.Τ.ΑΙΟΛΙΚΗ","Β"]
[17280,"M","ΚΑΡΔΑΜΗΛΑΣ ΕΜΜΑΝΟΥΛ",1990,"Ο.Α.ΑΛΕΞΑΝΔΡΟΥΠΟΛΗΣ","Α"]
[13796,"M","ΚΑΡΔΑΡΗΣ ΑΓΓΕΛΟΣ",1986,"Α.Ο.ΤΕΡΨΙΘΕΑΣ ΓΛΥΦΑΔΑΣ","ΙΑ"]
[15904,"M","ΚΑΡΕΚΛΑΣ ΠΕΤΡΟΣ",1990,"Ο.Α.ΚΑΙΣΑΡΙΑΝΗΣ","Θ"]
[3201,"F","ΚΑΡΙΠΗ ΔΕΣΠΟΙΝΑ",1966,"Ο.Α.ΚΑΒΑΛΑΣ ΑΛΕΞΑΝΔΡΟΣ","Α"]
[10631,"M","ΚΑΡΚΑΛΗΣ ΚΩΝΣΤΑΝΤΙΝΟΣ",1984,"Α.Ο.Α.ΚΑΒΑΛΑΣ","Α"]
[13962,"F","ΚΑΡΚΑΤΣΟΥΛΗ ΙΩΑΝΝΑ",1986,"Α.Ο.ΤΕΡΨΙΘΕΑΣ ΓΛΥΦΑΔΑΣ","ΙΑ"]
[15854,"M","ΚΑΡΜΗΣ ΝΙΚΟΛΑΟΣ",1989,"Ο.Α.ΑΘΗΝΩΝ","Η"]
[5248,"F","ΚΑΡΟΚΗ ΚΩΝΣΤΑΝΤΙΝΑ",1975,"Α.Ο.ΔΑΣΟΣ ΧΑΪΔΑΡΙΟΥ","Θ"]
[24636,"M","ΚΑΡΟΥΜΠΑΣ ΔΗΜΗΤΡΙΟΣ",1996,"Α.Σ.Α.ΛΑΡΙΣΑΣ","Ε"]
[3942,"M","ΚΑΡΟΥΣΟΣ ΑΔΑΜΑΝΤΙΟΣ",1975,"Α.Σ.ΠΕΡΑ","ΙΑ"]
[30601,"F","ΚΑΡΠΟΥΖΑ ΣΟΦΙΑ",2001,"Ο.Α.ΜΑΓΝΗΣΙΑΣ","Ε"]
[27034,"F","ΚΑΡΣΙΩΤΗ ΑΝΑΣΤΑΣΙΑ-ΜΑΡΙΑ",1998,"Ο.Α.ΚΟΡΙΝΘΟΥ","ΣΤ"]
[3696,"M","ΚΑΡΤΣΙΩΤΗΣ ΑΣΗΜΑΚΗΣ",1973,"Α.Ψ.Λ.ΜΕΔΕΩΝ","Ε"]
[19127,"F","ΚΑΡΥΔΑ ΕΙΡΗΝΗ",1989,"Γ.Σ.ΩΡΩΠΟΥ","Η"]
[32269,"F","ΚΑΡΥΜΠΙΔΟΥ ΕΥΓΕΝΙΑ",2002,"Φ.Ο.Α.ΝΕΑΠΟΛΗΣ","Β"]
[17762,"M","ΚΑΡΥΩΤΑΚΗΣ ΚΩΝΣΤΑΝΤΙΝΟΣ-ΕΚΤΩΡ",1991,"Ο.Α.ΘΕΣΠΡΩΤΙΑΣ ΤΙΤΑΝΗ","Δ"]
[26946,"F","ΚΑΣΑΠΙΔΟΥ ΑΓΓΕΛΙΚΗ",1996,"Ο.Α.ΑΛΕΞΑΝΔΡΟΥΠΟΛΗΣ","Α"]
[7604,"M","ΚΑΣΙΑΡΗΣ ΚΩΝΣΤΑΝΤΙΝΟΣ",1978,"Α.Ο.Α.ΗΛΙΟΥΠΟΛΗΣ","ΙΑ"]
[36562,"M","ΚΑΣΙΔΙΑΡΑΚΗΣ ΦΙΛΙΠΠΟΣ",2001,"Ο.Α.ΠΕΙΡΑΙΑ","Θ"]
[24668,"F","ΚΑΣΙΩΡΑ ΚΩΝΣΤΑΝΤΙΝΑ",1996,"Α.Σ.Α.ΛΑΡΙΣΑΣ","Ε"]
[14843,"M","ΚΑΣΣΑΣ ΠΑΣΧΑΛΗΣ",1990,"ΠΑΝΘΡΑΚΙΚΟΣ Ο.Α.ΚΟΜΟΤΗΝΗΣ","Α"]
[7977,"M","ΚΑΣΤΑΝΙΩΤΗΣ ΔΗΜΗΤΡΙΟΣ",1981,"Ο.Α.ΣΑΛΑΜΙΝΑΣ","Θ"]
[21552,"F","ΚΑΣΤΡΙΩΤΗ ΘΕΟΔΩΡΑ",1993,"Α.Σ.ΠΕΡΑ","ΙΑ"]
[10446,"M","ΚΑΤΑΝΑΣ ΑΝΤΩΝΗΣ",1982,"Ο.Α.ΚΑΒΑΛΑΣ ΑΛΕΞΑΝΔΡΟΣ","Α"]
[20906,"F","ΚΑΤΕΡΗ ΣΕΒΑΣΤΗ",1997,"Α.Γ.Ο.ΦΙΛΙΠΠΙΑΔΑΣ","Δ"]
[15784,"M","ΚΑΤΙΡΤΖΗΣ ΝΙΚΟΛΑΟΣ",1991,"Σ.Α.ΣΕΡΡΩΝ","Α"]
[15457,"M","ΚΑΤΡΑΧΟΥΡΑΣ ΓΕΩΡΓΙΟΣ",1985,"Α.Γ.Ο.ΦΙΛΙΠΠΙΑΔΑΣ","Δ"]
[27983,"F","ΚΑΤΣΑΒΟΧΡΗΣΤΟΥ ΑΡΓΥΩΡ-ΑΝΝΑ",1997,"Γ.Σ.ΙΤΕΑΣ","Ε"]
[3271,"F","ΚΑΤΣΑΜΑΝΗ ΑΓΑΠΗ",1976,"Α.Κ.ΖΩΓΡΑΦΟΥ","ΙΑ"]
[4522,"M","ΚΑΤΣΑΝΟΣ ΧΡΗΣΤΟΣ",1978,"Γ.Ε.ΠΡΕΒΕΖΑΣ","Δ"]
[35388,"F","ΚΑΤΣΑΝΟΥ ΜΑΡΙΑ",1983,"Ο.Α.ΙΩΑΝΝΙΝΩΝ","Δ"]
[14790,"M","ΚΑΤΣΑΟΥΝΗΣ ΠΑΝΑΓΙΩΤΗΣ",1989,"Ο.Α.ΚΑΛΑΜΑΤΑΣ","ΣΤ"]
[14269,"M","ΚΑΤΣΑΡΟΣ ΕΥΣΤΑΘΙΟΣ",1984,"Ο.Α.ΚΕΡΚΥΡΑΣ","Δ"]
[20544,"M","ΚΑΤΣΕΝΙΟΣ ΔΗΜΗΤΡΙΟΣ",1996,"Ο.Α.ΦΩΚΙΔΑΣ","Ε"]
[15487,"M","ΚΑΤΣΙΑΝΟΣ ΗΛΙΑΣ",1988,"Χ.Α.Ν.ΘΕΣΣΑΛΟΝΙΚΗΣ","Β"]
[13738,"F","ΚΑΤΣΙΓΙΑΝΝΗ ΒΑΛΙΑ",1992,"ΦΘΙΩΤΙΚΟΣ Ο.Α.","Ε"]
[27461,"M","ΚΑΤΣΙΚΑΡΕΛΗΣ ΓΕΡΑΣΙΜΟΣ",1993,"Ο.Α.ΑΘΗΝΩΝ","Η"]
[27692,"M","ΚΑΤΣΙΚΗΣ ΔΗΜΗΤΡΙΟΣ",2000,"Ο.Α.ΣΟΦΑΔΩΝ & ΚΑΡΔΙΤΣΑΣ ΟΛΥΜΠΙΑΔΑ","Ε"]
[15642,"F","ΚΑΤΣΙΜΠΑ ΒΑΣΙΛΙΚΗ",1989,"Ο.Α.ΑΓΡΙΝΙΟΥ","Δ"]
[24739,"F","ΚΑΤΣΙΦΛΑ ΜΠΙΑΝΚΑ-ΑΝΤΩΝΙΑ",1998,"Ο.Α.ΝΙΚΑΙΑ ΛΑΡΙΣΑΣ","Ε"]
[36240,"F","ΚΑΤΣΟΥΔΑ-ΤΑΚΑ ΑΣΠΑΣΙΑ",2002,"Ο.Α.ΣΥΡΟΥ","Η"]
[17938,"F","ΚΑΤΣΟΥΛΗ ΕΥΑΓΓΕΛΙΑ",1992,"Ο.Α.& Α.ΜΑΛΙΩΝ","Ζ"]
[21706,"M","ΚΑΤΣΩΝΗΣ ΑΛΕΞΑΝΔΡΟΣ",1996,"Α.Σ.ΑΚΡΟΠΟΛΙΣ","Η"]
[33338,"F","ΚΑΤΩΠΟΔΗ ΣΟΦΙΑ",2001,"Γ.Ε.ΠΡΕΒΕΖΑΣ","Δ"]
[25368,"M","ΚΑΦΑΝΤΑΡΗΣ ΚΩΝΣΤΑΝΤΙΝΟΣ",1994,"Α.Σ.Α.ΛΑΡΙΣΑΣ","Ε"]
[24500,"M","ΚΑΦΕΤΣΟΠΟΥΛΟΣ ΓΙΩΡΓΟΣ",1997,"Ο.Α.ΑΡΤΑΣ","Δ"]
[2702,"M","ΚΑΦΥΡΑΣ ΓΡΗΓΟΡΗΣ",1974,"Α.Ο.ΑΛΦΕΙΟΣ ΕΠΙΤΑΛΙΟΥ","ΣΤ"]
[31349,"F","ΚΑΧΡΙΜΑΝΗ ΜΑΡΙΑ",1999,"ΡΗΓΑΣ Α.Ο.Α.ΑΡΓΟΛΙΔΑΣ","ΣΤ"]
[11985,"M","ΚΑΨΑΛΗΣ ΑΘΑΝΑΣΙΟΣ",1986,"Ο.Α.ΛΑΜΙΑΣ","Ε"]
[5644,"M","ΚΑΨΙΜΑΛΗΣ ΔΟΥΚΑΚΗΣ",1971,"Α.Ο.ΜΥΤΙΛΗΝΗΣ","Θ"]
[24181,"F","ΚΑΨΥΛΙΔΑΚΗ ΙΣΑΒΕΛΛΑ",1996,"Ο.Α.ΣΗΤΕΙΑΣ","Ζ"]
[10855,"M","ΚΕΚΚΕΡΗΣ ΓΕΩΡΓΙΟΣ",1987,"ΠΑΝΘΡΑΚΙΚΟΣ Ο.Α.ΚΟΜΟΤΗΝΗΣ","Α"]
[24445,"F","ΚΕΛΕΣΙΔΟΥ ΕΛΕΝΗ",1998,"Α.Σ.ΒΕΡΟΙΑΣ Ο ΗΜΑΘΙΩΝ","Γ"]
[14617,"F","ΚΕΛΜΠΑΚΟΥΡΗ ΙΩΑΝΝΑ-ΜΑΡΙΑ",1986,"Ο.Α.ΚΑΙΣΑΡΙΑΝΗΣ","Θ"]
[90023,"M","ΚΕΡΑΜΑΣ ΗΛΙΑΣ",1992,"Ο.Α.ΡΕΘΥΜΝΟΥ","Ζ"]
[18049,"F","ΚΕΡΑΜΙΔΙΩΤΟΥ ΑΘΗΝΑ",1991,"Σ.Α.ΚΑΤΕΡΙΝΗΣ","Γ"]
[32454,"F","ΚΕΡΤΣΙΚΟΦ ΜΕΛΙΝΑ",2001,"Α.Ο.Α.ΦΙΛΟΘΕΗΣ","Η"]
[9373,"M","ΚΕΣΑΝΛΗΣ ΝΙΚΟΛΑΟΣ",1986,"Ο.Α.ΚΑΤΕΡΙΝΗΣ","Γ"]
[1303,"M","ΚΕΣΚΙΝΗΣ ΣΩΤΗΡΙΟΣ",1966,"Σ.Α.ΣΕΡΡΩΝ","Α"]
[26052,"F","ΚΕΦΑΛΑ ΚΩΝΣΤΑΝΤΙΝΑ",1998,"Α.Α.ΑΙΓΑΛΕΩ","Θ"]
[19320,"F","ΚΕΦΑΛΟΥ ΕΙΡΗΝΗ",1990,"Α.Ο.ΣΙΚΥΩΝΟΣ ΚΙΑΤΟΥ","ΣΤ"]
[28263,"F","ΚΕΧΑΓΙΑ ΔΗΜΗΤΡΑ",1994,"Σ.Α.ΣΕΡΡΩΝ","Α"]
[1603,"F","ΚΕΧΡΙΜΠΑΡΗ ΠΑΝΑΓΙΩΤΑ",1972,"Α.Κ.ΖΩΓΡΑΦΟΥ","ΙΑ"]
[5241,"F","ΚΙΑΝΕΖΕ ΝΤΑΠΙΑ",1975,"Α.Ο.Α.ΗΛΙΟΥΠΟΛΗΣ","ΙΑ"]
[26676,"M","ΚΙΖΙΡΙΔΗΣ ΗΛΙΑΣ",1995,"Α.Ο.ΑΤΡΟΜΗΤΟΣ ΤΡΙΑΔΙΟΥ","Β"]
[10659,"F","ΚΙΛΤΣΟΠΟΥΛΟΥ ΚΑΛΛΙΟΠΗ",1985,"ΦΘΙΩΤΙΚΟΣ Ο.Α.","Ε"]
[23142,"M","ΚΙΝΤΡΙΛΗΣ ΝΙΚΟΛΑΟΣ",1992,"Ο.Α.ΧΑΝΙΩΝ","Ζ"]
[21604,"M","ΚΙΟΥΚΑΣ ΙΩΑΝΝΗΣ",1992,"Ο.Α.ΑΝΑΦΛΥΣΤΟΣ ΣΑΡΩΝΙΔΑΣ","Η"]
[18379,"M","ΚΙΟΥΡΤΗΣ ΧΡΗΣΤΟΣ",1990,"Α.Ο.ΟΡΕΣΤΙΑΔΑΣ","Α"]
[9013,"M","ΚΙΟΥΤΣΟΥΚΗΣ ΑΘΑΝΑΣΙΟΣ",1976,"Σ.Ο.Ι.Σ.ΝΕΑ ΠΝΟΗ","Α"]
[22312,"M","ΚΙΣΣΑΣ ΑΙΜΙΛΙΟΣ",1995,"Ο.Α.ΚΟΡΙΝΘΟΥ","ΣΤ"]
[35027,"M","ΚΙΤΣΑΚΗΣ ΚΩΝΣΤΑΝΤΙΝΟΣ",1997,"Α.Κ.ΖΩΓΡΑΦΟΥ","ΙΑ"]
[2556,"M","ΚΙΤΣΟΠΟΥΛΟΣ ΑΛΕΞΑΝΔΡΟΣ",1973,"Γ.Α.Σ.ΑΛΕΞΑΝΔΡΕΙΑ","Γ"]
[19581,"M","ΚΙΦΕΡ ΣΑΝΤΟΡ-ΥΑΚΙΝΘΟΣ",1992,"Ο.Α.ΧΑΝΙΩΝ","Ζ"]
[34027,"F","ΚΛΑΔΗ ΧΑΡΟΥΛΑ",1980,"ΖΑΚΥΝΘΙΝΟΣ Α.Ο.Α","ΣΤ"]
[6554,"M","ΚΛΑΪΝΟΣ ΑΛΕΞΑΝΔΡΟΣ",1981,"Ο.Α.ΑΘΗΝΩΝ","Η"]
[35912,"F","ΚΛΑΥΔΙΑΝΟΥ ΜΑΡΙΑ",2002,"Α.Ο.Α.ΗΛΙΟΥΠΟΛΗΣ","ΙΑ"]
[9216,"M","ΚΛΕΟΝΑΚΟΣ ΠΑΝΑΓΙΩΤΗΣ",1980,"Α.Ε.Σ.Α.Φ.ΚΟΥΡΟΣ","Η"]
[28093,"F","ΚΛΗΡΟΝΟΜΟΥ ΑΡΓΥΡΗ",2000,"Ο.Α.ΣΟΥΔΑΣ","Ζ"]
[4477,"M","ΚΛΟΥΚΙΝΑΣ ΑΛΕΞΙΟΣ",1979,"Α.Ο.Α.ΠΑΠΑΓΟΥ","ΙΑ"]
[25781,"F","ΚΟΒΑΝΗ ΣΤΕΛΛΑ",1996,"Α.Σ.ΣΠΑΡΤΑΚΟΣ ΓΛΥΦΑΔΑΣ","ΙΑ"]
[31493,"F","ΚΟΓΙΑ ΧΡΙΣΤΙΝΑ",1981,"ΦΙΛΑΘΛΗΤ.ΣΥΛ.ΛΑΜΙΑΣ","Ε"]
[18753,"M","ΚΟΔΕΛΑΣ ΓΙΑΝΝΗΣ",1992,"Α.Γ.Σ.ΜΥΛΩΝ Ο ΛΕΡΝΟΣ","ΣΤ"]
[3170,"F","ΚΟΖΥΡΑΚΗ ΜΑΡΙΑ",1971,"ΗΡΑΚΛΕΙΟ Ο.Α.& Α.","Ζ"]
[14132,"M","ΚΟΪΔΗΣ ΑΛΕΞΑΝΔΡΟΣ",1985,"Α.Ο.ΒΑΡΗΣ ΑΝΑΓΥΡΟΥΣ","Η"]
[30488,"M","ΚΟΪΝΑΚΗΣ ΔΗΜΗΤΡΗΣ",1998,"Γ.Σ.ΛΙΒΥΚΟΣ ΙΕΡΑΠΕΤΡΑΣ","Ζ"]
[30147,"F","ΚΟΚΚΑΛΗ ΜΑΡΙΑ",2000,"Α.Ε.Κ.ΤΡΙΠΟΛΗΣ","ΣΤ"]
[27858,"F","ΚΟΚΚΙΝΑΚΗ ΕΥΓΕΝΙΑ",2000,"Ο.Α.ΧΑΝΙΩΝ","Ζ"]
[23891,"M","ΚΟΚΚΙΝΗΣ ΔΗΜΗΤΡΙΟΣ",1996,"ΠΕΥΚΗ Γ.ΚΑΛΟΒΕΛΩΝΗΣ","Η"]
[6450,"M","ΚΟΚΚΙΝΟΣ ΓΡΗΓΟΡΗΣ",1976,"Α.Ο.Π.ΦΑΛΗΡΟΥ","ΙΑ"]
[3791,"M","ΚΟΚΚΟΡΗΣ ΣΤΕΡΓΙΟΣ",1976,"Λ.Α.ΚΟΜΟΤΗΝΗΣ","Α"]
[11073,"M","ΚΟΚΚΟΤΗΣ ΠΑΝΑΓΙΩΤΗΣ",1986,"Ο.Α.ΑΓΙΑΣ ΠΑΡΑΣΚΕΥΗΣ","Η"]
[28531,"M","ΚΟΚΚΩΝΗΣ ΑΛΕΞΑΝΔΡΟΣ",1994,"Ο.Α.ΕΥΟΣΜΟΥ ΘΕΣΣΑΛΟΝΙΚΗΣ","Β"]
[25600,"M","ΚΟΚΟΡΕΤΣΗΣ ΓΕΩΡΓΙΟΣ",1999,"Σ.Α.ΓΑΛΑΤΣΙΟΥ","Θ"]
[17380,"F","ΚΟΛΑΪΤΗ ΦΩΤΕΙΝΗ",1990,"Ο.Α.ΠΕΤΡΟΥΠΟΛΗΣ","Θ"]
[26951,"M","ΚΟΛΙΑΣ ΓΕΩΡΓΙΟΣ",1997,"Α.Ε.ΠΟΡΤΟ ΡΑΦΤΗ","Η"]
[17871,"M","ΚΟΛΙΑΣ ΔΙΟΝΥΣΙΟΣ",1989,"Α.Ε.Τ.ΝΙΚΗ ΠΑΤΡΩΝ","ΣΤ"]
[29610,"M","ΚΟΛΙΟΣ ΒΑΣΙΛΕΙΟΣ",1999,"ΑΙΟΛΟΣ Α.Λ.ΙΛΙΟΥ","Θ"]
[23534,"F","ΚΟΛΛΙΑ ΜΑΡΙΑΝΑ",1997,"Σ.Α.ΓΑΛΑΤΣΙΟΥ","Θ"]
[27287,"M","ΚΟΛΛΙΑΣ ΚΩΝΣΤΑΝΤΙΝΟΣ",1996,"Γ.Σ.ΛΙΒΥΚΟΣ ΙΕΡΑΠΕΤΡΑΣ","Ζ"]
[13096,"M","ΚΟΛΟΒΟΣ ΚΩΝΣΤΑΝΤΙΝΟΣ",1985,"Α.Ο.Α.ΦΙΛΟΘΕΗΣ","Η"]
[16418,"M","ΚΟΛΟΚΥΘΑΣ ΠΑΝΑΓΙΩΤΗΣ",1990,"ΦΘΙΩΤΙΚΟΣ Ο.Α.","Ε"]
[23220,"F","ΚΟΛΤΣΙΔΑ ΜΑΡΙΑ",1991,"Ο.Α.ΒΕΡΟΙΑΣ","Γ"]
[16267,"F","ΚΟΛΩΝΙΑ ΕΥΑΝΘΙΑ",1993,"ΦΘΙΩΤΙΚΟΣ Ο.Α.","Ε"]
[24322,"F","ΚΟΜΙΤΗ ΕΙΡΗΝΗ",1997,"Ο.Α.ΚΟΥΦΑΛΙΩΝ ΘΕΣΣΑΛΟΝΙΚΗΣ","Β"]
[25337,"F","ΚΟΜΝΗΝΟΥ ΕΜΜΑΝΟΥΕΛΑ",1993,"Α.Ο.ΛΑΓΟΝΗΣΙΟΥ","Η"]
[20673,"F","ΚΟΝΔΥΛΑ ΙΩΑΝΝΑ",1993,"Α.Ο.Α.ΠΑΤΡΩΝ","ΣΤ"]
[15092,"M","ΚΟΝΙΑΡΗΣ ΓΕΩΡΓΙΟΣ",1989,"Α.Ο.ΒΑΡΗΣ ΑΝΑΓΥΡΟΥΣ","Η"]
[17369,"F","ΚΟΝΙΣΤΗ ΦΩΤΕΙΝΗ",1990,"Ο.Α.ΑΘΗΝΩΝ","Η"]
[23353,"F","ΚΟΝΤΑΞΗ ΙΩΑΝΝΑ",1996,"Α.Ο.Α.ΠΑΤΡΩΝ","ΣΤ"]
[17142,"F","ΚΟΝΤΑΡΓΥΡΗ ΤΕΡΨΙΧΟΡΗ",1991,"Ο.Α.ΚΑΛΑΜΑΤΑΣ","ΣΤ"]
[38385,"M","ΚΟΝΤΗΣ ΚΩΝΣΤΑΝΤΙΝΟΣ",1991,"Ο.Α.ΠΕΙΡΑΙΑ","Θ"]
[24482,"F","ΚΟΝΤΟΓΕΩΡΓΑ ΧΡΙΣΤΙΝΑ",1998,"Σ.Φ.Α.ΜΕΛΙΣΣΙΩΝ Ο ΦΟΙΒΟΣ","Η"]
[36381,"M","ΚΟΝΤΟΓΙΑΝΝΗΣ ΕΥΑΓΓΕΛΟΣ",2002,"ΡΟΔΙΑΚΟΣ Ο.Α.","Θ"]
[29904,"F","ΚΟΝΤΟΓΙΩΡΓΟΥ ΦΩΤΕΙΝΗ",2001,"Γ.Σ.ΙΤΕΑΣ","Ε"]
[11240,"F","ΚΟΝΤΟΜΑΡΚΟΥ ΣΟΦΙΑ",1981,"Α.Ο.Α.ΗΛΙΟΥΠΟΛΗΣ","ΙΑ"]
[22460,"M","ΚΟΝΤΟΠΟΔΙΑΣ ΔΙΟΝΥΣΗΣ",1991,"Ο.Α.ΧΙΟΥ","Θ"]
[1250,"M","ΚΟΝΤΟΣ ΓΙΩΡΓΟΣ",1968,"Α.Ο.Α.ΦΙΛΟΘΕΗΣ","Η"]
[14023,"F","ΚΟΝΤΟΥ ΕΙΡΗΝΗ",1988,"ΦΘΙΩΤΙΚΟΣ Ο.Α.","Ε"]
[5939,"M","ΚΟΝΤΟΥΖΟΓΛΟΥ ΑΛΕΞΑΝΔΡΟΣ",1979,"Α.Ο.Α.ΦΙΛΟΘΕΗΣ","Η"]
[26210,"M","ΚΟΝΤΩΣΗΣ ΓΕΩΡΓΙΟΣ",1997,"Α.Ο.Α.ΦΙΛΟΘΕΗΣ","Η"]
[13008,"F","ΚΟΠΙΤΑ ΝΟΡΑ",1987,"Α.Α.Α.ΑΛΙΜΟΥ","ΙΑ"]
[9952,"M","ΚΟΡΑΚΑΣ ΑΝΕΣΤΗΣ",1975,"Γ.Ε.ΑΤΑΛΑΝΤΗΣ","Ε"]
[16594,"M","ΚΟΡΔΕΛΑΚΟΣ ΜΙΧΑΗΛ",1987,"Α.Ο.Α.ΗΛΙΟΥΠΟΛΗΣ","ΙΑ"]
[28821,"F","ΚΟΡΔΟΤΖΑΚΗ ΧΡΙΣΤΙΑΝΑ",1997,"ΡΗΓΑΣ Α.Ο.Α.ΑΡΓΟΛΙΔΑΣ","ΣΤ"]
[14339,"M","ΚΟΡΚΟΔΕΙΛΟΣ ΠΑΡΗΣ",1985,"Α.Ο.Α.ΑΤΤΙΚΟΣ ΗΛΙΟΣ","Η"]
[12431,"M","ΚΟΡΝΑΡΟΠΟΥΛΟΣ ΕΥΓΕΝΙΟΣ",1983,"ΡΟΔΙΑΚΟΣ Ο.Α.","Θ"]
[23224,"M","ΚΟΡΟΒΕΣΗΣ ΠΕΡΙΚΛΗΣ",1997,"Α.Κ.Α.ΜΑΡΑΘΩΝΑ","Η"]
[15665,"M","ΚΟΡΟΣΙΔΗΣ ΣΤΥΛΙΑΝΟΣ",1985,"Α.Ο.Α.ΣΤΑΥΡΟΥΠΟΛΗΣ ΙΦΙΤΟΣ","Β"]
[12332,"F","ΚΟΡΡΟΥ ΜΑΡΙΑ-ΕΥΦΡΟΣΥΝΗ",1982,"Α.Ο.ΜΥΤΙΛΗΝΗΣ","Θ"]
[1022,"F","ΚΟΡΩΝΑΚΗ ΛΗΔΑ",1967,"Ο.Α.ΖΩΓΡΑΦΟΥ","Η"]
[18586,"F","ΚΟΣΑΝΔΙΑΝΟΥ ΑΙΚΑΤΕΡΙΝΗ",1995,"Α.Γ.Ο.ΝΑΥΠΑΚΤΟΥ","Δ"]
[4646,"F","ΚΟΣΜΑ ΟΛΥΜΠΙΑ",1973,"Ε.Φ.Τ.ΑΙΟΛΙΚΗ","Β"]
[32010,"F","ΚΟΣΜΑΤΟΥ ΣΤΥΛΙΑΝΗ",2001,"Α.Ο.Α.ΧΑΪΔΑΡΙΟΥ","Θ"]
[5825,"M","ΚΟΣΜΙΔΗΣ ΧΑΡΗΣ",1977,"Α.Α.ΑΛΜΠΑΤΡΟΣ","Β"]
[14826,"F","ΚΟΣΣΥΒΑ ΚΑΤΕΡΙΝΑ",1969,"Γ.Ο.ΠΕΡΙΣΤΕΡΙΟΥ Γ.ΠΑΛΑΣΚΑΣ","Θ"]
[26525,"M","ΚΟΣΣΥΒΑΚΗΣ ΕΥΑΓΓΕΛΟΣ",1999,"Ο.Α.ΑΡΤΑΣ","Δ"]
[4063,"F","ΚΟΤΓΑΜΑΝΟΓΛΟΥ ΣΟΦΙΑ",1976,"Α.Ο.ΑΜΥΝΤΑΣ ΥΜΗΤΤΟΥ","ΙΑ"]
[30967,"F","ΚΟΤΙΔΟΥ ΣΤΕΦΑΝΙΑ",1997,"Φ.Σ.ΚΑΛΛΙΘΕΑΣ","Θ"]
[18582,"F","ΚΟΤΡΩΤΣΟΥ ΜΑΡΙΑ",1990,"Α.Γ.Ο.ΝΑΥΠΑΚΤΟΥ","Δ"]
[22995,"M","ΚΟΤΣΑΜΠΑΣΗΣ ΑΛΕΞΙΟΣ",1996,"Ο.Α.ΓΟΥΔΙΟΥ","ΙΑ"]
[12871,"M","ΚΟΤΣΗΣ ΝΙΚΟΛΑΟΣ",1985,"ΚΕΡΚΥΡΑΪΚΗ Λ.Τ.","Δ"]
[30910,"F","ΚΟΤΣΙΡΗ ΕΛΕΝΗ",1997,"ΑΙΟΛΟΣ Α.Λ.ΙΛΙΟΥ","Θ"]
[18105,"F","ΚΟΤΣΩΝΑ ΕΙΡΗΝΗ",1988,"Ο.Α.ΛΙΒΑΔΕΙΑΣ","Ε"]
[5889,"F","ΚΟΤΤΑΡΑ ΚΩΝΣΤΑΝΤΙΝΑ",1977,"Ο.Α.ΑΡΓΟΥΣ","ΣΤ"]
[20716,"F","ΚΟΥΒΑΡΑΚΗ ΜΕΛΙΝΑ-ΕΛΕΟΝΩΡΑ",1993,"Ο.Α.ΣΗΤΕΙΑΣ","Ζ"]
[8762,"M","ΚΟΥΒΕΛΗΣ ΠΑΝΑΓΙΩΤΗΣ",1984,"ΦΘΙΩΤΙΚΟΣ Ο.Α.","Ε"]
[36279,"F","ΚΟΥΓΙΟΥΜΤΖΗ ΕΛΙΣΑΒΕΤ",2002,"Α.Κ.Α.ΜΑΡΑΘΩΝΑ","Η"]
[24628,"F","ΚΟΥΔΟΥΝΑ ΕΥΑΓΓΕΛΙΑ-ΧΡΙΣΤΙΝΑ",1996,"Ο.Α.ΣΑΛΑΜΙΝΑΣ","Θ"]
[32343,"M","ΚΟΥΪΜΤΖΙΔΗΣ ΒΑΣΙΛΕΙΟΣ",1997,"Ο.Π.ΘΕΣΣΑΛΟΝΙΚΗΣ ΜΑΚΕΔΟΝΙΑ 92","Β"]
[17182,"M","ΚΟΥΚΕΛΛΗΣ ΜΙΧΑΗΛ",1990,"Ο.Α.ΛΕΣΒΟΥ","Θ"]
[13403,"M","ΚΟΥΚΙΑΝΑΚΗΣ ΙΩΑΝΝΗΣ",1985,"Ο.Α.ΣΟΥΔΑΣ","Ζ"]
[22153,"F","ΚΟΥΚΛΑΚΗ ΜΑΡΙΑ",1996,"Ο.Α.ΧΑΝΙΩΝ","Ζ"]
[37120,"M","ΚΟΥΚΟΣ ΓΕΩΡΓΙΟΣ-ΝΕΚΤΑΡΙΟΣ",1998,"Ο.Α.ΑΘΗΝΩΝ","Η"]
[28934,"M","ΚΟΥΚΟΥΖΕΛΗΣ ΠΑΝΑΓΙΩΤΗΣ",2000,"ΣΕΡΡΑΪΚΟΣ Ο.Α.","Α"]
[32859,"F","ΚΟΥΚΟΥΡΑΚΗ ΜΕΛΙΝΑ-ΕΛΕΥΘΕΡΙΑ",2002,"Α.Ο.Α.ΠΑΠΑΓΟΥ","ΙΑ"]
[13697,"M","ΚΟΥΛΑΛΗΣ ΙΩΣΗΦ",1986,"Ο.Α.ΕΔΕΣΣΑΣ","Γ"]
[12541,"F","ΚΟΥΛΙΑΚΗ ΣΤΑΥΡΟΥΛΑ",1985,"Ο.Α.ΑΛΕΞΑΝΔΡΟΥΠΟΛΗΣ","Α"]
[19497,"F","ΚΟΥΛΟΥ ΕΥΜΟΡΦΙΑ",1992,"Ο.Α.ΦΩΚΙΔΑΣ","Ε"]
[25919,"M","ΚΟΥΛΟΥΡΗΣ ΑΛΕΞΑΝΔΡΟΣ",1994,"Α.Α.ΚΕΡΚΥΡΑΣ","Δ"]
[32846,"F","ΚΟΥΜΑΚΗ ΜΑΡΙΑ",2002,"ΡΗΓΑΣ Α.Ο.Α.ΑΡΓΟΛΙΔΑΣ","ΣΤ"]
[13450,"F","ΚΟΥΜΑΡΙΑΝΟΥ ΣΟΦΙΑ",1988,"Ο.Α.ΚΑΙΣΑΡΙΑΝΗΣ","Θ"]
[28556,"M","ΚΟΥΜΟΥΣΗΣ ΒΛΑΣΙΟΣ",2001,"Ο.Α.ΞΥΛΟΚΑΣΤΡΟΥ ΣΥΘΑΣ","ΣΤ"]
[10837,"M","ΚΟΥΜΠΑΡΟΥΛΗΣ ΟΔΥΣΣΕΑΣ",1980,"Α.Ο.ΑΛΦΕΙΟΣ ΕΠΙΤΑΛΙΟΥ","ΣΤ"]
[30822,"F","ΚΟΥΝΑΔΗ ΜΑΡΙΝΑ",2000,"Α.Π.Ο.ΣΑΝΝΥ ΣΠΟΡΤΣ ΚΛΑΜΠ","Η"]
[29329,"F","ΚΟΥΝΕΝΗ ΑΘΑΝΑΣΙΑ",2001,"Ο.Α.ΓΟΥΔΙΟΥ","ΙΑ"]
[11666,"M","ΚΟΥΝΤΟΥΡΗΣ ΜΑΝΩΛΗΣ",1984,"Ο.Α.ΒΟΥΛΙΑΓΜΕΝΗΣ ΜΙΚΡΟΙ ΑΣΣΟΙ","ΙΑ"]
[11889,"M","ΚΟΥΡΑΚΛΗΣ ΠΕΤΡΟΣ",1984,"ΑΙΟΛΟΣ Α.Λ.ΙΛΙΟΥ","Θ"]
[5191,"M","ΚΟΥΡΓΙΩΤΗΣ ΧΡΗΣΤΟΣ",1978,"Ο.Α.ΚΟΡΙΝΘΟΥ","ΣΤ"]
[30936,"F","ΚΟΥΡΕΤΑ ΕΛΕΝΗ",1982,"Σ.Α.ΤΡΙΠΟΛΗΣ","ΣΤ"]
[1208,"F","ΚΟΥΡΚΑΦΑ ΙΛΙΑΝΑ",1969,"Ο.Α.ΑΛΕΞΑΝΔΡΟΥΠΟΛΗΣ","Α"]
[26071,"F","ΚΟΥΡΚΟΥΜΕΛΗ ΛΥΔΙΑ",1997,"ΚΕΦΑΛΛΗΝΙΑΚΟΣ Ο.Α.","ΣΤ"]
[13989,"M","ΚΟΥΡΜΠΕΤΗΣ ΒΑΣΙΛΕΙΟΣ",1982,"Α.Ο.Α.ΜΕΓΑΛΟΠΟΛΗΣ","ΣΤ"]
[4898,"M","ΚΟΥΡΟΥΚΛΗΣ ΧΑΡΑΛΑΜΠΟΣ",1975,"Ο.Α.ΧΑΛΚΙΔΑΣ","Θ"]
[24585,"M","ΚΟΥΡΟΥΠΗΣ ΜΑΡΙΝΟΣ",1998,"Σ.Α.ΓΑΛΑΤΣΙΟΥ","Θ"]
[12881,"M","ΚΟΥΡΟΥΠΗΣ ΝΙΚΟΛΑΟΣ",1990,"ΚΕΡΚΥΡΑΪΚΗ Λ.Τ.","Δ"]
[26483,"M","ΚΟΥΡΤΗΣ ΑΛΕΞΑΝΔΡΟΣ",1994,"Α.Ο.Α.ΗΛΙΟΥΠΟΛΗΣ","ΙΑ"]
[30946,"M","ΚΟΥΡΤΙΔΗΣ ΙΣΑΑΚ",2001,"Ο.Α.ΠΟΛΥΚΑΣΤΡΟΥ","Β"]
[14118,"M","ΚΟΥΣΑΣΗΣ ΓΙΩΡΓΟΣ-ΑΛΕΞΑΝΔΡΟΣ",1990,"Α.Κ.Α.ΜΑΡΑΘΩΝΑ","Η"]
[3298,"F","ΚΟΥΣΚΟΥΡΗ ΑΘΑΝΑΣΙΑ",1973,"Ο.Α.ΑΙΓΙΟΥ","ΣΤ"]
[24107,"M","ΚΟΥΣΤΕΡΙΔΗΣ ΡΑΦΑΗΛ",1998,"Ο.Α.ΕΥΟΣΜΟΥ ΘΕΣΣΑΛΟΝΙΚΗΣ","Β"]
[10023,"F","ΚΟΥΤΑΡΟΥ ΑΛΕΞΑΝΔΡΑ",1982,"Ο.Α.ΛΑΡΙΣΑΣ","Ε"]
[18999,"M","ΚΟΥΤΗΣ ΑΝΔΡΕΑΣ-ΧΡΥΣΟΒΑΛΑΝΤΗΣ",1993,"Ο.Α.ΧΑΛΚΙΔΑΣ","Θ"]
[1295,"M","ΚΟΥΤΜΑΝΗΣ ΙΩΑΝΝΗΣ",1966,"Σ.Α.ΣΕΡΡΩΝ","Α"]
[12834,"M","ΚΟΥΤΟΥΛΗΣ ΑΝΑΣΤΑΣΙΟΣ",1981,"Γ.Α.Σ.ΝΙΓΡΙΤΑΣ ΒΙΣΑΛΤΗΣ","Α"]
[31313,"F","ΚΟΥΤΡΑ ΟΛΓΑ",1986,"Γ.Α.Σ.ΚΑΡΑΤΕ ΕΡΜΗΣ","Γ"]
[32076,"M","ΚΟΥΤΡΗΣ ΝΙΚΟΛΑΣ",2002,"ΚΕΦΑΛΛΗΝΙΑΚΟΣ Ο.Α.","ΣΤ"]
[25223,"F","ΚΟΥΤΡΟΥΜΠΑ ΒΑΣΙΛΙΚΗ",1995,"ΠΑΝΘΡΑΚΙΚΟΣ Ο.Α.ΚΟΜΟΤΗΝΗΣ","Α"]
[28490,"M","ΚΟΥΤΡΩΤΣΙΟΣ ΘΩΜΑΣ",2001,"Ο.Α.ΓΟΥΔΙΟΥ","ΙΑ"]
[836,"M","ΚΟΥΤΣΙΑΣ ΣΤΕΛΙΟΣ",1968,"Ο.Α.ΤΡΙΚΑΛΩΝ","Ε"]
[4968,"M","ΚΟΥΤΣΙΝΙΩΤΗΣ ΠΑΝΑΓΙΩΤΗΣ",1976,"Ο.Α.ΚΟΡΙΝΘΟΥ","ΣΤ"]
[2334,"M","ΚΟΥΤΣΟΓΙΑΝΝΗΣ ΘΡΑΣΥΒΟΥΛΟΣ",1971,"Σ.Α.ΣΕΡΡΩΝ","Α"]
[27837,"M","ΚΟΥΤΣΟΜΑΡΚΟΣ ΣΤΕΦΑΝΟΣ",1993,"Σ.Α.ΕΛΑΣΣΟΝΑΣ","Ε"]
[31019,"M","ΚΟΥΤΣΟΣ-ΚΟΥΤΣΟΠΟΥΛΟΣ ΝΙΚΟΛΑΟΣ",2002,"Α.Σ.Ν.ΒΟΥΤΖΑ ΡΑΦΗΝΑΣ Η ΠΡΟΟΔΟΣ","Η"]
[27042,"F","ΚΟΥΤΣΟΥΚΟΥ ΕΛΕΝΗ-ΜΑΡΙΑ",1998,"Ο.Α.ΜΑΓΝΗΣΙΑΣ","Ε"]
[34033,"M","ΚΟΥΤΣΟΥΡΕΛΗΣ ΓΕΩΓΡΙΟΣ",1985,"Α.Ο.ΚΥΔΩΝΙΑΣ","Ζ"]
[35914,"M","ΚΟΥΦΑΚΗΣ ΙΩΑΝΝΗΣ-ΚΩΝΣΤΑΝΤΙΝΟΣ",2001,"Α.Ο.Α.ΗΛΙΟΥΠΟΛΗΣ","ΙΑ"]
[12981,"M","ΚΟΥΦΟΠΟΥΛΟΣ ΙΩΑΝΝΗΣ",1985,"Γ.Σ.ΕΛΕΥΘΕΡΙΟΥ ΚΟΡΔ.ΑΡΓΟΝΑΥΤΕΣ","Β"]
[25500,"F","ΚΟΦΦΑ ΕΥΡΙΔΙΚΗ",1997,"Ο.Α.ΜΑΓΝΗΣΙΑΣ","Ε"]
[3748,"M","ΚΡΑΪΑΣ ΜΙΧΑΗΛ",1979,"Σ.Α.ΣΕΡΡΩΝ","Α"]
[14619,"M","ΚΡΑΝΙΩΤΗΣ ΓΕΩΡΓΙΟΣ",1988,"Ο.Α.ΑΡΤΑΣ","Δ"]
[21355,"M","ΚΡΑΧΤΟΠΟΥΛΟΣ ΠΑΥΛΟΣ",1995,"Ε.Σ.Ο.ΕΠΙΚΟΥΡΟΣ ΠΟΛΙΧΝΗΣ","Β"]
[26749,"F","ΚΡΕΜΛΙΔΟΥ ΝΑΤΑΛΙ",1999,"Ο.Α.ΒΙΚΕΛΑΣ ΒΕΡΟΙΑΣ","Γ"]
[26429,"M","ΚΡΗΤΙΚΟΣ ΣΤΕΦΑΝΟΣ",1995,"Α.Ο.Α.ΧΑΪΔΑΡΙΟΥ","Θ"]
[31305,"M","ΚΡΙΕΖΗΣ ΑΡΓΥΡΗΣ",2000,"ΠΕΥΚΗ Γ.ΚΑΛΟΒΕΛΩΝΗΣ","Η"]
[10629,"M","ΚΡΙΚΟΓΛΟΥ ΚΟΣΜΑΣ",1986,"Α.Ο.Α.ΚΑΒΑΛΑΣ","Α"]
[16725,"M","ΚΡΙΤΣΩΤΑΚΗΣ ΑΛΕΞΑΝΔΡΟΣ-ΟΣΚΑΡ",1991,"Ο.Α.ΚΩ","Θ"]
[37103,"M","ΚΡΟΝΤΗΡΑΣ ΚΩΝΣΤΑΝΤΙΝΟΣ",1968,"Α.Ο.ΤΑΤΟΪΟΥ","Η"]
[1853,"F","ΚΡΥΣΤΑΛΛΑΚΟΥ ΜΕΡΣ",1973,"Ν.Ο.ΚΑΛΑΜΑΚΙΟΥ","ΙΑ"]
[35024,"M","ΚΡΩΦΟΡΝΤ ΘΩΜΑΣ-ΛΩΡΕΝΣ",2002,"Α.Ο.Α.ΑΤΤΙΚΟΣ ΗΛΙΟΣ","Η"]
[29724,"F","ΚΥΔΩΝΑ ΧΑΪΔΩ-ΜΑΡΙΑ",1998,"ΛΑΡΙΣΑΪΚΟΣ Ο.Α.","Ε"]
[15905,"M","ΚΥΠΑΡΙΣΣΗΣ ΕΥΑΓΓΕΛΟΣ",1985,"Α.Κ.Α.ΜΑΡΑΘΩΝΑ","Η"]
[27277,"F","ΚΥΠΡΙΩΤΗ ΙΩΑΝΝΑ-ΜΙΧΑΗΛΙΑ",1997,"Ο.Α.ΚΩ","Θ"]
[33760,"M","ΚΥΡΙΑΖΑΚΟΣ ΧΡΗΣΤΟΣ",1985,"Ο.Α.ΡΙΟΥ","ΣΤ"]
[36172,"F","ΚΥΡΙΑΖΗ ΑΛΕΞΑΝΔΡΑ",2002,"Α.Ν.Σ.ΕΛΛΗΝΙΚΙΩΤΩΝ","ΙΑ"]
[22231,"M","ΚΥΡΙΑΖΗΣ ΓΕΩΡΓΙΟΣ",1998,"Α.Γ.Ο.ΝΑΥΠΑΚΤΟΥ","Δ"]
[16129,"M","ΚΥΡΙΑΖΟΠΟΥΛΟΣ ΚΩΝΣΤΑΝΤΙΝΟΣ",1988,"Ο.Α.ΚΑΛΑΜΑΤΑΣ","ΣΤ"]
[26338,"M","ΚΥΡΙΑΚΑΚΗΣ-ΜΕΣΣΑΡΙΤΑΚΗΣ ΓΕΩΡΓΙΟΣ",1999,"ΗΡΑΚΛΕΙΟ Ο.Α.& Α.","Ζ"]
[13658,"M","ΚΥΡΙΑΚΙΔΗΣ ΓΕΩΡΓΙΟΣ",1986,"Ο.Α.ΑΛΕΞΑΝΔΡΟΥΠΟΛΗΣ","Α"]
[27326,"F","ΚΥΡΙΑΚΙΔΟΥ ΑΛΚΗΣΤΙΣ",1999,"Ο.Α.ΩΡΑΙΟΚΑΣΤΡΟΥ Ο ΑΝΤΑΙΟΣ","Β"]
[24146,"M","ΚΥΡΙΑΚΟΠΟΥΛΟΣ ΛΕΩΝΙΔΑΣ",1991,"Ο.Α.ΚΑΛΑΜΑΤΑΣ","ΣΤ"]
[7796,"F","ΚΥΡΙΑΚΟΠΟΥΛΟΥ ΣΟΦΙΑ",1985,"Α.Ο.Α.ΗΛΙΟΥΠΟΛΗΣ","ΙΑ"]
[18437,"M","ΚΥΡΙΑΚΟΥ ΧΑΡΑΛΑΜΠΟΣ",1991,"Ο.Α.ΙΑΛΥΣΣΟΣ ΡΟΔΟΥ","Θ"]
[13116,"F","ΚΥΡΙΤΣΗ ΑΙΚΑΤΕΡΙΝΗ",1988,"Α.Ο.Α.ΑΤΤΙΚΟΣ ΗΛΙΟΣ","Η"]
[2108,"M","ΚΥΡΙΤΣΗΣ ΝΙΚΟΛΑΟΣ",1975,"Ο.Α.ΘΕΣΣΑΛΟΝΙΚΗΣ","Β"]
[26678,"F","ΚΥΡΜΑΝΙΔΟΥ ΓΙΟΥΛΙΑ",1997,"Α.Ο.ΑΤΡΟΜΗΤΟΣ ΤΡΙΑΔΙΟΥ","Β"]
[25711,"M","ΚΥΤΡΙΛΑΚΗΣ ΝΙΚΟΛΑΟΣ",1995,"Ο.Α.ΧΙΟΥ","Θ"]
[18897,"F","ΚΩΝΣΤΑ ΚΑΤΕΡΙΝΑ",1992,"Α.Ο.ΠΟΣΕΙΔΩΝ ΛΟΥΤΡΑΚΙΟΥ","ΣΤ"]
[3244,"F","ΚΩΝΣΤΑΝΤΑΡΑ ΣΟΦΙΑ",1970,"Ο.Α.ΚΑΙΣΑΡΙΑΝΗΣ","Θ"]
[19723,"M","ΚΩΝΣΤΑΝΤΕΛΑΚΗΣ ΓΕΩΡΓΙΟΣ",1993,"Α.Ε.ΠΟΡΤΟ ΡΑΦΤΗ","Η"]
[30071,"M","ΚΩΝΣΤΑΝΤΙΝΑΚΟΣ ΑΓΙΣ",1998,"Ο.Α.ΠΕΙΡΑΙΑ","Θ"]
[23748,"M","ΚΩΝΣΤΑΝΤΙΝΙΔΗΣ ΓΙΩΡΓΟΣ",1995,"Ο.Α.ΛΑΥΡΙΟΥ","Η"]
[13030,"M","ΚΩΝΣΤΑΝΤΙΝΙΔΗΣ ΚΩΝΣΤΑΝΤΙΝΟΣ",1985,"Α.Ο.Α.ΧΑΪΔΑΡΙΟΥ","Θ"]
[24477,"F","ΚΩΝΣΤΑΝΤΙΝΙΔΟΥ ΑΝΝΑ",2000,"Ο.Α.ΒΙΚΕΛΑΣ ΒΕΡΟΙΑΣ","Γ"]
[18377,"F","ΚΩΝΣΤΑΝΤΙΝΙΔΟΥ ΤΡΙΑΔΑ",1990,"Α.Ο.ΟΡΕΣΤΙΑΔΑΣ","Α"]
[30482,"M","ΚΩΝΣΤΑΝΤΙΝΟΣ ΠΑΠΑΔΟΠΟΥΛΟΣ-ΠΑΠΑΜΗΤΡΟΠΟΥΛΟΣ",2000,"Α.Ο.ΑΙΓΙΟΥ ΜΟΡΕΑΣ","ΣΤ"]
[8049,"F","ΚΩΝΣΤΑΝΤΙΝΟΥ ΚΩΝΣΤΑΝΤΙΝΑ",1982,"Σ.Α.ΚΑΤΕΡΙΝΗΣ","Γ"]
[9524,"M","ΚΩΝΣΤΑΝΤΟΠΟΥΛΟΣ ΒΑΣΙΛΗΣ",1985,"Ο.Α.ΕΛΛΗΝΙΚΟΥ","ΙΑ"]
[11556,"F","ΚΩΝΣΤΑΝΤΟΠΟΥΛΟΥ ΒΑΣΙΛΙΚΗ",1984,"Α.Ο.Α.ΧΑΪΔΑΡΙΟΥ","Θ"]
[24650,"M","ΚΩΝΣΤΑΝΤΟΥΛΑΚΗΣ ΠΕΤΡΟΣ",1994,"Γ.Ο.ΠΕΡΙΣΤΕΡΙΟΥ Γ.ΠΑΛΑΣΚΑΣ","Θ"]
[15571,"F","ΚΩΣΤΑ ΕΥΓΕΝΙΑ",1983,"Ο.Α.ΝΑΟΥΣΑΣ","Γ"]
[29107,"M","ΚΩΣΤΑΚΗΣ ΓΕΩΡΓΙΟΣ",1995,"ΡΗΓΑΣ Α.Ο.Α.ΑΡΓΟΛΙΔΑΣ","ΣΤ"]
[1725,"F","ΚΩΣΤΑ-ΜΠΕΖΕΒΕΓΚΗ ΜΑΓΔΑΛΗΝΗ",1973,"Α.Γ.Ο.ΦΙΛΙΠΠΙΑΔΑΣ","Δ"]
[7830,"M","ΚΩΣΤΑΡΑΣ ΦΩΤΙΟΣ",1977,"Α.Σ.Α.ΛΑΡΙΣΑΣ","Ε"]
[31161,"F","ΚΩΣΤΑ-ΦΩΤΗ ΑΛΕΞΑΝΔΡΑ",2001,"ΡΟΔΙΑΚΗ ΑΚΑΔ.ΑΝΤΙΣΦ.","Θ"]
[11035,"F","ΚΩΣΤΙΚΑ ΕΛΕΝΗ",1969,"Α.Ο.ΠΟΣΕΙΔΩΝ ΛΟΥΤΡΑΚΙΟΥ","ΣΤ"]
[18982,"M","ΚΩΣΤΟΠΟΥΛΟΣ ΑΛΕΞΑΝΔΡΟΣ",1993,"Σ.Α.ΚΑΣΤΟΡΙΑΣ ΠΡΩΤΕΑΣ","Γ"]
[28668,"F","ΚΩΣΤΟΠΟΥΛΟΥ ΕΥΤΥΧΙΑ",1996,"Ο.Α.ΤΡΙΚΑΛΩΝ","Ε"]
[19921,"M","ΚΩΣΤΟΥΛΑΣ ΑΓΓΕΛΟΣ",1988,"Α.Ο.Α.ΦΙΛΟΘΕΗΣ","Η"]
[5593,"M","ΚΩΤΟΥΖΑΣ ΑΛΕΞΑΝΔΡΟΣ",1979,"Ο.Α.ΒΟΛΟΥ","Ε"]
[3032,"M","ΚΩΤΣΑΚΗΣ ΜΙΧΑΗΛ",1967,"Α.Ο.Ν.ΣΜΥΡΝΗΣ Ο ΜΙΛΩΝ","ΙΑ"]
[2964,"M","ΚΩΤΣΗΣ ΒΑΣΙΛΗΣ",1972,"Ο.Α.ΧΟΛΑΡΓΟΥ","ΙΑ"]
[31544,"F","ΚΩΤΣΙΟΥ ΜΑΡΓΑΡΙΤΑ",1999,"Ο.Α.ΘΕΣΠΡΩΤΙΑΣ ΤΙΤΑΝΗ","Δ"]
[21118,"M","ΛΑΒΑΝΤΣΙΩΤΗΣ ΚΩΝΣΤΑΝΤΙΝΟΣ",1989,"Ο.Α.ΝΑΟΥΣΑΣ","Γ"]
[21098,"M","ΛΑΒΑΝΤΣΙΩΤΗΣ ΣΤΑΥΡΟΣ",1992,"Ο.Α.ΝΑΟΥΣΑΣ","Γ"]
[18103,"F","ΛΑΓΑΡΟΥ ΡΕΓΓΙΝΑ",1989,"Ο.Α.ΛΙΒΑΔΕΙΑΣ","Ε"]
[6833,"M","ΛΑΓΟΣ ΜΑΡΙΝΟΣ",1980,"Α.Ο.Α.ΗΛΙΟΥΠΟΛΗΣ","ΙΑ"]
[17613,"F","ΛΑΓΟΥΔΑΚΗ ΓΕΩΡΓΙΑ",1992,"Α.Γ.Ο.ΝΑΥΠΑΚΤΟΥ","Δ"]
[9781,"M","ΛΑΔΕΡΟΣ ΓΕΩΡΓΙΟΣ",1983,"Ο.Α.ΧΑΛΚΙΔΑΣ","Θ"]
[21021,"F","ΛΑΖΑΡΗ ΕΥΑΓΓΕΛΙΑ",1992,"Α.Σ.Ε.ΘΗΣΕΑΣ ΑΓΙΟΥ ΔΗΜΗΤΡΙΟΥ","ΙΑ"]
[28932,"M","ΛΑΖΑΡΙΔΗΣ ΝΙΚΟΛΟ",1997,"Α.Ο.ΚΑΒΑΛΑΣ ΜΑΚΕΔΟΝΙΚΟΣ","Α"]
[24763,"F","ΛΑΖΑΡΙΔΟΥ ΜΑΡΙΑ-ΚΩΝΣΤΑΝΤΙΝΑ",1995,"Ο.Α.ΘΕΣΣΑΛΟΝΙΚΗΣ","Β"]
[27338,"F","ΛΑΖΙΔΟΥ ΜΑΡΙΑ",1998,"Ο.Α.ΩΡΑΙΟΚΑΣΤΡΟΥ Ο ΑΝΤΑΙΟΣ","Β"]
[22510,"F","ΛΑΖΟΥ ΘΩΜΑΗ",1996,"Ο.Α.ΚΑΣΤΟΡΙΑΣ ΚΕΛΕΤΡΟΝ","Γ"]
[20737,"M","ΛΑΪΟΣ ΧΡΥΣΟΣΤΟΜΟΣ-ΜΑΡΙΟΣ",1995,"Σ.Α.ΔΡΑΜΑΣ","Α"]
[24584,"F","ΛΑΛΑΟΥΝΗ ΚΩΝΣΤΑΝΤΙΝΑ",1994,"Α.Ο.ΚΑΛΛΙΤΕΧΝΟΥΠΟΛΗΣ","Η"]
[17926,"M","ΛΑΛΟΠΟΥΛΟΣ ΑΝΔΡΕΑΣ",1992,"Μ.Γ.Σ.ΑΠΟΛΛΩΝ ΚΑΛΑΜΑΡΙΑΣ","Β"]
[18707,"F","ΛΑΜΠΙΔΗ ΕΛΙΣΑΒΕΤ",1988,"Α.Α.Α.ΑΛΙΜΟΥ","ΙΑ"]
[20894,"M","ΛΑΜΠΡΑΚΗΣ ΕΜΜΑΝΟΥΗΛ",1991,"Γ.Σ.ΛΙΒΥΚΟΣ ΙΕΡΑΠΕΤΡΑΣ","Ζ"]
[19230,"F","ΛΑΜΠΡΙΝΑΚΗ ΕΛΕΝΗ",1991,"Ο.Α.ΧΑΝΙΩΝ","Ζ"]
[7067,"M","ΛΑΜΠΡΟΚΩΣΤΟΠΟΥΛΟΣ ΡΟΜΠΙΝ",1980,"ΗΡΑΚΛΕΙΟ Ο.Α.& Α.","Ζ"]
[22651,"M","ΛΑΜΠΡΟΠΟΥΛΟΣ ΠΑΝΑΓΙΩΤΗΣ",1994,"Α.Ο.ΜΕΓΑΣ ΑΛΕΞΑΝΔΡΟΣ","ΙΑ"]
[29298,"F","ΛΑΜΠΡΟΥ ΑΜΑΛΙΑ-ΕΛΕΝΗ",1999,"Ο.Α.ΒΟΥΛΙΑΓΜΕΝΗΣ ΜΙΚΡΟΙ ΑΣΣΟΙ","ΙΑ"]
[30875,"F","ΛΑΜΠΡΟΥ ΜΑΡΙΑ-ΑΓΓΕΛΙΚΗ",2002,"Α.Σ.ΠΕΡΑ","ΙΑ"]
[11397,"F","ΛΑΝΑΡΑ ΡΟΔΟΥΛΑ",1982,"ΑΙΟΛΟΣ Α.Λ.ΙΛΙΟΥ","Θ"]
[20698,"F","ΛΑΠΠΑ ΑΙΚΑΤΕΡΙΝΗ",1995,"ΑΚΑΔΗΜΙΑ ΑΝΤΙΣΦ.ΣΕΡΡΩΝ 2008","Α"]
[3641,"M","ΛΑΣΑΝΙΑΝΟΣ ΔΗΜΗΤΡΗΣ",1978,"Α.Ο.ΑΡΓΥΡΟΥΠΟΛΗΣ","ΙΑ"]
[30302,"M","ΛΑΣΚΑΡΗΣ ΚΩΝΣΤΑΝΤΙΝΟΣ-ΧΡΗΣΤΟΣ",1997,"ΚΕΡΚΥΡΑΪΚΗ ΑΚΑΔ.ΤΕΝΝΙΣ","Δ"]
[6026,"M","ΛΑΤΖΟΣ ΔΗΜΗΤΡΗΣ",1977,"Ο.Α.ΚΑΤΕΡΙΝΗΣ","Γ"]
[1030,"M","ΛΑΥΡΕΝΤΟΓΛΟΥ ΦΙΛΙΩΝ",1967,"Α.Ν.Ο.ΓΛΥΦΑΔΑΣ","ΙΑ"]
[2867,"M","ΛΑΧΑΝΑΣ ΔΗΜΗΤΡΗΣ",1978,"Μ.Γ.Σ.ΑΠΟΛΛΩΝ ΚΑΛΑΜΑΡΙΑΣ","Β"]
[20486,"F","ΛΕΑΝΔΡΟΥ ΣΤΥΛΙΑΝΗ",1994,"Α.Ο.ΓΛΥΦΑΔΑΣ ΦΙΛΙΑ 2000","ΙΑ"]
[10316,"M","ΛΕΒΕΝΤΗΣ ΝΙΚΟΛΑΟΣ",1984,"Σ.Α.ΣΕΡΡΩΝ","Α"]
[8593,"M","ΛΕΖΗΣ ΓΙΩΡΓΟΣ",1980,"Φ.Σ.ΚΑΛΛΙΘΕΑΣ","Θ"]
[22339,"F","ΛΕΚΑΝΙΔΗ ΑΝΑΣΤΑΣΙΑ",1989,"Α.Κ.ΖΩΓΡΑΦΟΥ","ΙΑ"]
[3183,"M","ΛΕΚΚΑΣ ΜΑΝΩΛΗΣ",1970,"ΗΡΑΚΛΕΙΟ Ο.Α.& Α.","Ζ"]
[18321,"F","ΛΕΜΠΕΣΗ ΑΓΓΕΛΙΚΗ",1991,"Α.Α.ΑΙΓΑΛΕΩ","Θ"]
[7676,"M","ΛΕΝΤΑΚΗΣ ΚΩΝΣΤΑΝΤΙΝΟΣ",1982,"Α.Ο.ΑΜΥΝΤΑΣ ΥΜΗΤΤΟΥ","ΙΑ"]
[9343,"F","ΛΕΟΝΤΙΑΔΟΥ ΚΡΥΣΤΑΛΛΙΑ",1981,"Μ.Γ.Σ.ΑΠΟΛΛΩΝ ΚΑΛΑΜΑΡΙΑΣ","Β"]
[18660,"M","ΛΕΠΟΥΡΗΣ ΠΑΝΑΓΙΩΤΗΣ",1993,"Α.Κ.Α.ΜΑΡΑΘΩΝΑ","Η"]
[34275,"M","ΛΕΥΘΕΡΙΩΤΗΣ ΠΑΝΑΓΙΩΤΗΣ",2002,"Α.Ο.ΣΙΚΥΩΝΟΣ ΚΙΑΤΟΥ","ΣΤ"]
[24120,"M","ΛΕΩΝΗΣ ΔΗΜΗΤΡΙΟΣ",1994,"Ο.Α.ΜΑΓΝΗΣΙΑΣ","Ε"]
[16691,"F","ΛΗΜΝΑΙΟΥ ΚΟΡΝΗΛΙΑ",1989,"Ο.Α.ΛΕΣΒΟΥ","Θ"]
[2323,"M","ΛΗΜΝΙΟΥΔΗΣ ΙΩΑΝΝΗΣ",1976,"Ο.Α.ΚΑΒΑΛΑΣ ΑΛΕΞΑΝΔΡΟΣ","Α"]
[30029,"M","ΛΙΑΖΟΣ ΠΑΝΑΓΙΩΤΗΣ",2001,"ΑΙΟΛΟΣ Α.Λ.ΙΛΙΟΥ","Θ"]
[22182,"F","ΛΙΑΚΟΥ ΚΥΡΙΑΚΗ",1992,"Α.Ο.Α.ΣΤΑΥΡΟΥΠΟΛΗΣ ΙΦΙΤΟΣ","Β"]
[34803,"M","ΛΙΑΝΟΣ ΚΩΝΣΤΑΝΤΙΝΟΣ",2001,"Α.Ο.Α.ΧΑΪΔΑΡΙΟΥ","Θ"]
[5927,"M","ΛΙΑΡΟΣ ΗΛΙΑΣ",1968,"Ο.Α.ΓΛΥΦΑΔΑΣ","ΙΑ"]
[27220,"M","ΛΙΑΤΣΟΣ ΔΗΜΗΤΡΙΟΣ",1999,"Ο.Α.ΘΕΣΠΡΩΤΙΑΣ ΤΙΤΑΝΗ","Δ"]
[11272,"M","ΛΙΒΑΣ ΚΩΝΣΤΑΝΤΙΝΟΣ",1985,"Γ.Ο.ΠΕΡΙΣΤΕΡΙΟΥ Γ.ΠΑΛΑΣΚΑΣ","Θ"]
[28451,"F","ΛΙΖΑ ΔΗΜΗΤΡΑ-ΖΩΗ",1999,"Ο.Α.ΓΟΥΔΙΟΥ","ΙΑ"]
[15676,"M","ΛΙΜΟΣ-ΛΑΔΙΚΑΣ ΚΩΝΣΤΑΝΤΙΝΟΣ",1990,"Α.Ο.Α.ΚΑΒΑΛΑΣ","Α"]
[23267,"F","ΛΙΝΑΡΔΟΥ ΝΑΤΑΛΙΑ-ΜΑΡΙΑ",1995,"Γ.Σ.ΗΛΙΟΥΠΟΛΗΣ","ΙΑ"]
[5607,"M","ΛΙΟΛΙΤΣΑΣ ΧΡΗΣΤΟΣ",1969,"Α.Ο.ΠΟΣΕΙΔΩΝ ΛΟΥΤΡΑΚΙΟΥ","ΣΤ"]
[24868,"F","ΛΙΟΥΠΗ ΑΦΡΟΔΙΤΗ-ΧΡΥΣΟΥΛΑ",1993,"Α.Σ.Α.ΛΑΡΙΣΑΣ","Ε"]
[9257,"F","ΛΙΤΕΝΗ ΧΡΥΣΟΥΛΑ",1982,"Σ.Α.ΕΛΑΣΣΟΝΑΣ","Ε"]
[14026,"M","ΛΙΩΚΟΣ ΑΝΔΡΕΑΣ",1986,"Ο.Α.ΛΑΡΙΣΑΣ","Ε"]
[12310,"M","ΛΟΓΟΘΕΤΗΣ ΑΡΗΣ",1983,"Α.Ο.ΠΟΣΕΙΔΩΝ ΛΟΥΤΡΑΚΙΟΥ","ΣΤ"]
[16202,"M","ΛΟΗΣ ΜΙΧΑΛΗΣ",1987,"Α.Ο.Α.ΗΛΙΟΥΠΟΛΗΣ","ΙΑ"]
[5186,"M","ΛΟΚΑΣ ΓΕΩΡΓΙΟΣ",1982,"Α.Σ.Α.ΛΑΡΙΣΑΣ","Ε"]
[31662,"F","ΛΟΥΓΚΑ ΜΑΡΙΑ",2001,"Ο.Α.ΑΡΙΔΑΙΑΣ","Γ"]
[31491,"F","ΛΟΥΚΑ ΠΑΝΑΓΙΩΤΑ",1984,"ΦΙΛΑΘΛΗΤ.ΣΥΛ.ΛΑΜΙΑΣ","Ε"]
[31187,"M","ΛΟΥΚΑΣ ΕΠΑΜΕΙΝΩΝΔΑΣ",1997,"ΚΕΝΤΡΟ ΑΝΤΙΣΦΑΙΡΙΣΗΣ ΛΙΒΑΔΕΙΑΣ","Ε"]
[2889,"F","ΛΟΥΚΙΣΑ ΣΤΕΦΑΝΙΑ",1977,"Α.Σ.ΣΠΑΡΤΑΚΟΣ ΓΛΥΦΑΔΑΣ","ΙΑ"]
[13721,"M","ΛΟΥΛΟΣ ΦΙΛΙΠΠΟΣ",1984,"Ο.Α.ΑΡΤΑΣ","Δ"]
[5670,"F","ΛΟΥΜΠΡΑΝΟΥ ΚΑΛΛΙΟΠΗ-ΙΩΑΝΝΑ",1967,"Ο.Α.ΣΥΡΟΥ","Η"]
[9842,"M","ΛΟΥΡΑΝΤΟΣ ΠΑΝΑΓΙΩΤΗΣ",1982,"Α.Ν.Ο.ΓΛΥΦΑΔΑΣ","ΙΑ"]
[11644,"F","ΛΟΥΣΤΑ ΑΙΚΑΤΕΡΙΝΗ-ΒΕΡΟΝΙΚΗ",1981,"Α.Α.ΑΛΜΠΑΤΡΟΣ","Β"]
[4674,"F","ΛΥΓΟΥΡΑ ΕΛΕΝΑ",1980,"Α.Ο.ΒΟΥΛΙΑΓΜΕΝΗΣ","ΙΑ"]
[20517,"F","ΛΥΚΚΑ ΝΕΦΕΛΗ",1995,"Γ.Ε.ΠΡΕΒΕΖΑΣ","Δ"]
[32814,"M","ΛΥΚΟΥΡΕΝΤΖΟΣ ΔΙΟΝΥΣΙΟΣ",2000,"Γ.Σ.ΚΗΦΙΣΙΑΣ","Η"]
[27058,"F","ΛΥΜΠΕΡΗ-ΣΤΟΛΑΚΗ ΕΛΕΝΗ",1994,"Ο.Α.ΑΓΙΑΣ ΠΑΡΑΣΚΕΥΗΣ","Η"]
[13103,"M","ΛΥΜΠΕΡΟΠΟΥΛΟΣ ΣΤΕΦΑΝΟΣ",1988,"Α.Ο.Α.ΑΤΤΙΚΟΣ ΗΛΙΟΣ","Η"]
[23039,"F","ΛΥΡΑΚΟΥ ΛΩΡΑ",1992,"Ο.Α.ΠΕΙΡΑΙΑ","Θ"]
[34565,"F","ΛΥΤΡΑ ΕΛΕΝΗ",2001,"Φ.Σ.ΚΑΛΛΙΘΕΑΣ","Θ"]
[27222,"M","ΛΩΛΗΣ ΔΗΜΗΤΡΙΟΣ",1997,"Ο.Α.ΘΕΣΠΡΩΤΙΑΣ ΤΙΤΑΝΗ","Δ"]
[8761,"F","ΜΑΒΙΝΑΚΗ ΠΟΥΛΧΕΡΙΑ-ΜΑΡΙΑ",1978,"Ο.Α.ΕΔΕΣΣΑΣ","Γ"]
[29424,"M","ΜΑΓΕΙΡΑΣ ΑΘΑΝΑΣΙΟΣ",2000,"Α.Σ.ΑΚΡΟΠΟΛΙΣ","Η"]
[11154,"F","ΜΑΓΚΛΑΡΑ ΕΥΣΤΑΘΙΑ",1987,"Ο.Α.ΛΙΒΑΔΕΙΑΣ","Ε"]
[4400,"F","ΜΑΓΝΗΣΑΛΗ ΔΗΜΗΤΡΑ",1977,"Ο.Α.ΞΑΝΘΗΣ","Α"]
[6943,"M","ΜΑΔΕΜΖΗΣ ΓΕΩΡΓΙΟΣ",1979,"ΝΑΥΠΛΙΑΚΟΣ Ο.Α.","ΣΤ"]
[7626,"F","ΜΑΖΑΡΑΚΗ ΚΩΝΣΤΑΝΤΙΑ",1983,"Ο.Α.ΒΕΡΟΙΑΣ","Γ"]
[33846,"M","ΜΑΖΑΡΑΚΗΣ ΑΠΟΣΤΟΛΟΣ",1998,"Ο.Α.ΘΕΣΠΡΩΤΙΑΣ ΤΙΤΑΝΗ","Δ"]
[12934,"M","ΜΑΖΩΝΑΚΗΣ ΑΛΕΞΑΝΔΡΟΣ",1986,"Ο.Α.ΣΗΤΕΙΑΣ","Ζ"]
[26967,"M","ΜΑΪΛΛΗΣ ΙΩΑΝΝΗΣ-ΑΛΕΞΑΝΔΡΟΣ",1999,"Α.Π.Ο.ΣΑΝΝΥ ΣΠΟΡΤΣ ΚΛΑΜΠ","Η"]
[8123,"F","ΜΑΚΕΝΤΟΥΔΗ ΑΝΝΑ",1980,"Φ.Σ.ΚΑΛΛΙΘΕΑΣ","Θ"]
[2872,"F","ΜΑΚΡΗ ΔΩΡΑ",1970,"Μ.Γ.Σ.ΑΠΟΛΛΩΝ ΚΑΛΑΜΑΡΙΑΣ","Β"]
[18938,"F","ΜΑΚΡΗ ΦΩΤΕΙΝΗ",1993,"Ο.Α.ΚΩ","Θ"]
[18937,"M","ΜΑΚΡΗΣ ΗΛΙΑΣ",1991,"Ο.Α.ΚΩ","Θ"]
[27973,"M","ΜΑΚΡΙΔΗΣ ΑΛΕΞΑΝΔΡΟΣ",1993,"Ο.Α.ΝΙΚΑΙΑ ΛΑΡΙΣΑΣ","Ε"]
[31234,"F","ΜΑΚΡΙΔΟΥ ΑΛΚΗΣΤΙΣ-ΕΛΕΝΗ",1996,"Ε.Σ.Ο.ΕΠΙΚΟΥΡΟΣ ΠΟΛΙΧΝΗΣ","Β"]
[17367,"F","ΜΑΚΡΟΜΑΡΙΔΗ ΣΤΑΥΡΟΥΛΑ",1990,"Ο.Α.ΚΑΙΣΑΡΙΑΝΗΣ","Θ"]
[9723,"F","ΜΑΚΡΥΓΙΑΝΝΗ ΝΕΦΕΛΗ",1979,"Σ.Α.ΓΑΛΑΤΣΙΟΥ","Θ"]
[15271,"M","ΜΑΚΤΑΜΠΙ ΧΡΗΣΤΟΣ",1985,"Ο.Α.ΖΩΓΡΑΦΟΥ","Η"]
[21676,"F","ΜΑΛΑΜΟΥ ΕΛΠΙΔΑ",1995,"Α.Ο.Α.ΦΙΛΟΘΕΗΣ","Η"]
[11826,"M","ΜΑΛΑΠΕΤΣΑΣ ΔΙΟΝΥΣΙΟΣ",1983,"ΖΑΚΥΝΘΙΝΟΣ Α.Ο.","ΣΤ"]
[30653,"F","ΜΑΛΕΒΙΤΗ ΑΓΛΑΪΑ",1999,"Α.Ο.Α.ΑΤΤΙΚΟΣ ΗΛΙΟΣ","Η"]
[32218,"M","ΜΑΛΙΝΔΡΕΤΟΣ ΜΙΧΑΗΛ",2002,"Σ.Α.ΡΑΦΗΝΑΣ","Η"]
[23404,"F","ΜΑΛΛΙΑΡΟΥ ΕΥΑΓΓΕΛΙΑ",1997,"Α.Ο.ΚΑΒΑΛΑΣ ΜΑΚΕΔΟΝΙΚΟΣ","Α"]
[6611,"M","ΜΑΛΟΒΡΟΥΒΑΣ ΓΕΩΡΓΙΟΣ",1981,"Α.Ο.Π.ΦΑΛΗΡΟΥ","ΙΑ"]
[23591,"F","ΜΑΜΑΗ ΚΩΝΣΤΑΝΤΙΝΑ",1997,"Γ.Σ.ΩΡΩΠΟΥ","Η"]
[13942,"F","ΜΑΜΑΛΟΥΓΚΑ ΑΙΚΑΤΕΡΙΝΗ",1988,"Ο.Α.ΚΑΙΣΑΡΙΑΝΗΣ","Θ"]
[2762,"F","ΜΑΜΙΔΟΥ ΒΑΣΙΛΙΚΗ",1976,"Μ.Γ.Σ.ΑΠΟΛΛΩΝ ΚΑΛΑΜΑΡΙΑΣ","Β"]
[12237,"M","ΜΑΝΑΡΙΔΗΣ ΘΕΟΔΩΡΟΣ",1983,"Ο.Α.ΛΙΤΟΧΩΡΟΥ","Γ"]
[17677,"F","ΜΑΝΔΑΝΟΥ ΒΑΣΙΛΕΙΑ",1989,"Α.Ο.Ν.ΣΜΥΡΝΗΣ Ο ΜΙΛΩΝ","ΙΑ"]
[30311,"M","ΜΑΝΔΥΛΑΣ ΘΩΜΑΣ-ΜΑΡΙΟΣ",1999,"ΚΕΡΚΥΡΑΪΚΗ ΑΚΑΔ.ΤΕΝΝΙΣ","Δ"]
[7840,"M","ΜΑΝΕΤΑΣ ΔΗΜΗΤΡΙΟΣ",1979,"Ο.Α.ΚΕΡΚΥΡΑΣ","Δ"]
[29456,"F","ΜΑΝΘΟΥ ΕΛΕΝΗ",1998,"ΠΑΝΘΡΑΚΙΚΟΣ Ο.Α.ΚΟΜΟΤΗΝΗΣ","Α"]
[29943,"M","ΜΑΝΙΑΤΕΑΣ ΣΤΑΥΡΟΣ",1994,"Α.Ο.Α.ΗΛΙΟΥΠΟΛΗΣ","ΙΑ"]
[2300,"M","ΜΑΝΙΔΑΚΗΣ ΝΙΚΟΛΑΟΣ",1977,"Α.Κ.ΖΩΓΡΑΦΟΥ","ΙΑ"]
[24686,"F","ΜΑΝΙΟΥΔΑΚΗ ΕΥΑΓΓΕΛΙΑ",1996,"Ο.Α.ΧΑΝΙΩΝ","Ζ"]
[29930,"M","ΜΑΝΟΣ ΙΩΑΝΝΗΣ",1967,"Γ.Σ.ΙΤΕΑΣ","Ε"]
[32472,"M","ΜΑΝΟΥΣΑΚΗΣ ΔΗΜΗΤΡΙΟΣ-ΠΑΝΑΓΙΩΤΗΣ",2000,"Α.Κ.Α.ΜΑΡΑΘΩΝΑ","Η"]
[28989,"M","ΜΑΝΟΥΣΙΔΗΣ ΔΗΜΗΤΡΗΣ",1995,"Ο.Α.ΑΛΕΞΑΝΔΡΟΥΠΟΛΗΣ","Α"]
[21942,"M","ΜΑΝΤΑΛΑΣ ΓΕΩΡΓΙΟΣ",1990,"Α.Ε.ΠΟΡΤΟ ΡΑΦΤΗ","Η"]
[28126,"M","ΜΑΝΤΕΣ ΜΑΡΙΟΣ",1999,"Ο.Α.ΑΝΑΤΟΛΙΚΗΣ ΦΘΙΩΤΙΔΑΣ","Ε"]
[1728,"M","ΜΑΝΤΖΑΡΗΣ ΘΕΟΧΑΡΗΣ",1973,"Α.Γ.Ο.ΦΙΛΙΠΠΙΑΔΑΣ","Δ"]
[15217,"F","ΜΑΝΤΖΟΥΝΟΠΟΥΛΟΥ ΔΕΣΠΟΙΝΑ",1987,"Γ.Σ.ΗΛΙΟΥΠΟΛΗΣ","ΙΑ"]
[15709,"F","ΜΑΝΤΟΥΒΑΛΟΥ ΦΑΝΗ",1990,"Α.Ο.ΤΑΤΑΥΛΑ ΚΩΝΣΤΑΝΤΙΝΟΥΠΟΛΕΩΣ","ΙΑ"]
[37711,"M","ΜΑΝΩΛΑΚΑΚΗΣ ΑΘΑΝΑΣΙΟΣ",2000,"Ε.Α.Σ.ΟΛΥΜΠΙΑΔΑ","Β"]
[35626,"F","ΜΑΝΩΛΕΑ ΠΗΝΕΛΟΠΗ",2002,"Ο.Α.ΚΑΛΑΜΑΤΑΣ","ΣΤ"]
[27598,"M","ΜΑΝΩΛΕΔΑΚΗΣ ΔΗΜΗΤΡΗΣ",1992,"Α.Ο.ΚΥΔΩΝΙΑΣ","Ζ"]
[17888,"M","ΜΑΝΩΛΗΣ ΠΑΝΤΕΛΗΣ",1992,"Μ.Γ.Σ.ΑΠΟΛΛΩΝ ΚΑΛΑΜΑΡΙΑΣ","Β"]
[1953,"F","ΜΑΝΩΛΟΥ ΚΛΑΙΡΗ",1973,"Α.Ν.Ο.ΓΛΥΦΑΔΑΣ","ΙΑ"]
[2684,"F","ΜΑΡΑΒΕΛΙΑ ΕΡΩΦΙΛΗ",1972,"ΗΡΑΚΛΕΙΟ Ο.Α.& Α.","Ζ"]
[16995,"F","ΜΑΡΑΓΚΙΔΟΥ ΜΕΛΠΟΜΕΝΗ",1989,"Ο.Α.ΠΕΙΡΑΙΑ","Θ"]
[1864,"M","ΜΑΡΑΓΚΟΣ ΣΤΑΥΡΟΣ",1971,"Ο.Α.ΘΕΣΣΑΛΟΝΙΚΗΣ","Β"]
[20911,"M","ΜΑΡΑΓΚΟΥΔΑΚΗΣ ΚΩΝΣΤΑΝΤΙΝΟΣ",1995,"Ο.Α.ΡΕΘΥΜΝΟΥ","Ζ"]
[20364,"F","ΜΑΡΑΜΑΘΑ ΧΑΡΑΛΑΜΠΙΑ",1991,"Σ.Α.ΓΑΛΑΤΣΙΟΥ","Θ"]
[28080,"M","ΜΑΡΓΑΡΗΣ ΘΕΟΔΩΡΟΣ",1998,"Α.Κ.Α.Α.ΠΑΝΤΑΛΚΗΣ","Θ"]
[31836,"M","ΜΑΡΓΑΡΙΤΗΣ ΟΡΕΣΤΗΣ",2001,"Α.Ο.ΛΑΤΩ ΑΓ.ΝΙΚΟΛΑΟΥ","Ζ"]
[33562,"F","ΜΑΡΓΕΛΟΥ ΚΑΤΕΡΙΝΑ",1997,"Α.Σ.ΠΕΡΑ","ΙΑ"]
[25498,"F","ΜΑΡΕΔΗ ΣΠΥΡΙΔΟΥΛΑ",1997,"Ο.Α.ΜΑΓΝΗΣΙΑΣ","Ε"]
[4997,"F","ΜΑΡΙΛΛΗ ΣΟΦΙΑ",1977,"Α.Ο.Π.ΦΑΛΗΡΟΥ","ΙΑ"]
[24577,"M","ΜΑΡΙΝΑΚΟΣ ΟΡΦΕΑΣ",1995,"Σ.Α.ΓΑΛΑΤΣΙΟΥ","Θ"]
[25499,"F","ΜΑΡΙΝΟΠΟΥΛΟΥ ΕΥΔΟΞΙΑ",1998,"Ο.Α.ΜΑΓΝΗΣΙΑΣ","Ε"]
[6112,"M","ΜΑΡΚΑΔΑΣ ΙΩΑΝΝΗΣ",1977,"Α.Ο.ΜΥΤΙΛΗΝΗΣ","Θ"]
[21135,"M","ΜΑΡΚΑΚΗΣ ΙΩΑΝΝΗΣ",1988,"Α.Ο.ΛΑΓΟΝΗΣΙΟΥ","Η"]
[31255,"F","ΜΑΡΚΑΝΤΩΝΑΤΟΥ ΠΑΝΩΡΑΙΑ-ΕΛΕΝΗ",2001,"Α.Σ.Α.ΑΓΡΙΝΙΟΥ","Δ"]
[20125,"F","ΜΑΡΚΑΤΟΥ ΕΥΑΓΓΕΛΙΑ",1991,"Γ.Σ.ΩΡΩΠΟΥ","Η"]
[10605,"M","ΜΑΡΚΟΓΙΑΝΝΑΚΗΣ ΜΙΧΑΛΗΣ",1984,"ΗΡΑΚΛΕΙΟ Ο.Α.& Α.","Ζ"]
[5836,"F","ΜΑΡΚΟΠΟΥΛΟΥ ΑΙΚΑΤΕΡΙΝΗ",1978,"Ο.Α.ΓΑΛΗΝΗΣ ΩΡΑΙΟΚΑΣΤΡΟΥ","Β"]
[34729,"F","ΜΑΡΚΟΥ ΘΕΟΔΩΡΑ",2001,"Α.Κ.Α.ΜΑΡΑΘΩΝΑ","Η"]
[19481,"F","ΜΑΡΚΟΥΛΗ ΔΕΣΠΟΙΝΑ",1993,"Ο.Α.ΦΩΚΙΔΑΣ","Ε"]
[38792,"F","ΜΑΡΜΟΥΤΖΑΚΗ ΜΑΡΙΑ-ΙΩΑΝΝΑ",2000,"Α.Ο.Α.ΑΛΕΞΑΝΔΡΟΣ Β","Η"]
[19881,"M","ΜΑΡΟΥΛΗΣ ΔΗΜΗΤΡΙΟΣ",1993,"Ο.Α.ΣΟΥΔΑΣ","Ζ"]
[28456,"M","ΜΑΡΤΑΚΟΣ-ΓΑΛΙΑΤΣΑΤΟΣ ΕΜΜΑΝΟΥΗΛ",1996,"Ο.Α.ΓΟΥΔΙΟΥ","ΙΑ"]
[3849,"M","ΜΑΡΤΙΝΟΣ ΝΙΚΟΛΑΟΣ",1982,"Ο.Α.ΓΛΥΦΑΔΑΣ","ΙΑ"]
[3823,"M","ΜΑΣΙΑΛΑΣ ΚΩΝΣΤΑΝΤΙΝΟΣ",1978,"Ο.Α.ΖΩΓΡΑΦΟΥ","Η"]
[16237,"M","ΜΑΣΟΥΡΙΔΗΣ ΧΡΗΣΤΟΣ",1987,"Ο.Α.ΓΛΥΦΑΔΑΣ","ΙΑ"]
[25726,"M","ΜΑΣΤΟΡΑΚΟΣ ΑΝΔΡΕΑΣ",1996,"Α.Σ.ΠΕΡΑ","ΙΑ"]
[4920,"F","ΜΑΣΤΟΡΟΤΑΣΙΟΥ ΙΩΑΝΝΑ",1979,"Σ.Α.ΣΕΡΡΩΝ","Α"]
[25505,"M","ΜΑΣΤΡΟΔΗΜΟΣ ΙΩΑΝΝΗΣ",1998,"Α.Ο.ΔΙΛΟΦΟ ΒΑΡΗΣ","Η"]
[32551,"F","ΜΑΤΑΝΙΣ ΓΙΑΣΜΙΝ",2000,"Α.Ο.Α.ΑΙΓΑΛΕΩ 92","Θ"]
[28180,"F","ΜΑΤΗ ΖΩΪΤΣΑ",2000,"Α.Γ.Ο.ΘΕΣΠΡΩΤΙΚΟΥ","Δ"]
[24714,"F","ΜΑΤΣΑΓΓΟΥ ΝΙΚΟΛΙΑ-ΣΟΦΙΑ",1997,"Ε.Α.Τ.Ε.Κ.ΕΛΛΗΝΙΚΟΥ ΚΟΛΛΕΓΙΟΥ","Β"]
[1159,"M","ΜΑΤΣΟΝ ΓΕΩΡΓΙΟΣ",1966,"Ο.Α.ΑΘΗΝΩΝ","Η"]
[4833,"M","ΜΑΤΣΟΣ ΜΙΧΑΛΗΣ",1974,"Α.Ο.ΑΜΥΝΤΑΣ ΥΜΗΤΤΟΥ","ΙΑ"]
[24963,"F","ΜΑΥΡΕΑ ΑΙΚΑΤΕΡΙΝΗ",1996,"Ο.Α.ΚΑΛΑΜΑΤΑΣ","ΣΤ"]
[31739,"M","ΜΑΥΡΙΓΙΑΝΝΑΚΗΣ ΓΕΩΡΓΙΟΣ",1999,"Ο.Α.ΣΟΥΔΑΣ","Ζ"]
[6359,"M","ΜΑΥΡΙΔΗΣ ΣΑΒΒΑΣ",1977,"Λ.Α.ΚΟΜΟΤΗΝΗΣ","Α"]
[19117,"F","ΜΑΥΡΙΔΟΥ ΑΙΚΑΤΕΡΙΝΗ-ΣΟΦΙΑ",1991,"Ο.Α.ΓΛΥΦΑΔΑΣ","ΙΑ"]
[16253,"M","ΜΑΥΡΙΚΟΓΛΟΥ ΣΩΤΗΡΗΣ",1989,"Γ.Ο.ΠΕΡΙΣΤΕΡΙΟΥ Γ.ΠΑΛΑΣΚΑΣ","Θ"]
[28528,"M","ΜΑΥΡΟΓΙΑΝΝΗΣ ΛΕΩΝΙΔΑΣ",1997,"Ο.Α.ΚΑΛΑΜΑΤΑΣ","ΣΤ"]
[14216,"M","ΜΑΥΡΟΚΕΦΑΛΟΣ ΙΑΣΩΝ",1982,"Α.Ο.Α.ΦΙΛΟΘΕΗΣ","Η"]
[8358,"M","ΜΑΥΡΟΜΑΤΗΣ ΕΜΜΑΝΟΥΗΛ",1968,"ΦΙΛΙΑ Τ.Κ.","Ζ"]
[32628,"M","ΜΑΥΡΟΜΥΤΗΣ ΙΩΑΚΕΙΜ",2002,"Ο.Α.ΝΑΥΠΑΚΤΟΥ","ΣΤ"]
[21839,"F","ΜΑΥΡΟΠΟΥΛΟΥ ΕΛΕΝΗ",1992,"Α.Ο.ΘΕΡΜΗΣ Ο ΘΕΡΜΑΙΟΣ","Β"]
[3800,"F","ΜΑΥΡΟΥ ΔΗΜΗΤΡΑ",1979,"Α.Σ.ΣΠΑΡΤΑΚΟΣ ΓΛΥΦΑΔΑΣ","ΙΑ"]
[7934,"M","ΜΑΥΡΩΝΑΣ ΠΕΡΙΚΛΗΣ-ΚΩΝΣΤΑΝΤΙΝΟΣ",1978,"Ο.Α.ΚΕΡΚΥΡΑΣ","Δ"]
[27010,"M","ΜΕΓΑΛΑΚΑΚΗΣ ΒΑΓΓΕΛΗΣ",1998,"Ο.Α.ΣΥΡΟΥ","Η"]
[25427,"M","ΜΕΓΚΛΗΣ ΓΕΩΡΓΙΟΣ",1997,"Α.Ε.Κ.ΤΡΙΠΟΛΗΣ","ΣΤ"]
[14236,"F","ΜΕΘΕΝΙΤΗ ΔΗΜΗΤΡΑ",1986,"Ο.Α.ΕΛΕΥΣΙΝΑΣ ΑΙΣΧΥΛΟΣ","Θ"]
[19402,"M","ΜΕΛΑΜΠΙΑΝΑΚΗΣ ΠΕΤΡΟΣ-ΒΑΣΙΛΕΙΟΣ",1992,"Α.Ο.Α.ΗΛΙΟΥΠΟΛΗΣ","ΙΑ"]
[6765,"F","ΜΕΛΕΓΟΥ ΑΘΑΝΑΣΙΑ",1976,"Α.Ε.Κ.ΤΡΙΠΟΛΗΣ","ΣΤ"]
[19160,"M","ΜΕΛΙΔΟΝΙΩΤΗΣ ΜΑΡΙΟΣ",1991,"Ο.Α.ΣΟΥΔΑΣ","Ζ"]
[1117,"M","ΜΕΛΙΣΣΕΙΔΗΣ ΜΗΝΑΣ",1968,"ΗΡΑΚΛΕΙΟ Ο.Α.& Α.","Ζ"]
[17787,"F","ΜΕΛΛΙΟΥ ΑΙΚΑΤΕΡΙΝΗ",1989,"Ο.Α.ΠΕΙΡΑΙΑ","Θ"]
[3312,"M","ΜΕΝΕΞΙΑΔΗΣ ΜΑΡΙΟΣ",1974,"Ο.Α.ΑΘΗΝΩΝ","Η"]
[12111,"F","ΜΕΡΑ ΑΛΕΞΑΝΔΡΑ",1988,"Α.Σ.Α.ΛΑΡΙΣΑΣ","Ε"]
[13776,"F","ΜΕΡΚΟΥ ΙΡΙΣ",1984,"Γ.Α.Σ.ΝΙΓΡΙΤΑΣ ΒΙΣΑΛΤΗΣ","Α"]
[14021,"F","ΜΕΡΜΙΡΗ ΒΑΛΕΝΤΙΝΑ",1988,"ΦΘΙΩΤΙΚΟΣ Ο.Α.","Ε"]
[15813,"M","ΜΕΣΙΑΚΑΡΗΣ ΣΠΥΡΟΣ",1992,"Ο.Α.ΤΡΙΚΑΛΩΝ","Ε"]
[24915,"F","ΜΕΤΑΛΛΙΔΟΥ ΕΥΣΤΑΘΙΑ",1995,"Α.Ο.ΚΑΒΑΛΑΣ ΜΑΚΕΔΟΝΙΚΟΣ","Α"]
[15830,"M","ΜΕΤΑΞΑΣ ΜΙΛΤΙΑΔΗΣ",1999,"ΝΑΥΠΛΙΑΚΟΣ Ο.Α.","ΣΤ"]
[17349,"M","ΜΕΤΖΕΛΟΠΟΥΛΟΣ ΚΩΝΣΤΑΝΤΙΝΟΣ",1985,"Ο.Α.ΞΥΛΟΚΑΣΤΡΟΥ ΣΥΘΑΣ","ΣΤ"]
[33468,"M","ΜΗΛΑΣ ΕΜΜΑΝΟΥΗΛ",1998,"Α.Ο.ΛΑΤΩ ΑΓ.ΝΙΚΟΛΑΟΥ","Ζ"]
[577,"M","ΜΗΛΙΟΣ ΧΡΗΣΤΟΣ",1970,"Ο.Α.ΛΑΡΙΣΑΣ","Ε"]
[22704,"F","ΜΗΛΙΩΝΗ ΣΤΥΛΙΑΝΗ",1993,"Γ.Ο.ΠΕΡΙΣΤΕΡΙΟΥ Γ.ΠΑΛΑΣΚΑΣ","Θ"]
[22189,"M","ΜΗΛΩΣΗΣ ΑΛΕΞΑΝΔΡΟΣ",1991,"Σ.Α.ΔΡΑΜΑΣ","Α"]
[6824,"M","ΜΗΝΔΡΙΝΟΣ ΔΗΜΗΤΡΙΟΣ",1981,"Α.Ο.ΑΡΓΥΡΟΥΠΟΛΗΣ","ΙΑ"]
[34717,"M","ΜΗΤΚΟΥΔΗΣ ΓΡΗΓΟΡΗΣ",1999,"Ο.Α.ΝΕΣΤΩΡΑΣ ΓΙΑΝΝΙΤΣΩΝ","Γ"]
[31991,"M","ΜΗΤΡΟΠΑΠΑΣ ΗΛΙΑΣ",2002,"Ο.Α.ΑΘΛΗΤ.ΠΑΙΔΕΙΑ","Η"]
[4677,"F","ΜΗΤΡΟΠΟΥΛΟΥ ΑΙΚΑΤΕΡΙΝΗ",1974,"Α.Ο.ΒΟΥΛΙΑΓΜΕΝΗΣ","ΙΑ"]
[15947,"M","ΜΗΤΡΟΥ ΑΝΔΡΕΑΣ",1989,"Α.Ο.ΠΟΣΕΙΔΩΝ ΛΟΥΤΡΑΚΙΟΥ","ΣΤ"]
[5814,"M","ΜΗΤΣΑΛΑΣ ΓΡΗΓΟΡΙΟΣ",1977,"Ο.Α.ΘΕΣΣΑΛΟΝΙΚΗΣ","Β"]
[5459,"M","ΜΗΤΣΗΣ ΝΙΚΟΛΑΟΣ",1979,"Γ.Ε.ΠΡΕΒΕΖΑΣ","Δ"]
[2261,"F","ΜΗΤΣΙΟΥ ΑΝΘΟΥΛΑ",1979,"Α.Γ.Ο.ΦΙΛΙΠΠΙΑΔΑΣ","Δ"]
[30389,"M","ΜΗΤΣΟΠΟΥΛΟΣ ΠΕΡΙΚΛΗΣ",2002,"Ο.Α.ΩΡΑΙΟΚΑΣΤΡΟΥ Ο ΑΝΤΑΙΟΣ","Β"]
[12725,"M","ΜΗΤΣΟΥΛΗΣ ΓΕΩΡΓΙΟΣ-ΔΗΜΗΤΡΙΟΣ",1980,"Α.Ο.ΠΑΡΓΑΣ","Δ"]
[12727,"M","ΜΗΤΣΟΥΛΗΣ ΓΡΗΓΟΡΗΣ",1982,"Α.Ο.ΠΑΡΓΑΣ","Δ"]
[22645,"F","ΜΙΓΚΛΗ ΒΑΡΒΑΡΑ",1992,"Ο.Α.ΚΩ","Θ"]
[14708,"M","ΜΙΚΟΥΣΗΣ ΘΕΟΔΩΡΟΣ",1985,"Ο.Α.ΒΟΛΟΥ","Ε"]
[9481,"M","ΜΙΛΑΝΟΣ ΓΕΩΡΓΙΟΣ",1985,"Α.Ο.Ν.ΣΜΥΡΝΗΣ Ο ΜΙΛΩΝ","ΙΑ"]
[8194,"F","ΜΙΝΤΖΑ ΕΛΕΝΗ",1980,"Α.Ο.ΟΛΥΜΠΙΑΔΑ ΒΥΡΩΝΑ","Η"]
[24508,"M","ΜΙΟΥΡ ΕΥΑΓΓΕΛΟΣ",1989,"Ο.Α.ΙΩΑΝΝΙΝΩΝ","Δ"]
[31341,"F","ΜΙΣΙΡΛΗ ΙΩΑΝΝΑ",2001,"Α.Ο.Α.ΝΕΑΣ ΠΕΡΑΜΟΥ ΟΙ ΤΙΤΑΝΕΣ","Α"]
[13964,"M","ΜΙΤΖΕΛΟΣ ΒΑΣΙΛΕΙΟΣ",1982,"Ο.Α.ΣΚΙΑΘΟΥ","Ε"]
[26320,"M","ΜΙΧΑΗΛ ΓΕΩΡΓΙΟΣ",1999,"Ε.Α.Ο.ΗΛΙΣ","Θ"]
[23139,"M","ΜΙΧΑΗΛ ΧΡΗΣΤΟΣ",1994,"Μ.Α.Σ.ΑΕΤΟΣ ΘΕΣΣΑΛΟΝΙΚΗΣ","Β"]
[22470,"M","ΜΙΧΑΗΛΙΔΗΣ ΒΑΣΙΛΕΙΟΣ",1996,"Α.Σ.ΤΕΝΙΣ ΚΛΑΜΠ ΚΟΖΑΝΗΣ","Γ"]
[33586,"M","ΜΙΧΑΗΛΙΔΗΣ ΣΤΑΜΑΤΙΟΣ",1988,"Ο.Α.ΚΕΡΑΤΣΙΝΙΟΥ","Θ"]
[5959,"F","ΜΙΧΑΗΛΙΔΟΥ ΜΑΡΙΑ",1976,"Ο.Α.ΤΡΙΚΑΛΩΝ","Ε"]
[12882,"M","ΜΙΧΑΛΑ ΙΩΑΝΝΗΣ-ΝΙΚΟΛΑΟΣ",1988,"ΚΕΡΚΥΡΑΪΚΗ Λ.Τ.","Δ"]
[25102,"M","ΜΙΧΑΛΑΚΟΣ ΓΕΩΡΓΙΟΣ",1996,"ΚΕΦΑΛΛΗΝΙΑΚΟΣ Ο.Α.","ΣΤ"]
[20547,"F","ΜΙΧΑΛΗ ΒΙΝΝΗ-ΔΟΜΝΙΚΗ",1995,"Ο.Α.ΙΩΑΝΝΙΝΩΝ","Δ"]
[28842,"M","ΜΙΧΑΛΟΠΟΥΛΟΣ ΓΙΩΡΓΟΣ",1998,"Ο.Α.ΚΕΡΚΥΡΑΣ","Δ"]
[13916,"F","ΜΙΧΑΛΟΠΟΥΛΟΥ ΑΝΤΩΝΕΛΛΑ",1988,"Ο.Α.ΣΚΙΑΘΟΥ","Ε"]
[19199,"F","ΜΙΧΑΛΟΥΔΗ ΜΑΡΙΝΑ",1991,"Α.Μ.Σ.ΠΑΝΟΡΑΜΑΤΟΣ","Β"]
[14338,"M","ΜΙΧΕΛΑΚΗΣ ΜΙΧΑΗΛ",1988,"Ο.Α.ΒΡΙΛΗΣΣΙΩΝ","Η"]
[19391,"M","ΜΙΧΟΚ ΜΑΡΙΟΣ",1988,"Δ.Α.Σ.ΑΝΩ ΛΙΟΣΙΩΝ","Θ"]
[36950,"M","ΜΙΧΟΣ ΒΑΣΙΛΕΙΟΣ",2002,"Σ.Α.ΣΕΡΡΩΝ","Α"]
[32650,"F","ΜΙΧΟΥ ΣΟΥΛΤΑΝΑ",1999,"Ο.Α.ΚΟΥΦΑΛΙΩΝ ΘΕΣΣΑΛΟΝΙΚΗΣ","Β"]
[8655,"F","ΜΟΚΑ ΕΛΕΝΗ",1977,"Α.Σ.Α.ΛΑΡΙΣΑΣ","Ε"]
[24042,"F","ΜΟΛΥΒΑ ΜΑΡΙΑ-ΕΛΕΝΗ",1996,"Ο.Α.ΝΑΟΥΣΑΣ","Γ"]
[19035,"M","ΜΟΝΟΠΑΤΗΣ ΔΗΜΗΤΡΙΟΣ-ΟΡΦΕΑΣ",1996,"ΦΘΙΩΤΙΚΟΣ Ο.Α.","Ε"]
[22869,"F","ΜΟΡΦΙΡΗ ΕΙΡΗΝΗ",1992,"Α.Ν.Ο.ΓΛΥΦΑΔΑΣ","ΙΑ"]
[15660,"M","ΜΟΣΧΑΚΗΣ ΜΙΧΑΛΗΣ",1985,"Ο.Α.ΣΑΛΑΜΙΝΑΣ","Θ"]
[29198,"F","ΜΟΣΧΟΒΑΚΟΥ ΕΜΜΑΝΟΥΕΛΑ",2001,"Ο.Α.ΣΠΑΡΤΗΣ","ΣΤ"]
[4673,"F","ΜΟΣΧΟΠΟΥΛΟΥ ΕΡΑΤΩ",1979,"ΚΕΦΑΛΛΗΝΙΑΚΟΣ Ο.Α.","ΣΤ"]
[8311,"F","ΜΟΣΧΟΥΡΗ ΕΛΕΝΗ",1985,"Α.Ο.ΛΙΒΑΔΕΙΩΝ ΒΟΥΡΕΙΟΣ","Η"]
[35379,"F","ΜΟΥΔΗΛΑ ΔΗΜΗΤΡΙΑ-ΑΝΝΑ",1999,"ΖΑΚΥΝΘΙΝΟΣ Α.Ο.Α","ΣΤ"]
[3473,"F","ΜΟΥΖΑΚΙΤΗ ΘΑΛΕΙΑ",1973,"Ο.Α.ΣΥΡΟΥ","Η"]
[22131,"M","ΜΟΥΛΑΔΕΝΙΟΣ ΚΩΝΣΤΑΝΤΙΝΟΣ",1995,"Ο.Π.ΘΕΣΣΑΛΟΝΙΚΗΣ ΜΑΚΕΔΟΝΙΑ 92","Β"]
[27522,"F","ΜΟΥΜΙΑΔΟΥ ΑΝΑΣΤΑΣΙΑ",1997,"Ο.Α.ΣΟΥΡΩΤΗΣ ΑΛΕΞΑΝΔΡΟΣ","Β"]
[32870,"F","ΜΟΥΝΤΟΥΡΛΗ ΜΑΡΙΑ-ΙΩΑΝΝΑ",2001,"Ε.Σ.Ο.ΕΠΙΚΟΥΡΟΣ ΠΟΛΙΧΝΗΣ","Β"]
[12597,"M","ΜΟΥΡΑΤΙΔΗΣ ΑΛΕΞΑΝΔΡΟΣ",1988,"Σ.Α.ΣΕΡΡΩΝ","Α"]
[11477,"F","ΜΟΥΡΙΚΗ ΑΝΤΙΓΟΝΗ",1983,"Γ.Σ.ΑΜΦΙΑΛΗΣ ΦΕΙΔΙΠΠΙΔΗΣ","Θ"]
[32216,"F","ΜΟΥΡΟΥΛΗ ΜΕΛΙΣΣΑ-ΣΤΕΛΛΑ",1981,"Ο.Α.ΚΕΡΑΤΣΙΝΙΟΥ","Θ"]
[20904,"F","ΜΟΥΡΟΥΤΣΙΟΥ ΔΕΣΠΟΙΝΑ",1997,"Α.Γ.Ο.ΦΙΛΙΠΠΙΑΔΑΣ","Δ"]
[34758,"M","ΜΟΥΣΑΒΕΡΕΣ ΚΩΝΣΤΑΝΤΙΝΟΣ",2002,"Α.Ο.ΑΡΓΥΡΟΥΠΟΛΗΣ","ΙΑ"]
[9239,"M","ΜΟΥΣΟΥΛΗΣ ΑΘΑΝΑΣΙΟΣ",1984,"Σ.Α.ΕΛΑΣΣΟΝΑΣ","Ε"]
[15138,"F","ΜΟΥΣΤΑΚΗ-ΖΕΗ ΑΛΕΞΑΝΔΡΑ",1988,"Α.Ν.Ο.ΓΛΥΦΑΔΑΣ","ΙΑ"]
[34206,"F","ΜΟΥΣΤΡΟΥΦΗ ΜΑΡΙΑ-ΑΦΡΟΔΙΤΗ",1995,"Α.Ο.ΤΑΤΟΪΟΥ","Η"]
[16684,"F","ΜΟΥΤΖΟΥΡΗ ΜΥΡΣΙΝΗ",1988,"Ο.Α.ΛΕΣΒΟΥ","Θ"]
[27069,"F","ΜΟΥΤΣΑΚΗ ΧΡΥΣΑΝΘΗ",1998,"Γ.Σ.ΛΙΒΥΚΟΣ ΙΕΡΑΠΕΤΡΑΣ","Ζ"]
[21083,"M","ΜΟΥΤΣΟΣ ΕΥΑΓΓΕΛΟΣ",1984,"Α.Ο.ΑΡΓΥΡΟΥΠΟΛΗΣ","ΙΑ"]
[740,"M","ΜΠΑΒΕΛΑΣ ΑΝΑΣΤΑΣΙΟΣ",1968,"Ο.Α.ΑΘΗΝΩΝ","Η"]
[27428,"M","ΜΠΑΓΛΑΤΖΗΣ ΒΑΓΓΕΛΗΣ",1999,"Α.Ο.ΒΑΡΗΣ ΑΝΑΓΥΡΟΥΣ","Η"]
[34514,"F","ΜΠΑΖΑΝΗ ΝΕΦΕΛΗ-ΜΑΡΚΕΛΛΑ",1985,"Ο.Α.ΝΙΚΑΙΑ ΛΑΡΙΣΑΣ","Ε"]
[26740,"F","ΜΠΑΘΡΕΛΛΟΥ ΕΥΓΕΝΙΑ",1996,"Σ.Ο.Α.ΚΑΡΔΙΤΣΑΣ ΦΩΚΙΑΝΟΣ","Ε"]
[17192,"F","ΜΠΑΪΡΑΚΤΑΡΗ ΑΙΚΑΤΕΡΙΝΗ",1989,"Ο.Α.ΑΓ.ΣΟΥΛΑ ΣΟΡΩΝΗΣ ΡΟΔΟΥ","Θ"]
[17833,"M","ΜΠΑΚΑΓΙΑΝΝΗΣ ΙΩΑΝΝΗΣ",1992,"Α.Σ.Α.ΛΑΡΙΣΑΣ","Ε"]
[12002,"M","ΜΠΑΚΑΣ ΓΕΩΡΓΙΟΣ",1983,"Ο.Α.ΛΑΜΙΑΣ","Ε"]
[21610,"F","ΜΠΑΚΙΡΤΖΗ ΑΡΓΥΡΩ",1993,"Σ.Α.ΣΕΡΡΩΝ","Α"]
[37345,"M","ΜΠΑΚΟΔΗΜΟΣ ΧΡΗΣΤΟΣ",2000,"Α.Σ.Α.ΑΓΡΙΝΙΟΥ","Δ"]
[8554,"M","ΜΠΑΚΟΣ ΚΥΡΙΑΚΟΣ",1986,"ΑΙΟΛΟΣ Α.Λ.ΙΛΙΟΥ","Θ"]
[29510,"M","ΜΠΑΛΑΛΑΣ ΙΩΑΝΝΗΣ",1999,"Α.Ο.ΑΙΓΙΟΥ ΜΟΡΕΑΣ","ΣΤ"]
[14378,"M","ΜΠΑΛΑΞΗΣ ΑΓΓΕΛΟΣ",1987,"Σ.Α.ΣΕΡΡΩΝ","Α"]
[32601,"M","ΜΠΑΛΑΤΣΙΝΟΣ ΓΕΡΑΣΙΜΟΣ",2002,"Ο.Α.ΚΕΡΚΥΡΑΣ","Δ"]
[13938,"M","ΜΠΑΛΑΦΑΣ ΙΩΑΝΝΗΣ",1986,"Α.Γ.Ο.ΦΙΛΙΠΠΙΑΔΑΣ","Δ"]
[14993,"M","ΜΠΑΛΗΣ ΣΤΑΥΡΟΣ",1987,"Α.Ο.Α.ΠΑΠΑΓΟΥ","ΙΑ"]
[23178,"F","ΜΠΑΛΛΗ ΑΙΚΑΤΕΡΙΝΗ",1998,"Α.Ο.Α.ΑΙΓΑΛΕΩ 92","Θ"]
[22135,"M","ΜΠΑΛΟΜΑ ΗΛΙΑΣ",1993,"Α.Ο.ΣΙΚΥΩΝΟΣ ΚΙΑΤΟΥ","ΣΤ"]
[6126,"F","ΜΠΑΛΤΑΤΖΙΔΟΥ ΑΝΤΙΓΟΝΗ",1971,"Ο.Α.ΝΑΟΥΣΑΣ","Γ"]
[25948,"M","ΜΠΑΛΩΜΑΣ ΙΑΣΩΝ",1998,"Α.Ο.ΑΡΓΥΡΟΥΠΟΛΗΣ","ΙΑ"]
[27831,"M","ΜΠΑΜΠΑΛΗΣ ΒΑΓΓΕΛΗΣ",1997,"Ο.Α.ΝΑΟΥΣΑΣ","Γ"]
[30162,"M","ΜΠΑΜΠΙΟΛΑΚΗΣ ΑΝΤΩΝΙΟΣ",1998,"Ο.Α.ΧΑΝΙΩΝ","Ζ"]
[11951,"F","ΜΠΑΝΟΥ ΜΑΡΙΑ-ΠΑΡΑΣΚΕΥΗ",1980,"Α.Ο.Α.ΦΙΛΟΘΕΗΣ","Η"]
[26773,"F","ΜΠΑΝΤΟΥ ΛΑΜΠΡΙΝΗ",1999,"Α.Ε.Κ.ΤΡΙΠΟΛΗΣ","ΣΤ"]
[8670,"M","ΜΠΑΞΕΒΑΝΟΣ ΑΘΑΝΑΣΙΟΣ",1980,"Ο.Α.ΙΩΑΝΝΙΝΩΝ","Δ"]
[10360,"M","ΜΠΑΡΔΑΚΗΣ ΔΗΜΗΤΡΙΟΣ",1981,"Α.Σ.Α.ΑΓΡΙΝΙΟΥ","Δ"]
[6553,"F","ΜΠΑΡΚΑ ΚΑΤΕΡΙΝΑ",1980,"Ο.Α.ΙΩΑΝΝΙΝΩΝ","Δ"]
[15191,"M","ΜΠΑΡΛΑΣ ΓΕΩΡΓΙΟΣ",1970,"Ο.Α.ΓΟΥΔΙΟΥ","ΙΑ"]
[5524,"M","ΜΠΑΡΜΠΑΡΕΣΟΣ ΣΠΥΡΟΣ",1983,"Α.Ο.Π.ΦΑΛΗΡΟΥ","ΙΑ"]
[20893,"M","ΜΠΑΡΜΠΕΡΑΚΗΣ ΣΤΥΛΙΑΝΟΣ",1990,"Γ.Σ.ΛΙΒΥΚΟΣ ΙΕΡΑΠΕΤΡΑΣ","Ζ"]
[21024,"M","ΜΠΑΡΜΠΟΥΤΣΗΣ ΧΡΗΣΤΟΣ-ΝΙΚΟΛΑΟΣ",1994,"Α.Σ.Ε.ΘΗΣΕΑΣ ΑΓΙΟΥ ΔΗΜΗΤΡΙΟΥ","ΙΑ"]
[29003,"F","ΜΠΑΡΤΖΩΚΑ ΝΑΤΑΛΙΑ",1997,"Α.Ο.ΦΙΛΙΠΠΟΣ ΠΟΛΥΔΡΟΣΟΥ","Η"]
[15259,"M","ΜΠΑΡΤΖΩΚΑΣ ΑΛΕΞΑΝΔΡΟΣ",1991,"ΦΘΙΩΤΙΚΟΣ Ο.Α.","Ε"]
[23014,"F","ΜΠΑΣΔΕΚΗ ΒΑΣΙΛΙΚΗ",1997,"Σ.Α.ΡΑΦΗΝΑΣ","Η"]
[27531,"M","ΜΠΑΣΤΑΣ ΠΑΝΑΓΙΩΤΗΣ",1997,"Α.Ο.Ν.ΣΜΥΡΝΗΣ Ο ΜΙΛΩΝ","ΙΑ"]
[26948,"M","ΜΠΑΤΖΙΑΚΟΥΔΗΣ ΣΤΑΜΑΤΗΣ",1997,"Ο.Α.ΑΛΕΞΑΝΔΡΟΥΠΟΛΗΣ","Α"]
[31506,"M","ΜΠΑΤΙΚΑΣ ΓΕΩΡΓΙΟΣ",1998,"ΦΙΛΑΘΛΗΤ.ΣΥΛ.ΛΑΜΙΑΣ","Ε"]
[23727,"F","ΜΠΑΤΣΟΥΡΗ ΚΑΤΕΡΙΝΑ",1975,"Ο.Α.ΠΑΡΟΥ","Η"]
[31118,"M","ΜΠΑΧΑΣ ΓΕΩΡΓΙΟΣ-ΦΟΙΒΟΣ",2000,"Ε.Α.Σ.ΟΛΥΜΠΙΑΔΑ","Β"]
[17909,"M","ΜΠΕΓΝΗΣ ΑΘΑΝΑΣΙΟΣ",1991,"Ο.Α.ΣΑΛΑΜΙΝΑΣ","Θ"]
[8051,"M","ΜΠΕΗΣ ΔΗΜΗΤΡΙΟΣ",1966,"Σ.Α.ΚΑΤΕΡΙΝΗΣ","Γ"]
[30000,"M","ΜΠΕΚΙΑΡΗΣ ΣΩΤΗΡΗΣ",1997,"Γ.Α.Σ.ΑΛΕΞΑΝΔΡΕΙΑ","Γ"]
[4174,"M","ΜΠΕΛΕΖΟΣ ΘΕΟΔΩΡΟΣ",1972,"ΝΑΥΠΛΙΑΚΟΣ Ο.Α.","ΣΤ"]
[16276,"F","ΜΠΕΛΛΗ ΜΑΡΙΑ",1984,"Σ.Ο.Α.ΚΑΡΔΙΤΣΑΣ ΦΩΚΙΑΝΟΣ","Ε"]
[21558,"M","ΜΠΕΛΛΟΥ ΘΩΜΑΣ",1994,"Σ.Α.ΚΑΣΤΟΡΙΑΣ ΠΡΩΤΕΑΣ","Γ"]
[23231,"M","ΜΠΕΛΤΖΕΝΙΤΗΣ ΙΩΑΝΝΗΣ",1993,"Ο.Α.ΠΕΤΡΟΥΠΟΛΗΣ","Θ"]
[3125,"M","ΜΠΕΝΙΣΗΣ ΑΠΟΣΤΟΛΟΣ",1973,"Ο.Α.ΧΑΛΚΙΔΑΣ","Θ"]
[35794,"M","ΜΠΕΡΔΟΥΣΗΣ ΒΑΣΙΛΕΙΟΣ",1971,"Ο.Α.ΠΕΤΡΟΥΠΟΛΗΣ","Θ"]
[4234,"F","ΜΠΕΡΤΣΙΑ ΠΟΛΥΞΕΝΗ",1979,"Α.Κ.ΖΩΓΡΑΦΟΥ","ΙΑ"]
[7438,"F","ΜΠΕΤΖΟΥΝΗ ΔΗΜΗΤΡΑ",1974,"Ε.Φ.Τ.ΑΙΟΛΙΚΗ","Β"]
[1764,"F","ΜΠΗΛΙΟΥ ΚΑΤΕΡΙΝΑ",1967,"Ο.Α.ΚΕΡΚΥΡΑΣ","Δ"]
[4014,"F","ΜΠΙΘΑ ΑΘΑΝΑΣΙΑ",1975,"Α.Ο.ΑΡΓΥΡΟΥΠΟΛΗΣ","ΙΑ"]
[32815,"F","ΜΠΙΛΑΛΗ ΕΛΕΝΗ",1997,"Γ.Σ.ΚΗΦΙΣΙΑΣ","Η"]
[10000,"M","ΜΠΙΛΛΙΟΣ ΔΗΜΗΤΡΙΟΣ",1986,"Ο.Α.ΑΘΗΝΩΝ","Η"]
[37264,"M","ΜΠΙΜΠΗΣ ΠΕΤΡΟΣ",2002,"Ο.Α.ΦΟΙΒΟΣ ΛΑΡΙΣΑΣ","Ε"]
[20344,"F","ΜΠΙΡΗ ΙΩΑΝΝΑ",1992,"Ο.Α.ΘΕΣΠΡΩΤΙΑΣ ΤΙΤΑΝΗ","Δ"]
[26741,"F","ΜΠΙΣΙΑΝΗ ΑΓΓΕΛΙΚΗ",2001,"Σ.Ο.Α.ΚΑΡΔΙΤΣΑΣ ΦΩΚΙΑΝΟΣ","Ε"]
[24941,"F","ΜΠΙΣΤΗ ΣΟΦΙΑ-ΔΕΣΠΟΙΝΑ",1995,"Γ.Σ.ΚΗΦΙΣΙΑΣ","Η"]
[5299,"M","ΜΠΙΤΖΙΔΗΣ ΠΑΥΛΟΣ",1981,"Σ.Α.ΣΕΡΡΩΝ","Α"]
[29719,"F","ΜΠΙΤΣΙΚΑ ΣΤΥΛΙΑΝΗ",1997,"Α.Ο.Α.ΑΙΓΑΛΕΩ 92","Θ"]
[20688,"F","ΜΠΛΑΝΤΑ ΑΛΕΞΑΝΔΡΑ",1991,"Ο.Α.ΒΙΚΕΛΑΣ ΒΕΡΟΙΑΣ","Γ"]
[12792,"M","ΜΠΛΕΤΣΑΣ ΑΡΙΣΤΟΤΕΛΗΣ",1981,"Σ.Α.Α.Κ.ΑΝΑΤΟΛΙΑ","Β"]
[33212,"F","ΜΠΟΓΔΑΝΟΥ ΔΗΜΗΤΡΑ",1999,"Ν.Ο.Ν.Α.Μ","Γ"]
[37854,"M","ΜΠΟΓΡΗΣ ΓΕΩΡΓΙΟΣ",1998,"Α.Ο.Α.ΚΑΙΣΑΡΙΑΝΗΣ","Θ"]
[34915,"M","ΜΠΟΖΟΝΕΛΟΣ ΠΑΝΟΣ-ΗΛΙΑΣ",2001,"Α.Ο.ΓΛΥΦΑΔΑΣ ΦΙΛΙΑ 2000","ΙΑ"]
[16600,"M","ΜΠΟΛΑΝΑΚΗΣ ΖΑΧΑΡΙΑΣ",1991,"Ο.Α.ΧΑΝΙΩΝ","Ζ"]
[38247,"M","ΜΠΟΛΟΦΗΣ ΕΥΑΓΓΕΛΟΣ",1991,"Ο.Α.ΠΕΙΡΑΙΑ","Θ"]
[20724,"F","ΜΠΟΜΠΟΝΗ ΚΑΛΛΙΟΠΗ",1993,"Ο.Α.ΑΝΑΤΟΛΙΚΗΣ ΦΘΙΩΤΙΔΑΣ","Ε"]
[19319,"F","ΜΠΟΜΠΟΥ ΔΗΜΗΤΡΑ",1991,"Ο.Α.ΑΡΓΟΥΣ","ΣΤ"]
[30637,"M","ΜΠΟΝΤΖΟΣ ΧΡΗΣΤΟΣ",1997,"Α.Π.Ο.ΣΑΝΝΥ ΣΠΟΡΤΣ ΚΛΑΜΠ","Η"]
[21959,"F","ΜΠΟΡΟΒΗΛΟΥ ΙΩΑΝΝΑ-ΕΛΕΝΗ",1995,"Σ.Α.ΤΡΙΠΟΛΗΣ","ΣΤ"]
[14764,"F","ΜΠΟΤΖΑΚΗ ΙΦΙΓΕΝΕΙΑ",1991,"ΝΑΥΠΛΙΑΚΟΣ Ο.Α.","ΣΤ"]
[24267,"M","ΜΠΟΤΖΟΡΗΣ ΣΤΥΛΙΑΝΟΣ",1995,"Ο.Α.ΒΕΡΟΙΑΣ","Γ"]
[1197,"F","ΜΠΟΤΣΑΡΗ ΛΕΥΚΟΘΕΑ",1966,"Α.Γ.Ο.ΦΙΛΙΠΠΙΑΔΑΣ","Δ"]
[22381,"M","ΜΠΟΥΓΑΔΗΣ ΙΩΑΝΝΗΣ",1994,"Α.Ο.ΠΟΣΕΙΔΩΝ ΛΟΥΤΡΑΚΙΟΥ","ΣΤ"]
[16803,"F","ΜΠΟΥΓΙΟΥΚΑ ΜΑΡΙΝΑ",1988,"Ο.Α.ΠΕΤΡΟΥΠΟΛΗΣ","Θ"]
[6951,"M","ΜΠΟΥΓΙΩΤΗΣ ΠΑΝΑΓΙΩΤΗΣ",1979,"ΝΑΥΠΛΙΑΚΟΣ Ο.Α.","ΣΤ"]
[4729,"M","ΜΠΟΥΖΑΝΗΣ ΦΩΤΗΣ",1982,"Α.Ο.ΑΜΥΝΤΑΣ ΥΜΗΤΤΟΥ","ΙΑ"]
[11697,"F","ΜΠΟΥΚΛΗ ΑΘΑΝΑΣΙΑ",1987,"Ο.Φ.Τ.ΠΥΡΓΟΥ","ΣΤ"]
[19050,"F","ΜΠΟΥΛΑΣΙΚΗ ΚΕΡΑΣΙΝΑ",1990,"Α.Σ.Α.ΛΑΡΙΣΑΣ","Ε"]
[29280,"F","ΜΠΟΥΜΠΟΥΛΗ ΑΛΕΞΑΝΔΡΑ",2002,"Α.Ο.Α.ΣΤΑΥΡΟΥΠΟΛΗΣ ΙΦΙΤΟΣ","Β"]
[31509,"M","ΜΠΟΥΝΤΗΣ ΔΗΜΗΤΡΙΟΣ",2002,"ΦΙΛΑΘΛΗΤ.ΣΥΛ.ΛΑΜΙΑΣ","Ε"]
[11537,"F","ΜΠΟΥΡΑ ΧΡΙΣΤΙΝΑ",1985,"Α.Ο.Α.ΗΛΙΟΥΠΟΛΗΣ","ΙΑ"]
[17713,"M","ΜΠΟΥΡΑΣ ΣΠΥΡΙΔΩΝ",1991,"Ο.Α.ΑΡΤΑΣ","Δ"]
[7946,"F","ΜΠΟΥΡΗ ΜΑΡΙΑ",1985,"Ε.Φ.Τ.ΑΙΟΛΙΚΗ","Β"]
[10204,"M","ΜΠΟΥΡΛΗΣ ΚΩΝΣΤΑΝΤΙΝΟΣ",1983,"Ο.Α.ΕΛΕΥΣΙΝΑΣ ΑΙΣΧΥΛΟΣ","Θ"]
[4923,"M","ΜΠΟΥΡΝΑΤΖΗΣ ΓΕΩΡΓΙΟΣ",1979,"Σ.Α.ΣΕΡΡΩΝ","Α"]
[25492,"M","ΜΠΟΥΡΤΖΑΛΑΣ ΗΛΙΑΣ-ΜΑΡΙΟΣ",1998,"ΦΘΙΩΤΙΚΟΣ Ο.Α.","Ε"]
[17956,"M","ΜΠΟΥΣΗΣ ΘΕΟΦΑΝΗΣ",1990,"Ο.Α.ΑΡΤΑΣ","Δ"]
[21971,"F","ΜΠΟΥΤΑΛΗ ΔΗΜΗΤΡΑ",1995,"Ο.Α.ΣΑΛΑΜΙΝΑΣ","Θ"]
[16442,"F","ΜΠΟΥΤΟΠΟΥΛΟΥ ΗΡΩ",1988,"Ο.Α.ΕΛΕΥΣΙΝΑΣ ΑΙΣΧΥΛΟΣ","Θ"]
[18381,"F","ΜΠΟΥΦΗ ΑΝΔΡΙΑΝΝΑ",1993,"Ο.Α.ΝΕΑΣ ΜΑΚΡΗΣ","Η"]
[22476,"F","ΜΠΟΧΩΡΗ ΜΑΡΙΑ",1991,"Ο.Α.ΣΟΥΡΩΤΗΣ ΑΛΕΞΑΝΔΡΟΣ","Β"]
[17305,"M","ΜΠΡΑΤΙΔΗΣ-ΠΑΡΛΑΠΑΝΗΣ ΙΩΑΝΝΗΣ",1990,"Ο.Α.ΞΑΝΘΗΣ","Α"]
[33713,"M","ΜΠΡΟΔΗΜΑΣ ΔΗΜΗΤΡΗΣ",1997,"Α.Σ.ΠΕΡΑ","ΙΑ"]
[90069,"F","ΜΤΣΕΝΤΛΙΤΖΕ ΕΛΕΝΗ",2000,"Α.Ο.Α.ΣΤΑΥΡΟΥΠΟΛΗΣ ΙΦΙΤΟΣ","Β"]
[10438,"F","ΜΥΛΩΝΑ ΕΙΡΗΝΗ",1985,"Α.Ο.ΒΟΥΛΙΑΓΜΕΝΗΣ","ΙΑ"]
[11386,"M","ΜΥΛΩΝΑΣ ΑΘΑΝΑΣΙΟΣ",1990,"Σ.Α.ΕΛΑΣΣΟΝΑΣ","Ε"]
[9440,"M","ΜΥΛΩΝΑΣ ΧΡΗΣΤΟΣ",1983,"Α.Ο.Α.ΑΙΓΑΛΕΩ 92","Θ"]
[9707,"F","ΜΥΡΟΓΙΑΝΝΗ ΜΑΡΙΑΝΘΗ",1967,"Λ.Α.ΚΟΜΟΤΗΝΗΣ","Α"]
[18996,"F","ΜΥΡΩΝΙΔΟΥ ΖΩΓΡΑΦΙΑ",1993,"ΣΕΡΡΑΪΚΟΣ Ο.Α.","Α"]
[35672,"M","ΜΥΤΙΛΗΝΑΙΟΣ ΧΑΡΑΛΑΜΠΟΣ",1999,"Ο.Α.ΛΑΓΚΑΔΑ ΘΕΣΣΑΛΟΝΙΚΗΣ","Β"]
[8260,"M","ΜΩΛ ΠΕΤΡΟΣ",1983,"Α.Ο.ΑΡΓΥΡΟΥΠΟΛΗΣ","ΙΑ"]
[20610,"M","ΜΩΡΑΪΤΗΣ ΔΗΜΗΤΡΙΟΣ",1994,"Σ.Α.ΡΑΦΗΝΑΣ","Η"]
[1566,"F","ΜΩΡΟΥ ΔΩΡΟΘΕΑ",1968,"Α.Κ.ΖΩΓΡΑΦΟΥ","ΙΑ"]
[6868,"F","ΝΑΒΡΟΖΙΔΟΥ ΚΑΤΕΡΙΝΑ",1980,"Σ.Α.ΚΑΤΕΡΙΝΗΣ","Γ"]
[28421,"F","ΝΑΖΟΥ ΣΟΦΙΑ",2000,"Μ.Γ.Σ.ΑΠΟΛΛΩΝ ΚΑΛΑΜΑΡΙΑΣ","Β"]
[26753,"M","ΝΑΚΟΠΟΥΛΟΣ ΝΙΚΟΛΑΟΣ",1996,"Α.Ε.Κ.ΤΡΙΠΟΛΗΣ","ΣΤ"]
[27227,"M","ΝΑΛΠΑΝΤΗΣ ΠΑΡΑΣΚΕΥΑΣ",1996,"Ο.Π.ΘΕΣΣΑΛΟΝΙΚΗΣ ΜΑΚΕΔΟΝΙΑ 92","Β"]
[4245,"F","ΝΑΝΝΟΥ ΕΛΕΥΘΕΡΙΑ",1979,"Α.Κ.ΖΩΓΡΑΦΟΥ","ΙΑ"]
[15997,"F","ΝΑΝΟΥ ΜΑΡΙΑ",1988,"Ο.Α.ΝΑΟΥΣΑΣ","Γ"]
[10163,"F","ΝΑΝΟΥ ΟΛΓΑ",1972,"Α.Σ.Ν.ΒΟΥΤΖΑ ΡΑΦΗΝΑΣ Η ΠΡΟΟΔΟΣ","Η"]
[28228,"M","ΝΑΡΛΗΣ ΒΑΣΙΛΕΙΟΣ-ΠΑΝΑΓΙΩΤΗΣ",1999,"Α.Ψ.Λ.ΜΕΔΕΩΝ","Ε"]
[1902,"F","ΝΑΣΙΟΥΛΑ ΚΩΝΣΤΑΝΤΙΝΑ",1970,"Ο.Α.ΑΡΤΑΣ","Δ"]
[24529,"M","ΝΑΣΤΟΣ ΑΠΟΣΤΟΛΟΣ",1994,"Ο.Α.ΙΩΑΝΝΙΝΩΝ","Δ"]
[13925,"M","ΝΑΤΣΙΟΣ ΔΗΜΗΤΡΗΣ",1983,"Ο.Α.ΣΚΙΑΘΟΥ","Ε"]
[12166,"F","ΝΕΔΟΥ ΕΛΕΝΗ",1987,"Σ.Α.ΣΕΡΡΩΝ","Α"]
[19744,"M","ΝΕΟΠΟΥΛΟΣ ΔΗΜΗΤΡΙΟΣ",1993,"Α.Κ.Α.ΜΑΡΑΘΩΝΑ","Η"]
[35576,"M","ΝΕΣΣΗΣ ΑΓΓΕΛΟΣ",2002,"Ο.Α.ΙΩΑΝΝΙΝΩΝ","Δ"]
[31026,"F","ΝΗΣΙΩΤΗ ΜΑΡΙΑ-ΝΕΦΕΛΗ",1998,"Α.Σ.Ν.ΒΟΥΤΖΑ ΡΑΦΗΝΑΣ Η ΠΡΟΟΔΟΣ","Η"]
[19406,"M","ΝΙΑΡΧΟΣ ΜΙΛΤΙΑΔΗΣ",1993,"Α.Ο.Α.ΗΛΙΟΥΠΟΛΗΣ","ΙΑ"]
[22050,"F","ΝΙΚΑ ΧΡΙΣΤΙΝΑ",1992,"Α.Α.ΑΛΜΠΑΤΡΟΣ","Β"]
[24609,"M","ΝΙΚΗΤΑΣ ΓΕΩΡΓΙΟΣ",1996,"Α.Ο.Α.ΝΕΑΣ ΠΕΡΑΜΟΥ ΟΙ ΤΙΤΑΝΕΣ","Α"]
[15283,"F","ΝΙΚΛΑ ΜΑΡΙΛΙΑ",1989,"ΦΘΙΩΤΙΚΟΣ Ο.Α.","Ε"]
[21752,"M","ΝΙΚΟΛΑΪΔΗΣ ΓΕΩΡΓΙΟΣ",1993,"Ο.Α.ΒΙΚΕΛΑΣ ΒΕΡΟΙΑΣ","Γ"]
[23856,"F","ΝΙΚΟΛΑΪΔΟΥ ΕΥΔΟΚΙΑ",1996,"Ο.Α.ΑΛΕΞΑΝΔΡΟΥΠΟΛΗΣ","Α"]
[7142,"F","ΝΙΚΟΛΑΚΑΚΗ ΑΣΠΑΣΙΑ",1977,"Α.Ο.ΝΕΟΥ ΦΑΛΗΡΟΥ","Θ"]
[12620,"M","ΝΙΚΟΛΑΚΟΠΟΥΛΟΣ-ΓΙΑΝΝΙΔΗΣ ΚΩΝΣΤΑΝΤΙΝΟΣ",1986,"Α.Ο.ΤΑΤΑΥΛΑ ΚΩΝΣΤΑΝΤΙΝΟΥΠΟΛΕΩΣ","ΙΑ"]
[3401,"F","ΝΙΚΟΛΑΟΥ ΔΕΣΠΟΙΝΑ",1971,"Ο.Α.ΚΑΒΑΛΑΣ ΑΛΕΞΑΝΔΡΟΣ","Α"]
[12760,"M","ΝΙΚΟΛΑΟΥ ΜΗΝΑΣ",1987,"ΝΑΥΠΛΙΑΚΟΣ Ο.Α.","ΣΤ"]
[18991,"M","ΝΙΚΟΛΕΤΤΟΣ ΚΩΝΣΤΑΝΤΙΝΟΣ",1993,"Ο.Α.ΑΛΕΞΑΝΔΡΟΥΠΟΛΗΣ","Α"]
[15693,"M","ΝΙΚΟΛΟΠΟΥΛΟΣ ΜΑΝΩΛΗΣ",1990,"Ο.Α.ΒΡΙΛΗΣΣΙΩΝ","Η"]
[26237,"M","ΝΙΚΟΛΟΠΟΥΛΟΣ ΧΑΡΑΛΑΜΠΟΣ",1997,"Α.Σ.Α.ΑΓΡΙΝΙΟΥ","Δ"]
[10861,"F","ΝΙΚΟΛΟΠΟΥΛΟΥ ΜΑΡΘΑ-ΔΑΝΑΗ",1986,"Α.Ο.ΑΛΦΕΙΟΣ ΕΠΙΤΑΛΙΟΥ","ΣΤ"]
[13510,"M","ΝΙΚΟΛΟΥΔΗΣ ΣΤΕΛΙΟΣ",1987,"Ο.Α.ΕΛΕΥΣΙΝΑΣ ΑΙΣΧΥΛΟΣ","Θ"]
[27153,"M","ΝΙΝΗΣ ΑΝΔΡΕΑΣ",1977,"Ο.Α.ΧΟΛΑΡΓΟΥ","ΙΑ"]
[19407,"F","ΝΙΤΤΗ ΕΥΑΓΓΕΛΙΑ",1993,"Ο.Α.ΑΘΗΝΩΝ","Η"]
[3611,"M","ΝΟΚΟΛΟΠΟΥΛΟΣ ΔΗΜΗΤΡΙΟΣ",1976,"Α.Ο.ΑΡΓΥΡΟΥΠΟΛΗΣ","ΙΑ"]
[5815,"F","ΝΟΜΙΚΟΥ ΑΝΝΑ-ΝΙΚΟΛΕΤΑ",1976,"Ο.Α.ΚΑΒΑΛΑΣ ΑΛΕΞΑΝΔΡΟΣ","Α"]
[28229,"M","ΝΟΤΑΣ ΚΩΝΣΤΑΝΤΙΝΟΣ",1997,"Ο.Α.ΘΕΣΣΑΛΟΝΙΚΗΣ","Β"]
[7951,"F","ΝΟΥΜΕΡΤΖΗ ΧΡΙΣΤΙΝΑ",1984,"Σ.Ο.Ι.Σ.ΝΕΑ ΠΝΟΗ","Α"]
[6662,"M","ΝΟΥΣΙΟΣ ΔΗΜΗΤΡΙΟΣ",1967,"Ο.Α.ΚΑΛΑΜΑΚΙΟΥ","ΙΑ"]
[13428,"F","ΝΤΑΒΑΡΙΝΟΥ ΧΡΙΣΤΙΝΑ",1987,"Ο.Α.ΑΓΡΙΝΙΟΥ","Δ"]
[28439,"F","ΝΤΑΗ ΜΑΓΔΑΛΗΝΗ",2000,"ΦΙΛΑΘΛ.ΟΜΙΛΟΣ ΠΥΡΓΟΥ","ΣΤ"]
[24361,"F","ΝΤΑΛΑΣΗ ΕΛΕΝΗ-ΘΩΜΑΪ",1993,"Ο.Α.ΤΡΙΚΑΛΩΝ","Ε"]
[27590,"F","ΝΤΑΜΑΔΑΚΗ ΑΙΚΑΤΕΡΙ-ΝΗ",1994,"Α.Ο.ΚΥΔΩΝΙΑΣ","Ζ"]
[25501,"F","ΝΤΑΝΙΕΛΙΑΝΤΣ ΑΝΝΑ-ΜΑΡΙΑ",1998,"Ο.Α.ΦΟΙΒΟΣ ΛΑΡΙΣΑΣ","Ε"]
[21965,"M","ΝΤΑΝΤΖΕΡ ΙΑΣΩΝ",1996,"Α.Ε.ΠΟΡΤΟ ΡΑΦΤΗ","Η"]
[14495,"F","ΝΤΑΡΧΟΥ ΜΑΡΙΑ",1988,"Α.Ο.Ν.Φ.ΑΤΤΑΛΟΣ","Η"]
[16417,"M","ΝΤΑΦΛΟΥΚΑΣ ΚΩΝΣΤΑΝΤΙΝΟΣ",1992,"ΦΘΙΩΤΙΚΟΣ Ο.Α.","Ε"]
[12858,"M","ΝΤΑΦΟΠΟΥΛΟΣ ΧΡΗΣΤΟΣ",1990,"Ο.Α.ΣΟΦΑΔΩΝ & ΚΑΡΔΙΤΣΑΣ ΟΛΥΜΠΙΑΔΑ","Ε"]
[25770,"F","ΝΤΕΛΙΟΥ ΜΑΡΙΑ",1996,"Ο.Α.ΚΩ","Θ"]
[90098,"M","ΝΤΕΝΤΣΕΦ ΙΒΑΗΛΟ",1973,"Α.Σ.Α.ΛΑΡΙΣΑΣ","Ε"]
[9704,"F","ΝΤΙΓΜΠΑΣΑΝΗ ΦΑΝΗ",1979,"Α.Ο.Α.ΚΑΣΤΟΡΙΑΣ","Γ"]
[13137,"M","ΝΤΙΝΟΠΟΥΛΟΣ ΓΕΩΡΓΙΟΣ",1983,"Α.Ο.Α.ΦΙΛΟΘΕΗΣ","Η"]
[90112,"M","ΝΤΙΝΤΟ ΑΛΕΞΑΝΔΡΟΣ",2002,"Ο.Α.ΓΛΥΦΑΔΑΣ","ΙΑ"]
[16252,"F","ΝΤΟΓΑΝΤΖΗ ΕΙΡΗΝΗ",1989,"Ο.Α.ΠΕΤΡΟΥΠΟΛΗΣ","Θ"]
[90002,"M","ΝΤΟΜΠΟΥΣ ΝΑΖΑΡ",1993,"Ο.Α.ΛΙΒΑΔΕΙΑΣ","Ε"]
[32553,"M","ΝΤΟΤΑΣ ΜΑΡΙΟΣ",2000,"Ο.Α.ΑΙΓΙΑΛΕΙΑΣ","ΣΤ"]
[15131,"M","ΝΤΟΥΛΑΣ ΔΗΜΗΤΡΗΣ",1968,"Ν.Ο.ΚΑΛΑΜΑΚΙΟΥ","ΙΑ"]
[13702,"M","ΝΤΟΥΜΑΣ ΣΥΜΕΩΝ",1983,"Α.Ο.Α.ΠΑΠΑΓΟΥ","ΙΑ"]
[11172,"M","ΝΤΟΥΡΝΤΟΥΡΕΚΑΣ ΠΑΝΑΓΙΩΤΗΣ",1967,"Ο.Α.ΛΙΒΑΔΕΙΑΣ","Ε"]
[16199,"F","ΝΤΟΥΦΑ ΧΡΥΣΟΥΛΑ",1987,"Α.Ο.ΒΑΡΗΣ ΑΝΑΓΥΡΟΥΣ","Η"]
[30460,"M","ΞΑΝΘΟΠΟΥΛΟΣ ΒΑΣΙΛΕΙΟΣ",2000,"Α.Ο.ΚΑΒΑΛΑΣ ΜΑΚΕΔΟΝΙΚΟΣ","Α"]
[31113,"F","ΞΑΝΘΟΠΟΥΛΟΥ ΔΕΣΠΟΙΝΑ",1990,"Ε.Α.Σ.ΟΛΥΜΠΙΑΔΑ","Β"]
[30041,"M","ΞΑΡΧΑΣ ΑΘΑΝΑΣΙΟΣ",2001,"Α.Ο.Α.ΗΛΙΟΥΠΟΛΗΣ","ΙΑ"]
[31677,"M","ΞΕΝΙΔΗΣ ΑΝΤΩΝΙΟΣ",2001,"Ο.Α.ΑΡΙΔΑΙΑΣ","Γ"]
[23737,"M","ΞΕΝΟΣ ΚΩΝΣΤΑΝΤΙΝΟΣ",1996,"Ο.Α.ΠΑΡΟΥ","Η"]
[17134,"M","ΞΕΠΑΠΑΔΑΚΗΣ ΝΙΚΟΣ",1990,"Ο.Α.ΚΑΛΑΜΑΤΑΣ","ΣΤ"]
[18090,"F","ΞΗΡΟΔΗΜΑ ΜΑΡΙΑ",1990,"Α.Ο.Α.ΑΙΓΑΛΕΩ 92","Θ"]
[6390,"M","ΞΟΥΡΓΙΑΣ ΙΩΑΝΝΗΣ",1968,"Φ.Ο.Α.ΝΕΑΠΟΛΗΣ","Β"]
[28457,"F","ΞΥΛΑ ΕΙΡΗΝΗ",1996,"ΠΕΥΚΗ Γ.ΚΑΛΟΒΕΛΩΝΗΣ","Η"]
[17643,"F","ΞΥΝΟΥ ΜΑΡΙΑ-ΙΩΑΝΝΑ",1991,"Ο.Α.ΖΩΓΡΑΦΟΥ","Η"]
[14214,"M","ΟΙΚΟΜΟΜΟΥ ΝΙΚΟΛΑΟΣ",1988,"Ο.Α.ΝΕΟΥ ΦΑΛΗΡΟΥ","Θ"]
[10273,"M","ΟΙΚΟΝΟΜΟΠΟΥΛΟΣ ΝΙΚΟΛΑΟΣ",1982,"Ο.Α.ΖΩΓΡΑΦΟΥ","Η"]
[31539,"F","ΟΙΚΟΝΟΜΟΥ ΑΙΚΑΤΕΡΙΝΗ-ΔΗΜΗΤΡΑ",1997,"Α.Α.ΑΛΜΠΑΤΡΟΣ","Β"]
[36907,"M","ΟΙΚΟΝΟΜΟΥ ΓΕΩΡΓΙΟΣ",2002,"Α.Π.Ο.ΣΑΝΝΥ ΣΠΟΡΤΣ ΚΛΑΜΠ","Η"]
[12650,"F","ΟΙΚΟΝΟΜΟΥ ΚΩΝΣΤΑΝΤΙΝΑ-ΜΑΡΙΑ",1988,"Ο.Α.ΕΛΕΥΣΙΝΑΣ ΑΙΣΧΥΛΟΣ","Θ"]
[38256,"M","ΟΙΚΟΝΟΜΟΥ ΠΑΡΙΣ",2000,"Α.Ν.Ο.ΓΛΥΦΑΔΑΣ","ΙΑ"]
[18994,"F","ΟΙΚΟΝΟΜΟΥ ΧΡΥΣΟΥΛΑ",1988,"Ο.Α.ΑΛΕΞΑΝΔΡΟΥΠΟΛΗΣ","Α"]
[18698,"M","ΟΡΚΟΥΛΑΣ-ΡΑΖΗΣ ΔΙΟΝΥΣΙΟΣ",1991,"Α.Κ.ΖΩΓΡΑΦΟΥ","ΙΑ"]
[21617,"M","ΟΡΦΑΝΙΔΗΣ ΤΣΑΜΠΙΚΟΣ-ΣΤΕΦΑΝΟΣ",1991,"Α.Μ.Ε.Σ.Ν.ΕΡΥΘΡΑΙΑΣ","Η"]
[12894,"F","ΟΡΦΑΝΟΥ ΜΑΡΙΑ",1971,"Α.Ε.ΠΟΡΤΟ ΡΑΦΤΗ","Η"]
[17460,"F","ΟΥΖΟΥΝΘΑΝΑΣΗ ΕΥΑ",1984,"Α.Α.ΑΛΜΠΑΤΡΟΣ","Β"]
[17370,"M","ΟΥΣΤΡΙΑΣ ΡΑΦΑΗΛ-ΧΡΗΣΤΟΣ",1990,"Σ.Α.ΣΕΡΡΩΝ","Α"]
[2594,"M","ΠΑΓΚΑΛΟΣ ΓΕΩΡΓΙΟΣ",1976,"ΗΡΑΚΛΕΙΟ Ο.Α.& Α.","Ζ"]
[15262,"M","ΠΑΓΟΥΡΤΖΗΣ ΕΥΘΥΜΗΣ",1991,"ΦΘΙΩΤΙΚΟΣ Ο.Α.","Ε"]
[2104,"M","ΠΑΔΡΑΣ ΜΙΧΑΛΗΣ",1970,"ΠΑΝΕΛΛΗΝΙΟΣ Γ.Σ.","Θ"]
[29662,"M","ΠΑΪΠΕΤΗΣ ΓΕΩΡΓΙΟΣ",2001,"Ο.Α.ΚΕΡΚΥΡΑΣ","Δ"]
[19655,"F","ΠΑΛΑΖΗ ΝΙΚΗ",1994,"ΣΕΡΡΑΪΚΟΣ Ο.Α.","Α"]
[1306,"M","ΠΑΛΑΖΗΣ ΓΙΩΡΓΟΣ",1967,"Σ.Α.ΣΕΡΡΩΝ","Α"]
[15364,"M","ΠΑΛΑΙΟΛΟΓΟΣ ΚΩΝΣΤΑΝΤΙΝΟΣ",1990,"Γ.Σ.ΗΛΙΟΥΠΟΛΗΣ","ΙΑ"]
[11846,"F","ΠΑΛΑΙΣΤΗ ΧΡΙΣΤΙΝΑ",1987,"Ο.Α.ΒΕΡΟΙΑΣ","Γ"]
[3303,"F","ΠΑΛΑΣΟΠΟΥΛΟΥ ΜΑΓΔΑΛΗΝΗ",1979,"Ο.Α.ΑΙΓΙΟΥ","ΣΤ"]
[24281,"F","ΠΑΛΗΟΓΙΑΝΝΗ ΔΗΜΗΤΡΑ",1994,"Α.Σ.Α.ΛΑΡΙΣΑΣ","Ε"]
[17522,"F","ΠΑΛΚΟΠΟΥΛΟΥ ΣΤΕΛΛΑ",1989,"ΦΘΙΩΤΙΚΟΣ Ο.Α.","Ε"]
[17090,"F","ΠΑΛΟΥΔΗ ΔΗΜΗΤΡΑ",1987,"Α.Ο.ΓΛΥΦΑΔΑΣ ΦΙΛΙΑ 2000","ΙΑ"]
[24809,"M","ΠΑΜΠΟΥΚΗΣ ΓΕΩΡΓΙΟΣ",1996,"Ο.Α.ΠΑΝΟΡΑΜΑΤΟΣ","Β"]
[11444,"M","ΠΑΝΑΓΑΚΗΣ ΠΑΝΑΓΙΩΤΗΣ",1985,"Α.Σ.ΣΠΑΡΤΑΚΟΣ ΓΛΥΦΑΔΑΣ","ΙΑ"]
[7056,"F","ΠΑΝΑΓΙΩΤΑΚΗ ΜΑΡΙΑ",1981,"ΦΙΛΙΑ Τ.Κ.","Ζ"]
[33559,"M","ΠΑΝΑΓΙΩΤΗΣ ΠΑΠΑϊΩΑΝΝΟΥ",2000,"Α.Ο.Α.ΚΑΤΕΡΙΝΗΣ","Γ"]
[3879,"M","ΠΑΝΑΓΙΩΤΙΔΗΣ ΠΑΝΑΓΙΩΤΗΣ",1973,"ΗΡΑΚΛΕΙΟ Ο.Α.& Α.","Ζ"]
[5439,"F","ΠΑΝΑΓΙΩΤΙΔΟΥ ΜΑΡΙΑ",1978,"Ο.Α.ΚΙΛΚΙΣ","Β"]
[29499,"M","ΠΑΝΑΓΙΩΤΟΠΟΥΛΟΣ ΑΓΓΕΛΟΣ",1999,"Γ.Σ.ΗΛΙΟΥΠΟΛΗΣ","ΙΑ"]
[24520,"M","ΠΑΝΑΓΙΩΤΟΠΟΥΛΟΣ ΣΠΥΡΟΣ",1994,"Ο.Α.ΚΕΡΚΥΡΑΣ","Δ"]
[19774,"F","ΠΑΝΑΓΙΩΤΟΠΟΥΛΟΥ ΝΕΦΕΛΗ",1992,"Ν.Ο.ΚΑΛΑΜΑΚΙΟΥ","ΙΑ"]
[5309,"M","ΠΑΝΑΓΙΩΤΟΥ ΕΥΡΙΠΙΔΗΣ",1980,"Σ.Α.ΣΕΡΡΩΝ","Α"]
[12405,"M","ΠΑΝΑΓΟΔΗΜΟΣ ΗΛΙΑΣ",1987,"Ο.Α.ΑΓΡΙΝΙΟΥ","Δ"]
[14211,"F","ΠΑΝΑΓΟΠΟΥΛΟΥ ΔΗΜΗΤΡΑ",1988,"Ο.Α.ΝΕΟΥ ΦΑΛΗΡΟΥ","Θ"]
[30959,"F","ΠΑΝΑΓΟΥ ΑΓΓΕΛΙΚΗ-ΚΩΝΣΤΑΝΤΙΝΑ",2001,"Γ.Σ.ΚΗΦΙΣΙΑΣ","Η"]
[21564,"F","ΠΑΝΑΚΑ ΑΝΝΑ-ΑΡΤΕΜΙΣ",1995,"Ε.Α.Τ.Ε.Κ.ΕΛΛΗΝΙΚΟΥ ΚΟΛΛΕΓΙΟΥ","Β"]
[3121,"F","ΠΑΝΖΑΡΗ ΑΙΚΑΤΕΡΙΝΗ",1976,"Α.Σ.ΠΑΠΑΓΟΥ","ΙΑ"]
[26186,"M","ΠΑΝΟΠΟΥΛΟΣ ΚΩΣΤΑΣ",1995,"Ο.Α.ΚΑΛΑΜΑΤΑΣ","ΣΤ"]
[29174,"F","ΠΑΝΟΥ ΔΑΝΑΗ",1999,"Ο.Α.ΣΠΑΡΤΗΣ","ΣΤ"]
[10169,"F","ΠΑΝΟΥ-ΠΑΠΑΘΕΟΔΩΡΟΥ ΑΝΔΡΙΑΝΗ",1980,"Α.Σ.Ν.ΒΟΥΤΖΑ ΡΑΦΗΝΑΣ Η ΠΡΟΟΔΟΣ","Η"]
[32656,"F","ΠΑΝΤΑΒΟΥ-ΚΛΑΔΗ ΙΩΑΝΝΑ",2001,"Α.Α.ΑΙΓΑΛΕΩ","Θ"]
[26727,"M","ΠΑΝΤΑΖΗΣ ΓΕΩΡΓΙΟΣ",1998,"Γ.Σ.ΗΛΙΟΥΠΟΛΗΣ","ΙΑ"]
[36106,"M","ΠΑΝΤΑΖΙΔΗΣ ΧΡΗΣΤΟΣ",2002,"Ο.Α.ΚΑΛΑΜΑΤΑΣ","ΣΤ"]
[9788,"F","ΠΑΝΤΑΛΙΔΟΥ ΑΛΕΞΑΝΔΡΑ",1983,"Ο.Α.ΑΛΕΞΑΝΔΡΟΥΠΟΛΗΣ","Α"]
[29759,"M","ΠΑΝΤΕΛΕΟΥ ΠΑΝΑΓΙΩΤΗΣ",2000,"Α.Ο.ΠΟΣΕΙΔΩΝ ΛΟΥΤΡΑΚΙΟΥ","ΣΤ"]
[21017,"F","ΠΑΝΤΕΛΙΔΗ ΖΩΗ",1994,"Α.Σ.Ε.ΘΗΣΕΑΣ ΑΓΙΟΥ ΔΗΜΗΤΡΙΟΥ","ΙΑ"]
[32565,"F","ΠΑΝΤΕΛΙΔΟΥ ΙΩΑΝΝΑ",2001,"Φ.Σ.ΚΑΛΛΙΘΕΑΣ","Θ"]
[5773,"M","ΠΑΝΤΖΑΣ ΣΠΥΡΙΔΩΝ",1980,"Α.Ο.ΚΑΛΛΙΤΕΧΝΟΥΠΟΛΗΣ","Η"]
[7915,"M","ΠΑΝΤΟΠΟΥΛΟΣ ΑΘΑΝΑΣΙΟΣ",1980,"Ο.Α.ΚΟΡΙΝΘΟΥ","ΣΤ"]
[31659,"F","ΠΑΝΤΣΑΡΤΖΙΔΟΥ ΙΩΑΝΝΑ",1998,"Ο.Α.ΑΡΙΔΑΙΑΣ","Γ"]
[10660,"F","ΠΑΠΑΒΑΣΙΛΕΙΟΥ ΑΝΑΣΤΑΣΙΑ",1981,"ΦΘΙΩΤΙΚΟΣ Ο.Α.","Ε"]
[14478,"M","ΠΑΠΑΒΑΣΙΛΕΙΟΥ ΑΡΙΣΤΟΤΕΛΗΣ-ΑΝΝΕΤΑΚΗΣ",1983,"Ο.Α.ΛΙΒΑΔΕΙΑΣ","Ε"]
[7592,"M","ΠΑΠΑΒΡΑΜΙΔΗΣ ΚΩΝΣΤΑΝΤΙΝΟΣ",1981,"Ο.Α.ΛΑΡΙΣΑΣ","Ε"]
[24574,"F","ΠΑΠΑΓΕΩΡΓΙΟΥ ΑΙΚΑΤΕΡΙΝΗ-ΜΑΡΙΝΑ",1998,"Α.Κ.Α.Α.ΠΑΝΤΑΛΚΗΣ","Θ"]
[3971,"M","ΠΑΠΑΓΕΩΡΓΙΟΥ ΑΛΕΞΑΝΔΡΟΣ",1975,"Ο.Α.ΒΟΛΟΥ","Ε"]
[3265,"M","ΠΑΠΑΓΕΩΡΓΙΟΥ ΓΕΩΡΓΙΟΣ",1972,"Α.Ο.Α.ΠΑΤΡΩΝ","ΣΤ"]
[11942,"F","ΠΑΠΑΓΕΩΡΓΙΟΥ ΕΛΕΝΗ",1986,"Α.Α.ΙΩΑΝΝΙΝΩΝ","Δ"]
[8268,"M","ΠΑΠΑΓΕΩΡΓΙΟΥ ΚΩΝΣΤΑΝΤΙΝΟΣ",1981,"Ο.Α.ΒΟΛΟΥ","Ε"]
[1502,"M","ΠΑΠΑΓΕΩΡΓΙΟΥ ΜΙΧΑΗΛ",1972,"Α.Ο.Α.ΦΙΛΟΘΕΗΣ","Η"]
[6457,"F","ΠΑΠΑΓΕΩΡΓΙΟΥ ΣΟΦΙΑ",1981,"Σ.Α.ΡΑΦΗΝΑΣ","Η"]
[34971,"M","ΠΑΠΑΓΙΑΝΑΚΟΠΟΥΛΟΣ ΝΙΚΟΛΑΟΣ",2001,"Ο.Α.ΑΙΓΙΑΛΕΙΑΣ","ΣΤ"]
[27029,"M","ΠΑΠΑΓΙΑΝΝΗΣ ΑΝΑΣΤΑΣΙΟΣ",1998,"Ο.Α.ΣΑΛΑΜΙΝΑΣ","Θ"]
[9433,"M","ΠΑΠΑΓΙΑΝΝΟΠΟΥΛΟΣ ΣΤΑΥΡΟΣ",1982,"Α.Ο.Α.ΦΙΛΟΘΕΗΣ","Η"]
[16799,"F","ΠΑΠΑΔΑΚΗ ΑΛΕΞΑΝΔΡΑ",1991,"Γ.Ο.ΠΕΡΙΣΤΕΡΙΟΥ Γ.ΠΑΛΑΣΚΑΣ","Θ"]
[1534,"F","ΠΑΠΑΔΑΚΗ ΧΡΙΣΤΙΝΑ",1973,"Ο.Α.ΑΘΗΝΩΝ","Η"]
[21082,"M","ΠΑΠΑΔΑΚΗΣ ΔΗΜΗΤΡΗΣ",1994,"ΠΕΥΚΗ Γ.ΚΑΛΟΒΕΛΩΝΗΣ","Η"]
[23824,"M","ΠΑΠΑΔΑΚΗΣ ΠΑΝΤΕΛΕΗΜΩΝ",1990,"Ο.Α.ΚΩ","Θ"]
[13032,"F","ΠΑΠΑΔΑΚΟΥ ΕΥΣΤΑΘΙΑ",1985,"Α.Ο.Α.ΧΑΪΔΑΡΙΟΥ","Θ"]
[12883,"F","ΠΑΠΑΔΑΤΟΥ ΜΑΡΓΑΡΙΤΑ-ΣΠΥΡΙΔΟΥΛΑ",1986,"ΚΕΡΚΥΡΑΪΚΗ Λ.Τ.","Δ"]
[14172,"M","ΠΑΠΑΔΕΡΟΣ ΟΡΕΣΤΗΣ",1986,"Α.Ο.ΒΑΡΗΣ ΑΝΑΓΥΡΟΥΣ","Η"]
[31603,"F","ΠΑΠΑΔΗΜΗΤΡΗ ΠΑΡΑΣΚΕΥΗ",2002,"ΡΟΔΙΑΚΗ ΑΚΑΔ.ΑΝΤΙΣΦ.","Θ"]
[37719,"F","ΠΑΠΑΔΗΜΗΤΡΙΟΥ ΒΙΛΕΤΤΑ-ΦΡΑΝΤΖΕΣΚΑ",2001,"Ο.Α.ΡΙΟΥ","ΣΤ"]
[10205,"F","ΠΑΠΑΔΗΜΗΤΡΙΟΥ ΕΥΤΥΧΙΑ",1983,"Ο.Α.ΕΛΕΥΣΙΝΑΣ ΑΙΣΧΥΛΟΣ","Θ"]
[10594,"M","ΠΑΠΑΔΗΜΗΤΡΙΟΥ ΛΑΜΠΡΟΣ",1983,"Ο.Π.ΘΕΣΣΑΛΟΝΙΚΗΣ ΜΑΚΕΔΟΝΙΑ 92","Β"]
[26584,"F","ΠΑΠΑΔΗΜΗΤΡΙΟΥ ΠΕΡΣΕΦΟΝΗ",1993,"Σ.Φ.Φ.Α.Η ΑΜΙΛΛΑ","Ε"]
[36025,"F","ΠΑΠΑΔΗΜΗΤΡΟΠΟΥΛΟΥ ΠΑΝΑΓΙΩΤΑ-ΕΛΕΥΘΕΡΙΑ",2002,"Α.Σ.ΑΚΑΔΗΜΙΕΣ ΠΡΩΤΑΘΛΗΤΩΝ ΠΕΥΚΩΝ","Β"]
[8552,"M","ΠΑΠΑΔΙΟΝΥΣΙΟΥ ΦΙΛΙΠΠΟΣ",1980,"ΑΙΟΛΟΣ Α.Λ.ΙΛΙΟΥ","Θ"]
[32751,"M","ΠΑΠΑΔΟΓΟΥΛΑΣ ΝΙΚΟΛΑΟΣ",1995,"Γ.Σ.ΗΛΙΟΥΠΟΛΗΣ","ΙΑ"]
[21633,"M","ΠΑΠΑΔΟΠΟΥΛΟΣ ΑΛΕΞΑΝΔΡΟΣ",1993,"Α.Σ.ΠΕΡΑ","ΙΑ"]
[22207,"M","ΠΑΠΑΔΟΠΟΥΛΟΣ ΒΑΣΙΛΕΙΟΣ",1995,"Μ.Α.Σ.ΑΕΤΟΣ ΘΕΣΣΑΛΟΝΙΚΗΣ","Β"]
[5496,"M","ΠΑΠΑΔΟΠΟΥΛΟΣ ΓΙΩΡΓΟΣ",1982,"Σ.Α.ΣΕΡΡΩΝ","Α"]
[5242,"M","ΠΑΠΑΔΟΠΟΥΛΟΣ ΙΩΑΝΝΗΣ",1980,"Α.Ο.Α.ΗΛΙΟΥΠΟΛΗΣ","ΙΑ"]
[5240,"M","ΠΑΠΑΔΟΠΟΥΛΟΣ ΚΩΝΣΤΑΝΤΙΝΟΣ",1977,"Α.Ο.Α.ΗΛΙΟΥΠΟΛΗΣ","ΙΑ"]
[11259,"M","ΠΑΠΑΔΟΠΟΥΛΟΣ ΝΕΣΤΟΡΑΣ",1982,"Ο.Α.ΠΕΤΡΟΥΠΟΛΗΣ","Θ"]
[17491,"M","ΠΑΠΑΔΟΠΟΥΛΟΣ ΠΕΤΡΟΣ",1986,"Ο.Α.ΘΕΣΣΑΛΟΝΙΚΗΣ","Β"]
[12656,"M","ΠΑΠΑΔΟΠΟΥΛΟΣ ΧΡΗΣΤΟΣ",1987,"Ο.Α.ΕΛΕΥΣΙΝΑΣ ΑΙΣΧΥΛΟΣ","Θ"]
[34054,"F","ΠΑΠΑΔΟΠΟΥΛΟΥ ΑΝΑΣΤΑΣΙΑ",2001,"Α.Ο.Α.ΚΑΒΑΛΑΣ","Α"]
[19313,"F","ΠΑΠΑΔΟΠΟΥΛΟΥ ΔΑΝΑΗ",1990,"Ο.Α.ΙΑΛΥΣΣΟΣ ΡΟΔΟΥ","Θ"]
[7402,"F","ΠΑΠΑΔΟΠΟΥΛΟΥ ΕΛΕΥΘΕΡΙΑ",1983,"Α.Ο.Α.ΧΑΪΔΑΡΙΟΥ","Θ"]
[23694,"F","ΠΑΠΑΔΟΠΟΥΛΟΥ ΘΕΟΦΑΝΙΑ",1998,"Σ.Α.ΔΡΑΜΑΣ","Α"]
[1669,"F","ΠΑΠΑΔΟΠΟΥΛΟΥ ΜΑΡΙΑ",1974,"Ο.Α.ΑΘΗΝΩΝ","Η"]
[29472,"F","ΠΑΠΑΔΟΠΟΥΛΟΥ ΝΙΚΟΛΕΤΑ",1998,"Ο.Α.ΑΛΕΞΑΝΔΡΟΣ ΒΕΡΟΙΑΣ","Γ"]
[5008,"F","ΠΑΠΑΔΟΠΟΥΛΟΥ ΡΟΔΑΝΘΗ",1981,"Α.Σ.Α.ΛΑΡΙΣΑΣ","Ε"]
[16141,"F","ΠΑΠΑΔΟΠΟΥΛΟΥ ΡΟΔΑΝΘΗ",1990,"Α.Σ.Α.ΛΑΡΙΣΑΣ","Ε"]
[29869,"F","ΠΑΠΑΔΟΠΟΥΛΟΥ ΦΑΝΗ",1996,"Ο.Α.ΠΤΟΛΕΜΑΪΔΑΣ","Γ"]
[28864,"F","ΠΑΠΑΔΟΥΛΗ ΒΑΣΙΛΙΚΗ",1999,"Ο.Α.ΜΑΓΝΗΣΙΑΣ","Ε"]
[11829,"F","ΠΑΠΑΖΑΦΕΙΡΑΤΟΥ ΙΦΙΓΕΝΕΙΑ",1985,"ΚΕΦΑΛΛΗΝΙΑΚΟΣ Ο.Α.","ΣΤ"]
[15347,"M","ΠΑΠΑΖΗΤΗΣ ΚΩΝΣΤΑΝΤΙΝΟΣ",1991,"Ο.Α.ΓΛΥΦΑΔΑΣ","ΙΑ"]
[27102,"F","ΠΑΠΑΗΛΙΟΥ ΒΑΣΙΛΙΚΗ",2001,"Α.Ε.Κ.ΤΡΙΠΟΛΗΣ","ΣΤ"]
[23725,"F","ΠΑΠΑΘΑΝΑΣΙΟΥ ΑΝΝΑ-ΙΡΙΣ",1974,"Ο.Α.ΠΑΡΟΥ","Η"]
[31066,"F","ΠΑΠΑΘΑΝΑΣΙΟΥ ΜΑΡΙΑΝΘΗ",2000,"Ο.Α.ΑΓΙΩΝ ΑΝΑΡΓΥΡΩΝ","Θ"]
[18887,"F","ΠΑΠΑΘΕΟΔΩΡΟΥ ΛΗΔΑ",1989,"Ν.Ο.ΘΕΣΣΑΛΟΝΙΚΗΣ","Β"]
[6141,"M","ΠΑΠΑΘΩΜΙΔΗΣ ΘΕΟΔΩΡΟΣ",1970,"Ο.Α.ΝΑΟΥΣΑΣ","Γ"]
[4467,"M","ΠΑΠΑΙΩΑΝΝΟΥ ΑΛΕΞΑΝΔΡΟΣ",1978,"Α.Ε.ΒΟΥΛΑΣ","ΙΑ"]
[7458,"M","ΠΑΠΑΪΩΑΝΝΟΥ ΓΡΗΓΟΡΙΟΣ",1980,"Ο.Α.ΒΙΚΕΛΑΣ ΒΕΡΟΙΑΣ","Γ"]
[21906,"M","ΠΑΠΑΪΩΑΝΝΟΥ ΚΩΝΣΤΑΝΤΙΝΟΣ",1994,"Ο.Α.ΒΟΛΟΥ","Ε"]
[27784,"F","ΠΑΠΑΪΩΣΗΦ ΑΝΑΣΤΑΣΙΑ-ΔΗΜΗΤΡΑ",1996,"Α.Σ.ΟΛΥΜΠΙΑΚΟΥ ΧΩΡΙΟΥ Ο ΦΟΙΒΟΣ","Θ"]
[26826,"M","ΠΑΠΑΚΩΝΣΤΑΝΤΗΣ ΝΙΚΟΛΑΟΣ",1999,"Α.Ο.ΓΛΥΦΑΔΑΣ ΦΙΛΙΑ 2000","ΙΑ"]
[31551,"F","ΠΑΠΑΚΩΝΣΤΑΝΤΙΝΟΥ ΕΛΕΝΑ-ΜΑΡΙΑ",2002,"Α.Ο.Α.ΦΙΛΟΘΕΗΣ","Η"]
[23420,"M","ΠΑΠΑΚΩΝΣΤΑΝΤΙΝΟΥ ΜΑΡΙΟΣ",1991,"Α.Ε.ΠΟΡΤΟ ΡΑΦΤΗ","Η"]
[29453,"M","ΠΑΠΑΚΩΝΣΤΑΝΤΟΠΟΥΛΟΣ ΚΩΝΣΤΑΝΤΙΝΟΣ",1998,"ΠΑΝΘΡΑΚΙΚΟΣ Ο.Α.ΚΟΜΟΤΗΝΗΣ","Α"]
[15508,"M","ΠΑΠΑΚΩΣΤΑΣ ΙΩΑΝΝΗΣ",1990,"Α.Α.ΑΛΜΠΑΤΡΟΣ","Β"]
[15148,"F","ΠΑΠΑΛΕΞΑΝΔΡΑΤΟΥ ΕΥΑΓΓΕΛΙΑ-ΞΕΝΗ",1982,"Ο.Α.ΚΩ","Θ"]
[23677,"M","ΠΑΠΑΜΑΝΩΛΗΣ ΙΩΑΝΝΗΣ",1995,"Μ.Α.Σ.ΑΕΤΟΣ ΘΕΣΣΑΛΟΝΙΚΗΣ","Β"]
[13471,"M","ΠΑΠΑΜΙΧΑΗΛ ΓΕΩΡΓΙΟΣ",1987,"Ο.Α.ΣΑΛΑΜΙΝΑΣ","Θ"]
[10130,"M","ΠΑΠΑΝΑΓΙΩΤΟΥ ΗΛΙΑΣ",1982,"Α.Ο.Α.ΑΙΓΑΛΕΩ 92","Θ"]
[26462,"M","ΠΑΠΑΝΑΣΤΑΣΙΟΥ ΑΝΑΣΤΑΣΙΟΣ-ΠΑΝΑΓΙΩΤΗΣ",1997,"ΣΕΡΡΑΪΚΟΣ Ο.Α.","Α"]
[13839,"F","ΠΑΠΑΝΔΡΕΑΔΗ ΣΟΦΙΑ",1987,"Α.Ο.Α.ΧΑΪΔΑΡΙΟΥ","Θ"]
[19640,"F","ΠΑΠΑΝΕΛΟΠΟΥΛΟΥ ΕΛΠΙΔΑ",1994,"Α.Σ.ΑΚΡΟΠΟΛΙΣ","Η"]
[23670,"F","ΠΑΠΑΝΙΚΟΛΑΟΥ ΑΣΠΑΣΙΑ",1998,"Α.Ε.ΠΟΡΤΟ ΡΑΦΤΗ","Η"]
[20919,"F","ΠΑΠΑΝΙΚΟΛΑΟΥ ΔΗΜΗΤΡΑ",1995,"Α.Ε.ΠΟΡΤΟ ΡΑΦΤΗ","Η"]
[11186,"F","ΠΑΠΑΝΙΚΟΛΑΟΥ ΙΩΑΝΝΑ",1985,"Α.Ο.ΒΑΡΗΣ ΑΝΑΓΥΡΟΥΣ","Η"]
[19604,"F","ΠΑΠΑΝΙΚΟΛΑΟΥ ΝΙΚΟΛΕΤΑ",1994,"ΦΘΙΩΤΙΚΟΣ Ο.Α.","Ε"]
[24794,"M","ΠΑΠΑΝΙΚΟΛΑΟΥ ΧΡΥΣΟΒΑΛΑΝΤΗΣ",1992,"Σ.Α.ΔΡΑΜΑΣ","Α"]
[24831,"F","ΠΑΠΑΝΤΩΝΗ ΣΩΤΗΡΙΑ-ΓΕΩΡΓΙΑ",1996,"Σ.Ο.Α.ΚΑΡΔΙΤΣΑΣ ΦΩΚΙΑΝΟΣ","Ε"]
[31458,"M","ΠΑΠΑΝΤΩΝΙΟΥ ΚΩΝΣΤΑΝΤΙΝΟΣ",2001,"Γ.Σ.ΕΛΕΥΘΕΡΙΟΥ ΚΟΡΔ.ΑΡΓΟΝΑΥΤΕΣ","Β"]
[22425,"M","ΠΑΠΑΠΑΝΑΓΙΩΤΟΥ ΓΕΩΡΓΙΟΣ",1994,"Α.Ο.ΚΑΒΑΛΑΣ ΜΑΚΕΔΟΝΙΚΟΣ","Α"]
[15952,"F","ΠΑΠΑΠΑΥΛΟΥ ΠΟΛΥΞΕΝΗ",1992,"Ο.Α.ΓΟΥΔΙΟΥ","ΙΑ"]
[5880,"F","ΠΑΠΑΠΟΣΤΟΛΟΥ ΚΑΣΣΙΑΝΗ",1978,"Α.Ο.Α.ΚΑΒΑΛΑΣ","Α"]
[26319,"M","ΠΑΠΑΡΗΓΑΣ ΓΕΩΡΓΙΟΣ",1995,"Ε.Α.Ο.ΗΛΙΣ","Θ"]
[15470,"M","ΠΑΠΑΡΟΥΝΗΣ ΒΑΣΙΛΕΙΟΣ",1993,"ΦΘΙΩΤΙΚΟΣ Ο.Α.","Ε"]
[8979,"F","ΠΑΠΑΣΠΑΝΟΥ ΑΝΝΑ",1975,"Α.Ο.Α.ΚΟΖΑΝΗΣ","Γ"]
[5326,"M","ΠΑΠΑΣΠΗΛΙΟΥ ΓΕΩΡΓΙΟΣ",1976,"Α.Ο.Α./Χ.ΤΡΙΠΟΛΗΣ","ΣΤ"]
[4763,"M","ΠΑΠΑΣΤΑΜΟΥ ΓΙΑΝΝΗΣ",1982,"Γ.Σ.ΚΗΦΙΣΙΑΣ","Η"]
[14801,"M","ΠΑΠΑΣΤΕΡΓΗΣ ΓΕΩΡΓΙΟΣ-ΣΙΛΑΣ",1987,"Ο.Α.ΑΓ.ΣΟΥΛΑ ΣΟΡΩΝΗΣ ΡΟΔΟΥ","Θ"]
[10766,"F","ΠΑΠΑΤΕΡΠΟΥ ΑΝΑΣΤΑΣΙΑ",1983,"Α.Ο.Α.ΚΑΣΤΟΡΙΑΣ","Γ"]
[16224,"M","ΠΑΠΑΦΙΛΙΠΠΑΚΗΣ ΓΕΩΡΓΙΟΣ",1989,"Ο.Α.ΣΟΥΔΑΣ","Ζ"]
[19539,"M","ΠΑΠΑΧΡΗΣΤΟΣ ΓΕΩΡΓΙΟΣ",1990,"Γ.Ε.ΠΡΕΒΕΖΑΣ","Δ"]
[29705,"F","ΠΑΠΑΧΡΗΣΤΟΥ ΙΩΑΝΝΑ",2000,"Ο.Α.ΑΡΤΑΣ","Δ"]
[25107,"F","ΠΑΠΑΧΡΙΣΤΟΔΟΥΛΟΥ ΙΣΙΔΩΡΑ",1974,"Ο.Α.ΕΥΟΣΜΟΥ ΘΕΣΣΑΛΟΝΙΚΗΣ","Β"]
[22647,"F","ΠΑΠΙΓΓΙΩΤΗ ΙΩΑΝΝΑ",1992,"Ο.Α.ΘΕΣΠΡΩΤΙΑΣ ΤΙΤΑΝΗ","Δ"]
[22055,"F","ΠΑΠΟΥΛΑ ΕΛΕΝΗ-ΑΝΝΑ",1995,"Α.Α.ΑΛΜΠΑΤΡΟΣ","Β"]
[19174,"M","ΠΑΠΟΥΤΣΑΚΗΣ ΑΝΤΩΝΙΟΣ",1992,"Ο.Α.ΧΑΝΙΩΝ","Ζ"]
[28897,"M","ΠΑΠΟΥΤΣΗΣ ΠΑΝΑΓΙΩΤΗΣ",1998,"Α.Ο.ΕΜΙΛΕΩΝ","Δ"]
[33255,"F","ΠΑΠΠΑ ΒΑΣΙΛΙΚΗ",1995,"Α.Ο.Α.ΚΑΤΕΡΙΝΗΣ","Γ"]
[6893,"F","ΠΑΠΠΑ ΙΩΑΝΝΑ",1982,"Ο.Α.ΕΛΕΥΣΙΝΑΣ ΑΙΣΧΥΛΟΣ","Θ"]
[33885,"F","ΠΑΠΠΑ ΣΟΦΙΑ-ΔΕΣΠΟΙΝΑ",2002,"Ο.Α.ΙΩΑΝΝΙΝΩΝ","Δ"]
[8731,"M","ΠΑΠΠΑΣ ΒΑΣΙΛΕΙΟΣ",1981,"Α.Α.ΙΩΑΝΝΙΝΩΝ","Δ"]
[17220,"M","ΠΑΠΠΑΣ ΗΛΙΑΣ",1988,"Ε.Α.Τ.Ε.Κ.ΕΛΛΗΝΙΚΟΥ ΚΟΛΛΕΓΙΟΥ","Β"]
[28148,"M","ΠΑΠΠΑΣ ΡΑΦΑΗΛ-ΜΙΧΑΗΛ",1998,"Α.Σ.Α.ΑΓΡΙΝΙΟΥ","Δ"]
[30517,"M","ΠΑΠΠΟΥΛΗΣ ΠΑΝΑΓΙΩΤΗΣ",2001,"Ο.Α.ΚΩ","Θ"]
[29601,"M","ΠΑΡΑΛΙΚΑΣ ΣΠΥΡΟΣ-ΜΑΡΙΝΟΣ",1997,"Α.Γ.Ο.ΝΑΥΠΑΚΤΟΥ","Δ"]
[1913,"M","ΠΑΡΑΣΚΕΥΑΣ ΑΝΤΩΝΗΣ",1966,"Α.Ο.Α.ΦΙΛΟΘΕΗΣ","Η"]
[25872,"M","ΠΑΡΑΣΚΕΥΟΠΟΥΛΟΣ ΠΑΥΛΟΣ",1997,"Ο.Α.ΒΕΡΟΙΑΣ","Γ"]
[19243,"F","ΠΑΡΑΣΤΑΤΙΔΗ ΙΩΑΝΝΑ",1986,"Ο.Α.ΧΑΝΙΩΝ","Ζ"]
[5419,"F","ΠΑΡΓΙΑΝΟΥ ΜΑΡΘΑ",1980,"Ο.Α.ΚΙΛΚΙΣ","Β"]
[29150,"F","ΠΑΡΙΣΗ ΘΑΛΕΙΑ",2002,"Ο.Α.ΜΑΓΝΗΣΙΑΣ","Ε"]
[19382,"M","ΠΑΡΛΑΜΕΝΤΗΣ ΓΕΩΡΓΙΟΣ",1990,"Α.Ο.Α.ΑΤΤΙΚΟΣ ΗΛΙΟΣ","Η"]
[33457,"M","ΠΑΡΣΑΛΙΔΗΣ ΜΑΝΩΛΗΣ",2002,"Ο.Α.ΚΑΒΑΛΑΣ ΑΛΕΞΑΝΔΡΟΣ","Α"]
[23830,"F","ΠΑΣΑΝΙΚΟΛΑΚΗ ΑΝΤΩΝΙΑ",1995,"Ο.Α.ΚΩ","Θ"]
[11208,"F","ΠΑΣΠΑΛΑ ΙΩΑΝΝΑ",1985,"Ο.Α.ΑΓΙΑΣ ΠΑΡΑΣΚΕΥΗΣ","Η"]
[14202,"M","ΠΑΣΠΑΛΙΑΡΗΣ ΝΙΚΟΛΑΟΣ",1984,"Α.Ο.ΒΑΡΗΣ ΑΝΑΓΥΡΟΥΣ","Η"]
[6283,"M","ΠΑΣΧΑΛΙΔΗΣ ΒΑΣΙΛΕΙΟΣ",1974,"Ο.Α.ΑΛΕΞΑΝΔΡΟΥΠΟΛΗΣ","Α"]
[20740,"F","ΠΑΣΧΑΛΙΔΟΥ ΧΡΗΣΤΙΝΑ",1995,"Σ.Α.ΔΡΑΜΑΣ","Α"]
[10329,"F","ΠΑΣΧΟΥΔΗ ΝΙΚΟΛΕΤΑ",1984,"Ο.Α.ΛΑΡΙΣΑΣ","Ε"]
[34549,"F","ΠΑΤΕΛΗ ΕΛΙΣΑΒΕΤ",2001,"Ο.Α.ΠΑΡΟΥ","Η"]
[38853,"M","ΠΑΤΕΡΑΚΗΣ ΓΙΑΝΝΗΣ",2002,"Α.Τ.ΧΑΝΙΩΝ","Ζ"]
[36128,"F","ΠΑΤΕΡΟΥ ΧΡΙΣΤΙΝΑ",1999,"Γ.Α.Σ ΓΟΥΡΝΩΝ","Ζ"]
[9205,"M","ΠΑΤΙΣΤΑΣ ΣΑΝΤΟΣ",1973,"Ο.Α.ΠΑΝΟΡΑΜΑΤΟΣ","Β"]
[17089,"F","ΠΑΤΡΙΑΝΑΚΟΥ ΜΑΡΙΑ-ΞΕΝΗ",1978,"Α.Ο.ΓΛΥΦΑΔΑΣ ΦΙΛΙΑ 2000","ΙΑ"]
[34587,"F","ΠΑΤΡΩΝΙΔΗ ΕΙΡΗΝΗ-ΑΣΗΜΙΝΑ",2001,"Ο.Α.ΝΙΚΑΙΑ ΛΑΡΙΣΑΣ","Ε"]
[29700,"M","ΠΑΤΣΙΑΛΗΣ ΒΑΣΙΛΕΙΟΣ",1998,"Σ.Ο.Α.ΚΑΡΔΙΤΣΑΣ ΦΩΚΙΑΝΟΣ","Ε"]
[24317,"M","ΠΑΤΣΙΑΛΙΔΗΣ ΑΛΕΞΑΝΔΡΟΣ",1992,"Ο.Α.ΚΟΥΦΑΛΙΩΝ ΘΕΣΣΑΛΟΝΙΚΗΣ","Β"]
[27390,"F","ΠΑΤΣΟΥΛΗ ΔΗΜΗΤΡΑ",1990,"Ο.Α.ΠΕΙΡΑΙΑ","Θ"]
[4324,"M","ΠΑΤΤΑΚΟΣ ΝΙΚΟΛΑΟΣ",1977,"Α.Ο.Α.ΠΑΠΑΓΟΥ","ΙΑ"]
[27235,"F","ΠΑΥΛΑΤΟΥ ΝΕΦΕΛΗ-ΓΕΡΑΙΜΗΝΑ",1998,"ΚΕΦΑΛΛΗΝΙΑΚΟΣ Ο.Α.","ΣΤ"]
[11309,"F","ΠΑΥΛΙΔΗ ΙΟΥΛΙΑ-ΕΛΕΝΗ",1985,"Α.Ο.Α.ΗΛΙΟΥΠΟΛΗΣ","ΙΑ"]
[10181,"F","ΠΑΥΛΙΔΟΥ ΜΑΡΙΑ-ΔΑΝΑΗ",1983,"Α.Σ.ΠΑΠΑΓΟΥ","ΙΑ"]
[17327,"F","ΠΑΥΛΙΔΟΥ ΣΟΥΛΤΑΝΑ-ΤΑΝΙΑ",1991,"Ο.Α.ΘΕΣΣΑΛΟΝΙΚΗΣ","Β"]
[16052,"F","ΠΑΥΛΟΥ ΕΜΜΑΝΟΥΕΛΑ",1986,"Ο.Α.ΧΑΛΚΙΔΑΣ","Θ"]
[10974,"F","ΠΑΥΛΟΥΣ ΜΑΡΙΑ-ΕΛΕΝΗ",1976,"ΡΟΔΙΑΚΟΣ Ο.Α.","Θ"]
[12152,"F","ΠΑΧΗ ΙΣΜΗΝΗ",1984,"Ο.Α.ΛΑΜΙΑΣ","Ε"]
[28176,"M","ΠΕΔΙΩΤΙΔΗΣ-ΜΑΝΙΑΤΗΣ ΔΗΜΗΤΡΗΣ",1993,"Α.Σ.ΠΑΠΑΓΟΥ","ΙΑ"]
[3477,"M","ΠΕΛΕΚΑΝΟΣ ΜΙΧΑΗΛ",1979,"Ο.Α.ΣΥΡΟΥ","Η"]
[29454,"M","ΠΕΛΤΕΚΗΣ ΧΡΙΣΤΟΔΟΥΛΟΣ",1998,"ΠΑΝΘΡΑΚΙΚΟΣ Ο.Α.ΚΟΜΟΤΗΝΗΣ","Α"]
[15840,"F","ΠΕΝΤΑΡΑΚΗ ΣΤΕΛΛΑ",1985,"Ο.Α.ΣΟΥΔΑΣ","Ζ"]
[32348,"F","ΠΕΠΕΛΙΔΟΥ ΑΙΚΑΤΕΡΙΝΗ",2000,"Φ.Ο.Α.ΝΕΑΠΟΛΗΣ","Β"]
[13683,"M","ΠΕΠΠΑΣ ΔΗΜΗΤΡΗΣ",1985,"Α.Σ.Β.Α.ΚΥΝΟΥΡΙΑΣ ΑΙΟΛΟΣ","ΣΤ"]
[8666,"F","ΠΕΡΓΑΜΑΛΗ ΜΑΡΙΑ",1980,"Α.Ο.Α.ΦΙΛΟΘΕΗΣ","Η"]
[13330,"M","ΠΕΡΔΙΚΟΓΙΑΝΝΗΣ ΣΤΥΛΙΑΝΟΣ",1985,"ΗΡΑΚΛΕΙΟ Ο.Α.& Α.","Ζ"]
[22262,"M","ΠΕΡΙΣΟΡΑΤΗΣ ΑΣΤΕΡΙΟΣ",1995,"Ο.Α.ΝΑΟΥΣΑΣ","Γ"]
[22141,"M","ΠΕΡΠΥΡΑΚΗΣ ΑΝΔΡΕΑΣ",1996,"Ο.Α.ΡΕΘΥΜΝΟΥ","Ζ"]
[17783,"M","ΠΕΡΤΣΕΛΑΚΗΣ ΕΜΜΑΝΟΥΗΛ",1988,"ΗΡΑΚΛΕΙΟ Ο.Α.& Α.","Ζ"]
[31416,"F","ΠΕΤΑΣΗ ΣΤΕΛΛΑ",2002,"Γ.Σ.ΛΙΒΥΚΟΣ ΙΕΡΑΠΕΤΡΑΣ","Ζ"]
[11141,"F","ΠΕΤΟΥΣΗ ΓΕΩΡΓΙΑ",1966,"Ο.Α.ΛΙΒΑΔΕΙΑΣ","Ε"]
[9817,"M","ΠΕΤΡΑΚΗΣ ΗΛΙΑΣ",1981,"Α.Ο.ΟΛΥΜΠΙΑΔΑ ΒΥΡΩΝΑ","Η"]
[18721,"F","ΠΕΤΡΑΛΙΑ ΓΙΑΝΝΑ",1993,"ΡΟΔΙΑΚΟΣ Ο.Α.","Θ"]
[2442,"M","ΠΕΤΡΙΔΗΣ ΔΗΜΗΤΡΗΣ",1973,"Ο.Α.ΓΙΑΝΝΙΤΣΩΝ","Γ"]
[3397,"F","ΠΕΤΡΙΔΟΥ ΜΑΡΙΑ",1978,"Α.Ν.Ο.ΓΛΥΦΑΔΑΣ","ΙΑ"]
[26617,"M","ΠΕΤΡΟΓΙΑΝΝΗΣ ΦΙΛΙΠΠΟΣ",1998,"Ο.Α.ΑΝΑΦΛΥΣΤΟΣ ΣΑΡΩΝΙΔΑΣ","Η"]
[25022,"M","ΠΕΤΡΟΠΟΥΛΟΣ ΗΛΙΑΣ",1999,"Α.Ε.Κ.ΤΡΙΠΟΛΗΣ","ΣΤ"]
[24353,"M","ΠΕΤΡΟΠΟΥΛΟΣ-ΑΛΑΤΖΕΜΟΦ ΑΛΕΞΗΣ-ΔΙΟΝΥΣΙΟΣ",1994,"Α.Κ.Α.Α.ΠΑΝΤΑΛΚΗΣ","Θ"]
[25620,"F","ΠΕΤΡΟΠΟΥΛΟΥ ΝΤΕΑ-ΙΩΑΝΝΑ",1996,"Ε.Σ.Ο.ΕΠΙΚΟΥΡΟΣ ΠΟΛΙΧΝΗΣ","Β"]
[22966,"F","ΠΕΤΡΟΥ ΧΡΥΣΑΝΘΗ",1993,"Α.Ο.ΠΟΣΕΙΔΩΝ ΛΟΥΤΡΑΚΙΟΥ","ΣΤ"]
[16925,"M","ΠΕΤΡΟΧΕΙΛΟΣ ΣΤΑΥΡΟΣ",1988,"Ο.Α.ΑΝΑΦΛΥΣΤΟΣ ΣΑΡΩΝΙΔΑΣ","Η"]
[34462,"M","ΠΕΤΣΟΥΚΗΣ ΓΕΩΡΓΙΟΣ",2002,"Α.Γ.Ο.ΦΙΛΙΠΠΙΑΔΑΣ","Δ"]
[36552,"F","ΠΗΔΙΑΚΗ ΑΝΑΣΤΑΣΙΑ",2001,"ΡΟΔΙΑΚΗ ΑΚΑΔ.ΑΝΤΙΣΦ.","Θ"]
[32270,"M","ΠΙΓΓΟΣ ΓΕΩΡΓΙΟΣ",2000,"Ο.Α.ΕΥΟΣΜΟΥ ΘΕΣΣΑΛΟΝΙΚΗΣ","Β"]
[37377,"F","ΠΙΕΡΡΙΔΗ-ΝΙΚΟΛΑΟΥ ΣΤΕΛΛΑ",2001,"Γ.Σ.ΗΛΙΟΥΠΟΛΗΣ","ΙΑ"]
[29609,"F","ΠΙΝΑΚΑ ΜΑΡΙΑ",1998,"Ο.Α.ΜΑΓΝΗΣΙΑΣ","Ε"]
[29065,"M","ΠΙΠΕΛΙΑΣ ΠΑΝΑΓΙΩΤΗΣ",1998,"Σ.Α.ΓΑΛΑΤΣΙΟΥ","Θ"]
[18464,"F","ΠΙΠΕΡΑ ΜΑΓΔΑΛΗΝΗ",1992,"Σ.Α.Α.Κ.ΑΝΑΤΟΛΙΑ","Β"]
[18205,"F","ΠΙΠΗ ΒΑΪΑ",1987,"Ο.Α.ΝΙΚΑΙΑ ΛΑΡΙΣΑΣ","Ε"]
[23349,"M","ΠΙΣΚΟΠΟΣ ΧΡΗΣΤΟΣ",1994,"Α.Ο.Α.ΑΙΓΑΛΕΩ 92","Θ"]
[23907,"M","ΠΙΣΤΟΛΑΣ ΤΣΑΜΠΙΚΟΣ",1994,"Ο.Α.ΠΕΤΑΛΟΥΔΩΝ","Θ"]
[4951,"F","ΠΙΤΟΥΛΙΑ ΟΛΥΜΠΙΑ",1978,"Ο.Α.ΒΕΡΟΙΑΣ","Γ"]
[34297,"F","ΠΙΤΣΙΛΗ ΔΑΝΑΗ-ΣΩΣΑΝΑ",2000,"Α.Ο.Ν.Φ.ΑΤΤΑΛΟΣ","Η"]
[32004,"F","ΠΙΤΤΑΡΑ ΣΤΥΛΙΑΝΗ",2001,"Ο.Α.ΑΘΛΗΤ.ΠΑΙΔΕΙΑ","Η"]
[16227,"M","ΠΛΑΚΙΔΑΣ ΚΩΝΣΤΑΝΤΙΝΟΣ",1986,"Ο.Α.ΧΕΡΣΟΝΗΣΟΥ","Ζ"]
[24670,"M","ΠΛΑΣΚΑΣΟΒΙΤΗΣ ΓΙΩΡΓΟΣ",1996,"Ο.Α.ΘΕΣΠΡΩΤΙΑΣ ΤΙΤΑΝΗ","Δ"]
[32033,"M","ΠΛΑΤΑΝΟΣ ΑΘΑΝΑΣΙΟΣ",2002,"Σ.Α.ΕΛΑΣΣΟΝΑΣ","Ε"]
[26351,"F","ΠΛΕΞΙΔΑ ΣΤΑΜΑΤΙΑ",1994,"Α.Σ.ΚΑΡΠΕΝΗΣΙ ΤΕΝΙΣ ΚΛΑΜΠ","Ε"]
[11508,"F","ΠΛΙΑΚΑ ΙΣΜΗΝΗ",1983,"Α.Ο.Α.ΠΑΤΡΩΝ","ΣΤ"]
[2721,"F","ΠΛΟΥΜΗ ΠΕΛΑΓΙΑ",1970,"ΗΡΑΚΛΕΙΟ Ο.Α.& Α.","Ζ"]
[34966,"F","ΠΝΕΥΜΑΤΙΚΟΥ ΑΓΓΕΛΙΚΗ",2001,"Α.Ο.ΤΑΤΟΪΟΥ","Η"]
[1870,"M","ΠΟΛΑΤ ΜΙΧΑΗΛ",1973,"Ο.Α.ΘΕΣΣΑΛΟΝΙΚΗΣ","Β"]
[7274,"F","ΠΟΛΙΤΗ ΑΝΤΙΓΟΝΗ",1979,"Α.Ο.Α./Χ.ΤΡΙΠΟΛΗΣ","ΣΤ"]
[15193,"M","ΠΟΛΙΤΗΣ ΚΩΝΣΤΑΝΤΙΝΟΣ",1985,"Α.Ε.ΠΟΡΤΟ ΡΑΦΤΗ","Η"]
[14538,"M","ΠΟΛΙΤΟΠΟΥΛΟΣ ΔΗΜΗΤΡΗΣ",1988,"Α.Ν.Ο.ΓΛΥΦΑΔΑΣ","ΙΑ"]
[17043,"F","ΠΟΛΥΔΩΡΟΠΟΥΛΟΥ ΝΙΚΟΛΙΝΑ",1987,"Α.Γ.Ο.ΝΑΥΠΑΚΤΟΥ","Δ"]
[27071,"M","ΠΟΛΥΖΩΗΣ ΑΛΕΞΑΝΔΡΟΣ",1992,"Α.Μ.Ε.Σ.Ν.ΕΡΥΘΡΑΙΑΣ","Η"]
[1624,"F","ΠΟΛΥΜΙΛΗ ΜΑΡΙΑ-ΛΥΔΙΑ",1975,"Ν.Ο.ΚΑΛΑΜΑΚΙΟΥ","ΙΑ"]
[18166,"M","ΠΟΛΥΧΡΟΝΙΔΗΣ ΑΝΤΩΝΙΟΣ",1993,"Γ.Α.Σ.ΝΙΓΡΙΤΑΣ ΒΙΣΑΛΤΗΣ","Α"]
[12335,"F","ΠΟΛΥΧΡΟΝΟΠΟΥΛΟΥ ΜΑΡΙΑ",1974,"Α.Ο.ΜΥΤΙΛΗΝΗΣ","Θ"]
[22150,"M","ΠΟΝΤΙΚΑΚΗΣ ΚΩΝΣΤΑΝΤΙΝΟΣ-ΚΥΡΙΑΚΟΣ",1997,"Ο.Α.ΧΑΝΙΩΝ","Ζ"]
[13156,"F","ΠΟΡΙΩΤΗ ΑΝΝΑ",1985,"Ο.Α.ΝΕΟΥ ΦΑΛΗΡΟΥ","Θ"]
[4942,"M","ΠΟΤΑΜΙΑΝΟΣ ΓΕΩΡΓΙΟΣ",1980,"ΚΕΦΑΛΛΗΝΙΑΚΟΣ Ο.Α.","ΣΤ"]
[20198,"M","ΠΟΥΓΙΟΥΚΛΗΣ ΠΑΝΤΕΛΗΣ",1992,"Σ.Α.ΣΕΡΡΩΝ","Α"]
[17881,"M","ΠΟΥΛΑΝΤΖΑΣ ΜΙΧΑΗΛ",1991,"Ο.Α.ΓΟΥΔΙΟΥ","ΙΑ"]
[38423,"F","ΠΟΥΛΙΑΝΙΔΗ ΜΑΡΙΑ",2000,"Α.Ο.Α.ΑΜΠΕΛΟΚΗΠΩΝ ΜΕΝΕΜΕΝΗΣ","Β"]
[34771,"M","ΠΟΥΛΙΟΣ ΑΣΤΕΡΙΟΣ",1997,"Ο.Α.ΛΙΤΟΧΩΡΟΥ","Γ"]
[10193,"F","ΠΟΥΛΟΥ ΕΥΑΓΓΕΛΙΑ",1987,"Ο.Α.ΑΡΓΟΥΣ","ΣΤ"]
[17476,"M","ΠΟΥΡΑΝΟΠΟΥΛΟΣ ΔΗΜΗΤΡΙΟΣ",1977,"Ο.Α.ΚΙΛΚΙΣ","Β"]
[9811,"M","ΠΟΥΡΝΟΣ ΦΙΛΙΠΠΟΣ",1982,"Α.Ο.ΟΛΥΜΠΙΑΔΑ ΒΥΡΩΝΑ","Η"]
[34369,"M","ΠΡΑΚΤΙΚΑΚΗΣ ΧΡΗΣΤΟΣ-ΑΘΑΝΑΣΙΟΣ",2000,"Σ.Α.ΓΑΛΑΤΣΙΟΥ","Θ"]
[31044,"F","ΠΡΑΣΟΥΛΑ ΚΩΝΣΤΑΝΤΙΝΑ-ΛΗΔΑ",2001,"Α.Σ.Ν.ΒΟΥΤΖΑ ΡΑΦΗΝΑΣ Η ΠΡΟΟΔΟΣ","Η"]
[6631,"M","ΠΡΕΒΕΣ ΝΙΚΟΛΑΟΣ",1979,"Α.Σ.ΠΕΡΑ","ΙΑ"]
[2410,"M","ΠΡΕΠΟΝΗΣ ΑΠΟΣΤΟΛΟΣ",1974,"Α.Ο.Α.ΚΑΒΑΛΑΣ","Α"]
[21936,"F","ΠΡΙΜΟΥ ΕΛΠΙΝΙΚΗ",1996,"Ο.Α.ΒΡΙΛΗΣΣΙΩΝ","Η"]
[32183,"M","ΠΡΙΝΤΕΖΗΣ ΛΟΥΚΑΣ",2000,"Ο.Α.ΣΥΡΟΥ","Η"]
[16158,"F","ΠΡΙΝΤΖΟΥ ΑΘΗΝΑ",1992,"Ο.Α.ΜΑΓΝΗΣΙΑΣ","Ε"]
[2817,"M","ΠΡΟΒΕΛΕΓΓΙΟΣ ΜΙΧΑΗΛ",1977,"Α.Σ.ΣΠΑΡΤΑΚΟΣ ΓΛΥΦΑΔΑΣ","ΙΑ"]
[29496,"F","ΠΡΟΪΣΤΑΚΗ ΧΡΥΣΑΝΘΗ",1997,"Γ.Σ.ΛΙΒΥΚΟΣ ΙΕΡΑΠΕΤΡΑΣ","Ζ"]
[29167,"F","ΠΡΟΥΚΑΚΗ ΣΤΥΛΊΑΝΗ",1999,"Ο.Α.ΧΑΝΙΩΝ","Ζ"]
[13328,"F","ΠΡΩΤΟΓΕΡΑΚΗ ΣΤΑΜΑΤΙΑ",1985,"ΗΡΑΚΛΕΙΟ Ο.Α.& Α.","Ζ"]
[2252,"M","ΠΡΩΤΟΨΑΛΤΗΣ ΜΗΝΑΣ",1978,"Α.Κ.ΖΩΓΡΑΦΟΥ","ΙΑ"]
[23488,"M","ΠΥΡΙΤΙΔΗΣ ΝΙΚΟΛΑΟΣ",1991,"Ο.Α.ΓΙΑΝΝΙΤΣΩΝ","Γ"]
[10498,"M","ΡΑΓΙΑΣ ΒΑΣΙΛΕΙΟΣ",1983,"Α.Σ.Α.ΛΑΡΙΣΑΣ","Ε"]
[35244,"M","ΡΑϊΣΗΣ ΑΝΑΣΤΑΣΙΟΣ",1971,"Α.Ο.ΤΑΤΟΪΟΥ","Η"]
[29306,"M","ΡΑΛΛΗΣ ΙΩΑΝΝΗΣ",1996,"Γ.Ο.ΠΕΡΙΣΤΕΡΙΟΥ Γ.ΠΑΛΑΣΚΑΣ","Θ"]
[11603,"M","ΡΑΜΝΙΩΤΗΣ ΧΡΗΣΤΟΣ",1984,"Γ.Ε.ΛΑΡΙΣΑΣ","Ε"]
[30696,"F","ΡΑΠΑΚΟΥΛΙΑ ΕΡΑΤΩ-ΕΛΕΝΗ",1999,"Α.Ν.Ο.ΓΛΥΦΑΔΑΣ","ΙΑ"]
[27507,"F","ΡΑΠΤΗ ΚΥΡΙΑΚΗ",1993,"Γ.Ο.ΠΕΡΙΣΤΕΡΙΟΥ Γ.ΠΑΛΑΣΚΑΣ","Θ"]
[19270,"M","ΡΑΠΤΗΣ ΚΩΝΣΤΑΝΤΙΝΟΣ",1991,"Ο.Π.ΘΕΣΣΑΛΟΝΙΚΗΣ ΜΑΚΕΔΟΝΙΑ 92","Β"]
[12958,"M","ΡΑΡΑΚΟΣ ΠΕΡΙΚΛΗΣ",1989,"ΚΕΡΚΥΡΑΪΚΗ Λ.Τ.","Δ"]
[25931,"M","ΡΑΥΤΟΠΟΥΛΟΣ ΚΩΝΣΤΑΝΤΙΝΟΣ",1997,"ΚΕΦΑΛΛΗΝΙΑΚΟΣ Ο.Α.","ΣΤ"]
[18595,"M","ΡΕΒΑΣ ΚΩΝΣΤΑΝΤΙΝΟΣ",1994,"Α.Γ.Ο.ΦΙΛΙΠΠΙΑΔΑΣ","Δ"]
[4509,"M","ΡΕΚΟΣ ΑΘΑΝΑΣΙΟΣ",1976,"Ν.Ο.ΘΕΣΣΑΛΟΝΙΚΗΣ","Β"]
[4475,"M","ΡΕΝΤΖΕΠΕΡΗΣ ΔΗΜΗΤΡΙΟΣ",1978,"Α.Ο.Α.ΠΑΠΑΓΟΥ","ΙΑ"]
[27570,"F","ΡΕΠΠΑ ΣΜΑΡΑΓΔΑ",1998,"Ο.Α.ΠΕΙΡΑΙΑ","Θ"]
[20175,"M","ΡΕΤΣΙΔΗΣ ΧΡΗΣΤΟΣ",1992,"Α.Ο.ΟΡΕΣΤΙΑΔΑΣ","Α"]
[29822,"M","ΡΗΓΟΠΟΥΛΟΣ ΛΟΥΚΑΣ",1998,"Γ.Α.Σ.ΑΛΕΞΑΝΔΡΕΙΑ","Γ"]
[32133,"M","ΡΗΓΟΥΤΣΟΣ ΑΝΤΩΝΗΣ",2001,"Ο.Α.ΣΥΡΟΥ","Η"]
[13035,"F","ΡΙΓΚΑΝΤΕ ΑΝΝΑ",1981,"Α.Ο.Α.ΦΙΛΟΘΕΗΣ","Η"]
[13405,"M","ΡΙΖΟΣ ΝΙΚΟΛΑΟΣ",1988,"ΚΕΡΚΥΡΑΪΚΗ Λ.Τ.","Δ"]
[30366,"M","ΡΙΜΠΑΣ ΧΡΗΣΤΟΣ",2000,"Α.Ε.Κ.ΤΡΙΠΟΛΗΣ","ΣΤ"]
[13866,"M","ΡΙΤΣΟΣ ΝΙΚΟΣ",1985,"Α.Ο.ΦΙΛΙΠΠΟΣ ΠΟΛΥΔΡΟΣΟΥ","Η"]
[30734,"M","ΡΟΔΟΠΟΥΛΟΣ ΓΕΩΡΓΙΟΣ",2002,"Α.Ε.Τ.ΝΙΚΗ ΠΑΤΡΩΝ","ΣΤ"]
[21924,"F","ΡΟΖΟΠΟΥΛΟΥ ΑΡΙΣΤΕΑ",1991,"Ο.Α.ΠΕΤΡΟΥΠΟΛΗΣ","Θ"]
[37231,"F","ΡΟΚΟΥ ΘΕΟΔΩΡΑ",2002,"Κ.Α.ΑΓΡΙΝΙΟΥ","Δ"]
[29657,"M","ΡΟΣΜΑΡΑΚΗΣ ΚΩΝΣΤΑΝΤΙΝΟΣ",2000,"Ο.Α.ΧΑΝΙΩΝ","Ζ"]
[16406,"M","ΡΟΥΓΚΑΛΑΣ ΑΓΓΕΛΟΣ",1988,"Α.Ε.Τ.ΝΙΚΗ ΠΑΤΡΩΝ","ΣΤ"]
[30503,"F","ΡΟΥΜΕΛΙΩΤΗ ΘΕΟΔΩΡΑ",1997,"Α.Ε.Κ.ΤΡΙΠΟΛΗΣ","ΣΤ"]
[18687,"F","ΡΟΥΜΠΕΑ ΕΛΕΝΗ",1990,"Ο.Α.ΛΙΒΑΔΕΙΑΣ","Ε"]
[18414,"F","ΡΟΥΣΑΚΗ ΜΑΡΙΑ",1992,"Ο.Α.& Α.ΜΑΛΙΩΝ","Ζ"]
[10472,"F","ΡΟΥΣΙΔΟΥ ΔΟΜΝΑ",1983,"Ο.Α.ΒΙΚΕΛΑΣ ΒΕΡΟΙΑΣ","Γ"]
[21193,"F","ΡΟΥΣΟΥΝΕΛΟΥ ΔΗΜΗΤΡΑ",1994,"Ο.Α.ΣΥΡΟΥ","Η"]
[3601,"M","ΡΟΥΣΣΗΣ ΘΕΟΔΩΡΟΣ",1974,"Α.Ο.ΑΡΓΥΡΟΥΠΟΛΗΣ","ΙΑ"]
[15760,"F","ΡΟΥΣΣΟΥ ΙΩΑΝΝΑ",1984,"Ο.Α.ΝΕΟΥ ΦΑΛΗΡΟΥ","Θ"]
[23731,"F","ΡΟΥΣΣΟΥ ΚΩΝΣΤΑΝΤΙΝΑ",1975,"Ο.Α.ΠΑΡΟΥ","Η"]
[28609,"F","ΡΟΥΤΣΗ ΒΑΣΙΛΙΚΗ",1993,"Σ.Α.ΤΡΙΠΟΛΗΣ","ΣΤ"]
[30549,"F","ΡΩΜΑΝΟΥ ΦΡΑΝΤΖΕΣΚΑ",1966,"Ο.Α.ΠΕΙΡΑΙΑ","Θ"]
[13894,"F","ΣΑΒΒΑΚΗ ΜΑΡΙΑ-ΕΛΕΥΘΕΡΙΑ",1986,"ΡΟΔΙΑΚΟΣ Ο.Α.","Θ"]
[34274,"M","ΣΑΒΒΑΣ ΓΕΩΡΓΙΟΣ",2002,"Ο.Α.ΑΡΤΑΣ","Δ"]
[25563,"M","ΣΑΒΒΙΔΗΣ ΚΩΝΣΤΑΝΤΙΝΟΣ",1996,"Ο.Α.ΣΤΑΥΡΟΥ ΑΣΠΡΟΒΑΛΤΑΣ","Β"]
[13684,"F","ΣΑΒΒΙΔΟΥ ΣΟΦΙΑ",1985,"Ο.Α.ΚΑΤΕΡΙΝΗΣ","Γ"]
[19661,"M","ΣΑΒΙΟΛΑΚΗΣ ΓΙΩΡΓΟΣ",1996,"Ο.Α.ΚΩ","Θ"]
[10987,"F","ΣΑΪΤΗ ΙΩΑΝΝΑ",1983,"Α.Σ.Α.ΛΑΡΙΣΑΣ","Ε"]
[4109,"M","ΣΑΚΕΛΑΡΟΠΟΥΛΟΣ ΠΑΝΑΓΙΩΤΗΣ",1977,"Α.Ο.ΒΟΥΛΙΑΓΜΕΝΗΣ","ΙΑ"]
[18416,"M","ΣΑΚΕΛΛΑΡΗΣ ΣΤΥΛΙΑΝΟΣ",1991,"Ο.Α.ΧΕΡΣΟΝΗΣΟΥ","Ζ"]
[14432,"M","ΣΑΚΕΛΛΑΡΟΠΟΥΛΟΣ ΑΝΔΡΕΑΣ",1987,"Α.Τ.ΧΟΛΑΡΓΟΥ","ΙΑ"]
[5759,"M","ΣΑΚΚΑΣ ΙΩΑΝΝΗΣ",1978,"Α.Σ.Α.ΛΑΡΙΣΑΣ","Ε"]
[10672,"F","ΣΑΚΟΝΙΔΟΥ ΣΩΣΑΝΑ",1982,"Ε.Φ.Τ.ΑΙΟΛΙΚΗ","Β"]
[28275,"M","ΣΑΛΗΣ ΓΕΩΡΓΙΟΣ",1994,"Σ.Α.Α.Κ.ΑΝΑΤΟΛΙΑ","Β"]
[26520,"M","ΣΑΛΟΝΙΚΙΔΗΣ ΠΑΥΛΟΣ",1996,"Ο.Α.ΝΕΣΤΩΡΑΣ ΓΙΑΝΝΙΤΣΩΝ","Γ"]
[25816,"M","ΣΑΜΑΚΩΒΙΔΗΣ ΠΑΝΤΕΛΗΣ",1994,"Ο.Α.ΞΑΝΘΗΣ","Α"]
[27388,"F","ΣΑΜΑΡΑ ΚΑΛΛΙΟΠΗ",1983,"Ο.Α.ΠΕΙΡΑΙΑ","Θ"]
[7163,"M","ΣΑΜΑΡΑΣ ΑΠΟΣΤΟΛΟΣ",1979,"Ε.Α.Σ.ΟΛΥΜΠΙΑΔΑ","Β"]
[8140,"M","ΣΑΜΑΡΑΣ ΣΠΥΡΟΣ",1980,"Α.Ο.Α.ΗΛΙΟΥΠΟΛΗΣ","ΙΑ"]
[17516,"M","ΣΑΜΙΟΥ ΠΑΝΑΓΙΩΤΗΣ",1988,"Α.Σ.Α.ΜΥΤΙΛΗΝΗΣ","Θ"]
[31196,"M","ΣΑΜΟΥΗΛ ΔΗΜΗΤΡΙΟΣ",1997,"ΚΕΝΤΡΟ ΑΝΤΙΣΦΑΙΡΙΣΗΣ ΛΙΒΑΔΕΙΑΣ","Ε"]
[4106,"F","ΣΑΜΠΑΝΙΔΟΥ ΝΙΚΟΛΕΤΤΑ",1978,"Α.Ο.ΒΟΥΛΙΑΓΜΕΝΗΣ","ΙΑ"]
[38707,"M","ΣΑΝΙΔΑΣ ΝΙΚΟΛΑΟΣ",2000,"Ο.Α.ΛΕΣΒΟΥ","Θ"]
[23375,"F","ΣΑΞΩΝΗ ΘΕΟΦΑΝΩ",1993,"Α.Σ.ΚΑΡΠΕΝΗΣΙ ΤΕΝΙΣ ΚΛΑΜΠ","Ε"]
[26529,"F","ΣΑΠΟΥΝΤΖΗ ΠΑΣΧΑΛΙΝΑ",1999,"Ο.Α.ΑΡΙΔΑΙΑΣ","Γ"]
[11125,"F","ΣΑΡΑΚΗΝΟΥ ΒΑΣΙΛΙΚΗ",1982,"Ο.Α.ΚΕΡΚΥΡΑΣ","Δ"]
[9213,"M","ΣΑΡΑΝΤΙΔΗΣ ΜΗΝΑΣ",1982,"Α.Ε.Σ.Α.Φ.ΚΟΥΡΟΣ","Η"]
[10333,"M","ΣΑΡΑΝΤΩΝΗΣ ΓΕΩΡΓΙΟΣ",1982,"Ο.Α.ΧΑΝΙΩΝ","Ζ"]
[18183,"M","ΣΑΡΑΦΙΔΗΣ ΑΝΑΣΤΑΣΙΟΣ",1992,"Ο.Α.ΧΟΛΑΡΓΟΥ","ΙΑ"]
[32074,"M","ΣΑΡΔΕΛΙΑΝΟΣ ΙΩΑΝΝΗΣ",1997,"Α.Ε.ΚΑΛΑΒΡΥΤΩΝ","ΣΤ"]
[9094,"M","ΣΑΡΙΔΑΚΗΣ ΔΗΜΗΤΡΙΟΣ",1982,"Ο.Α.ΣΟΥΔΑΣ","Ζ"]
[16579,"M","ΣΑΡΛΗΣ ΝΙΚΟΛΑΟΣ",1988,"Α.Ο.Α.ΦΙΛΟΘΕΗΣ","Η"]
[31202,"F","ΣΑΡΡΗ ΑΡΙΑΔΝΗ",1999,"Α.Σ.Ν.ΒΟΥΤΖΑ ΡΑΦΗΝΑΣ Η ΠΡΟΟΔΟΣ","Η"]
[14246,"M","ΣΑΡΡΗΣ ΣΤΕΦΑΝΟΣ",1987,"Ο.Α.ΞΑΝΘΗΣ","Α"]
[14609,"F","ΣΑΤΥΡΙΔΗ ΓΕΩΡΓΙΑ",1985,"Α.Ο.ΚΗΦΙΣΙΑΣ","Η"]
[29664,"M","ΣΑΧΠΑΤΖΙΔΗΣ ΓΕΩΡΓΙΟΣ",1998,"Ο.Α.ΝΕΣΤΩΡΑΣ ΓΙΑΝΝΙΤΣΩΝ","Γ"]
[13134,"M","ΣΒΕΝΤΖΙΔΗΣ ΑΝΑΣΤΑΣΙΟΣ",1986,"Ε.Φ.Τ.ΑΙΟΛΙΚΗ","Β"]
[31767,"F","ΣΒΩΛΟΠΟΥΛΟΥ ΕΛΕΝΑ-ΚΥΡΙΑΚΗ",2002,"Α.Ε.Κ.ΤΡΙΠΟΛΗΣ","ΣΤ"]
[16602,"M","ΣΓΟΥΡΟΣ ΣΤΑΥΡΟΣ",1991,"Ο.Α.ΧΑΝΙΩΝ","Ζ"]
[10120,"F","ΣΓΟΥΡΟΥ ΕΥΧΑΡΙΣ",1989,"Α.Τ.ΧΟΛΑΡΓΟΥ","ΙΑ"]
[35070,"F","ΣΔΡΕΓΑ ΚΟΛΟΤΙΝΑ",1996,"Α.Σ.ΑΠΟΛΛΩΝ ΚΑΛΥΜΝΟΥ","Θ"]
[16268,"F","ΣΕΓΚΗ ΧΡΥΣΑΝΝΑ",1991,"ΦΘΙΩΤΙΚΟΣ Ο.Α.","Ε"]
[9568,"F","ΣΕΪΤΙΔΟΥ ΟΡΕΞΙΑ",1984,"Ο.Α.ΕΛΕΥΘΕΡΟΥΠΟΛΗΣ","Α"]
[31399,"F","ΣΕΛΙΒΑΝΩΦ ΔΑΝΑΗ",2001,"Α.Σ.Α.ΠΑΝΟΡΑΜΑΤΟΣ","Β"]
[21647,"M","ΣΕΠΕΤΑΣ ΡΗΓΙΝΟΣ",1993,"Ο.Α.ΙΩΑΝΝΙΝΩΝ","Δ"]
[26748,"F","ΣΕΡΕΜΕΤΑ ΕΡΜΙΟΝΗ",1998,"Ο.Α.ΒΙΚΕΛΑΣ ΒΕΡΟΙΑΣ","Γ"]
[9384,"F","ΣΕΡΚΕΔΑΚΗ ΑΝΝΑ",1989,"Ο.Α.ΑΓΙΑΣ ΠΑΡΑΣΚΕΥΗΣ","Η"]
[30823,"F","ΣΕΡΦΙΩΤΗ ΑΝΑΣΤΑΣΙΑ",1998,"Α.Π.Ο.ΣΑΝΝΥ ΣΠΟΡΤΣ ΚΛΑΜΠ","Η"]
[14355,"M","ΣΕΨΑΣ ΝΙΚΟΣ",1983,"Α.Ο.Α.ΧΑΪΔΑΡΙΟΥ","Θ"]
[23937,"M","ΣΗΦΑΚΗΣ ΚΩΝΣΤΑΝΤΙΝΟΣ",1994,"Ο.Α.ΑΡΙΔΑΙΑΣ","Γ"]
[4954,"F","ΣΙΑΜΑΓΚΑ ΜΑΡΙΑ",1976,"Ο.Α.ΒΕΡΟΙΑΣ","Γ"]
[13322,"F","ΣΙΑΜΠΑΝΗ ΜΑΡΙΑ",1983,"Α.Ο.Α.ΠΑΤΡΩΝ","ΣΤ"]
[12213,"F","ΣΙΑΡΑΒΑ ΕΛΕΥΘΕΡΙΑ",1982,"Ο.Α.ΙΩΑΝΝΙΝΩΝ","Δ"]
[26151,"M","ΣΙΑΦΑΚΑΣ ΔΗΜΗΤΡΙΟΣ",1968,"ΑΙΟΛΟΣ Α.Λ.ΙΛΙΟΥ","Θ"]
[25892,"F","ΣΙΓΑΛΑ ΑΘΗΝΑ",1999,"Ο.Α.ΠΕΙΡΑΙΑ","Θ"]
[23948,"F","ΣΙΓΑΝΟΥ ΣΤΑΥΡΟΥΛΑ",1991,"Γ.Σ.ΛΙΒΥΚΟΣ ΙΕΡΑΠΕΤΡΑΣ","Ζ"]
[26235,"F","ΣΙΔΕΡΗ ΓΕΩΡΓΙΑ",1995,"Α.Σ.Α.ΑΓΡΙΝΙΟΥ","Δ"]
[21053,"M","ΣΙΔΕΡΗΣ ΚΩΝΣΤΑΝΤΙΝΟΣ",1996,"Α.Ο.ΜΕΓΑΣ ΑΛΕΞΑΝΔΡΟΣ","ΙΑ"]
[28164,"M","ΣΙΔΗΡΟΠΟΥΛΟΣ ΓΕΩΡΓΙΟΣ",1995,"Ο.Α.ΒΕΡΟΙΑΣ","Γ"]
[31165,"F","ΣΙΔΗΡΟΠΟΥΛΟΥ ΑΙΚΑΤΕΡΙΝΗ-ΔΕΣΠΟΙΝΑ",2002,"ΡΟΔΙΑΚΗ ΑΚΑΔ.ΑΝΤΙΣΦ.","Θ"]
[17478,"F","ΣΙΔΗΡΟΠΟΥΛΟΥ ΚΩΝΣΤΑΝΤΙΝΑ",1992,"Γ.Σ.ΗΛΙΟΥΠΟΛΗΣ","ΙΑ"]
[6660,"F","ΣΙΛΙΓΑΡΔΟΥ ΖΑΧΑΡΕΝΙΑ",1970,"Ο.Α.ΚΑΛΑΜΑΚΙΟΥ","ΙΑ"]
[35553,"M","ΣΙΜΟΠΟΥΛΟΣ ΑΘΝΑΣΙΟΣ",1985,"Α.Ο.ΑΤΡΟΜΗΤΟΣ ΤΡΙΑΔΙΟΥ","Β"]
[10206,"F","ΣΙΜΟΥΛΗ ΒΑΣΙΛΙΚΗ",1985,"Ο.Α.ΑΘΗΝΩΝ","Η"]
[22145,"M","ΣΙΝΗΣ ΣΩΤΗΡΙΟΣ",1995,"ΛΑΡΙΣΑΪΚΟΣ Ο.Α.","Ε"]
[7277,"M","ΣΙΟΡΜΠΑΣ ΔΗΜΗΤΡΙΟΣ",1981,"Ο.Α.ΛΑΡΙΣΑΣ","Ε"]
[18423,"M","ΣΙΠΗΤΑΝΟΣ ΒΑΣΙΛΕΙΟΣ",1989,"Ο.Α.ΚΟΥΦΑΛΙΩΝ ΘΕΣΣΑΛΟΝΙΚΗΣ","Β"]
[16849,"M","ΣΙΣΜΑΝΙΔΗΣ ΧΑΡΑΛΑΜΠΟΣ",1987,"Ε.Α.Τ.Ε.Κ.ΕΛΛΗΝΙΚΟΥ ΚΟΛΛΕΓΙΟΥ","Β"]
[13222,"M","ΣΙΦΝΑΙΟΣ ΘΕΟΔΩΡΟΣ",1990,"Γ.Σ.ΗΛΙΟΥΠΟΛΗΣ","ΙΑ"]
[22679,"F","ΣΙΩΚΑ ΕΛΕΥΘΕΡΙΑ",1993,"Α.Σ.Α.ΛΑΡΙΣΑΣ","Ε"]
[29666,"F","ΣΙΩΝΗ ΜΑΡΙΑ",2000,"Ο.Α.ΝΕΣΤΩΡΑΣ ΓΙΑΝΝΙΤΣΩΝ","Γ"]
[29504,"M","ΣΙΩΤΟΣ ΜΟΔΕΣΤΟΣ",1998,"Ο.Α.ΧΟΛΑΡΓΟΥ","ΙΑ"]
[25667,"M","ΣΚΑΛΤΣΟΓΙΑΝΝΗΣ ΣΠΥΡΙΔΩΝ",1998,"ΖΑΚΥΝΘΙΝΟΣ Α.Ο.","ΣΤ"]
[15730,"M","ΣΚΑΝΙΑΣ ΔΗΜΗΤΡΙΟΣ",1987,"Ο.Α.ΝΑΥΠΑΚΤΟΥ","ΣΤ"]
[23789,"F","ΣΚΑΡΗ ΕΙΡΗΝΗ",1996,"Ο.Α.ΚΕΡΑΤΣΙΝΙΟΥ","Θ"]
[34974,"M","ΣΚΑΡΠΟΣ ΧΡΗΣΤΟΣ",1997,"Ο.Α.ΘΕΣΠΡΩΤΙΑΣ ΤΙΤΑΝΗ","Δ"]
[7737,"M","ΣΚΕΛΛΑΣ ΔΗΜΗΤΡΙΟΣ",1984,"Α.Ο.Α.ΗΛΙΟΥΠΟΛΗΣ","ΙΑ"]
[24391,"M","ΣΚΙΑΔΑΡΕΣΗΣ ΙΩΑΝΝΗΣ",1995,"ΖΑΚΥΝΘΙΝΟΣ Α.Ο.","ΣΤ"]
[7813,"M","ΣΚΙΑΔΑΣ ΑΓΓΕΛΟΣ",1982,"Α.Μ.Σ.ΠΑΝΟΡΑΜΑΤΟΣ","Β"]
[22106,"F","ΣΚΛΑΒΟΥΝΟΥ ΒΑΣΙΛΕΙΑ-ΝΙΚΑ",1995,"Ο.Α.ΓΟΥΔΙΟΥ","ΙΑ"]
[2581,"M","ΣΚΟΝΔΡΑΣ ΧΑΡΑΛΑΜΠΟΣ",1976,"Ο.Α.ΧΑΛΚΙΔΑΣ","Θ"]
[27951,"M","ΣΚΟΡΙΛΑΣ ΑΛΕΞΑΝΔΡΟΣ",2000,"ΑΚΑΔ.ΑΝΤΙΣΦ.ΙΩΑΝΝΙΝΩΝ","Δ"]
[6656,"M","ΣΚΟΥΖΗΣ ΝΙΚΟΛΑΟΣ",1981,"Α.Ο.ΒΟΥΛΙΑΓΜΕΝΗΣ","ΙΑ"]
[12644,"M","ΣΚΟΥΛΙΚΑΣ ΝΙΚΟΛΑΟΣ",1987,"Α.Α.ΙΩΑΝΝΙΝΩΝ","Δ"]
[17126,"F","ΣΚΟΥΡΑ ΣΟΦΙΑ",1990,"Α.Ο.ΑΡΓΥΡΟΥΠΟΛΗΣ","ΙΑ"]
[13113,"M","ΣΚΟΥΡΟΣ ΕΥΑΓΓΕΛΟΣ",1988,"Α.Ο.Α.ΦΙΛΟΘΕΗΣ","Η"]
[19209,"M","ΣΚΟΥΦΑΛΟΣ ΑΔΑΜΑΝΤΙΟΣ",1990,"Ο.Α.ΧΙΟΥ","Θ"]
[7344,"F","ΣΚΥΛΗ ΔΗΜΗΤΡΑ",1966,"Α.Ο.ΚΡΑΝΙΔΙΟΥ","ΣΤ"]
[35248,"M","ΣΜΙΓΑΔΗΣ ΛΕΩΝΙΔΑΣ",2000,"Α.Σ.ΚΟΛΛΕΓΙΟΥ ΝΤΕΡΗ","Η"]
[2115,"M","ΣΜΥΡΝΙΩΤΗΣ ΧΡΗΣΤΟΣ",1969,"Α.Κ.ΖΩΓΡΑΦΟΥ","ΙΑ"]
[31860,"M","ΣΟΛΔΑΤΟΣ ΣΤΕΦΑΝΟΣ",2001,"Α.Ο.Α.ΧΑΪΔΑΡΙΟΥ","Θ"]
[10283,"M","ΣΟΛΩΜΟΣ ΚΩΝΣΤΑΝΤΙΝΟΣ",1981,"Ο.Α.ΧΟΛΑΡΓΟΥ","ΙΑ"]
[36769,"M","ΣΟΥΓΛΕΡΗΣ ΔΗΜΗΤΡΙΟΣ",2000,"Ο.Α.ΑΙΓΙΑΛΕΙΑΣ","ΣΤ"]
[1896,"F","ΣΟΥΛΑ ΝΙΚΟΛΕΤΤΑ",1969,"Ο.Α.ΤΡΙΚΑΛΩΝ","Ε"]
[23024,"F","ΣΟΥΛΙΝΤΖΗ ΛΙΑΝΝΑ",1993,"Α.Ο.ΑΡΓΥΡΟΥΠΟΛΗΣ","ΙΑ"]
[5894,"M","ΣΟΥΛΙΩΤΗΣ ΜΙΧΑΗΛ",1977,"Α.Σ.ΣΠΑΡΤΑΚΟΣ ΓΛΥΦΑΔΑΣ","ΙΑ"]
[33173,"M","ΣΟΥΜΕΛΙΔΗΣ ΠΕΤΡΟΣ",2002,"Σ.Α.ΔΡΑΜΑΣ","Α"]
[26904,"F","ΣΟΥΡΕΤΗ ΙΛΙΑΔΑ-ΓΕΩΡΓΙΑ",1998,"Α.Ο.ΒΑΡΗΣ ΑΝΑΓΥΡΟΥΣ","Η"]
[12131,"F","ΣΟΥΡΟΥΝΗ ΧΡΙΣΤΙΝΑ",1984,"Ο.Α.ΒΡΙΛΗΣΣΙΩΝ","Η"]
[11193,"F","ΣΟΥΤΟΓΛΟΥ ΜΑΡΙΑ",1983,"Α.Ο.ΒΑΡΗΣ ΑΝΑΓΥΡΟΥΣ","Η"]
[29766,"F","ΣΟΦΙΑΝΙΔΟΥ ΝΕΛΗ",1999,"Ο.Α.ΩΡΑΙΟΚΑΣΤΡΟΥ Ο ΑΝΤΑΙΟΣ","Β"]
[7353,"M","ΣΟΦΙΚΙΤΗΣ ΙΩΑΝΝΗΣ",1968,"Α.Ο.ΚΡΑΝΙΔΙΟΥ","ΣΤ"]
[25296,"M","ΣΠΑΘΗΣ ΜΑΡΙΝΟΣ",1998,"Ο.Α.ΑΘΗΝΩΝ","Η"]
[13143,"F","ΣΠΑΝΟΓΙΑΝΝΗ ΣΟΦΙΑ",1987,"Α.Ο.ΒΑΡΗΣ ΑΝΑΓΥΡΟΥΣ","Η"]
[23180,"M","ΣΠΑΝΟΣ ΣΤΕΛΙΟΣ",1996,"Α.Ο.Α.ΑΙΓΑΛΕΩ 92","Θ"]
[6712,"F","ΣΠΑΝΟΥ ΠΑΣΧΑΛΙΑ",1979,"Σ.Ο.Ι.Σ.ΝΕΑ ΠΝΟΗ","Α"]
[11960,"M","ΣΠΑΠΟΥΛΑΣ ΓΡΗΓΟΡΙΟΣ",1983,"Ο.Α.ΛΑΜΙΑΣ","Ε"]
[16491,"M","ΣΠΑΧΟΣ ΒΑΣΙΛΕΙΟΣ",1990,"Σ.Α.ΕΛΑΣΣΟΝΑΣ","Ε"]
[26908,"F","ΣΠΗΛΙΟΠΟΥΛΟΥ ΣΩΤΗΡΙΑ",1998,"Α.Σ.Α.ΑΓΡΙΝΙΟΥ","Δ"]
[11496,"M","ΣΠΙΓΚΟΣ ΑΠΟΣΤΟΛΟΣ",1981,"Α.Ο.Α.ΠΑΤΡΩΝ","ΣΤ"]
[26925,"F","ΣΠΟΥΡΙΤΑ ΜΑΡΙΑ",1997,"Ο.Α.ΑΛΕΞΑΝΔΡΟΥΠΟΛΗΣ","Α"]
[10521,"M","ΣΠΥΡΙΔΗΣ ΣΤΑΥΡΟΣ",1983,"Ο.Α.ΠΟΛΙΧΝΗΣ Ο ΑΝΤΑΙΟΣ","Β"]
[9499,"M","ΣΠΥΡΟΠΟΥΛΟΣ ΔΗΜΗΤΡΙΟΣ",1979,"Γ.Σ.ΚΗΦΙΣΙΑΣ","Η"]
[33910,"F","ΣΠΥΡΟΠΟΥΛΟΥ ΙΡΙΔΑ",2002,"Α.Ν.Ο.ΓΛΥΦΑΔΑΣ","ΙΑ"]
[7264,"M","ΣΠΥΡΟΥ ΕΛΕΥΘΕΡΙΟΣ",1977,"Α.Ο.ΜΥΤΙΛΗΝΗΣ","Θ"]
[24493,"F","ΣΠΥΡΟΥΛΙΑ ΑΙΚΑΤΕΡΙΝΗ",1998,"Α.Σ.Α.ΑΓΡΙΝΙΟΥ","Δ"]
[24667,"F","ΣΤΑΓΙΑΝΝΗ ΜΑΡΙΑΛΕΝΑ",1997,"Α.Σ.Α.ΛΑΡΙΣΑΣ","Ε"]
[24725,"F","ΣΤΑΓΙΑΝΝΗ ΜΥΡΣΙΝΗ",2000,"Α.Σ.Α.ΛΑΡΙΣΑΣ","Ε"]
[26140,"F","ΣΤΑΘΑΚΟΠΟΥΛΟΥ ΚΑΛΛΙΟΠΗ",1998,"ΑΙΟΛΟΣ Α.Λ.ΙΛΙΟΥ","Θ"]
[31550,"F","ΣΤΑΘΟΚΩΣΤΑ ΛΥΔΙΑ",2002,"ΦΘΙΩΤΙΚΟΣ Ο.Α.","Ε"]
[10478,"F","ΣΤΑΘΟΠΟΥΛΟΥ ΔΗΜΗΤΡΑ",1979,"Α.Σ.ΠΕΡΑ","ΙΑ"]
[9780,"M","ΣΤΑΪΟΣ ΒΛΑΔΗΜΗΡΟΣ",1978,"Ε.Α.Σ.ΟΛΥΜΠΙΑΔΑ","Β"]
[31173,"M","ΣΤΑΜΑΤΑΚΗΣ ΙΩΑΝΝΗΣ",1999,"Ο.Α.ΠΕΤΑΛΟΥΔΩΝ","Θ"]
[10261,"F","ΣΤΑΜΑΤΗ ΔΕΣΠΟΙΝΑ",1980,"Σ.Α.ΚΑΤΕΡΙΝΗΣ","Γ"]
[9450,"M","ΣΤΑΜΑΤΗΣ ΑΘΑΝΑΣΙΟΣ",1984,"Α.Ο.Α.ΑΙΓΑΛΕΩ 92","Θ"]
[1411,"M","ΣΤΑΜΑΤΙΑΔΗΣ ΦΙΛΙΠΠΟΣ",1973,"Ο.Α.ΑΘΗΝΩΝ","Η"]
[11121,"M","ΣΤΑΜΑΤΙΟΥ ΣΤΑΜΑΤΗΣ",1987,"ΝΑΥΠΛΙΑΚΟΣ Ο.Α.","ΣΤ"]
[24693,"M","ΣΤΑΜΑΤΟΠΟΥΛΟΣ ΚΩΝΣΤΑΝΤΙΝΟΣ",1995,"Γ.Ο.ΠΕΡΙΣΤΕΡΙΟΥ Γ.ΠΑΛΑΣΚΑΣ","Θ"]
[12205,"M","ΣΤΑΜΕΛΟΣ ΣΠΥΡΟΣ",1985,"Ο.Α.ΒΕΡΟΙΑΣ","Γ"]
[13207,"F","ΣΤΑΜΟΓΛΟΥ ΔΙΟΝΥΣΙΑ",1985,"Ο.Α.ΚΩ","Θ"]
[11102,"F","ΣΤΑΜΟΥ ΜΑΡΙΑ",1979,"Ο.Α.ΑΓΙΑΣ ΠΑΡΑΣΚΕΥΗΣ","Η"]
[10303,"F","ΣΤΑΜΟΥΛΗ ΧΡΙΣΤΙΝΑ",1985,"Ο.Α.ΠΕΤΡΟΥΠΟΛΗΣ","Θ"]
[31878,"M","ΣΤΑΜΟΥΛΟΣ ΦΩΤΙΟΣ",2002,"Α.Ο.Α.ΗΛΙΟΥΠΟΛΗΣ","ΙΑ"]
[3865,"M","ΣΤΑΜΠΟΥΛΙΔΗΣ ΠΑΥΛΟΣ",1974,"Γ.Α.Σ.ΑΛΕΞΑΝΔΡΕΙΑ","Γ"]
[24346,"M","ΣΤΑΡΑΤΖΗΣ ΔΗΜΗΤΡΙΟΣ",1997,"Α.Ο.Α.ΦΙΛΟΘΕΗΣ","Η"]
[17615,"F","ΣΤΑΣΙΝΟΥ ΚΩΝΣΤΑΝΤΙΝΑ",1994,"Α.Γ.Ο.ΝΑΥΠΑΚΤΟΥ","Δ"]
[13413,"F","ΣΤΑΥΡΑΚΑΝΤΩΝΑΚΗ ΜΑΡΙΝΑ",1982,"Ο.Α.ΣΟΥΔΑΣ","Ζ"]
[27404,"F","ΣΤΑΥΡΙΑΝΑΚΟΥ ΔΗΜΗΤΡΑ",1994,"Ο.Α.ΑΓΙΑΣ ΠΑΡΑΣΚΕΥΗΣ","Η"]
[20880,"M","ΣΤΑΥΡΙΔΗΣ ΕΠΑΜΕΙΝΩΝΔΑΣ",1994,"Ο.Α.ΠΤΟΛΕΜΑΪΔΑΣ","Γ"]
[15815,"F","ΣΤΑΥΡΙΔΟΥ ΕΥΑΓΓΕΛΙΑ",1985,"Ο.Α.ΘΕΣΣΑΛΟΝΙΚΗΣ","Β"]
[4281,"M","ΣΤΑΥΡΟΠΟΥΛΟΣ ΓΙΩΡΓΟΣ",1979,"Α.Ο.ΑΜΥΝΤΑΣ ΥΜΗΤΤΟΥ","ΙΑ"]
[33649,"M","ΣΤΑΥΡΟΠΟΥΛΟΣ ΠΑΝΑΓΙΩΤΗΣ-ΣΠΥΡΟΣ",2000,"ΚΕΡΚΥΡΑΪΚΗ ΑΚΑΔ.ΤΕΝΝΙΣ","Δ"]
[11591,"F","ΣΤΑΥΡΟΠΟΥΛΟΥ ΣΟΦΙΑ",1984,"Ο.Α.ΒΕΡΟΙΑΣ","Γ"]
[6918,"M","ΣΤΑΥΡΟΥ ΣΤΑΥΡΟΣ",1981,"ΝΑΥΠΛΙΑΚΟΣ Ο.Α.","ΣΤ"]
[27596,"M","ΣΤΑΥΡΟΥΛΑΚΗΣ ΔΗΜΗΤΡΙΟΣ",1995,"Α.Ο.ΚΥΔΩΝΙΑΣ","Ζ"]
[32354,"M","ΣΤΑΦΥΛΑΣ ΣΠΥΡΟΣ",1999,"Ο.Α.ΠΕΙΡΑΙΑ","Θ"]
[90101,"M","ΣΤΕΛΕΑ ΒΑΛΕΝΤΙΝ",2000,"ΠΕΥΚΗ Γ.ΚΑΛΟΒΕΛΩΝΗΣ","Η"]
[529,"M","ΣΤΕΡΓΙΟΠΟΥΛΟΣ ΕΥΑΓΓΕΛΟΣ",1967,"ΠΑΝΕΛΛΗΝΙΟΣ Γ.Σ.","Θ"]
[20463,"F","ΣΤΕΡΓΙΟΥ ΖΑΦΕΙΡΙΑ-ΗΡΩ",1997,"Ο.Α.ΑΝΑΤΟΛΙΚΗΣ ΦΘΙΩΤΙΔΑΣ","Ε"]
[32872,"M","ΣΤΕΡΓΙΟΥ ΣΠΥΡΙΔΩΝ",2001,"Α.Ο.Α.ΠΡΩΤΑΘΛ.ΚΑΒΑΛΑΣ","Α"]
[30578,"F","ΣΤΕΦΑΝΑΚΗ ΑΝΝΑ",2001,"Α.Ν.Ο.ΓΛΥΦΑΔΑΣ","ΙΑ"]
[13742,"M","ΣΤΕΦΑΝΗΣ ΚΩΝΣΤΑΝΤΙΝΟΣ",1970,"Ο.Α.ΛΑΜΙΑΣ","Ε"]
[34703,"M","ΣΤΕΦΑΝΙΔΗΣ ΑΝΤΩΝΗΣ",2001,"Σ.Α.ΘΕΣΣΑΛΟΝΙΚΗΣ","Β"]
[19145,"F","ΣΤΕΦΑΝΙΔΟΥ ΓΕΩΡΓΙΑ",1981,"Γ.Σ.ΚΗΦΙΣΙΑΣ","Η"]
[17922,"F","ΣΤΕΦΑΝΟΥ ΑΙΚΑΤΕΡΙΝΗ",1992,"Α.Ο.ΑΡΓΥΡΟΥΠΟΛΗΣ","ΙΑ"]
[28664,"M","ΣΤΕΦΑΝΟΥ ΑΡΗΣ",1996,"Σ.Α.ΓΑΛΑΤΣΙΟΥ","Θ"]
[3172,"F","ΣΤΗΝΙΟΥ ΑΝΑΣΤΑΣΙΑ",1971,"Α.Ο.Α.ΠΑΠΑΓΟΥ","ΙΑ"]
[15553,"F","ΣΤΗΝΤΛ ΡΙΤΑ-ΜΑΡΙΑ",1987,"Α.Ο.Ν.ΣΜΥΡΝΗΣ Ο ΜΙΛΩΝ","ΙΑ"]
[1742,"M","ΣΤΟΓΙΑΝΝΙΔΗΣ ΝΙΚΟΣ",1971,"Α.Ο.Α.ΚΑΒΑΛΑΣ","Α"]
[28002,"M","ΣΤΟΡΟΦΟΡΟΣ ΘΕΟΔΩΡΟΣ",1999,"Γ.Σ.ΙΤΕΑΣ","Ε"]
[27986,"F","ΣΤΟΦΟΡΟΥ ΠΑΝΑΓΟΥΛΑ-ΚΩΝΣΤΑΝΤΙΝΑ",1996,"Γ.Σ.ΙΤΕΑΣ","Ε"]
[32726,"F","ΣΤΡΑΝΤΖΙΑ ΑΝΑΣΤΑΣΙΑ",2002,"Ο.Α.ΝΕΣΤΩΡΑΣ ΓΙΑΝΝΙΤΣΩΝ","Γ"]
[27823,"F","ΣΤΡΑΤΗΓΑΚΗ ΔΑΝΑΗ",2002,"Ο.Α.ΑΡΓΟΥΣ","ΣΤ"]
[19119,"M","ΣΤΡΑΤΟΥΔΑΚΗΣ ΕΜΜΑΝΟΥΗΛ",1990,"Α.Ε.ΠΟΡΤΟ ΡΑΦΤΗ","Η"]
[25949,"F","ΣΤΡΟΦΑΛΗ ΑΘΗΝΑ",1997,"Α.Ο.ΑΡΓΥΡΟΥΠΟΛΗΣ","ΙΑ"]
[30606,"M","ΣΤΦΥΛΑΣ ΤΙΜΟΛΕΩΝ",1996,"Ο.Α.ΠΕΙΡΑΙΑ","Θ"]
[4753,"M","ΣΥΚΟΥΡΤΗΣ ΓΙΩΡΓΟΣ",1975,"Σ.Α.ΡΑΦΗΝΑΣ","Η"]
[20427,"M","ΣΥΜΕΩΝΙΔΗΣ ΓΕΩΡΓΙΟΣ",1993,"Α.Ε.Τ.ΝΙΚΗ ΠΑΤΡΩΝ","ΣΤ"]
[18793,"M","ΣΥΜΙΑΚΑΚΗΣ ΑΛΕΞΑΝΔΡΟΣ",1989,"Ο.Π.ΘΕΣΣΑΛΟΝΙΚΗΣ ΜΑΚΕΔΟΝΙΑ 92","Β"]
[26247,"F","ΣΥΝΟΔΙΝΟΥ ΜΑΡΙΑ",1975,"Ο.Α.Ο ΦΙΛΑΘΛΟΣ","Η"]
[16467,"F","ΣΥΡΙΩΤΗ ΜΑΡΙΑΝΑ-ΠΑΡΑΣΚΕΥΗ",1989,"ΚΕΡΚΥΡΑΪΚΗ Λ.Τ.","Δ"]
[2057,"M","ΣΥΡΠΑΣ ΦΩΤΙΟΣ",1971,"Γ.Ε.ΠΡΕΒΕΖΑΣ","Δ"]
[3519,"M","ΣΦΑΚΙΑΝΑΚΗΣ ΑΛΕΞΑΝΔΡΟΣ",1973,"Ο.Α.ΧΟΛΑΡΓΟΥ","ΙΑ"]
[26855,"M","ΣΦΕΤΣΙΟΣ ΒΑΣΙΛΕΙΟΣ",1994,"Α.Α.ΑΛΜΠΑΤΡΟΣ","Β"]
[35319,"M","ΣΦΟΥΝΟΣ ΓΡΗΓΟΡΙΟΣ",1985,"Α.Ο.Α.ΑΛΕΞΑΝΔΡΟΣ Β","Η"]
[23076,"M","ΣΦΥΡΗΣ ΑΓΓΕΛΟΣ",1997,"Ο.Α.ΧΑΝΙΩΝ","Ζ"]
[20921,"F","ΣΧΟΙΝΑ ΕΥΡΥΔΙΚΗ",1993,"Α.Γ.Ο.ΝΑΥΠΑΚΤΟΥ","Δ"]
[16971,"F","ΣΩΜΑΡΑΚΗ ΕΛΕΝΗ",1969,"Γ.Σ.ΛΙΒΥΚΟΣ ΙΕΡΑΠΕΤΡΑΣ","Ζ"]
[26470,"M","ΣΩΤΗΡΑΣ ΑΡΙΣΤΕΙΔΗΣ",1996,"Α.Ε.Κ.ΤΡΙΠΟΛΗΣ","ΣΤ"]
[12843,"F","ΣΩΤΗΡΙΑΔΟΥ ΜΑΡΙΑ",1986,"Γ.Α.Σ.ΝΙΓΡΙΤΑΣ ΒΙΣΑΛΤΗΣ","Α"]
[5482,"M","ΣΩΤΗΡΙΟΥ ΣΤΥΛΙΑΝΟΣ",1980,"Σ.Α.ΣΕΡΡΩΝ","Α"]
[15513,"M","ΣΩΤΗΡΟΠΟΥΛΟΣ ΣΩΤΗΡΗΣ",1985,"Α.Σ.ΠΕΡΑ","ΙΑ"]
[2188,"F","ΣΩΤΗΡΧΟΥ ΙΩΑΝΝΑ",1967,"Α.Ο.ΚΗΦΙΣΙΑΣ","Η"]
[22105,"M","ΤΑΓΑΡΑΣ ΝΙΚΟΛΑΟΣ",1995,"Γ.Σ.ΚΗΦΙΣΙΑΣ","Η"]
[6367,"M","ΤΑΚΒΟΡΙΑΝ ΣΤΕΦΑΝ",1977,"Α.Ο.ΚΑΛΛΙΤΕΧΝΟΥΠΟΛΗΣ","Η"]
[29970,"M","ΤΑΛΑΓΑΝΗΣ ΔΗΜΗΤΡΗΣ",2000,"Σ.Α.ΤΡΙΠΟΛΗΣ","ΣΤ"]
[38625,"M","ΤΑΜΒΑΚΟΠΟΥΛΟΣ ΣΠΥΡΟΣ",1999,"Α.Ο.ΚΗΦΙΣΙΑΣ","Η"]
[8580,"F","ΤΑΜΠΟΛΙΔΟΥ ΕΙΡΗΝΗ",1986,"Φ.Σ.ΚΑΛΛΙΘΕΑΣ","Θ"]
[15526,"M","ΤΑΝΤΑΛΙΔΗΣ ΔΗΜΗΤΡΗΣ",1985,"Α.Ο.Ν.Φ.ΑΤΤΑΛΟΣ","Η"]
[22127,"F","ΤΑΟΥΣΑΚΗ ΑΙΚΑΤΕΡΙΝΗ-ΝΕΚΤΑΡΙΑ",1994,"Α.Ο.Α.ΚΑΒΑΛΑΣ","Α"]
[2039,"M","ΤΑΡΑΝΤΙΛΗΣ ΧΡΗΣΤΟΣ",1970,"Γ.Ε.ΑΡΓΟΛΙΔΑΣ","ΣΤ"]
[26630,"M","ΤΑΣΙΟΣ ΑΛΕΞΑΝΔΡΟΣ",1995,"Α.Ο.Α.ΝΕΑΣ ΠΕΡΑΜΟΥ ΟΙ ΤΙΤΑΝΕΣ","Α"]
[3790,"M","ΤΑΣΟΥ ΒΑΣΙΛΗΣ",1978,"Λ.Α.ΚΟΜΟΤΗΝΗΣ","Α"]
[8315,"F","ΤΑΣΣΗ ΕΛΕΝΗ",1983,"Α.Ο.Α.ΚΑΒΑΛΑΣ","Α"]
[27330,"M","ΤΑΣΤΣΟΓΛΟΥ ΕΛΕΥΘΕΡΙΟΣ",1996,"Ο.Α.ΩΡΑΙΟΚΑΣΤΡΟΥ Ο ΑΝΤΑΙΟΣ","Β"]
[3371,"F","ΤΑΤΣΗ ΑΜΑΛΙΑ",1977,"Ο.Α.ΑΡΤΑΣ","Δ"]
[15542,"F","ΤΑΤΣΗ ΑΣΠΑΣΙΑ",1989,"Ο.Α.ΑΘΗΝΩΝ","Η"]
[18620,"M","ΤΑΤΣΙΩΝΑΣ ΑΠΟΣΤΟΛΟΣ",1993,"Ο.Α.ΑΡΤΑΣ","Δ"]
[6644,"M","ΤΑΧΤΣΙΔΗΣ ΜΑΡΙΝΟΣ",1980,"Α.Ψ.Λ.ΜΕΔΕΩΝ","Ε"]
[29751,"M","ΤΕΛΛΙΟΣ ΑΛΕΞΑΝΔΡΟΣ",1997,"Ο.Α.ΝΙΚΑΙΑ ΛΑΡΙΣΑΣ","Ε"]
[35006,"F","ΤΕΝΤΑ ΠΑΝΑΓΙΩΤΑ",1979,"Α.Σ.ΦΛΟΓΑ ΑΘΗΝΩΝ","Η"]
[32916,"M","ΤΕΡΖΗΣ ΓΙΩΡΓΟΣ-ΣΤΕΡΓΙΟΣ",1997,"Α.Α.ΑΛΜΠΑΤΡΟΣ","Β"]
[9418,"M","ΤΕΡΙΚΙΩΤΗΣ ΣΤΥΛΙΑΝΟΣ",1981,"Ο.Α.ΖΩΓΡΑΦΟΥ","Η"]
[15356,"F","ΤΕΡΜΕΝΤΖΟΓΛΟΥ ΜΑΡΙΑ",1990,"Σ.Α.ΣΕΡΡΩΝ","Α"]
[6385,"F","ΤΕΦΙΚΟΓΛΟΥ ΤΖΕΒΑΤ",1979,"ΠΑΝΘΡΑΚΙΚΟΣ Ο.Α.ΚΟΜΟΤΗΝΗΣ","Α"]
[5643,"M","ΤΖΑΒΕΛΑΣ ΓΙΩΡΓΟΣ",1975,"Α.Ο.ΜΥΤΙΛΗΝΗΣ","Θ"]
[7199,"M","ΤΖΑΜΑΛΗΣ ΑΡΓΥΡΙΟΣ",1982,"Ο.Α.ΝΑΟΥΣΑΣ","Γ"]
[33490,"F","ΤΖΑΝΑΚΗ ΑΝΔΡΙΑΝΑ",1996,"Σ.Α.ΡΑΦΗΝΑΣ","Η"]
[2836,"M","ΤΖΑΝΕΤΗΣ ΙΩΑΝΝΗΣ",1977,"Α.Κ.ΖΩΓΡΑΦΟΥ","ΙΑ"]
[7583,"M","ΤΖΑΝΝΗΣ ΒΑΣΙΛΕΙΟΣ",1979,"Σ.Α.ΓΑΛΑΤΣΙΟΥ","Θ"]
[23606,"M","ΤΖΑΦΕΡΗΣ ΛΕΩΝΙΔΑΣ",1994,"Α.Ο.Α.ΑΙΓΑΛΕΩ 92","Θ"]
[25238,"M","ΤΖΕΛΑΤΗΣ ΣΤΕΦΑΝΟΣ",1998,"Α.Κ.Α.ΜΑΡΑΘΩΝΑ","Η"]
[18453,"F","ΤΖΕΜΠΕΤΖΗ ΑΣΗΜΙΝΑ",1992,"Γ.Σ.ΚΗΦΙΣΙΑΣ","Η"]
[35571,"F","ΤΖΗΜΑ ΑΓΓΕΛΙΚΗ",1998,"Ο.Α.ΚΑΣΤΟΡΙΑΣ ΚΕΛΕΤΡΟΝ","Γ"]
[21031,"M","ΤΖΙΑΛΛΗΛΑΣ ΚΛΕΑΝΘΗΣ",1984,"Α.Σ.Ε.ΘΗΣΕΑΣ ΑΓΙΟΥ ΔΗΜΗΤΡΙΟΥ","ΙΑ"]
[30976,"F","ΤΖΙΒΑΝΟΠΟΥΛΟΥ ΜΑΡΙΑΝΝΑ",1999,"Ε.Σ.Ο.ΕΠΙΚΟΥΡΟΣ ΠΟΛΙΧΝΗΣ","Β"]
[90043,"F","ΤΖΙΚΑ ΧΡΙΣΤΙΝΑ-ΑΝΙΛΑ",1993,"Α.Ο.Α.ΚΑΒΑΛΑΣ","Α"]
[3204,"F","ΤΖΙΜΟΥΡΤΑ ΔΕΣΠΟΙΝΑ",1971,"Ο.Α.ΚΑΒΑΛΑΣ ΑΛΕΞΑΝΔΡΟΣ","Α"]
[2294,"F","ΤΖΙΝΤΖΑ ΜΑΡΙΑ",1972,"Α.Κ.ΖΩΓΡΑΦΟΥ","ΙΑ"]
[9766,"F","ΤΖΙΤΖΙΛΗ ΕΥΘΑΛΙΑ",1987,"Ο.Α.ΚΑΤΕΡΙΝΗΣ","Γ"]
[9532,"F","ΤΖΟΑΝΟΥ ΕΥΦΡΟΣΥΝΗ",1982,"Μ.Γ.Σ.ΑΠΟΛΛΩΝ ΚΑΛΑΜΑΡΙΑΣ","Β"]
[19603,"F","ΤΖΟΥΒΑΡΑ ΚΩΝΣΤΑΝΤΙΝΑ",1994,"ΦΘΙΩΤΙΚΟΣ Ο.Α.","Ε"]
[5394,"M","ΤΖΟΥΜΑΛΑΚΗΣ ΑΠΟΣΤΟΛΟΣ",1983,"Σ.Α.ΣΕΡΡΩΝ","Α"]
[14287,"F","ΤΖΟΥΡΟΥ ΑΝΔΡΟΝΙΚΗ",1985,"Γ.Ε.ΠΡΕΒΕΖΑΣ","Δ"]
[18470,"F","ΤΖΩΡΤΖΗ ΕΛΠΙΔΑ",1992,"Γ.Ε.ΠΡΕΒΕΖΑΣ","Δ"]
[14276,"M","ΤΖΩΡΤΖΙΝΗΣ ΚΩΝΣΤΑΝΤΙΝΟΣ",1984,"Α.Ο.ΑΡΓΥΡΟΥΠΟΛΗΣ","ΙΑ"]
[38504,"M","ΤΙΒΙΚΕΛΗΣ ΑΘΑΝΑΣΙΟΣ",2000,"Α.Ο.Α.ΚΑΙΣΑΡΙΑΝΗΣ","Θ"]
[31564,"M","ΤΙΜΟΘΕΑΔΗΣ ΙΩΑΝΝΗΣ",2002,"Α.Α.ΑΛΜΠΑΤΡΟΣ","Β"]
[14672,"M","ΤΟΚΑΣ ΜΙΧΑΗΛ",1987,"Α.Ο.ΑΡΓΥΡΟΥΠΟΛΗΣ","ΙΑ"]
[10125,"F","ΤΟΚΗ ΟΛΓΑ",1985,"Α.Τ.ΧΟΛΑΡΓΟΥ","ΙΑ"]
[3281,"F","ΤΟΛΙΚΑ ΑΘΗΝΑ",1973,"Γ.Α.Σ.ΑΛΕΞΑΝΔΡΕΙΑ","Γ"]
[22337,"F","ΤΟΜΑΖΟΥ ΧΡΙΣΤΙΝΑ",1995,"Ο.Α.ΑΓ.ΣΟΥΛΑ ΣΟΡΩΝΗΣ ΡΟΔΟΥ","Θ"]
[11094,"M","ΤΟΜΠΡΟΣ ΝΙΚΟΛΑΟΣ",1978,"Α.Α.ΚΕΡΚΥΡΑΣ","Δ"]
[32945,"F","ΤΟΠΑΛΙ ΤΑΤΙΑΝΑ",2001,"Ο.Α.ΝΕΣΤΩΡΑΣ ΓΙΑΝΝΙΤΣΩΝ","Γ"]
[10415,"F","ΤΟΠΟΥΖΙΔΟΥ ΑΛΕΞΑΝΔΡΑ",1984,"ΠΑΝΘΡΑΚΙΚΟΣ Ο.Α.ΚΟΜΟΤΗΝΗΣ","Α"]
[27840,"F","ΤΟΠΟΥΖΙΔΟΥ ΕΛΕΝΗ",1999,"Ο.Α.ΕΥΟΣΜΟΥ ΘΕΣΣΑΛΟΝΙΚΗΣ","Β"]
[7059,"M","ΤΟΣΚΑΣ ΓΡΗΓΟΡΗΣ",1983,"Ο.Α.ΑΘΗΝΩΝ","Η"]
[7762,"M","ΤΟΤΣΙΚΑΣ ΔΗΜΗΤΡΙΟΣ",1979,"Ο.Α.ΛΑΡΙΣΑΣ","Ε"]
[19804,"F","ΤΟΥΛΙΑΤΟΥ ΣΤΑΥΡΟΥΛΑ",1992,"Ο.Α.ΑΓΡΙΝΙΟΥ","Δ"]
[23034,"M","ΤΟΥΜΠΑΚΑΡΗΣ ΙΩΑΝΝΗΣ",1995,"ΡΟΔΙΑΚΟΣ Ο.Α.","Θ"]
[11128,"M","ΤΟΥΡΚΟΧΩΡΙΤΗΣ ΔΗΜΗΤΡΙΟΣ",1966,"Ο.Α.ΛΙΒΑΔΕΙΑΣ","Ε"]
[10677,"M","ΤΟΥΡΤΟΓΛΟΥ ΝΙΚΟΛΑΟΣ",1984,"Ο.Α.ΧΑΛΚΙΔΑΣ","Θ"]
[4589,"F","ΤΟΥΦΕΞΗ ΜΑΡΙΑ",1968,"Α.Γ.Ο.ΒΟΛΟΥ","Ε"]
[28960,"F","ΤΡΑΚΑ ΧΡΙΣΤΙΝΑ",1980,"Α.Ε.Κ.ΤΡΙΠΟΛΗΣ","ΣΤ"]
[14539,"M","ΤΡΑΝΑΚΙΔΗΣ ΠΑΝΑΓΙΩΤΗΣ",1988,"Α.Ο.Α.ΗΛΙΟΥΠΟΛΗΣ","ΙΑ"]
[21167,"F","ΤΡΑΧΑΝΑ ΖΩΗ",1991,"Α.Ε.Κ.ΤΡΙΠΟΛΗΣ","ΣΤ"]
[22895,"M","ΤΡΙΑΝΤΑΦΥΛΛΗΣ ΠΕΤΡΟΣ",1992,"Α.Ν.Ο.ΓΛΥΦΑΔΑΣ","ΙΑ"]
[21145,"M","ΤΡΙΑΝΤΑΦΥΛΛΙΔΗΣ ΕΥΑΓΓΕΛΟΣ",1996,"Ο.Α.ΑΝΑΦΛΥΣΤΟΣ ΣΑΡΩΝΙΔΑΣ","Η"]
[16843,"F","ΤΡΙΑΝΤΑΦΥΛΛΙΔΟΥ ΝΙΚΗ",1981,"Α.Ο.Α.ΑΣΤΕΡΑΣ ΘΕΣΣΑΛΟΝΙΚΗΣ","Β"]
[23467,"M","ΤΡΙΑΝΤΑΦΥΛΛΟΣ ΝΙΚΟΛΑΟΣ",1997,"Α.Γ.Ο.ΦΙΛΙΠΠΙΑΔΑΣ","Δ"]
[11915,"M","ΤΡΙΑΝΤΑΦΥΛΛΟΥ ΚΩΝΣΤΑΝΤΙΝΟΣ",1984,"Ο.Α.ΑΘΗΝΩΝ","Η"]
[27306,"M","ΤΡΙΑΝΤΟΠΟΥΛΟΣ ΑΝΔΡΕΑΣ",1974,"Ε.Α.Σ.ΛΑΚΚΑΣ ΔΗΜΟΥ ΣΥΜΠΟΛΙΤΕΙΑΣ","ΣΤ"]
[2745,"M","ΤΡΙΒΛΙΔΗΣ ΑΠΟΣΤΟΛΟΣ",1973,"Α.Σ.ΣΠΑΡΤΑΚΟΣ ΓΛΥΦΑΔΑΣ","ΙΑ"]
[11119,"M","ΤΡΙΓΚΑΣ ΑΔΡΙΑΝΟΣ",1987,"ΝΑΥΠΛΙΑΚΟΣ Ο.Α.","ΣΤ"]
[29888,"M","ΤΡΙΚΚΑΣ-ΨΩΜΑΣ ΝΙΚΟΛΑΟΣ",2000,"Ο.Α.ΑΛΕΞΑΝΔΡΟΣ ΒΕΡΟΙΑΣ","Γ"]
[24901,"F","ΤΡΙΤΑΙΟΥ ΗΛΙΑΝΑ",1998,"Α.Ο.ΚΑΒΑΛΑΣ ΜΑΚΕΔΟΝΙΚΟΣ","Α"]
[9847,"F","ΤΡΟΜΠΟΥΚΗ ΙΦΙΓΕΝΕΙΑ",1983,"Ο.Α.ΒΕΡΟΙΑΣ","Γ"]
[31085,"M","ΤΡΟΥΠΤΣΙΔΗΣ ΣΩΚΡΑΤΗΣ",2000,"Ο.Α.ΚΕΡΚΥΡΑΣ","Δ"]
[4609,"M","ΤΡΥΦΩΝΑΣ ΣΠΥΡΟΣ",1973,"Ο.Α.ΒΟΛΟΥ","Ε"]
[14577,"M","ΤΣΑΒΑΛΟΣ ΠΑΝΑΓΙΩΤΗΣ",1987,"Ο.Α.ΛΑΜΙΑΣ","Ε"]
[25810,"F","ΤΣΑΓΑΚΗ-ΡΕΚΛΕΙΤΟΥ ΕΜΜΑΝΟΥΕΛΑ",1999,"Ο.Α.ΠΕΙΡΑΙΑ","Θ"]
[22066,"F","ΤΣΑΓΚΑ ΜΑΡΙΑ",1995,"Σ.Α.ΣΕΡΡΩΝ","Α"]
[30926,"F","ΤΣΑΓΚΑΡΑΚΗ ΔΑΝΑΗ",2001,"Α.Ν.Ο.ΓΛΥΦΑΔΑΣ","ΙΑ"]
[25960,"F","ΤΣΑΓΚΑΡΗ ΜΑΡΙΑ",1997,"Ο.Α.ΛΕΣΒΟΥ","Θ"]
[30546,"M","ΤΣΑΓΛΙΩΤΗΣ ΑΝΤΩΝΗΣ",2002,"Ο.Α.ΡΕΘΥΜΝΟΥ","Ζ"]
[13467,"M","ΤΣΑΓΛΙΩΤΗΣ ΣΤΥΛΙΑΝΟΣ",1970,"Ο.Α.ΡΕΘΥΜΝΟΥ","Ζ"]
[27090,"F","ΤΣΑΚΑΛΙΔΟΥ ΑΝΝΑ",1994,"Ο.Α.ΠΟΛΥΚΑΣΤΡΟΥ","Β"]
[22860,"M","ΤΣΑΚΙΔΗΣ ΓΕΩΡΓΙΟΣ",1997,"Ο.Α.ΘΕΣΣΑΛΟΝΙΚΗΣ","Β"]
[13223,"F","ΤΣΑΚΙΡΗ ΧΡΙΣΤΙΝΑ",1983,"Γ.Σ.ΗΛΙΟΥΠΟΛΗΣ","ΙΑ"]
[10006,"F","ΤΣΑΚΙΡΙΔΗ ΟΛΓΑ",1979,"Γ.Σ.ΗΛΙΟΥΠΟΛΗΣ","ΙΑ"]
[32779,"F","ΤΣΑΚΝΑΚΗ ΒΙΡΓΙΝΙΑ",1996,"Ο.Α.ΚΟΥΦΑΛΙΩΝ ΘΕΣΣΑΛΟΝΙΚΗΣ","Β"]
[9207,"M","ΤΣΑΚΟΣ ΣΤΕΦΑΝΟΣ",1986,"Ο.Α.ΠΑΝΟΡΑΜΑΤΟΣ","Β"]
[23854,"M","ΤΣΑΛΑΠΑΤΑΣ ΚΩΝΣΤΑΝΤΙΝΟΣ",1998,"Α.Ο.Α.ΠΡΩΤΑΘΛ.ΚΑΒΑΛΑΣ","Α"]
[2610,"F","ΤΣΑΛΙΚΗ ΚΑΤΕΡΙΝΑ",1970,"ΗΡΑΚΛΕΙΟ Ο.Α.& Α.","Ζ"]
[28335,"F","ΤΣΑΛΙΚΗ ΜΑΓΔΑΛΗΝΗ",1999,"Ο.Α.ΝΕΣΤΩΡΑΣ ΓΙΑΝΝΙΤΣΩΝ","Γ"]
[37056,"F","ΤΣΑΛΤΑ ΑΝΤΩΝΙΑ",2002,"Ο.Α.ΚΑΛΑΜΑΤΑΣ","ΣΤ"]
[17473,"M","ΤΣΑΜΗΣ ΣΤΕΦΑΝΟΣ",1987,"Ο.Α.ΠΕΤΡΟΥΠΟΛΗΣ","Θ"]
[23171,"F","ΤΣΑΜΠΑΛΗ ΕΥΑΓΓΕΛΙΑ-ΣΤΑΥΡΟΥΛΑ",1990,"Ο.Α.ΛΑΡΙΣΑΣ","Ε"]
[24106,"M","ΤΣΑΝΑΚΑΚΗΣ ΜΙΧΑΗΛ",1993,"Ο.Α.ΕΥΟΣΜΟΥ ΘΕΣΣΑΛΟΝΙΚΗΣ","Β"]
[29775,"M","ΤΣΑΝΤΕΚΙΔΗΣ ΜΙΧΑΗΛ",1996,"Ο.Α.ΑΛΕΞΑΝΔΡΟΣ ΒΕΡΟΙΑΣ","Γ"]
[12580,"F","ΤΣΑΟΥΣΗ ΤΑΤΙΑΝΑ",1988,"ΦΘΙΩΤΙΚΟΣ Ο.Α.","Ε"]
[21951,"M","ΤΣΑΠΑΛΟΣ ΑΝΔΡΕΑΣ",1996,"Σ.Α.ΤΡΙΠΟΛΗΣ","ΣΤ"]
[1216,"M","ΤΣΑΠΑΡΑΣ ΔΗΜΗΤΡΙΟΣ",1967,"Ο.Α.ΑΛΕΞΑΝΔΡΟΥΠΟΛΗΣ","Α"]
[3355,"M","ΤΣΑΡΑΠΑΤΣΑΝΗΣ ΔΗΜΗΤΡΗΣ",1976,"Α.Σ.ΣΠΑΡΤΑΚΟΣ ΓΛΥΦΑΔΑΣ","ΙΑ"]
[29746,"F","ΤΣΑΡΟΥΧΑ ΦΩΤΕΙΝΗ",1997,"Ο.Α.ΝΙΚΑΙΑ ΛΑΡΙΣΑΣ","Ε"]
[1042,"M","ΤΣΑΤΣΑΡΗΣ ΑΛΕΞΗΣ",1971,"Ο.Α.ΑΘΗΝΩΝ","Η"]
[15359,"F","ΤΣΑΤΣΟΥ ΕΛΙΣΑΒΕΤ",1987,"Α.Ο.ΒΑΡΗΣ ΑΝΑΓΥΡΟΥΣ","Η"]
[37332,"M","ΤΣΕΒΑΣ ΑΝΑΣΤΑΣΙΟΣ",2000,"Γ.Σ.ΗΛΙΟΥΠΟΛΗΣ","ΙΑ"]
[3407,"M","ΤΣΕΚΟΣ ΚΩΝΣΤΑΝΤΙΝΟΣ",1975,"Α.Ο.Π.ΦΑΛΗΡΟΥ","ΙΑ"]
[12196,"M","ΤΣΕΚΟΥΡΑΣ ΠΑΝΑΓΙΩΤΗΣ",1985,"ΦΘΙΩΤΙΚΟΣ Ο.Α.","Ε"]
[3088,"M","ΤΣΕΛΙΚΗΣ ΔΗΜΗΤΡΗΣ",1974,"Ο.Α.ΑΛΕΞΑΝΔΡΟΥΠΟΛΗΣ","Α"]
[6919,"F","ΤΣΕΜΠΕΡΑ ΣΑΡΑ",1982,"ΝΑΥΠΛΙΑΚΟΣ Ο.Α.","ΣΤ"]
[29629,"M","ΤΣΕΠΗΣ ΟΡΕΣΤΗΣ",1999,"ΚΕΡΚΥΡΑΪΚΗ Λ.Τ.","Δ"]
[10427,"M","ΤΣΕΡΚΕΖΗΣ ΝΙΚΟΛΑΟΣ",1988,"Ο.Α.ΕΛΕΥΘΕΡΟΥΠΟΛΗΣ","Α"]
[9349,"F","ΤΣΕΣΜΕΤΖΗ ΑΡΕΤΗ",1985,"Σ.Α.ΣΕΡΡΩΝ","Α"]
[24618,"F","ΤΣΙΑΒΕ ΑΝΤΩΝΙΑ",1991,"Α.Ο.Α.ΣΤΑΥΡΟΥΠΟΛΗΣ ΙΦΙΤΟΣ","Β"]
[17526,"M","ΤΣΙΑΚΑΛΟΣ ΑΛΕΞΑΝΔΡΟΣ",1992,"ΦΘΙΩΤΙΚΟΣ Ο.Α.","Ε"]
[20172,"M","ΤΣΙΑΚΙΡΙΔΗΣ ΑΘΑΝΑΣΙΟΣ",1994,"Α.Ο.ΟΡΕΣΤΙΑΔΑΣ","Α"]
[37475,"M","ΤΣΙΑΜΑΛΟΣ ΣΤΕΡΓΙΟΣ-ΑΛΕΞΑΝΔΡΟΣ",2002,"Ο.Α.ΦΟΙΒΟΣ ΛΑΡΙΣΑΣ","Ε"]
[17422,"F","ΤΣΙΑΜΟΥΡΑ ΒΙΚΤΩΡΙΑ",1988,"Σ.Ο.Α.ΚΑΡΔΙΤΣΑΣ ΦΩΚΙΑΝΟΣ","Ε"]
[21276,"M","ΤΣΙΑΝΤΑΣ ΒΑΣΙΛΗΣ",1992,"Ο.Α.ΠΕΤΡΟΥΠΟΛΗΣ","Θ"]
[8507,"F","ΤΣΙΑΡΑ ΜΑΡΙΑ",1982,"ΦΘΙΩΤΙΚΟΣ Ο.Α.","Ε"]
[30215,"F","ΤΣΙΑΦΙΔΟΥ ΑΝΝΑ",1998,"ΑΚΑΔΗΜΙΑ ΑΝΤΙΣΦ.ΣΕΡΡΩΝ 2008","Α"]
[20474,"F","ΤΣΙΓΑΡΙΔΑ ΕΛΕΝΗ",1991,"Ο.Α.ΑΝΑΤΟΛΙΚΗΣ ΦΘΙΩΤΙΔΑΣ","Ε"]
[29105,"F","ΤΣΙΓΚΑ ΣΟΦΙΑ",1994,"ΡΗΓΑΣ Α.Ο.Α.ΑΡΓΟΛΙΔΑΣ","ΣΤ"]
[4365,"F","ΤΣΙΚΑΛΑΚΗ ΧΡΙΣΤΙΝΑ",1969,"Α.Σ.ΠΑΠΑΓΟΥ","ΙΑ"]
[26334,"F","ΤΣΙΚΟΥΡΙΔΗ ΑΘΗΝΑ",1996,"Ε.Α.Ο.ΗΛΙΣ","Θ"]
[21064,"F","ΤΣΙΛΙΒΑΚΟΥ ΕΥΓΕΝΙΑ",1991,"Α.Ο.ΜΕΓΑΣ ΑΛΕΞΑΝΔΡΟΣ","ΙΑ"]
[16055,"F","ΤΣΙΛΙΚΟΥΝΑ ΣΤΕΛΛΑ",1987,"Ο.Α.ΧΑΛΚΙΔΑΣ","Θ"]
[38059,"F","ΤΣΙΛΤΙΚΛΗ ΔΗΜΗΤΡΑ",2002,"Ο.Α.ΑΝΑΦΛΥΣΤΟΣ ΣΑΡΩΝΙΔΑΣ","Η"]
[36892,"M","ΤΣΙΜΟΓΙΑΝΝΗΣ ΑΛΕΞΑΝΔΡΟΣ-ΔΗΜΗΤΡΙΟΣ",1999,"Α.Α.ΙΩΑΝΝΙΝΩΝ","Δ"]
[10118,"F","ΤΣΙΜΠΛΑΚΟΥ ΕΛΕΝΗ",1991,"Α.Τ.ΧΟΛΑΡΓΟΥ","ΙΑ"]
[19491,"F","ΤΣΙΜΠΟΥΚΗ ΑΘΑΝΑΣΙΑ",1992,"Ο.Α.ΦΩΚΙΔΑΣ","Ε"]
[11941,"M","ΤΣΙΝΤΖΟΣ ΟΡΕΣΤΗΣ",1986,"Α.Α.ΙΩΑΝΝΙΝΩΝ","Δ"]
[14631,"M","ΤΣΙΝΤΖΟΣ ΣΤΑΘΗΣ",1989,"Σ.Α.ΓΑΛΑΤΣΙΟΥ","Θ"]
[21254,"M","ΤΣΙΟΛΑΚΟΓΛΟΥ ΝΙΚΟΛΑΟΣ",1995,"Α.Ο.ΟΡΕΣΤΙΑΔΑΣ","Α"]
[29545,"F","ΤΣΙΟΥΜΑ ΧΡΙΣΤΙΝΑ",2002,"Ο.Φ.Α.Ο ΦΟΙΒΟΣ","Δ"]
[16251,"F","ΤΣΙΠΑ ΑΣΗΜΙΝΑ",1969,"Ο.Α.ΓΟΥΔΙΟΥ","ΙΑ"]
[26421,"F","ΤΣΙΠΡΑ ΒΑΓΙΑ",1998,"Α.Ο.Ν.Φ.ΑΤΤΑΛΟΣ","Η"]
[23556,"F","ΤΣΙΡΙΓΚΑΚΗ ΒΑΣΙΛΕΙΑ-ΚΥΡΙΑΚΗ",1994,"Ο.Α.ΞΑΝΘΗΣ","Α"]
[22330,"F","ΤΣΙΡΚΟΥ ΑΙΚΑΤΕΡΙΝΗ",1994,"Ο.Α.ΒΕΡΟΙΑΣ","Γ"]
[24176,"F","ΤΣΙΡΟΥ-ΑΚΤΥΠΗ ΕΛΙΣΑΒΕΤ",1996,"ΠΕΥΚΗ Γ.ΚΑΛΟΒΕΛΩΝΗΣ","Η"]
[24083,"F","ΤΣΙΤΙΝΙΔΟΥ ΟΛΓΑ",1993,"Γ.Σ.ΕΛΕΥΘΕΡΙΟΥ ΚΟΡΔ.ΑΡΓΟΝΑΥΤΕΣ","Β"]
[14707,"M","ΤΣΙΤΣΗΣ ΙΩΑΝΝΗΣ",1987,"Α.Α.Α.ΑΛΙΜΟΥ","ΙΑ"]
[16941,"F","ΤΣΙΦΕΤΑΚΗ ΣΕΒΑΣΤΗ",1985,"Γ.Σ.ΛΙΒΥΚΟΣ ΙΕΡΑΠΕΤΡΑΣ","Ζ"]
[1582,"M","ΤΣΙΧΛΑΣ ΝΙΚΟΛΑΟΣ",1966,"Α.Κ.ΖΩΓΡΑΦΟΥ","ΙΑ"]
[34160,"F","ΤΣΙΩΤΑ ΙΟΛΗ",1999,"Α.Ο.ΑΤΛΑΝΤΙΣ","Η"]
[7112,"F","ΤΣΟΚΑ ΙΩΑΝΝΑ",1978,"ΗΠΕΙΡΩΤΙΚΟΣ Σ.Α.ΙΩΑΝΝΙΝΩΝ","Δ"]
[12590,"M","ΤΣΟΛΑΚΗΣ ΑΛΕΞΑΝΔΡΟΣ",1984,"Ο.Α.ΠΑΝΟΡΑΜΑΤΟΣ","Β"]
[90065,"F","ΤΣΟΛΑΚΟΒΙΤΣ ΣΑΡΑ",1999,"Ο.Α.ΑΡΙΔΑΙΑΣ","Γ"]
[5460,"M","ΤΣΟΛΚΑΣ ΑΡΙΣΤΕΙΔΗΣ-ΚΩΝΣΤΑΝΤΙΝΟΣ",1978,"Γ.Ε.ΠΡΕΒΕΖΑΣ","Δ"]
[1792,"M","ΤΣΟΜΠΑΝΙΔΗΣ ΒΛΑΣ",1973,"Ο.Α.ΑΛΕΞΑΝΔΡΟΥΠΟΛΗΣ","Α"]
[21154,"F","ΤΣΟΝΤΑΚΗ ΑΡΓΥΡΩ",1995,"Α.Ο.ΜΕΓΑΣ ΑΛΕΞΑΝΔΡΟΣ","ΙΑ"]
[33887,"F","ΤΣΟΡΑΚΑ ΣΟΦΙΑ",1999,"Α.Ο.ΠΟΣΕΙΔΩΝ ΛΟΥΤΡΑΚΙΟΥ","ΣΤ"]
[13312,"M","ΤΣΟΥΒΑΛΑΣ ΑΓΗΣΙΛΑΟΣ",1985,"Ο.Α.ΑΡΤΑΣ","Δ"]
[32401,"M","ΤΣΟΥΚΑΛΑΣ ΔΙΟΝΥΣΙΟΣ",1996,"Ο.Α.ΑΝΑΦΛΥΣΤΟΣ ΣΑΡΩΝΙΔΑΣ","Η"]
[27781,"M","ΤΣΟΥΚΗΣ ΘΕΟΔΩΡΟΣ",1999,"Α.Σ.ΟΛΥΜΠΙΑΚΟΥ ΧΩΡΙΟΥ Ο ΦΟΙΒΟΣ","Θ"]
[26552,"F","ΤΣΟΥΜΑΝΗ ΑΛΕΞΑΝΔΡΑ",1997,"Ο.Α.ΘΕΣΠΡΩΤΙΑΣ ΤΙΤΑΝΗ","Δ"]
[32105,"F","ΤΣΟΥΜΠΟΥ ΑΝΑΣΤΑΣΙΑ",1998,"Ο.Α.ΑΙΓΙΑΛΕΙΑΣ","ΣΤ"]
[13288,"F","ΤΣΟΥΡΑΠΑ ΑΝΝΑ",1985,"Ο.Α.ΜΑΓΝΗΣΙΑΣ","Ε"]
[38837,"M","ΤΣΟΥΡΟΥΝΗΣ ΑΝΑΣΤΑΣΙΟΣ",1983,"ΦΙΛΑΘΛΗΤΙΚΟΣ Γ.Σ.ΣΠΑΡΤΗΣ","ΣΤ"]
[32776,"F","ΤΣΟΥΤΣΟΥΜΗ ΠΕΤΡΟΥΛΑ",2001,"Ο.Α.ΚΟΥΦΑΛΙΩΝ ΘΕΣΣΑΛΟΝΙΚΗΣ","Β"]
[17542,"F","ΤΣΩΝΗ ΚΛΑΡΙΣΑ",1987,"Α.Ο.Π.ΦΑΛΗΡΟΥ","ΙΑ"]
[27055,"M","ΤΥΠΑΛΔΟΣ ΓΕΩΡΓΙΟΣ-ΑΝΑΣΤΑΣΙΟΣ",1999,"Ο.Α.ΠΕΤΡΟΥΠΟΛΗΣ","Θ"]
[19919,"F","ΤΥΡΗ ΔΑΝΑΗ-ΠΑΝΑΓΙΩΤΑ",1992,"Ο.Α.ΒΡΙΛΗΣΣΙΩΝ","Η"]
[18119,"M","ΥΦΑΝΤΗΣ ΔΗΜΗΤΡΙΟΣ",1989,"Σ.Α.ΡΑΦΗΝΑΣ","Η"]
[30853,"F","ΦΑΚΑ ΔΗΜΗΤΡΑ",2002,"Ο.Α.ΚΟΥΦΑΛΙΩΝ ΘΕΣΣΑΛΟΝΙΚΗΣ","Β"]
[8107,"F","ΦΑΚΙΡΗ ΑΛΕΞΙΑ-ΑΡΙΑΔΝΗ",1980,"Α.Ψ.Λ.ΜΕΔΕΩΝ","Ε"]
[5407,"M","ΦΑΜΕΛΙΑΡΗΣ ΓΕΩΡΓΙΟΣ",1981,"Ο.Α.ΑΘΗΝΩΝ","Η"]
[31095,"F","ΦΑΝΟΥΛΗ ΑΝΝΑ",2000,"Ο.Α.ΚΙΛΚΙΣ","Β"]
[20848,"M","ΦΑΡΑΝΤΟΣ ΠΑΡΑΣΚΕΥΑΣ",1992,"Ο.Α.ΦΩΚΙΔΑΣ","Ε"]
[28419,"M","ΦΑΡΜΑΚΗΣ ΟΡΕΣΤΗΣ",1997,"Α.Ο.Α.ΑΤΤΙΚΟΣ ΗΛΙΟΣ","Η"]
[11879,"M","ΦΑΣΟΥΛΗΣ ΑΝΤΩΝΗΣ",1986,"Ο.Α.ΣΑΛΑΜΙΝΑΣ","Θ"]
[9625,"M","ΦΑΣΟΥΛΗΣ ΤΙΜΟΘΕΟΣ",1984,"Α.Κ.Α.ΜΑΡΑΘΩΝΑ","Η"]
[21544,"M","ΦΑΦΑΛΙΟΣ ΑΝΑΣΤΑΣΙΟΣ",1994,"Α.Ο.ΚΗΦΙΣΙΑΣ","Η"]
[30127,"M","ΦΑΦΟΥΤΗΣ ΙΩΑΝΝΗΣ",2002,"Α.Σ.Ε.ΘΗΣΕΑΣ ΑΓΙΟΥ ΔΗΜΗΤΡΙΟΥ","ΙΑ"]
[37516,"M","ΦΕΛΕΡΗΣ ΒΑΣΙΛΕΙΟΣ",2002,"Φ.Ο.ΠΥΡΓΟΥ","ΣΤ"]
[13381,"M","ΦΕΡΛΙΑΣ ΝΙΚΟΛΑΟΣ",1984,"Ο.Α.ΛΙΤΟΧΩΡΟΥ","Γ"]
[17013,"F","ΦΙΛΑΝΔΡΑ ΑΝΑΣΤΑΣΙΑ",1990,"Ο.Α.ΠΕΙΡΑΙΑ","Θ"]
[8563,"M","ΦΙΛΗΣ ΗΛΙΑΣ",1981,"ΑΙΟΛΟΣ Α.Λ.ΙΛΙΟΥ","Θ"]
[9304,"F","ΦΙΛΙΠΠΑ ΑΝΑΣΤΑΣΙΑ",1981,"Α.Ν.Ο.ΓΛΥΦΑΔΑΣ","ΙΑ"]
[20719,"F","ΦΙΛΙΠΠΙΔΑΚΗ ΠΑΡΑΣΚΕΥΗ",1992,"Α.Ο.ΑΜΥΝΤΑΣ ΥΜΗΤΤΟΥ","ΙΑ"]
[23945,"M","ΦΙΛΙΠΠΟΠΟΛΙΤΗΣ ΣΤΥΛΙΑΝΟΣ",1996,"Α.Ο.Α.ΑΤΤΙΚΟΣ ΗΛΙΟΣ","Η"]
[18950,"M","ΦΙΛΙΠΠΟΥ ΠΑΝΤΕΛΗΣ",1992,"Ο.Α.ΣΑΛΑΜΙΝΑΣ","Θ"]
[2802,"F","ΦΙΛΟΣΟΦΟΠΟΥΛΟΥ ΕΛΕΝΗ",1976,"Α.Κ.ΖΩΓΡΑΦΟΥ","ΙΑ"]
[23451,"F","ΦΙΣΤΟΥ ΕΛΕΝΗ-ΜΑΡΙΑ",1993,"Α.Ν.Ο.ΓΛΥΦΑΔΑΣ","ΙΑ"]
[21843,"F","ΦΛΕΓΚΑ ΜΑΓΔΑΛΗΝΗ",1989,"Α.Ο.ΑΤΡΟΜΗΤΟΣ ΤΡΙΑΔΙΟΥ","Β"]
[15006,"F","ΦΛΩΡΑΚΗ ΜΑΡΙΑΝΝΑ",1988,"Α.Ν.Ο.ΓΛΥΦΑΔΑΣ","ΙΑ"]
[17969,"M","ΦΛΩΡΟΣ ΙΩΑΝΝΗΣ",1991,"Ο.Α.ΣΠΑΡΤΗΣ","ΣΤ"]
[8872,"F","ΦΛΩΡΟΥ ΙΓΚΡΙΝΤ-ΑΘΗΝΑ",1985,"Ο.Α.ΚΑΒΑΛΑΣ ΑΛΕΞΑΝΔΡΟΣ","Α"]
[34307,"M","ΦΟΡΤΟΥΝΑΣ ΑΛΕΞΑΝΔΡΟΣ",2002,"Ο.Α.ΑΘΗΝΩΝ","Η"]
[24718,"F","ΦΟΥΛΟΠ ΡΑΦΑΗΛΙΑ-ΝΙΚΟΛΕΤΑ",2001,"Α.Κ.Α.ΜΑΡΑΘΩΝΑ","Η"]
[30089,"M","ΦΟΥΝΤΗΣ ΚΩΝΣΤΑΝΤΙΝΟΣ",2001,"Α.Ο.Α.ΧΑΪΔΑΡΙΟΥ","Θ"]
[26843,"M","ΦΟΥΝΤΩΤΟΣ ΓΙΩΡΓΟΣ",1998,"Ο.Α.ΚΩ","Θ"]
[22819,"M","ΦΟΥΡΜΟΥΖΗΣ ΓΕΩΡΓΙΟΣ-ΧΑΡΑΛΑΜΠΟΣ",1996,"Α.Ο.ΑΡΓΥΡΟΥΠΟΛΗΣ","ΙΑ"]
[14531,"M","ΦΟΥΤΡΟΣ ΜΙΧΑΛΗΣ",1986,"Ο.Α.ΧΑΛΚΙΔΑΣ","Θ"]
[3253,"M","ΦΡΑΓΚΑΚΗΣ ΑΔΩΝΙΣ",1974,"Α.Ο.Α.ΦΙΛΟΘΕΗΣ","Η"]
[1025,"M","ΦΡΑΓΚΙΣΚΟΣ ΙΩΑΝΝΗΣ",1966,"Α.Ο.Α.ΦΙΛΟΘΕΗΣ","Η"]
[6646,"M","ΦΡΑΓΚΟΣ ΝΙΚΟΛΑΟΣ",1980,"Ο.Α.ΖΩΓΡΑΦΟΥ","Η"]
[7499,"M","ΦΡΑΓΚΟΥ ΘΕΟΔΩΡΟΣ-ΕΚΤΟΡΑΣ",1981,"Ο.Α.ΖΩΓΡΑΦΟΥ","Η"]
[12687,"M","ΦΡΑΓΚΟΥΛΗΣ ΚΩΝΣΤΑΝΤΙΝΟΣ",1989,"Α.Ο.Α.ΡΕΘΥΜΝΟ Τ.Κ.","Ζ"]
[25321,"M","ΦΡΑΝΣΙΣ ΒΑΣΙΛΗΣ",1995,"Α.Ο.ΚΑΛΛΙΤΕΧΝΟΥΠΟΛΗΣ","Η"]
[9792,"M","ΦΡΕΝΤΖΟΣ ΓΕΩΡΓΙΟΣ",1982,"Σ.Α.ΓΑΛΑΤΣΙΟΥ","Θ"]
[23081,"M","ΦΡΟΥΔΑΚΗΣ ΑΛΕΞΑΝΔΡΟΣ-ΙΩΑΝΝΗΣ",1995,"ΗΡΑΚΛΕΙΟ Ο.Α.& Α.","Ζ"]
[23821,"M","ΦΥΛΑΚΤΟΣ ΑΘΑΝΑΣΙΟΣ-ΡΑΦΑΗΛ",1992,"Ο.Α.ΠΕΙΡΑΙΑ","Θ"]
[5964,"M","ΦΥΤΙΛΗΣ ΣΠΥΡΟΣ",1979,"Α.Ν.Ο.ΓΛΥΦΑΔΑΣ","ΙΑ"]
[6672,"M","ΦΩΚΑΣ ΓΕΩΡΓΙΟΣ",1980,"Α.Ο.Α.ΦΙΛΟΘΕΗΣ","Η"]
[8263,"F","ΦΩΤΑΚΗ ΕΛΕΝΗ",1982,"Γ.Ε.ΠΡΕΒΕΖΑΣ","Δ"]
[1831,"F","ΦΩΤΕΙΝΟΠΟΥΛΟΥ ΑΙΚΑΤΕΡΙΝΗ",1973,"Ο.Α.ΑΘΗΝΩΝ","Η"]
[18320,"M","ΦΩΤΙΑΔΗΣ ΓΕΩΡΓΙΟΣ",1986,"Σ.Α.ΓΑΛΑΤΣΙΟΥ","Θ"]
[16800,"F","ΦΩΤΙΔΑΚΗ ΒΛΑΣΙΑ-ΗΡΙΝΝΑ",1991,"Ο.Α.ΠΕΤΡΟΥΠΟΛΗΣ","Θ"]
[30884,"M","ΦΩΤΟΠΟΥΛΟΣ ΤΑΞΙΑΡΧΗΣ",1999,"Σ.Α.ΤΡΙΠΟΛΗΣ","ΣΤ"]
[19133,"F","ΦΩΤΟΠΟΥΛΟΥ ΑΝΝΑ",1986,"Γ.Σ.ΩΡΩΠΟΥ","Η"]
[15631,"F","ΦΩΤΟΠΟΥΛΟΥ ΦΩΤΕΙΝΗ",1989,"Ο.Α.ΚΑΤΕΡΙΝΗΣ","Γ"]
[24580,"M","ΧΑΒΑΡΑΝΗΣ ΧΡΥΣΟΣΤΟΜΟΣ",1992,"Σ.Α.ΓΑΛΑΤΣΙΟΥ","Θ"]
[7235,"M","ΧΑΓΙΟΣ ΦΩΤΗΣ",1977,"Α.Ο.ΔΑΣΟΣ ΧΑΪΔΑΡΙΟΥ","Θ"]
[33117,"F","ΧΑϊΝΗ ΑΙΚΑΤΕΡΙΝΗ",1979,"Σ.Α.ΜΕΣΣΗΝΗΣ","ΣΤ"]
[3875,"F","ΧΑΛΑ ΙΩΑΝΝΑ",1966,"Α.Ο.ΑΜΥΝΤΑΣ ΥΜΗΤΤΟΥ","ΙΑ"]
[37430,"F","ΧΑΛΑΤΣΑ ΝΑΓΙΑ",2000,"Α.Ο.Α.ΑΙΓΑΛΕΩ 92","Θ"]
[24903,"M","ΧΑΛΒΑΤΖΗΣ ΣΤΕΦΑΝΟΣ",1994,"Σ.Α.ΣΕΡΡΩΝ","Α"]
[17699,"M","ΧΑΛΙΑΣΟΣ ΕΥΑΓΓΕΛΟΣ",1989,"ΗΠΕΙΡΩΤΙΚΟΣ Σ.Α.ΙΩΑΝΝΙΝΩΝ","Δ"]
[21304,"F","ΧΑΛΚΙΑ ΒΑΣΙΛΙΚΗ",1991,"Α.Σ.ΚΑΡΠΕΝΗΣΙ ΤΕΝΙΣ ΚΛΑΜΠ","Ε"]
[29056,"M","ΧΑΛΚΙΑΔΑΚΗΣ ΝΙΚΟΛΑΟΣ",1997,"Γ.Σ.ΛΙΒΥΚΟΣ ΙΕΡΑΠΕΤΡΑΣ","Ζ"]
[16488,"M","ΧΑΛΚΙΔΗΣ ΜΑΡΙΟΣ",1989,"Σ.Α.ΕΛΑΣΣΟΝΑΣ","Ε"]
[29381,"F","ΧΑΜΑϊΔΗ ΘΕΟΔΩΡΑ",1997,"Ο.Α.ΝΙΚΑΙΑ ΛΑΡΙΣΑΣ","Ε"]
[17627,"M","ΧΑΜΠΕΡΗΣ ΣΤΕΦΑΝΟΣ",1992,"Ο.Α.ΓΟΥΔΙΟΥ","ΙΑ"]
[21986,"F","ΧΑΝΙΩΤΑΚΗ ΗΛΙΑΝΝΑ",1995,"Γ.Σ.ΛΙΒΥΚΟΣ ΙΕΡΑΠΕΤΡΑΣ","Ζ"]
[31024,"M","ΧΑΝΤΖΑΚΟΣ ΓΕΩΡΓΙΟΣ",1999,"Α.Σ.Ν.ΒΟΥΤΖΑ ΡΑΦΗΝΑΣ Η ΠΡΟΟΔΟΣ","Η"]
[17557,"M","ΧΑΝΤΖΗΣ ΔΗΜΗΤΡΙΟΣ",1994,"ΦΘΙΩΤΙΚΟΣ Ο.Α.","Ε"]
[7659,"M","ΧΑΡΑΚΤΙΝΟΣ ΑΝΔΡΕΑΣ",1979,"ΖΑΚΥΝΘΙΝΟΣ Α.Ο.","ΣΤ"]
[16631,"M","ΧΑΡΑΛΑΜΠΙΔΗΣ ΙΓΝΑΤΙΟΣ",1990,"Σ.Φ.Α.ΜΕΛΙΣΣΙΩΝ Ο ΦΟΙΒΟΣ","Η"]
[4708,"F","ΧΑΡΑΛΑΜΠΙΔΟΥ ΑΡΕΤΗ",1977,"Ο.Α.ΘΕΣΣΑΛΟΝΙΚΗΣ","Β"]
[2175,"F","ΧΑΡΑΛΑΜΠΟΠΟΥΛΟΥ ΑΝΝΑ",1974,"Ο.Α.ΚΑΛΑΜΑΤΑΣ","ΣΤ"]
[5598,"M","ΧΑΡΑΜΗΣ ΘΕΟΦΑΝΗΣ",1967,"Α.Ο.ΠΟΣΕΙΔΩΝ ΛΟΥΤΡΑΚΙΟΥ","ΣΤ"]
[4170,"F","ΧΑΡΔΑ ΜΑΡΓΑΡΙΤΑ",1979,"Α.Ο.ΑΛΦΕΙΟΣ ΕΠΙΤΑΛΙΟΥ","ΣΤ"]
[5587,"F","ΧΑΡΙΛΑΟΥ ΔΗΜΗΤΡΑ",1980,"Ο.Α.ΒΟΥΛΙΑΓΜΕΝΗΣ ΜΙΚΡΟΙ ΑΣΣΟΙ","ΙΑ"]
[2518,"F","ΧΑΡΙΣΙΑΔΟΥ ΜΑΡΙΑ",1969,"Ο.Α.ΒΙΚΕΛΑΣ ΒΕΡΟΙΑΣ","Γ"]
[16931,"M","ΧΑΡΙΤΟΣ ΓΕΩΡΓΙΟΣ",1987,"Ο.Α.ΑΝΑΦΛΥΣΤΟΣ ΣΑΡΩΝΙΔΑΣ","Η"]
[9169,"F","ΧΑΡΙΤΩΝ ΠΟΛΥΞΕΝΗ",1978,"Α.Ο.ΠΟΣΕΙΔΩΝ ΛΟΥΤΡΑΚΙΟΥ","ΣΤ"]
[27002,"M","ΧΑΡΟΒΑΣ ΑΝΤΩΝΙΟΣ",2001,"Σ.Ο.Α.ΚΑΡΔΙΤΣΑΣ ΦΩΚΙΑΝΟΣ","Ε"]
[31533,"F","ΧΑΡΤΟΔΙΠΛΩΜΕΝΟΥ ΜΑΡΙΑ-ΑΝΝΑ",1999,"ΑΘΛ.ΚΕΝΤΡΟ ΑΝΤΙΣΦ.ΛΑΜΙΑΣ","Ε"]
[19405,"M","ΧΑΣΑΠΟΓΛΟΥ ΣΩΤΗΡΙΟΣ",1993,"Α.Ο.Α.ΗΛΙΟΥΠΟΛΗΣ","ΙΑ"]
[21677,"F","ΧΑΣΟΜΕΡΗ ΣΟΦΙΑ-ΔΗΜΗΤΡΑ",1991,"Ο.Α.ΓΟΥΔΙΟΥ","ΙΑ"]
[25700,"M","ΧΑΤΖΕΛΗΣ ΕΜΜΑΝΟΥΗΛ",2001,"Ο.Α.ΛΕΣΒΟΥ","Θ"]
[8329,"F","ΧΑΤΖΗ ΕΥΡΥΚΛΕΙΑ",1979,"Σ.Α.ΚΑΤΕΡΙΝΗΣ","Γ"]
[35689,"M","ΧΑΤΖΗΑΓΓΕΛΟΥ ΧΑΡΑΛΑΜΠΟΣ",1986,"Α.Ο.Α.ΧΑΪΔΑΡΙΟΥ","Θ"]
[1579,"F","ΧΑΤΖΗΑΝΑΣΤΑΣΙΟΥ ΑΙΚΑΤΕΡΙΝΗ",1967,"Α.Κ.ΖΩΓΡΑΦΟΥ","ΙΑ"]
[14845,"F","ΧΑΤΖΗΑΝΤΩΝΙΟΥ ΚΡΙΣΤΥ",1990,"ΠΑΝΘΡΑΚΙΚΟΣ Ο.Α.ΚΟΜΟΤΗΝΗΣ","Α"]
[12748,"F","ΧΑΤΖΗΑΡΓΥΡΗ ΦΩΤΕΙΝΗ",1983,"Α.Ο.ΔΙΛΟΦΟ ΒΑΡΗΣ","Η"]
[31461,"M","ΧΑΤΖΗΓΕΩΡΓΑΝΤΗΣ ΔΗΜΗΤΡΙΟΣ",1999,"Γ.Σ.ΕΛΕΥΘΕΡΙΟΥ ΚΟΡΔ.ΑΡΓΟΝΑΥΤΕΣ","Β"]
[35635,"M","ΧΑΤΖΗΓΕΩΡΓΙΟΥ ΜΙΧΑΛΗΣ",2002,"Ο.Α.ΦΟΙΒΟΣ ΛΑΡΙΣΑΣ","Ε"]
[15674,"M","ΧΑΤΖΗΓΕΩΡΓΙΟΥ ΠΑΝΑΓΙΩΤΗΣ",1990,"Α.Ο.Α.ΚΑΒΑΛΑΣ","Α"]
[7435,"F","ΧΑΤΖΗΓΙΑΝΝΗ ΓΕΩΡΓΙΑ",1983,"Α.Α.ΑΛΜΠΑΤΡΟΣ","Β"]
[36220,"M","ΧΑΤΖΗΓΡΗΓΟΡΙΟΥ ΧΡΗΣΤΟΣ",1997,"Ο.Α.ΚΕΡΑΤΣΙΝΙΟΥ","Θ"]
[20659,"M","ΧΑΤΖΗΔΑΚΗΣ ΛΕΩΝΙΔΑΣ",1992,"Ο.Α.ΡΕΘΥΜΝΟΥ","Ζ"]
[1931,"M","ΧΑΤΖΗΔΗΜΗΤΡΙΟΥ ΔΗΜΗΤΡΗΣ",1971,"Σ.Α.ΣΕΡΡΩΝ","Α"]
[26015,"M","ΧΑΤΖΗΕΛΕΥΘΕΡΙΟΥ ΒΑΣΙΛΕΙΟΣ-ΑΛΕΞΑΝΔΡΟΣ",1992,"Ν.Ο.ΘΕΣΣΑΛΟΝΙΚΗΣ","Β"]
[29195,"F","ΧΑΤΖΗΘΕΟΔΩΡΟΥ ΕΥΣΤΑΘΙΑ",1997,"Ο.Α.ΒΕΡΟΙΑΣ","Γ"]
[2327,"M","ΧΑΤΖΗΪΩΑΝΝΟΥ ΙΩΑΝΝΗΣ",1974,"Ο.Α.ΚΑΒΑΛΑΣ ΑΛΕΞΑΝΔΡΟΣ","Α"]
[32044,"F","ΧΑΤΖΗΚΑΤΣΟΥΠΗ ΕΥΑ-ΚΑΛΛΙΟΠΗ",2001,"Α.Ο.ΚΑΒΑΛΑΣ ΜΑΚΕΔΟΝΙΚΟΣ","Α"]
[13714,"M","ΧΑΤΖΗΚΩΝΣΤΑΝΤΙΝΙΔΗΣ ΣΑΒΒΑΣ",1984,"Ο.Α.ΞΑΝΘΗΣ","Α"]
[25642,"M","ΧΑΤΖΗΛΕΜΟΝΙΑΣ ΔΗΜΗΤΡΗΣ",1998,"Α.Ο.ΚΗΦΙΣΙΑΣ","Η"]
[18924,"F","ΧΑΤΖΗΜΑΡΤΗ ΑΝΝΑ",1993,"Ο.Α.ΑΓ.ΣΟΥΛΑ ΣΟΡΩΝΗΣ ΡΟΔΟΥ","Θ"]
[10784,"F","ΧΑΤΖΗΜΙΧΑΗΛ ΟΛΥΜΠΙΑ",1983,"Λ.Α.ΚΟΜΟΤΗΝΗΣ","Α"]
[12487,"F","ΧΑΤΖΗΝΙΚΟΛΑΚΗ ΜΑΡΙΑ",1983,"Α.Ο.ΜΥΤΙΛΗΝΗΣ","Θ"]
[29273,"M","ΧΑΤΖΗΝΙΚΟΛΑΟΥ ΘΕΟΔΩΡΟΣ-ΠΑΝΑΓΙΩΤΗΣ",1997,"Ο.Α.ΞΑΝΘΗΣ","Α"]
[22406,"M","ΧΑΤΖΗΟΡΦΑΝΟΣ ΕΥΣΤΡΑΤΙΟΣ",1995,"Α.Κ.Α.ΜΑΡΑΘΩΝΑ","Η"]
[33486,"M","ΧΑΤΖΗΠΕΤΡΟΣ ΣΤΑΜΑΤΙΟΣ",1996,"Ο.Α.ΚΩ","Θ"]
[3381,"M","ΧΑΤΖΗΣ ΕΥΑΓΓΕΛΟΣ",1975,"ΠΑΝΕΛΛΗΝΙΟΣ Γ.Σ.","Θ"]
[34005,"F","ΧΑΤΖΗΣΑΒΒΑ ΕΛΙΣΑΒΕΤ",2001,"Ε.Α.Σ.ΟΛΥΜΠΙΑΔΑ","Β"]
[13352,"F","ΧΑΤΖΗΣΤΑΥΡΟΥ ΑΓΓΕΛΙΚΗ",1980,"Χ.Α.Ν.ΘΕΣΣΑΛΟΝΙΚΗΣ","Β"]
[34813,"F","ΧΑΤΖΗΣΥΜΕΩΝ ΒΑϊΑ",2002,"Α.Σ.Α.ΠΑΝΟΡΑΜΑΤΟΣ","Β"]
[27211,"F","ΧΑΤΖΗΧΡΙΣΤΟΦΗ ΑΙΜΙΛΙΑ-ΑΝΤΩΝΙΑ",1996,"Ο.Α.ΚΩ","Θ"]
[11082,"F","ΧΑΤΖΟΠΛΑΚΗ ΕΛΕΑΝΑ",1984,"Ο.Α.ΑΓΙΑΣ ΠΑΡΑΣΚΕΥΗΣ","Η"]
[24923,"M","ΧΑΤΖΟΠΟΥΛΟΣ ΕΥΣΤΑΘΙΟΣ",1993,"Α.Ο.ΚΑΒΑΛΑΣ ΜΑΚΕΔΟΝΙΚΟΣ","Α"]
[20643,"F","ΧΑΤΖΟΠΟΥΛΟΥ ΗΛΕΚΤΡΑ",1993,"Ο.Α.ΑΛΕΞΑΝΔΡΟΥΠΟΛΗΣ","Α"]
[22163,"M","ΧΑΤΣΙΟΣ ΝΙΚΟΛΑΟΣ",1993,"Α.Σ.ΤΕΝΙΣ ΚΛΑΜΠ ΚΟΖΑΝΗΣ","Γ"]
[16017,"M","ΧΕΙΜΑΡΙΟΣ ΓΕΩΡΓΙΟΣ",1990,"Ο.Α.ΚΕΡΚΥΡΑΣ","Δ"]
[28381,"M","ΧΕΛΙΔΩΝΗΣ ΡΑΦΑΗΛ",1996,"Π.Σ.ΑΜΠΕΛΩΝΟΣ Ο ΦΙΛΙΠΠΙΔΗΣ","Ε"]
[26589,"M","ΧΗΡΑΣ ΙΩΑΝΝΗΣ",1995,"Σ.Φ.Φ.Α.Η ΑΜΙΛΛΑ","Ε"]
[29239,"F","ΧΙΝΗ ΚΩΝΣΤΑΝΤΙΝΑ",1999,"Α.Ο.Α.ΧΑΪΔΑΡΙΟΥ","Θ"]
[25895,"F","ΧΙΩΝΗ ΜΑΡΙΑ",1986,"Ο.Α.ΠΕΙΡΑΙΑ","Θ"]
[14553,"M","ΧΙΩΤΗΣ ΝΙΚΟΣ",1988,"Α.Ο.Α.ΦΙΛΟΘΕΗΣ","Η"]
[19470,"F","ΧΟΛΕΒΑ ΠΑΡΑΣΚΕΥΗ",1993,"Ο.Α.ΦΩΚΙΔΑΣ","Ε"]
[11092,"M","ΧΟΝΔΡΟΓΙΑΝΝΗΣ ΣΩΤΗΡΙΟΣ",1979,"Α.Α.ΚΕΡΚΥΡΑΣ","Δ"]
[30510,"F","ΧΟΝΔΡΟΥ ΔΙΟΝΥΣΙΑ",2000,"Ο.Α.ΚΩ","ΙΑ"]
[20802,"F","ΧΟΡΤΑΡΑ ΙΟΥΛΙΑ",1995,"Σ.Α.ΣΕΡΡΩΝ","Α"]
[31470,"F","ΧΟΥΖΟΥΝΙΔΟΥ ΧΡΙΣΤΙΝΑ",1999,"Γ.Σ.ΕΛΕΥΘΕΡΙΟΥ ΚΟΡΔ.ΑΡΓΟΝΑΥΤΕΣ","Β"]
[8079,"F","ΧΟΥΛΙΟΥΜΗ ΚΛΕΙΩ-ΜΑΡΙΑ",1981,"Σ.Α.ΣΕΡΡΩΝ","Α"]
[17111,"F","ΧΟΥΡΗ ΚΑΡΜΕΝ",1987,"Α.Ο.ΓΛΥΦΑΔΑΣ ΦΙΛΙΑ 2000","ΙΑ"]
[36658,"M","ΧΟΥΡΗ ΝΙΚΟΛΑΣ",1992,"Γ.Α.Σ.ΚΑΡΑΤΕ ΕΡΜΗΣ","Γ"]
[13857,"M","ΧΟΥΡΗΣ ΑΝΤΩΝΙΟΣ",1988,"Φ.Ο.Α.ΝΕΑΠΟΛΗΣ","Β"]
[14586,"M","ΧΟΥΡΙΔΗΣ ΕΥΔΟΚΙΜΟΣ",1987,"Σ.Α.ΕΛΑΣΣΟΝΑΣ","Ε"]
[11118,"F","ΧΟΥΡΜΟΥΖΙΑΔΟΥ ΔΑΦΝΗ",1985,"Ο.Α.ΚΑΒΑΛΑΣ ΑΛΕΞΑΝΔΡΟΣ","Α"]
[11117,"F","ΧΟΥΡΜΟΥΖΙΑΔΟΥ ΗΛΕΚΤΡΑ",1984,"Ο.Α.ΚΑΒΑΛΑΣ ΑΛΕΞΑΝΔΡΟΣ","Α"]
[12961,"M","ΧΟΥΣΕΪΝ ΝΑΜΠΙΛ",1983,"Ο.Α.ΑΓΡΙΝΙΟΥ","Δ"]
[21148,"M","ΧΟΥΣΙΑΔΗΣ ΙΩΑΝΝΗΣ",1989,"Α.Ο.ΛΑΓΟΝΗΣΙΟΥ","Η"]
[34517,"M","ΧΟΥΣΟΣ ΠΑΝΑΓΙΩΤΗΣ",2002,"Ο.Α.ΡΙΟΥ","ΣΤ"]
[29124,"F","ΧΟΥΣΟΥΡΙΔΟΥ ΙΩΑΝΝΑ",1992,"Ο.Α.ΛΙΤΟΧΩΡΟΥ","Γ"]
[21851,"F","ΧΟΥΣΤΟΥΛΑΚΗ ΕΛΕΝΗ",1993,"ΗΡΑΚΛΕΙΟ Ο.Α.& Α.","Ζ"]
[22028,"F","ΧΟΥΤΕΑ ΕΥΑΓΓΕΛΙΑ",1996,"Α.Ο.Α.ΧΑΪΔΑΡΙΟΥ","Θ"]
[21314,"F","ΧΟΥΤΕΑ ΣΤΕΦΑΝΙΑ",1994,"Α.Ο.Α.ΧΑΪΔΑΡΙΟΥ","Θ"]
[29834,"M","ΧΟΥΤΟΠΟΥΛΟΣ ΒΑΣΙΛΕΙΟΣ",2001,"Ο.Α.ΧΟΛΑΡΓΟΥ","ΙΑ"]
[29518,"M","ΧΟΥΤΟΠΟΥΛΟΣ ΛΑΜΠΡΟΣ",1998,"Ο.Α.ΧΟΛΑΡΓΟΥ","ΙΑ"]
[12662,"F","ΧΟΥΤΟΠΟΥΛΟΥ ΚΑΛΛΙΟΠΗ",1988,"Ο.Α.ΕΛΕΥΣΙΝΑΣ ΑΙΣΧΥΛΟΣ","Θ"]
[5017,"M","ΧΟΥΤΟΣ ΚΩΝΣΤΑΝΤΙΝΟΣ",1976,"Ο.Α.ΤΡΙΚΑΛΩΝ","Ε"]
[3550,"M","ΧΟΥΧΟΣ ΣΤΑΜΑΤΗΣ",1974,"Ο.Α.ΞΑΝΘΗΣ","Α"]
[8873,"M","ΧΟΥΧΟΥΛΗΣ ΔΗΜΗΤΡΙΟΣ",1980,"Ο.Α.ΚΑΒΑΛΑΣ ΑΛΕΞΑΝΔΡΟΣ","Α"]
[11468,"M","ΧΟΥΧΟΥΛΗΣ ΔΗΜΗΤΡΙΟΣ",1985,"Σ.Α.ΓΑΛΑΤΣΙΟΥ","Θ"]
[19624,"M","ΧΟΥΧΟΥΛΗΣ ΧΡΗΣΤΟΣ",1990,"Α.Ο.Α.ΗΛΙΟΥΠΟΛΗΣ","ΙΑ"]
[90147,"M","ΧΟΦΤ ΣΖΥΜΟΝ-ΓΙΟΥΛΙΑΝ",2002,"Γ.Ε.ΠΡΕΒΕΖΑΣ","Δ"]
[28193,"M","ΧΟΧΣΤΙΝΣ ΓΙΑΡΙ",1996,"ΦΙΛΙΑ Τ.Κ.","Ζ"]
[18355,"F","ΧΟΧΤΟΥΛΑ ΣΤΑΥΡΟΥΛΑ",1994,"Ο.Α.ΝΑΥΠΑΚΤΟΥ","ΣΤ"]
[16454,"F","ΧΟΧΩΛΗ ΗΛΕΚΤΡΑ",1988,"Ο.Α.ΚΑΛΑΜΑΤΑΣ","ΣΤ"]
[26436,"M","ΧΡΑΝΙΩΤΗΣ ΑΛΕΞΑΝΔΡΟΣ",1994,"Α.Ο.Α.ΧΑΪΔΑΡΙΟΥ","Θ"]
[26435,"M","ΧΡΑΝΙΩΤΗΣ ΑΡΙΣΤΟΤΕΛΗΣ",1996,"Α.Ο.Α.ΧΑΪΔΑΡΙΟΥ","Θ"]
[13380,"F","ΧΡΑΠΑΝΑ ΕΛΕΝΗ",1985,"Ο.Α.ΛΙΤΟΧΩΡΟΥ","Γ"]
[20448,"F","ΧΡΑΠΑΝΑ ΜΑΡΙΑΝΝΑ",1991,"Ο.Α.ΛΙΤΟΧΩΡΟΥ","Γ"]
[14663,"M","ΧΡΑΣ ΑΓΓΕΛΟΣ",1988,"ΑΙΟΛΟΣ Α.Λ.ΙΛΙΟΥ","Θ"]
[6823,"M","ΧΡΕΙΑΖΟΜΕΝΟΣ ΓΕΩΡΓΙΟΣ",1983,"ΦΙΛΙΑ Τ.Κ.","Ζ"]
[6822,"M","ΧΡΕΙΑΖΟΜΕΝΟΣ ΣΠΥΡΙΔΩΝ",1984,"ΦΙΛΙΑ Τ.Κ.","Ζ"]
[714,"F","ΧΡΗΣΙΑΚΟΥ ΒΑΣΙΛΕΙΑ-ΠΟΛΥΤΙΜΗ",1966,"ΗΡΑΚΛΕΙΟ Ο.Α.& Α.","Ζ"]
[33115,"M","ΧΡΗΣΙΜΟΣ ΕΥΣΤΑΘΙΟΣ",1969,"Σ.Α.ΜΕΣΣΗΝΗΣ","ΣΤ"]
[30756,"F","ΧΡΗΣΤΑΚΗ ΔΗΜΗΤΡΑ-ΧΡΥΣΟΥΛΑ",1999,"Α.Ε.Τ.ΝΙΚΗ ΠΑΤΡΩΝ","ΣΤ"]
[34714,"M","ΧΡΗΣΤΑΚΗΣ ΑΝΑΣΤΑΣΙΟΣ",2001,"Ο.Α.ΚΕΡΑΤΣΙΝΙΟΥ","Θ"]
[12150,"M","ΧΡΗΣΤΑΚΗΣ ΘΑΝΟΣ",1983,"Ο.Α.ΒΡΙΛΗΣΣΙΩΝ","Η"]
[30729,"M","ΧΡΗΣΤΑΚΗΣ ΙΩΑΝΝΗΣ",2002,"Α.Ε.Τ.ΝΙΚΗ ΠΑΤΡΩΝ","ΣΤ"]
[8340,"F","ΧΡΗΣΤΑΚΙΔΟΥ ΕΥΑΓΓΕΛΙΑ",1980,"Α.Ο.Α.ΦΙΛΟΘΕΗΣ","Η"]
[33549,"M","ΧΡΗΣΤΑΚΟΣ ΑΙΜΙΛΙΟΣ",1982,"Ο.Α.ΚΕΡΑΤΣΙΝΙΟΥ","Θ"]
[9863,"F","ΧΡΗΣΤΙΔΗ ΑΘΑΝΑΣΙΑ",1983,"Ο.Α.ΧΑΛΚΙΔΑΣ","Θ"]
[7677,"F","ΧΡΗΣΤΙΔΗ ΔΑΝΑΗ-ΜΥΡΤΩ",1978,"Α.Ο.ΑΜΥΝΤΑΣ ΥΜΗΤΤΟΥ","ΙΑ"]
[19434,"F","ΧΡΗΣΤΙΔΗ ΕΥΦΗΜΙΑ",1991,"Α.Ο.ΜΟΡΤΕΡΟΥ","Η"]
[9116,"M","ΧΡΗΣΤΙΔΗΣ ΔΗΜΗΤΡΙΟΣ",1980,"Α.Ο.ΠΑΡΑΔΕΙΣΟΣ ΑΜΑΡΟΥΣΙΟΥ","Η"]
[15695,"M","ΧΡΗΣΤΙΔΗΣ ΕΥΑΓΓΕΛΟΣ",1989,"Α.Ο.ΜΟΡΤΕΡΟΥ","Η"]
[14007,"M","ΧΡΗΣΤΙΔΗΣ ΚΩΝΣΤΑΝΤΙΝΟΣ",1983,"Α.Σ.Α.ΛΑΡΙΣΑΣ","Ε"]
[7080,"M","ΧΡΗΣΤΙΔΗΣ ΠΑΥΛΟΣ",1983,"ΝΑΥΠΛΙΑΚΟΣ Ο.Α.","ΣΤ"]
[11952,"F","ΧΡΗΣΤΙΔΟΥ ΑΓΓΕΛΙΚΗ",1981,"Α.Ο.Α.ΦΙΛΟΘΕΗΣ","Η"]
[18383,"F","ΧΡΗΣΤΙΔΟΥ ΒΑΣΙΛΙΚΗ",1987,"Α.Ο.Π.ΦΑΛΗΡΟΥ","ΙΑ"]
[22820,"M","ΧΡΗΣΤΟΓΕΩΡΓΟΣ ΠΑΡΙΣ",1989,"Α.Σ.ΣΠΑΡΤΑΚΟΣ ΓΛΥΦΑΔΑΣ","ΙΑ"]
[8745,"F","ΧΡΗΣΤΟΜΑΝΟΥ ΚΑΤΕΡΙΝΑ",1983,"Ο.Α.ΕΔΕΣΣΑΣ","Γ"]
[10674,"M","ΧΡΗΣΤΟΠΙΚΟΣ ΓΕΩΡΓΙΟΣ",1980,"Ε.Φ.Τ.ΑΙΟΛΙΚΗ","Β"]
[29410,"M","ΧΡΗΣΤΟΣ ΜΙΧΑΗΛ",1989,"Ο.Α.ΒΕΡΟΙΑΣ","Γ"]
[28928,"F","ΧΡΗΣΤΟΥ ΑΓΓΕΛΙΚΗ",1975,"Σ.Α.ΜΕΣΣΗΝΗΣ","ΣΤ"]
[31928,"M","ΧΡΗΣΤΟΥ ΑΓΓΕΛΟΣ",2002,"Ο.Α.ΑΛΕΞΑΝΔΡΟΣ ΒΕΡΟΙΑΣ","Γ"]
[6054,"F","ΧΡΗΣΤΟΥ ΑΝΤΙΓΟΝΗ",1979,"Α.Γ.Ο.ΒΟΛΟΥ","Ε"]
[15204,"M","ΧΡΗΣΤΟΥ ΑΠΟΣΤΟΛΟΣ",1986,"Α.Γ.Ο.ΦΙΛΙΠΠΙΑΔΑΣ","Δ"]
[27423,"F","ΧΡΗΣΤΟΥ ΒΑΣΙΛΙΚΗ",1994,"Α.Ο.ΒΑΡΗΣ ΑΝΑΓΥΡΟΥΣ","Η"]
[31545,"F","ΧΡΗΣΤΟΥ ΒΑΣΙΛΙΚΗ",2001,"Ο.Α.ΘΕΣΠΡΩΤΙΑΣ ΤΙΤΑΝΗ","Δ"]
[12280,"F","ΧΡΗΣΤΟΥ ΓΕΩΡΓΙΑ",1984,"Σ.Ο.Α.ΚΑΡΔΙΤΣΑΣ ΦΩΚΙΑΝΟΣ","Ε"]
[23425,"M","ΧΡΗΣΤΟΥ ΓΙΑΝΝΗΣ",1996,"Α.Ο.Α.ΧΑΪΔΑΡΙΟΥ","Θ"]
[5134,"M","ΧΡΗΣΤΟΥ ΔΗΜΗΤΡΗΣ",1980,"Α.Ο.Α.ΗΛΙΟΥΠΟΛΗΣ","ΙΑ"]
[16152,"M","ΧΡΗΣΤΟΥ ΔΗΜΗΤΡΗΣ",1991,"Ο.Α.ΜΑΓΝΗΣΙΑΣ","Ε"]
[5065,"M","ΧΡΗΣΤΟΥ ΔΗΜΗΤΡΙΟΣ",1977,"Α.Σ.Α.ΛΑΡΙΣΑΣ","Ε"]
[5154,"F","ΧΡΗΣΤΟΥ ΕΛΕΝΗ",1976,"Α.Ο.Α.ΗΛΙΟΥΠΟΛΗΣ","ΙΑ"]
[15205,"F","ΧΡΗΣΤΟΥ ΘΕΟΔΩΡΑ",1986,"Α.Γ.Ο.ΦΙΛΙΠΠΙΑΔΑΣ","Δ"]
[12719,"F","ΧΡΗΣΤΟΥ ΚΥΒΕΛΗ",1982,"Α.Ο.ΠΑΡΓΑΣ","Δ"]
[31330,"F","ΧΡΗΣΤΟΥ ΚΩΝΣΤΑΝΤΙΝΑ",1999,"Ο.Α.ΙΩΛΚΟΣ ΒΟΛΟΥ","Ε"]
[24850,"F","ΧΡΗΣΤΟΥ ΜΑΡΙΑ",1991,"Α.Ο.ΘΕΡΜΗΣ Ο ΘΕΡΜΑΙΟΣ","Β"]
[5153,"F","ΧΡΗΣΤΟΥ ΝΤΙΝΑ",1975,"Α.Ο.Α.ΗΛΙΟΥΠΟΛΗΣ","ΙΑ"]
[15585,"F","ΧΡΗΣΤΟΥ ΟΛΥΜΠΙΑ",1989,"Σ.Α.ΓΑΛΑΤΣΙΟΥ","Θ"]
[37179,"M","ΧΡΗΣΤΟΥ ΣΩΤΗΡΙΟΣ",1979,"Ο.Α.ΘΕΣΠΡΩΤΙΑΣ ΤΙΤΑΝΗ","Δ"]
[2263,"M","ΧΡΗΣΤΟΥ ΧΡΗΣΤΟΣ",1973,"Α.Γ.Ο.ΦΙΛΙΠΠΙΑΔΑΣ","Δ"]
[5112,"F","ΧΡΗΣΤΟΥ ΧΡΙΣΤΙΝΑ",1977,"Α.Ο.Α.ΗΛΙΟΥΠΟΛΗΣ","ΙΑ"]
[19781,"F","ΧΡΗΣΤΟΥ ΧΡΙΣΤΙΝΑ",1997,"Σ.Α.ΣΕΡΡΩΝ","Α"]
[31930,"F","ΧΡΗΣΤΟΥ ΧΡΥΣΑΝΘΗ-ΑΝΝΑ",1998,"Ο.Α.ΑΛΕΞΑΝΔΡΟΣ ΒΕΡΟΙΑΣ","Γ"]
[29419,"M","ΧΡΗΣΤΟΥ-ΜΑΥΡΟΠΟΥΛΟΣ ΧΡΗΣΤΟΣ",1998,"Σ.Α.ΓΑΛΑΤΣΙΟΥ","Θ"]
[11543,"M","ΧΡΗΣΤΟΦΗΣ ΔΗΜΗΤΡΙΟΣ",1984,"Ο.Α.ΕΛΕΥΣΙΝΑΣ ΑΙΣΧΥΛΟΣ","Θ"]
[26040,"M","ΧΡΗΣΩΤΗΣ ΛΑΜΠΡΟΣ",1998,"Γ.Ε.ΠΡΕΒΕΖΑΣ","Δ"]
[32015,"F","ΧΡΙΣΤΑΚΗ ΕΥΑΓΓΕΛΙΑ",2001,"Γ.Σ.ΛΙΒΥΚΟΣ ΙΕΡΑΠΕΤΡΑΣ","Ζ"]
[17567,"M","ΧΡΙΣΤΑΚΗΣ ΔΗΜΗΤΡΙΟΣ",1984,"Γ.Σ.ΕΛΕΥΘΕΡΙΟΥ ΚΟΡΔ.ΑΡΓΟΝΑΥΤΕΣ","Β"]
[29781,"M","ΧΡΙΣΤΑΚΟΓΛΟΥ ΔΙΑΜΑΝΤΗΣ",1998,"Ο.Α.ΚΟΥΦΑΛΙΩΝ ΘΕΣΣΑΛΟΝΙΚΗΣ","Β"]
[12217,"M","ΧΡΙΣΤΑΚΟΠΟΥΛΟΣ ΙΩΑΝΝΗΣ",1983,"Ο.Α.ΑΓΙΑΣ ΠΑΡΑΣΚΕΥΗΣ","Η"]
[4350,"M","ΧΡΙΣΤΑΚΟΠΟΥΛΟΣ ΜΑΡΙΟΣ",1982,"Α.Ο.ΑΛΦΕΙΟΣ ΕΠΙΤΑΛΙΟΥ","ΣΤ"]
[4351,"M","ΧΡΙΣΤΑΚΟΠΟΥΛΟΣ ΠΑΝΑΓΙΩΤΗΣ",1981,"Α.Ο.ΑΛΦΕΙΟΣ ΕΠΙΤΑΛΙΟΥ","ΣΤ"]
[26899,"M","ΧΡΙΣΤΑΚΟΠΟΥΛΟΣ ΧΑΡΙΛΑΟΣ",1994,"Α.Κ.Α.ΜΑΡΑΘΩΝΑ","Η"]
[10271,"M","ΧΡΙΣΤΑΚΟΣ ΓΕΩΡΓΙΟΣ",1983,"Ο.Α.ΖΩΓΡΑΦΟΥ","Η"]
[25826,"F","ΧΡΙΣΤΑΚΟΥ ΑΛΙΚΗ",1997,"Α.Ο.ΑΡΓΥΡΟΥΠΟΛΗΣ","ΙΑ"]
[12774,"F","ΧΡΙΣΤΑΚΟΥ ΜΑΡΙΑ",1984,"Σ.Α.Α.Κ.ΑΝΑΤΟΛΙΑ","Β"]
[12773,"F","ΧΡΙΣΤΑΚΟΥ ΧΡΥΣΟΥΛΑ",1983,"Σ.Α.Α.Κ.ΑΝΑΤΟΛΙΑ","Β"]
[28539,"F","ΧΡΙΣΤΑΚΟΥΔΗ ΑΝΑΣΤΑΣΙΑ",2000,"Α.Ε.Τ.ΝΙΚΗ ΠΑΤΡΩΝ","ΣΤ"]
[27444,"M","ΧΡΙΣΤΑΝΑΣ ΔΗΜΗΤΡΗΣ",2002,"Α.Ο.Α.ΑΙΓΑΛΕΩ 92","Θ"]
[29364,"F","ΧΡΙΣΤΑΡΑ ΜΑΡΙΑ",2001,"Α.Ο.ΠΟΣΕΙΔΩΝ ΛΟΥΤΡΑΚΙΟΥ","ΣΤ"]
[1862,"M","ΧΡΙΣΤΙΔΗΣ ΚΩΝΣΤΑΝΤΙΝΟΣ",1971,"Ο.Α.ΘΕΣΣΑΛΟΝΙΚΗΣ","Β"]
[22269,"M","ΧΡΙΣΤΙΔΗΣ ΣΤΕΦΑΝΟΣ",1992,"Γ.Ε.ΠΡΕΒΕΖΑΣ","Δ"]
[35259,"F","ΧΡΙΣΤΙΝΑ ΚΑΝΕΛΛΟΠΟΥΛΟΥ",2001,"Α.Σ.ΚΟΛΛΕΓΙΟΥ ΝΤΕΡΗ","Η"]
[35255,"F","ΧΡΙΣΤΙΝΑ ΠΑΡΑΣΚΕΥΗ",1999,"Α.Σ.ΚΟΛΛΕΓΙΟΥ ΝΤΕΡΗ","Η"]
[23814,"F","ΧΡΙΣΤΙΝΑΚΗ ΙΟΥΛΙΤΤΑ",1996,"Ο.Α.ΖΩΓΡΑΦΟΥ","Η"]
[811,"M","ΧΡΙΣΤΙΝΑΚΗΣ ΘΩΜΑΣ",1969,"ΗΡΑΚΛΕΙΟ Ο.Α.& Α.","Ζ"]
[23761,"F","ΧΡΙΣΤΟΒΑΣΙΛΗ ΕΙΡΗΝΗ",1993,"Α.Ο.Α.ΑΙΓΑΛΕΩ 92","Θ"]
[15914,"M","ΧΡΙΣΤΟΒΑΣΙΛΗΣ ΓΙΑΝΝΗΣ",1985,"Α.Ν.Ο.ΓΛΥΦΑΔΑΣ","ΙΑ"]
[15913,"M","ΧΡΙΣΤΟΒΑΣΙΛΗΣ ΠΑΝΑΓΙΩΤΗΣ",1987,"Α.Ν.Ο.ΓΛΥΦΑΔΑΣ","ΙΑ"]
[31080,"F","ΧΡΙΣΤΟΓΙΑΝΝΗ ΚΩΝΣΤΑΝΤΙΝΑ",2000,"Α.Ε.ΠΟΡΤΟ ΡΑΦΤΗ","Η"]
[11310,"F","ΧΡΙΣΤΟΔΟΥΛΑΚΗ ΑΝΝΑ",1984,"Α.Ο.ΑΣΤΕΡΑΣ ΗΛΙΟΥΠΟΛΗΣ","ΙΑ"]
[4904,"M","ΧΡΙΣΤΟΔΟΥΛΑΚΗΣ ΗΡΑΚΛΗΣ",1980,"Σ.Α.ΣΕΡΡΩΝ","Α"]
[4905,"M","ΧΡΙΣΤΟΔΟΥΛΑΚΗΣ ΚΩΝΣΤΑΝΤΙΝΟΣ",1976,"Σ.Α.ΣΕΡΡΩΝ","Α"]
[13653,"M","ΧΡΙΣΤΟΔΟΥΛΑΚΗΣ ΚΩΣΤΑΣ",1989,"ΗΡΑΚΛΕΙΟ Ο.Α.& Α.","Ζ"]
[12233,"M","ΧΡΙΣΤΟΔΟΥΛΑΚΗΣ ΜΧΑΗΛ",1987,"ΗΡΑΚΛΕΙΟ Ο.Α.& Α.","Ζ"]
[823,"M","ΧΡΙΣΤΟΔΟΥΛΑΚΗΣ ΝΙΚΟΛΑΟΣ",1966,"ΗΡΑΚΛΕΙΟ Ο.Α.& Α.","Ζ"]
[14350,"M","ΧΡΙΣΤΟΔΟΥΛΑΚΗΣ ΣΤΕΦΑΝΟΣ",1988,"Α.Ο.ΑΡΓΥΡΟΥΠΟΛΗΣ","ΙΑ"]
[24468,"F","ΧΡΙΣΤΟΔΟΥΛΑΚΟΥ ΣΤΑΥΡΟΥΛΑ",1997,"Ο.Α.ΧΑΝΙΩΝ","Ζ"]
[16637,"F","ΧΡΙΣΤΟΔΟΥΛΙΔΗ ΔΕΣΠΟΙΝΑ",1994,"Α.Α.Α.ΑΛΙΜΟΥ","ΙΑ"]
[21035,"F","ΧΡΙΣΤΟΔΟΥΛΙΔΗ ΕΛΙΣΑΒΕΤ",1989,"Α.Ο.ΜΕΓΑΣ ΑΛΕΞΑΝΔΡΟΣ","ΙΑ"]
[16636,"F","ΧΡΙΣΤΟΔΟΥΛΙΔΗ ΖΩΗ",1991,"Α.Α.Α.ΑΛΙΜΟΥ","ΙΑ"]
[15361,"M","ΧΡΙΣΤΟΔΟΥΛΙΔΗΣ ΧΡΗΣΤΟΣ",1992,"Ο.Α.ΓΛΥΦΑΔΑΣ","ΙΑ"]
[29253,"M","ΧΡΙΣΤΟΔΟΥΛΟΠΟΥΛΟΣ ΑΝΔΡΕΑΣ",2000,"Ο.Α.ΝΙΚΑΙΑ ΛΑΡΙΣΑΣ","Ε"]
[34498,"M","ΧΡΙΣΤΟΔΟΥΛΟΠΟΥΛΟΣ ΔΗΜΟΣΘΕΝΗΣ",2000,"Α.Α.ΑΙΓΑΛΕΩ","Θ"]
[24877,"M","ΧΡΙΣΤΟΔΟΥΛΟΠΟΥΛΟΣ ΜΑΡΙΟΣ",1999,"Σ.Α.ΤΡΙΠΟΛΗΣ","ΣΤ"]
[32098,"M","ΧΡΙΣΤΟΔΟΥΛΟΠΟΥΛΟΣ ΧΡΗΣΤΟΣ-ΠΑΝΑΓΙΩΤΗΣ",2002,"Ο.Α.ΑΙΓΙΑΛΕΙΑΣ","ΣΤ"]
[15421,"M","ΧΡΙΣΤΟΔΟΥΛΟΠΟΥΛΟΣ ΧΡΙΣΤΟΔΟΥΛΟΣ",1988,"Α.Ε.Κ.ΤΡΙΠΟΛΗΣ","ΣΤ"]
[21197,"F","ΧΡΙΣΤΟΔΟΥΛΟΠΟΥΛΟΥ ΒΕΝΕΤΑ",1993,"Α.Ε.Κ.ΤΡΙΠΟΛΗΣ","ΣΤ"]
[7691,"F","ΧΡΙΣΤΟΔΟΥΛΟΠΟΥΛΟΥ ΕΥΓΕΝΙΑ",1983,"Α.Ο.ΑΜΥΝΤΑΣ ΥΜΗΤΤΟΥ","ΙΑ"]
[25370,"M","ΧΡΙΣΤΟΔΟΥΛΟΣ ΑΘΑΝΑΣΙΟΣ",1998,"Α.Σ.Α.ΛΑΡΙΣΑΣ","Ε"]
[25369,"M","ΧΡΙΣΤΟΔΟΥΛΟΣ ΑΧΙΛΛΕΑΣ",1992,"Α.Σ.Α.ΛΑΡΙΣΑΣ","Ε"]
[1326,"F","ΧΡΙΣΤΟΔΟΥΛΟΥ ΑΙΚΑΤΕΡΙΝΗ",1968,"Α.Κ.ΖΩΓΡΑΦΟΥ","ΙΑ"]
[36581,"F","ΧΡΙΣΤΟΔΟΥΛΟΥ ΑΛΕΞΑΝΔΡΑ",1998,"Ο.Α.ΚΟΥΦΑΛΙΩΝ ΘΕΣΣΑΛΟΝΙΚΗΣ","Β"]
[25357,"M","ΧΡΙΣΤΟΔΟΥΛΟΥ ΑΛΕΞΑΝΔΡΟΣ",1998,"Ο.Α.ΛΙΒΑΔΕΙΑΣ","Ε"]
[27713,"F","ΧΡΙΣΤΟΔΟΥΛΟΥ ΑΝΑΣΤΑΣΙΑ",1999,"Ο.Α.ΞΑΝΘΗΣ","Α"]
[33247,"F","ΧΡΙΣΤΟΔΟΥΛΟΥ ΑΝΑΣΤΑΣΙΑ",2001,"Α.Σ.ΜΑΧΗΤΕΣ ΠΕΥΚΩΝ","Β"]
[33222,"M","ΧΡΙΣΤΟΔΟΥΛΟΥ ΑΡΓΥΡΗΣ",1967,"Ν.Ο.Ν.Α.Μ","Γ"]
[18986,"M","ΧΡΙΣΤΟΔΟΥΛΟΥ ΑΡΓΥΡΙΟΣ",1992,"Ο.Α.ΑΛΕΞΑΝΔΡΟΥΠΟΛΗΣ","Α"]
[33218,"F","ΧΡΙΣΤΟΔΟΥΛΟΥ ΑΡΤΕΜΙΣ",2001,"Ν.Ο.Ν.Α.Μ","Γ"]
[28087,"F","ΧΡΙΣΤΟΔΟΥΛΟΥ ΑΦΡΟΔΙΤΗ",1997,"Α.Ο.Α.ΦΙΛΟΘΕΗΣ","Η"]
[33227,"M","ΧΡΙΣΤΟΔΟΥΛΟΥ ΑΧΙΛΛΕΑΣ",2001,"Ν.Ο.Ν.Α.Μ","Γ"]
[27718,"M","ΧΡΙΣΤΟΔΟΥΛΟΥ ΒΑΪΟΣ",2001,"Ο.Α.ΞΑΝΘΗΣ","Α"]
[27604,"M","ΧΡΙΣΤΟΔΟΥΛΟΥ ΒΑΣΙΛΕΙΟΣ",1984,"ΑΙΟΛΟΣ Α.Λ.ΙΛΙΟΥ","Θ"]
[28083,"M","ΧΡΙΣΤΟΔΟΥΛΟΥ ΒΕΛΙΣΣΑΡΙΟΣ",2000,"Α.Ο.Α.ΦΙΛΟΘΕΗΣ","Η"]
[18494,"F","ΧΡΙΣΤΟΔΟΥΛΟΥ ΒΕΝΕΤΙΑ",1987,"Σ.Α.ΘΕΣΣΑΛΟΝΙΚΗΣ","Β"]
[36943,"M","ΧΡΙΣΤΟΔΟΥΛΟΥ ΓΙΩΡΓΟΣ-ΠΑΝΑΓΙΩΤΗΣ",2000,"Α.Ο.Α.ΗΛΙΟΥΠΟΛΗΣ","ΙΑ"]
[4587,"M","ΧΡΙΣΤΟΔΟΥΛΟΥ ΔΗΜΗΤΡΗΣ",1973,"Α.Γ.Ο.ΒΟΛΟΥ","Ε"]
[11996,"F","ΧΡΙΣΤΟΔΟΥΛΟΥ ΕΛΕΝΗ",1971,"Ο.Α.ΛΑΜΙΑΣ","Ε"]
[34374,"F","ΧΡΙΣΤΟΔΟΥΛΟΥ ΕΡΜΙΟΝΗ",1999,"Α.Ο.Α.ΠΑΤΡΩΝ","ΣΤ"]
[28428,"M","ΧΡΙΣΤΟΔΟΥΛΟΥ ΕΡΡΙΚΟΣ",1994,"ΚΕΦΑΛΛΗΝΙΑΚΟΣ Ο.Α.","ΣΤ"]
[18969,"F","ΧΡΙΣΤΟΔΟΥΛΟΥ ΕΥΑΓΓΕΛΙΑ",1992,"Ο.Α.ΒΡΙΛΗΣΣΙΩΝ","Η"]
[33233,"F","ΧΡΙΣΤΟΔΟΥΛΟΥ ΕΦΡΑΙΜΙΑ",1999,"Α.Σ.ΜΑΧΗΤΕΣ ΠΕΥΚΩΝ","Β"]
[24509,"M","ΧΡΙΣΤΟΔΟΥΛΟΥ ΙΑΣΩΝ",1992,"Α.Γ.Ο.ΝΑΥΠΑΚΤΟΥ","Δ"]
[19954,"F","ΧΡΙΣΤΟΔΟΥΛΟΥ ΙΩΑΝΝΑ",1993,"Α.Ο.Α.ΗΛΙΟΥΠΟΛΗΣ","ΙΑ"]
[30991,"F","ΧΡΙΣΤΟΔΟΥΛΟΥ ΙΩΑΝΝΑ",1997,"Ο.Α.ΚΑΛΑΜΑΚΙΟΥ","ΙΑ"]
[34909,"F","ΧΡΙΣΤΟΔΟΥΛΟΥ ΙΩΑΝΝΑ",2001,"Ο.Α.ΣΑΛΑΜΙΝΑΣ","Θ"]
[13208,"M","ΧΡΙΣΤΟΔΟΥΛΟΥ ΙΩΑΝΝΗΣ",1986,"Ο.Α.ΚΩ","Θ"]
[35742,"F","ΧΡΙΣΤΟΔΟΥΛΟΥ ΚΑΤΕΡΙΝΑ",1973,"Α.Ο.ΤΑΤΟΪΟΥ","Η"]
[14444,"M","ΧΡΙΣΤΟΔΟΥΛΟΥ ΜΙΧΑΗΛ",1989,"Α.Ο.Α.ΗΛΙΟΥΠΟΛΗΣ","ΙΑ"]
[31929,"M","ΧΡΙΣΤΟΔΟΥΛΟΥ ΜΙΧΑΗΛ",2002,"Ο.Α.ΑΛΕΞΑΝΔΡΟΣ ΒΕΡΟΙΑΣ","Γ"]
[32633,"M","ΧΡΙΣΤΟΔΟΥΛΟΥ ΜΙΧΑΗΛ",2002,"Α.Ο.Α.ΑΤΤΙΚΟΣ ΗΛΙΟΣ","Η"]
[3268,"M","ΧΡΙΣΤΟΔΟΥΛΟΥ ΝΙΚΟΛΑΟΣ",1973,"Α.Ο.Α.ΠΑΤΡΩΝ","ΣΤ"]
[10230,"M","ΧΡΙΣΤΟΔΟΥΛΟΥ ΠΑΝΑΓΙΩΤΗΣ",1986,"Α.Κ.ΖΩΓΡΑΦΟΥ","ΙΑ"]
[9001,"F","ΧΡΙΣΤΟΔΟΥΛΟΥ ΦΡΕΙΔΕΡΙΚΗ",1984,"Ο.Α.ΚΑΒΑΛΑΣ ΑΛΕΞΑΝΔΡΟΣ","Α"]
[12378,"M","ΧΡΙΣΤΟΔΟΥΛΟΥ ΧΡΗΣΤΟΣ",1983,"Α.Ο.ΟΡΕΣΤΙΑΔΑΣ","Α"]
[9790,"M","ΧΡΙΣΤΟΔΟΥΛΟΥ ΧΡΙΣΤΟΔΟΥΛΟΣ",1982,"Ο.Α.ΑΛΕΞΑΝΔΡΟΥΠΟΛΗΣ","Α"]
[15848,"M","ΧΡΙΣΤΟΘΑΝΟΠΟΥΛΟΣ ΛΥΚΟΥΡΓΟΣ",1990,"Α.Α.Α.ΑΛΙΜΟΥ","ΙΑ"]
[13000,"F","ΧΡΙΣΤΟΘΑΝΟΠΟΥΛΟΥ ΕΥΣΤΑΘΙΑ",1987,"Α.Α.Α.ΑΛΙΜΟΥ","ΙΑ"]
[25881,"M","ΧΡΙΣΤΟΛΟΥΚΑΣ ΙΑΣΩΝ",1995,"Ο.Α.ΣΟΥΔΑΣ","Ζ"]
[13576,"M","ΧΡΙΣΤΟΛΟΥΚΑΣ ΛΟΥΚΑΣ",1988,"Α.Ν.Ο.ΓΛΥΦΑΔΑΣ","ΙΑ"]
[27074,"M","ΧΡΙΣΤΟΛΟΥΚΑΣ ΠΑΡΙΣ-ΛΟΥΚΑΣ",1997,"Ο.Α.ΓΟΥΔΙΟΥ","ΙΑ"]
[2713,"M","ΧΡΙΣΤΟΠΟΥΛΟΣ ΑΘΑΝΑΣΙΟΣ",1973,"Γ.Ε.ΑΡΓΟΛΙΔΑΣ","ΣΤ"]
[8457,"M","ΧΡΙΣΤΟΠΟΥΛΟΣ ΒΙΚΤΩΡ",1985,"Ο.Α.ΚΑΛΑΜΑΤΑΣ","ΣΤ"]
[11693,"M","ΧΡΙΣΤΟΠΟΥΛΟΣ ΓΕΩΡΓΙΟΣ",1980,"Ο.Φ.Τ.ΠΥΡΓΟΥ","ΣΤ"]
[15285,"M","ΧΡΙΣΤΟΠΟΥΛΟΣ ΓΕΩΡΓΙΟΣ",1992,"ΦΘΙΩΤΙΚΟΣ Ο.Α.","Ε"]
[21765,"M","ΧΡΙΣΤΟΠΟΥΛΟΣ ΔΗΜΗΤΡΙΟΣ",1989,"Α.Ε.Τ.ΝΙΚΗ ΠΑΤΡΩΝ","ΣΤ"]
[27771,"M","ΧΡΙΣΤΟΠΟΥΛΟΣ ΔΗΜΗΤΡΙΟΣ",1978,"Α.Σ.ΟΛΥΜΠΙΑΚΟΥ ΧΩΡΙΟΥ Ο ΦΟΙΒΟΣ","Θ"]
[2380,"M","ΧΡΙΣΤΟΠΟΥΛΟΣ ΕΥΑΓΓΕΛΟΣ",1970,"Α.Ο.Π.ΦΑΛΗΡΟΥ","ΙΑ"]
[25687,"M","ΧΡΙΣΤΟΠΟΥΛΟΣ ΕΥΑΓΓΕΛΟΣ-ΛΟΥΡΕΛΙΟ",1992,"ΛΑΡΙΣΑΪΚΟΣ Ο.Α.","Ε"]
[18240,"M","ΧΡΙΣΤΟΠΟΥΛΟΣ ΘΩΜΑΣ",1992,"Ο.Α.ΕΥΟΣΜΟΥ ΘΕΣΣΑΛΟΝΙΚΗΣ","Β"]
[4647,"M","ΧΡΙΣΤΟΠΟΥΛΟΣ ΙΩΑΝΝΗΣ",1972,"Α.Ο.Α.ΠΑΤΡΩΝ","ΣΤ"]
[20422,"M","ΧΡΙΣΤΟΠΟΥΛΟΣ ΙΩΑΝΝΗΣ-ΠΑΝΑΓΙΩΤΗΣ",1989,"Α.Ε.Τ.ΝΙΚΗ ΠΑΤΡΩΝ","ΣΤ"]
[12704,"M","ΧΡΙΣΤΟΠΟΥΛΟΣ ΚΩΝΣΤΑΝΤΙΝΟΣ",1973,"Ο.Α.ΓΟΥΔΙΟΥ","ΙΑ"]
[14576,"M","ΧΡΙΣΤΟΠΟΥΛΟΣ ΚΩΝΣΤΑΝΤΙΝΟΣ",1970,"ΚΕΦΑΛΛΗΝΙΑΚΟΣ Ο.Α.","ΣΤ"]
[2915,"M","ΧΡΙΣΤΟΠΟΥΛΟΣ ΧΡΗΣΤΟΣ",1977,"Ο.Α.ΚΑΛΑΜΑΤΑΣ","ΣΤ"]
[4591,"M","ΧΡΙΣΤΟΠΟΥΛΟΣ ΧΡΗΣΤΟΣ",1973,"Α.Γ.Ο.ΒΟΛΟΥ","Ε"]
[29690,"F","ΧΡΙΣΤΟΠΟΥΛΟΥ ΑΓΓΕΛΙΚΗ",1996,"Α.Ε.Τ.ΝΙΚΗ ΠΑΤΡΩΝ","ΣΤ"]
[26882,"F","ΧΡΙΣΤΟΠΟΥΛΟΥ ΑΛΕΞΙΑ",1996,"Α.Ο.Α.ΠΑΤΡΩΝ","ΣΤ"]
[18959,"F","ΧΡΙΣΤΟΠΟΥΛΟΥ ΑΝΔΡIΑΝNΑ",1993,"Α.Ο.ΒΑΡΗΣ ΑΝΑΓΥΡΟΥΣ","Η"]
[34883,"F","ΧΡΙΣΤΟΠΟΥΛΟΥ ΑΡΓΥΡΟΥΛΑ",2002,"Α.Α.Α.ΑΛΙΜΟΥ","ΙΑ"]
[11694,"F","ΧΡΙΣΤΟΠΟΥΛΟΥ ΑΡΓΥΡΩ",1983,"Ο.Φ.Τ.ΠΥΡΓΟΥ","ΣΤ"]
[15286,"F","ΧΡΙΣΤΟΠΟΥΛΟΥ ΓΕΩΡΓΙΑ",1991,"ΦΘΙΩΤΙΚΟΣ Ο.Α.","Ε"]
[5530,"F","ΧΡΙΣΤΟΠΟΥΛΟΥ ΕΛΕΝΗ",1978,"Α.Ο.Π.ΦΑΛΗΡΟΥ","ΙΑ"]
[2230,"F","ΧΡΙΣΤΟΠΟΥΛΟΥ ΕΥΑΓΓΕΛΙΑ",1969,"Ο.Α.ΚΟΡΙΝΘΟΥ","ΣΤ"]
[4592,"F","ΧΡΙΣΤΟΠΟΥΛΟΥ ΕΥΑΓΓΕΛΙΑ",1974,"Α.Γ.Ο.ΒΟΛΟΥ","Ε"]
[33891,"F","ΧΡΙΣΤΟΠΟΥΛΟΥ ΚΛΕΙΩ",2000,"Α.Ο.ΑΙΓΙΟΥ ΜΟΡΕΑΣ","ΣΤ"]
[4593,"F","ΧΡΙΣΤΟΠΟΥΛΟΥ ΚΛΕΟΠΑΤΡΑ",1972,"Α.Γ.Ο.ΒΟΛΟΥ","Ε"]
[6647,"F","ΧΡΙΣΤΟΠΟΥΛΟΥ ΚΩΝΣΤΑΝΤΙΝΑ",1980,"Λ.Α.ΚΟΜΟΤΗΝΗΣ","Α"]
[11698,"F","ΧΡΙΣΤΟΠΟΥΛΟΥ ΜΑΡΙΑ",1984,"Ο.Φ.Τ.ΠΥΡΓΟΥ","ΣΤ"]
[29530,"F","ΧΡΙΣΤΟΠΟΥΛΟΥ ΜΑΡΙΑ-ΕΛΕΝΗ",2000,"Α.Ο.ΑΙΓΙΟΥ ΜΟΡΕΑΣ","ΣΤ"]
[11210,"F","ΧΡΙΣΤΟΠΟΥΛΟΥ ΣΤΑΜΑΤΙΝΑ",1971,"Ν.Ο.ΚΑΛΑΜΑΚΙΟΥ","ΙΑ"]
[30025,"F","ΧΡΙΣΤΟΠΟΥΛΟΥ ΣΤΑΥΡΟΥΛΑ",2000,"ΑΙΟΛΟΣ Α.Λ.ΙΛΙΟΥ","Θ"]
[9728,"F","ΧΡΙΣΤΟΠΟΥΛΟΥ ΧΡΙΣΤΙΑΝΑ",1986,"Α.Ε.ΠΟΡΤΟ ΡΑΦΤΗ","Η"]
[31348,"F","ΧΡΙΣΤΟΠΟΥΛΟΥ ΧΡΙΣΤΙΝΑ",1998,"ΡΗΓΑΣ Α.Ο.Α.ΑΡΓΟΛΙΔΑΣ","ΣΤ"]
[21650,"F","ΧΡΙΣΤΟΠΟΥΛΟΥ-ΓΚΙΝΤΩΝΗ ΜΑΡΙΕΛΗ",1993,"Α.Ε.Κ.ΤΡΙΠΟΛΗΣ","ΣΤ"]
[30906,"F","ΧΡΙΣΤΟΠΟΥΛΟΥ-ΜΑΡΓΕΛΗ ΑΝΑΣΤΑΣΙΑ-ΜΑΡΙΑ",2000,"Ο.Α.ΑΝΑΦΛΥΣΤΟΣ ΣΑΡΩΝΙΔΑΣ","Η"]
[13707,"M","ΧΡΙΣΤΟΥΔΗΣ ΣΤΕΦΑΝΟΣ",1987,"Α.Ο.ΟΡΕΣΤΙΑΔΑΣ","Α"]
[19011,"F","ΧΡΙΣΤΟΥΛΑΚΗ ΗΛΕΚΤΡΑ",1992,"Ο.Α.ΧΑΝΙΩΝ","Ζ"]
[30893,"F","ΧΡΙΣΤΟΥΛΑΚΗ ΚΑΛΛΙΟΠΗ",2001,"Α.Ο.ΛΑΤΩ ΑΓ.ΝΙΚΟΛΑΟΥ","Ζ"]
[9171,"M","ΧΡΙΣΤΟΥΛΑΚΗΣ ΜΙΧΑΛΗΣ",1987,"Ο.Α.ΧΑΝΙΩΝ","Ζ"]
[14865,"M","ΧΡΙΣΤΟΥΛΑΚΗΣ ΡΙΧΑΡΔΟΣ",1988,"Ο.Α.ΣΟΥΔΑΣ","Ζ"]
[31236,"M","ΧΡΙΣΤΟΥΛΑΚΗΣ ΧΡΙΣΤΟΔΟΥΛΟΣ",1999,"Ο.Α.ΑΓΙΩΝ ΑΝΑΡΓΥΡΩΝ","Θ"]
[30894,"M","ΧΡΙΣΤΟΥΛΚΗΣ ΓΕΩΡΓΙΟΣ-ΙΑΣΟΝΑΣ",1999,"Α.Ο.ΛΑΤΩ ΑΓ.ΝΙΚΟΛΑΟΥ","Ζ"]
[13152,"F","ΧΡΙΣΤΟΦΑΚΑΚΗ ΜΑΡΙΑ-ΙΩΑΝΝΑ",1988,"ΗΡΑΚΛΕΙΟ Ο.Α.& Α.","Ζ"]
[15878,"M","ΧΡΙΣΤΟΦΑΚΑΚΗΣ ΜΑΝΩΛΗΣ",1989,"ΗΡΑΚΛΕΙΟ Ο.Α.& Α.","Ζ"]
[14741,"M","ΧΡΙΣΤΟΦΑΚΗΣ ΓΙΩΡΓΟΣ",1984,"Α.Ο.ΦΙΛΙΠΠΟΣ ΠΟΛΥΔΡΟΣΟΥ","Η"]
[16761,"F","ΧΡΙΣΤΟΦΗ ΑΡΓΥΡΩ",1991,"Α.Ο.Α.ΦΙΛΟΘΕΗΣ","Η"]
[26829,"F","ΧΡΙΣΤΟΦΗ ΔΗΜΗΤΡΑ",1998,"Α.Ο.ΒΑΡΗΣ ΑΝΑΓΥΡΟΥΣ","Η"]
[24422,"F","ΧΡΙΣΤΟΦΗ ΕΛΕΝΗ",1998,"Α.Ο.Α.ΦΙΛΟΘΕΗΣ","Η"]
[18905,"M","ΧΡΙΣΤΟΦΗ ΠΑΝΑΓΙΩΤΗΣ",1989,"ΖΑΚΥΝΘΙΝΟΣ Α.Ο.","ΣΤ"]
[20604,"M","ΧΡΙΣΤΟΦΗ ΧΡΥΣΟΣΤΟΜΟΣ",1992,"ΖΑΚΥΝΘΙΝΟΣ Α.Ο.","ΣΤ"]
[7014,"F","ΧΡΙΣΤΟΦΗ ΧΡΥΣΤΑΛΛΑ",1981,"Σ.Α.ΔΡΑΜΑΣ","Α"]
[19758,"M","ΧΡΙΣΤΟΦΗΣ ΙΩΑΝΝΗΣ",1994,"Α.Ο.Α.ΗΛΙΟΥΠΟΛΗΣ","ΙΑ"]
[20461,"F","ΧΡΙΣΤΟΦΙΔΗ ΑΝΝΑ",1988,"Ο.Α.ΑΝΑΤΟΛΙΚΗΣ ΦΘΙΩΤΙΔΑΣ","Ε"]
[2810,"M","ΧΡΙΣΤΟΦΙΔΗΣ ΔΗΜΗΤΡΗΣ",1978,"Α.Κ.ΖΩΓΡΑΦΟΥ","ΙΑ"]
[1700,"M","ΧΡΙΣΤΟΦΙΔΗΣ ΝΙΚΟΣ",1976,"ΡΟΔΙΑΚΟΣ Ο.Α.","Θ"]
[4572,"M","ΧΡΙΣΤΟΦΙΔΗΣ ΟΔΥΣΣΕΑΣ",1976,"Α.Α.ΑΙΓΑΛΕΩ","Θ"]
[18770,"M","ΧΡΙΣΤΟΦΙΔΗΣ ΣΩΤΗΡΙΟΣ",1991,"Α.Ο.Α.ΑΤΤΙΚΟΣ ΗΛΙΟΣ","Η"]
[2811,"M","ΧΡΙΣΤΟΦΙΔΗΣ ΧΑΡΑΛΑΜΠΟΣ",1976,"Α.Κ.ΖΩΓΡΑΦΟΥ","ΙΑ"]
[9482,"F","ΧΡΙΣΤΟΦΙΛΑΚΗ ΑΓΓΕΛΙΚΗ",1983,"Α.Ο.Ν.ΣΜΥΡΝΗΣ Ο ΜΙΛΩΝ","ΙΑ"]
[26270,"F","ΧΡΙΣΤΟΦΙΛΙΑ ΕΥΦΡΟΣΥΝΗ",1991,"Ο.Α.ΚΑΛΑΜΑΤΑΣ","ΣΤ"]
[32785,"M","ΧΡΙΣΤΟΦΙΛΟΠΟΥΛΟΣ ΝΙΚΟΛΑΟΣ",1998,"Ο.Α.ΚΕΡΑΤΣΙΝΙΟΥ","Θ"]
[12463,"F","ΧΡΙΣΤΟΦΟΡΑΤΟΥ ΜΑΚΡΙΝΑ",1972,"Α.Σ.ΠΕΡΑ","ΙΑ"]
[20031,"F","ΧΡΙΣΤΟΦΟΡΙΔΗ ΕΛΕΝΗ",1989,"Α.Ο.Α.ΧΑΪΔΑΡΙΟΥ","Θ"]
[24568,"M","ΧΡΙΣΤΟΦΟΡΙΔΗΣ ΕΜΜΑΝΟΥΗΛ",1994,"Ο.Α.ΧΡΥΣΟΥΠΟΛΗΣ","Α"]
[27019,"M","ΧΡΙΣΤΟΦΟΡΙΔΗΣ ΙΩΑΝΝΗΣ-ΜΕΛΚΩΝ",1999,"Α.Σ.ΠΕΡΑ","ΙΑ"]
[21859,"M","ΧΡΙΣΤΟΦΟΡΙΔΗΣ ΜΙΧΑΗΛ",1996,"Ο.Α.ΚΑΒΑΛΑΣ ΑΛΕΞΑΝΔΡΟΣ","Α"]
[1180,"M","ΧΡΙΣΤΟΦΟΡΙΔΗΣ ΝΙΚΟΛΑΟΣ",1971,"Ο.Α.ΑΘΗΝΩΝ","Η"]
[30259,"M","ΧΡΙΣΤΟΦΟΡΙΔΗΣ ΝΙΚΟΛΑΟΣ",1997,"Α.Σ.ΑΚΑΔΗΜΙΕΣ ΠΡΩΤΑΘΛΗΤΩΝ ΠΕΥΚΩΝ","Β"]
[20329,"M","ΧΡΙΣΤΟΦΟΡΙΔΗΣ ΟΔΥΣΣΕΑΣ",1994,"Ε.Α.Τ.Ε.Κ.ΕΛΛΗΝΙΚΟΥ ΚΟΛΛΕΓΙΟΥ","Β"]
[5104,"M","ΧΡΙΣΤΟΦΟΡΙΔΗΣ ΧΑΡΑΛΑΜΠΟΣ",1977,"Ο.Α.ΓΙΑΝΝΙΤΣΩΝ","Γ"]
[4580,"F","ΧΡΙΣΤΟΦΟΡΙΔΟΥ ΑΛΕΞΑΝΔΡΑ",1976,"Α.Α.ΑΙΓΑΛΕΩ","Θ"]
[19846,"F","ΧΡΙΣΤΟΦΟΡΙΔΟΥ ΜΑΡΙΑ",1994,"Α.Ο.Α.ΚΑΒΑΛΑΣ","Α"]
[7647,"M","ΧΡΙΣΤΟΦΟΡΟΣ-ΛΙΒΑΝΗΣ ΣΠΥΡΙΔΩΝ",1982,"ΖΑΚΥΝΘΙΝΟΣ Α.Ο.","ΣΤ"]
[29100,"F","ΧΡΙΣΤΟΦΟΡΟΥ ΑΓΓΕΛΙΚΗ",1999,"Σ.Α.ΓΑΛΑΤΣΙΟΥ","Θ"]
[7781,"M","ΧΡΙΣΤΟΦΟΡΟΥ ΑΛΕΞΑΝΔΡΟΣ",1980,"Ο.Α.ΠΤΟΛΕΜΑΪΔΑΣ","Γ"]
[3950,"F","ΧΡΙΣΤΟΦΟΡΟΥ ΜΑΡΙΑ",1970,"Ο.Α.ΓΙΑΝΝΙΤΣΩΝ","Γ"]
[29099,"F","ΧΡΙΣΤΟΦΟΡΟΥ ΜΑΡΙΑ-ΓΑΛΗΝΗ",2002,"Σ.Α.ΓΑΛΑΤΣΙΟΥ","Θ"]
[4994,"M","ΧΡΙΣΤΟΦΟΡΟΥ ΣΤΑΥΡΟΣ",1975,"Ο.Α.ΠΤΟΛΕΜΑΪΔΑΣ","Γ"]
[21582,"F","ΧΡΙΣΤΟΦΟΡΟΥ-ΛΙΒΑΝΗ ΧΡΙΣΤΙΝΑ-ΛΑΜΠΡΙΝΗ",1995,"ΖΑΚΥΝΘΙΝΟΣ Α.Ο.Α","ΣΤ"]
[12632,"F","ΧΡΟΝΑΚΗ ΔΕΣΠΟΙΝΑ",1984,"Α.Ο.ΛΑΤΩ ΑΓ.ΝΙΚΟΛΑΟΥ","Ζ"]
[19460,"F","ΧΡΟΝΑΚΗ ΕΜΜΑΝΟΥΕΛΑ",1989,"Ο.Α.& Α.ΜΑΛΙΩΝ","Ζ"]
[8664,"F","ΧΡΟΝΑΚΗ ΜΑΡΙΑΝΘΗ",1979,"Α.Ο.ΛΑΤΩ ΑΓ.ΝΙΚΟΛΑΟΥ","Ζ"]
[18257,"F","ΧΡΟΝΗ ΑΛΚΗΣΤΙΣ",1989,"Ο.Α.ΑΡΤΑΣ","Δ"]
[17795,"F","ΧΡΟΝΗ ΑΡΤΕΜΙΣ",1987,"Ο.Α.ΑΡΤΑΣ","Δ"]
[14096,"F","ΧΡΟΝΗ ΒΑΣΙΛΙΚΗ",1989,"ΝΑΥΠΛΙΑΚΟΣ Ο.Α.","ΣΤ"]
[28927,"F","ΧΡΟΝΗ ΒΑΣΙΛΙΚΗ",1998,"Σ.Α.ΜΕΣΣΗΝΗΣ","ΣΤ"]
[10502,"F","ΧΡΟΝΗ ΔΕΣΠΟΙΝΑ",1985,"ΝΑΥΠΛΙΑΚΟΣ Ο.Α.","ΣΤ"]
[5075,"F","ΧΡΟΝΗ ΕΛΕΝΗ",1974,"Ν.Ο.ΘΕΣΣΑΛΟΝΙΚΗΣ","Β"]
[2246,"F","ΧΡΟΝΗ ΕΥΘΥΜΙΑ",1971,"Α.Κ.ΖΩΓΡΑΦΟΥ","ΙΑ"]
[25792,"F","ΧΡΟΝΗ ΜΑΡΙΑΝΘΗ",1994,"Ο.Α.ΣΥΡΟΥ","Η"]
[31093,"F","ΧΡΟΝΗ ΦΩΤΕΙΝΗ",1996,"Γ.Σ.ΗΛΙΟΥΠΟΛΗΣ","ΙΑ"]
[17958,"M","ΧΡΟΝΗΣ ΑΛΕΞΑΝΔΡΟΣ",1991,"Ο.Α.ΑΡΤΑΣ","Δ"]
[29847,"F","ΧΡΟΝΙΔΟΥ ΕΛΕΝΗ",2000,"Ο.Α.ΚΑΙΣΑΡΙΑΝΗΣ","Θ"]
[29848,"F","ΧΡΟΝΙΔΟΥ ΕΥΡΙΔΙΚΗ",2000,"Ο.Α.ΚΑΙΣΑΡΙΑΝΗΣ","Θ"]
[2710,"M","ΧΡΟΝΟΠΟΥΛΟΣ ΓΕΩΡΓΙΟΣ",1973,"Α.Ο.ΑΛΦΕΙΟΣ ΕΠΙΤΑΛΙΟΥ","ΣΤ"]
[28474,"M","ΧΡΟΝΟΠΟΥΛΟΣ ΔΗΜΗΤΡΙΟΣ",2000,"Α.Ο.Α.ΠΑΠΑΓΟΥ","ΙΑ"]
[19814,"M","ΧΡΟΝΟΠΟΥΛΟΣ ΘΕΟΔΩΡΟΣ",1993,"Α.Ο.Α.ΗΛΙΟΥΠΟΛΗΣ","ΙΑ"]
[22164,"M","ΧΡΟΝΟΠΟΥΛΟΣ ΙΑΣΩΝ",1993,"Α.Σ.ΑΚΡΟΠΟΛΙΣ","Η"]
[17140,"M","ΧΡΟΝΟΠΟΥΛΟΣ ΙΩΑΝΝΗΣ",1990,"Ο.Α.ΚΑΛΑΜΑΤΑΣ","ΣΤ"]
[19827,"M","ΧΡΟΝΟΠΟΥΛΟΣ ΝΙΚΟΛΑΟΣ",1994,"Α.Ο.Α.ΗΛΙΟΥΠΟΛΗΣ","ΙΑ"]
[8235,"F","ΧΡΟΝΟΠΟΥΛΟΥ ΑΛΕΞΑΝΔΡΑ",1981,"Α.Ο.Π.ΦΑΛΗΡΟΥ","ΙΑ"]
[26771,"F","ΧΡΟΝΟΠΟΥΛΟΥ ΒΑΣΙΛΙΚΗ",1998,"Α.Ε.Κ.ΤΡΙΠΟΛΗΣ","ΣΤ"]
[25016,"F","ΧΡΟΝΟΠΟΥΛΟΥ ΔΕΣΠΟΙΝΑ",1996,"Α.Ε.Κ.ΤΡΙΠΟΛΗΣ","ΣΤ"]
[5715,"F","ΧΡΟΝΟΠΟΥΛΟΥ ΔΗΜΗΤΡΑ",1982,"Α.Ο.Α.ΧΑΪΔΑΡΙΟΥ","Θ"]
[31769,"F","ΧΡΟΝΟΠΟΥΛΟΥ ΜΑΤΙΝΑ",2001,"Α.Ε.Κ.ΤΡΙΠΟΛΗΣ","ΣΤ"]
[16444,"F","ΧΡΟΝΟΠΟΥΛΟΥ ΝΙΚΟΛΕΤΤΑ",1988,"Γ.Ο.ΠΕΡΙΣΤΕΡΙΟΥ Γ.ΠΑΛΑΣΚΑΣ","Θ"]
[13575,"M","ΧΡΟΥΣΟΣ ΙΩΑΝΝΗΣ",1988,"Ο.Α.ΓΛΥΦΑΔΑΣ","ΙΑ"]
[21228,"M","ΧΡΥΣΑΚΗΣ ΜΙΝΩΣ",1992,"ΗΡΑΚΛΕΙΟ Ο.Α.& Α.","Ζ"]
[24801,"F","ΧΡΥΣΑΝΗ ΑΜΑΛΙΑ",1998,"Σ.Α.ΔΡΑΜΑΣ","Α"]
[26030,"M","ΧΡΥΣΑΝΘΑΚΗΣ ΧΡΗΣΤΟΣ",1997,"ΕΘΝΙΚΟΣ ΠΑΝΟΡΑΜΑΤΟΣ 2005","Β"]
[16048,"M","ΧΡΥΣΑΝΘΑΚΟΠΟΥΛΟΣ ΚΩΝΣΤΑΝΤΙΝΟΣ",1989,"Ο.Α.ΓΛΥΦΑΔΑΣ","ΙΑ"]
[6504,"M","ΧΡΥΣΑΝΘΗΣ ΒΑΛΕΝΤΙΝΟΣ",1981,"Ο.Α.ΒΟΛΟΥ","Ε"]
[19808,"M","ΧΡΥΣΑΝΘΗΣ ΙΩΑΝΝΗΣ",1989,"Ο.Α.ΠΕΙΡΑΙΑ","Θ"]
[22428,"M","ΧΡΥΣΑΝΘΙΔΗΣ ΓΕΩΡΓΙΟΣ",1996,"Σ.Α.ΔΡΑΜΑΣ","Α"]
[19020,"M","ΧΡΥΣΑΝΘΟΠΟΥΛΟΣ ΑΛΕΞΑΝΔΡΟΣ",1991,"Α.Ο.ΚΗΦΙΣΙΑΣ","Η"]
[21623,"M","ΧΡΥΣΑΝΘΟΠΟΥΛΟΣ ΔΗΜΟΣΘΕΝΗΣ",1993,"Α.Ο.Α.ΠΑΤΡΩΝ","ΣΤ"]
[3389,"M","ΧΡΥΣΑΝΘΟΠΟΥΛΟΣ ΝΙΚΑΝΔΡΟΣ",1980,"Α.Ο.ΒΟΥΛΙΑΓΜΕΝΗΣ","ΙΑ"]
[17494,"F","ΧΡΥΣΑΝΘΟΠΟΥΛΟΥ ΕΥΑΓΓΕΛΙΑ",1981,"Α.Ο.Ν.ΣΜΥΡΝΗΣ Ο ΜΙΛΩΝ","ΙΑ"]
[1934,"F","ΧΡΥΣΑΝΘΟΠΟΥΛΟΥ ΖΩΗ",1976,"Α.Κ.ΖΩΓΡΑΦΟΥ","ΙΑ"]
[25581,"M","ΧΡΥΣΑΝΙΔΗΣ ΣΤΑΥΡΟΣ",2001,"Α.Ο.Α.ΝΕΑΣ ΠΕΡΑΜΟΥ ΟΙ ΤΙΤΑΝΕΣ","Α"]
[28980,"M","ΧΡΥΣΑΝΙΔΗΣ ΧΡΗΣΤΟΣ",1997,"Α.Ο.ΚΑΒΑΛΑΣ ΜΑΚΕΔΟΝΙΚΟΣ","Α"]
[24605,"F","ΧΡΥΣΑΝΙΔΟΥ ΑΝΑΣΤΑΣΙΑ",1996,"Α.Ο.Α.ΝΕΑΣ ΠΕΡΑΜΟΥ ΟΙ ΤΙΤΑΝΕΣ","Α"]
[24600,"F","ΧΡΥΣΑΝΙΔΟΥ ΚΑΛΛΙΟΠΗ",1999,"Α.Ο.Α.ΝΕΑΣ ΠΕΡΑΜΟΥ ΟΙ ΤΙΤΑΝΕΣ","Α"]
[24599,"F","ΧΡΥΣΑΝΙΔΟΥ ΠΑΝΑΓΙΩΤΑ",1996,"Α.Ο.Α.ΝΕΑΣ ΠΕΡΑΜΟΥ ΟΙ ΤΙΤΑΝΕΣ","Α"]
[9554,"F","ΧΡΥΣΑΡΟΥΔΗ ΑΛΕΞΑΝΔΡΑ",1980,"Ο.Π.ΘΕΣΣΑΛΟΝΙΚΗΣ ΜΑΚΕΔΟΝΙΑ 92","Β"]
[7329,"F","ΧΡΥΣΑΦΗ ΝΙΝΑ",1980,"Ο.Α.ΧΟΛΑΡΓΟΥ","ΙΑ"]
[16815,"F","ΧΡΥΣΑΦΗ ΣΥΜΕΛΑ",1991,"Ο.Α.ΚΙΛΚΙΣ","Β"]
[27927,"M","ΧΡΥΣΑΦΗΣ ΓΙΩΡΓΟΣ",1994,"Α.Ο.Α.ΦΙΛΟΘΕΗΣ","Η"]
[27926,"M","ΧΡΥΣΑΦΗΣ ΧΡΗΣΤΟΣ",1996,"Α.Ο.Α.ΦΙΛΟΘΕΗΣ","Η"]
[14904,"M","ΧΡΥΣΑΦΙΝΗΣ ΔΙΟΝΥΣΙΟΣ-ΕΜΜΑΝΟΥΗΛ",1988,"Ο.Α.ΝΕΑΣ ΜΑΚΡΗΣ","Η"]
[9557,"M","ΧΡΥΣΑΦΟΥΔΗΣ ΙΩΑΝΝΗΣ",1981,"Ο.Π.ΘΕΣΣΑΛΟΝΙΚΗΣ ΜΑΚΕΔΟΝΙΑ 92","Β"]
[19412,"M","ΧΡΥΣΗΣ ΙΩΑΝΝΗΣ",1988,"Δ.Α.Σ.ΑΝΩ ΛΙΟΣΙΩΝ","Θ"]
[17738,"M","ΧΡΥΣΙΔΗΣ ΠΑΝΑΓΙΩΤΗΣ",1990,"Ο.Α.ΘΕΣΣΑΛΟΝΙΚΗΣ","Β"]
[17737,"M","ΧΡΥΣΙΔΗΣ ΣΠΥΡΙΔΩΝ",1991,"Ο.Α.ΘΕΣΣΑΛΟΝΙΚΗΣ","Β"]
[26114,"F","ΧΡΥΣΙΔΟΥ ΘΕΟΚΤΗ",1996,"Ο.Α.ΝΕΣΤΩΡΑΣ ΓΙΑΝΝΙΤΣΩΝ","Γ"]
[10480,"M","ΧΡΥΣΙΚΟΠΟΥΛΟΣ ΑΝΑΣΤΑΣΙΟΣ",1982,"Α.Σ.ΠΕΡΑ","ΙΑ"]
[35421,"F","ΧΡΥΣΙΚΟΠΟΥΛΟΥ ΑΘΑΝΑΣΙΑ",2001,"Ο.Α.ΠΕΤΡΟΥΠΟΛΗΣ","Θ"]
[14474,"M","ΧΡΥΣΙΚΟΣ ΑΝΑΣΤΑΣΙΟΣ",1986,"Ο.Α.ΛΙΒΑΔΕΙΑΣ","Ε"]
[6925,"M","ΧΡΥΣΙΚΟΣ ΒΑΣΙΛΕΙΟΣ",1982,"ΝΑΥΠΛΙΑΚΟΣ Ο.Α.","ΣΤ"]
[24245,"M","ΧΡΥΣΙΚΟΣ ΓΕΩΡΓΙΟΣ",1998,"Σ.Α.ΤΡΙΠΟΛΗΣ","ΣΤ"]
[20784,"M","ΧΡΥΣΙΚΟΣ ΓΡΗΓΟΡΙΟΣ",1995,"Ο.Α.ΓΟΥΔΙΟΥ","ΙΑ"]
[25997,"M","ΧΡΥΣΙΚΟΣ ΔΗΜΗΤΡΙΟΣ-ΔΟΜΗΝΙΚΟΣ",1993,"Ο.Α.ΓΟΥΔΙΟΥ","ΙΑ"]
[6926,"M","ΧΡΥΣΙΚΟΣ ΘΕΟΔΩΡΟΣ",1985,"ΝΑΥΠΛΙΑΚΟΣ Ο.Α.","ΣΤ"]
[16851,"M","ΧΡΥΣΙΚΟΣ ΚΩΝΣΤΑΝΤΙΝΟΣ",1984,"Ε.Α.Τ.Ε.Κ.ΕΛΛΗΝΙΚΟΥ ΚΟΛΛΕΓΙΟΥ","Β"]
[29163,"M","ΧΡΥΣΙΚΟΣ ΠΑΝΑΓΙΩΤΗΣ",1995,"Α.Α.ΑΙΓΑΛΕΩ","Θ"]
[30969,"M","ΧΡΥΣΙΚΟΣ ΣΩΤΗΡΙΟΣ",1997,"Φ.Σ.ΚΑΛΛΙΘΕΑΣ","Θ"]
[19812,"F","ΧΡΥΣΙΚΟΥ ΑΝΔΡΙΑΝΑ",1992,"Α.Ο.Α.ΗΛΙΟΥΠΟΛΗΣ","ΙΑ"]
[17532,"F","ΧΡΥΣΙΚΟΥ ΜΑΡΙΑ",1993,"ΦΘΙΩΤΙΚΟΣ Ο.Α.","Ε"]
[15241,"M","ΧΡΥΣΙΝΑΣ ΘΑΝΑΣΗΣ",1986,"Α.Κ.Α.ΜΑΡΑΘΩΝΑ","Η"]
[22387,"F","ΧΡΥΣΟΒΕΡΓΗ ΜΑΡΙΑ-ΑΝΝΑ",1995,"Γ.Σ.ΗΛΙΟΥΠΟΛΗΣ","ΙΑ"]
[20824,"M","ΧΡΥΣΟΒΕΡΓΗΣ ΔΗΜΗΤΡΙΟΣ",1993,"Α.Ο.Ν.Φ.ΑΤΤΑΛΟΣ","Η"]
[14952,"M","ΧΡΥΣΟΒΕΡΓΗΣ ΕΛΠΙΔΟΦΟΡΟΣ",1988,"ΦΙΛΑΘΛΗΤ.ΣΥΛ.ΛΑΜΙΑΣ","Ε"]
[17716,"F","ΧΡΥΣΟΓΕΛΟΥ ΑΝΝΑ-ΜΑΡΙΑ",1988,"Α.Σ.ΠΑΠΑΓΟΥ","ΙΑ"]
[15820,"F","ΧΡΥΣΟΓΕΝΗ ΑΝΝΑ",1990,"Α.Σ.Β.Α.ΚΥΝΟΥΡΙΑΣ ΑΙΟΛΟΣ","ΣΤ"]
[22097,"M","ΧΡΥΣΟΓΟΝΙΔΗΣ ΓΙΑΝΝΗΣ",1990,"Α.Μ.Ε.Σ.Ν.ΕΡΥΘΡΑΙΑΣ","Η"]
[19927,"F","ΧΡΥΣΟΜΑΛΛΗ ΕΛΕΝΗ",1990,"Ο.Α.ΚΑΒΑΛΑΣ ΑΛΕΞΑΝΔΡΟΣ","Α"]
[19928,"F","ΧΡΥΣΟΜΑΛΛΗ ΙΩΑΝΝΑ",1994,"Ο.Α.ΚΑΒΑΛΑΣ ΑΛΕΞΑΝΔΡΟΣ","Α"]
[18908,"M","ΧΡΥΣΟΜΑΛΛΗΣ ΘΕΟΔΩΡΟΣ",1993,"Α.Ο.Α.ΚΑΒΑΛΑΣ","Α"]
[19094,"F","ΧΡΥΣΟΜΑΛΛΙΔΗ ΑΛΕΞΑΝΔΡΑ",1991,"Α.Ο.ΜΟΡΤΕΡΟΥ","Η"]
[27035,"M","ΧΡΥΣΟΜΑΛΛΟΣ ΚΩΝΣΤΑΝΤΙΝΟΣ",1998,"Ο.Α.ΒΟΛΟΥ","Ε"]
[10800,"M","ΧΡΥΣΟΠΟΥΛΟΣ ΓΡΗΓΟΡΗΣ",1982,"Μ.Γ.Σ.ΑΠΟΛΛΩΝ ΚΑΛΑΜΑΡΙΑΣ","Β"]
[3458,"M","ΧΡΥΣΟΠΟΥΛΟΣ ΝΙΚΟΣ",1966,"ΠΑΝΕΛΛΗΝΙΟΣ Γ.Σ.","Θ"]
[20253,"F","ΧΡΥΣΟΠΟΥΛΟΥ ΑΦΡΟΔΙΤΗ-ΟΛΓΑ",1994,"Ο.Α.ΚΑΤΕΡΙΝΗΣ","Γ"]
[14514,"F","ΧΡΥΣΟΠΟΥΛΟΥ ΝΙΚΟΛΕΤΑ",1986,"Ο.Α.ΧΡΥΣΟΥΠΟΛΗΣ","Α"]
[6333,"M","ΧΡΥΣΟΣ ΔΗΜΗΤΡΙΟΣ-ΕΥΣΤΡΑΤΙΟΣ",1977,"Α.Σ.Α.ΜΥΤΙΛΗΝΗΣ","Θ"]
[13449,"F","ΧΡΥΣΟΣΠΑΘΗ ΑΝΑΣΤΑΣΙΑ",1987,"ΑΙΟΛΟΣ Α.Λ.ΙΛΙΟΥ","Θ"]
[36788,"M","ΧΡΥΣΟΣΤΟΜΗΣ ΜΑΡΙΟΣ",2001,"Σ.Α.ΡΑΦΗΝΑΣ","Η"]
[30588,"F","ΧΡΥΣΟΣΤΟΜΙΔΟΥ ΑΦΡΟΔΙΤΗ",2001,"Ο.Π.ΘΕΣΣΑΛΟΝΙΚΗΣ ΜΑΚΕΔΟΝΙΑ 92","Β"]
[30589,"F","ΧΡΥΣΟΣΤΟΜΙΔΟΥ ΜΑΡΙΑ",2001,"Ο.Π.ΘΕΣΣΑΛΟΝΙΚΗΣ ΜΑΚΕΔΟΝΙΑ 92","Β"]
[13079,"F","ΧΡΥΣΟΣΤΟΜΙΔΟΥ ΜΑΡΙΝΑ",1984,"Α.Ο.Α.ΣΤΑΥΡΟΥΠΟΛΗΣ ΙΦΙΤΟΣ","Β"]
[6469,"M","ΧΡΥΣΟΣΤΟΜΟΥ ΣΤΥΛΙΑΝΟΣ",1976,"Γ.Σ.ΗΛΙΟΥΠΟΛΗΣ","ΙΑ"]
[19048,"F","ΧΡΥΣΟΥ ΕΥΦΡΟΣΥΝΗ",1989,"Α.Σ.Α.ΛΑΡΙΣΑΣ","Ε"]
[32027,"F","ΧΡΥΣΟΥΛΑΚΗ ΕΥΑΓΓΕΛΙΑ",2001,"Γ.Σ.ΛΙΒΥΚΟΣ ΙΕΡΑΠΕΤΡΑΣ","Ζ"]
[6906,"M","ΧΡΥΣΟΥΛΗΣ ΔΗΜΗΤΡΗΣ",1984,"Ο.Α.ΕΛΕΥΣΙΝΑΣ ΑΙΣΧΥΛΟΣ","Θ"]
[3998,"M","ΧΡΥΣΟΥΛΙΔΗΣ ΝΙΚΟΣ",1974,"Α.Μ.Σ.ΠΑΝΟΡΑΜΑΤΟΣ","Β"]
[14903,"F","ΧΡΥΣΟΦΙΝΗ ΕΙΡΗΝΗ",1986,"Ο.Α.ΝΕΑΣ ΜΑΚΡΗΣ","Η"]
[7621,"M","ΧΡΥΣΟΧΟΪΔΗΣ ΒΑΣΙΛΕΙΟΣ",1980,"Ο.Α.ΒΕΡΟΙΑΣ","Γ"]
[6692,"M","ΧΡΥΣΟΧΟΪΔΗΣ ΗΡΑΚΛΗΣ",1978,"Α.Σ.ΠΑΠΑΓΟΥ","ΙΑ"]
[37149,"M","ΧΡΥΣΟΧΟΪΔΗΣ ΙΩΑΝΝΗΣ",2000,"Ο.Α.ΣΚΥΔΡΑΣ","Γ"]
[6402,"M","ΧΡΥΣΟΧΟΪΔΗΣ ΜΙΧΑΛΗΣ",1981,"ΠΑΝΘΡΑΚΙΚΟΣ Ο.Α.ΚΟΜΟΤΗΝΗΣ","Α"]
[7622,"F","ΧΡΥΣΟΧΟΪΔΟΥ ΑΝΝΑ",1981,"Ο.Α.ΒΕΡΟΙΑΣ","Γ"]
[28582,"F","ΧΡΥΣΟΧΟΪΔΟΥ ΜΑΡΙΑ",1999,"Μ.Γ.Σ.ΑΠΟΛΛΩΝ ΚΑΛΑΜΑΡΙΑΣ","Β"]
[28073,"M","ΧΡΥΣΟΧΟΟΥ ΓΕΩΡΓΙΟΣ",1998,"Σ.Α.ΡΑΦΗΝΑΣ","Η"]
[13890,"F","ΧΡΥΣΟΧΟΟΥ ΚΑΛΛΙΑ",1985,"ΡΟΔΙΑΚΟΣ Ο.Α.","Θ"]
[19095,"F","ΧΡΥΣΣΟΜΑΛΙΔΗ ΔΑΦΝΗ",1994,"Α.Ο.ΜΟΡΤΕΡΟΥ","Η"]
[7030,"M","ΧΤΕΝΑΣ ΔΗΜΗΤΡΗΣ",1980,"Ο.Α.ΚΑΒΑΛΑΣ ΑΛΕΞΑΝΔΡΟΣ","Α"]
[15404,"M","ΧΥΤΗΡΗΣ ΛΑΜΠΡΟΣ",1988,"Ο.Α.ΚΕΡΚΥΡΑΣ","Δ"]
[4036,"M","ΧΥΤΗΡΗΣ ΣΠΥΡΟΣ",1975,"Ο.Α.ΚΕΡΚΥΡΑΣ","Δ"]
[31049,"F","ΧΥΤΗΡΟΓΛΟΥ ΝΑΤΑΛΙΑ-ΕΥΓΕΝΙΑ",2001,"Α.Σ.Ν.ΒΟΥΤΖΑ ΡΑΦΗΝΑΣ Η ΠΡΟΟΔΟΣ","Η"]
[2748,"M","ΧΥΤΗΡΟΓΛΟΥ ΠΑΥΛΟΣ",1975,"Α.Ο.Α.ΦΙΛΟΘΕΗΣ","Η"]
[22513,"F","ΧΥΤΙΡΟΓΛΟΥ ΆΝΝΑ",1999,"Α.Ο.ΘΕΡΜΗΣ Ο ΘΕΡΜΑΙΟΣ","Β"]
[22514,"F","ΧΥΤΙΡΟΓΛΟΥ ΣΤΥΛΙΑΝΗ",1994,"Α.Ο.ΘΕΡΜΗΣ Ο ΘΕΡΜΑΙΟΣ","Β"]
[90096,"M","ΧΩΛ ΝΑΘΑΝ",2000,"Ο.Α.ΑΝΑΦΛΥΣΤΟΣ ΣΑΡΩΝΙΔΑΣ","Η"]
[6701,"F","ΧΩΜΑΤΙΔΟΥ ΕΥΑΓΓΕΛΙΑ",1982,"Σ.Ο.Ι.Σ.ΝΕΑ ΠΝΟΗ","Α"]
[29913,"F","ΧΩΝΑΚΗ ΤΡΙΑΝΤΑΦΥΛΛΙΑ",1974,"Γ.Σ.ΙΤΕΑΣ","Ε"]
[21748,"F","ΧΩΡΑΦΑ ΑΓΛΑΪΑ-ΣΑΜΠΡΙΝΑ",1996,"Ο.Α.ΝΑΥΠΑΚΤΟΥ","ΣΤ"]
[21747,"F","ΧΩΡΑΦΑ ΒΑΣΙΛΙΚΗ",1995,"Ο.Α.ΝΑΥΠΑΚΤΟΥ","ΣΤ"]
[26750,"F","ΧΩΡΑΦΑΪΔΟΥ ΑΘΗΝΑ",1998,"Ο.Α.ΒΙΚΕΛΑΣ ΒΕΡΟΙΑΣ","Γ"]
[34331,"M","ΧΩΡΙΑΝΟΠΟΥΛΟΣ ΣΤΕΦΑΝΟΣ",1999,"Α.Σ.ΟΛΥΜΠΙΑΚΟΥ ΧΩΡΙΟΥ Ο ΦΟΙΒΟΣ","Θ"]
[19658,"F","ΧΩΡΙΑΝΟΠΟΥΛΟΥ ΕΛΕΝΗ",1993,"Σ.Α.ΓΑΛΑΤΣΙΟΥ","Θ"]
[2844,"F","ΧΩΡΙΑΝΟΠΟΥΛΟΥ ΠΗΝΕΛΟΠΗ",1976,"Ο.Α.ΚΑΙΣΑΡΙΑΝΗΣ","Θ"]
[36958,"F","ΧΩΡΙΑΝΟΠΟΥΛΟΥ ΧΑΡΙΚΛΕΙΑ",2002,"Α.Σ.ΟΛΥΜΠΙΑΚΟΥ ΧΩΡΙΟΥ Ο ΦΟΙΒΟΣ","Θ"]
[33870,"M","ΧΩΡΙΝΟΣ ΑΛΕΞΑΝΔΡΟΣ",2002,"Α.Ν.Ο.ΓΛΥΦΑΔΑΣ","ΙΑ"]
[2016,"M","ΧΩΡΙΝΟΣ ΚΩΣΤΑΣ",1972,"Α.Ο.Α.ΚΑΒΑΛΑΣ","Α"]
[33762,"F","ΧΩΤΟΥ ΜΑΡΙΑ",1997,"Ο.Α.ΡΙΟΥ","ΣΤ"]
[3809,"M","ΨΑΔΑΣ ΚΩΝΣΤΑΝΤΙΝΟΣ",1974,"Α.Σ.ΣΠΑΡΤΑΚΟΣ ΓΛΥΦΑΔΑΣ","ΙΑ"]
[19915,"M","ΨΑΘΑΣ ΚΩΝΣΤΑΝΤΙΝΟΣ",1991,"Ο.Π.ΘΕΣΣΑΛΟΝΙΚΗΣ ΜΑΚΕΔΟΝΙΑ 92","Β"]
[17274,"M","ΨΑΘΑΣ ΣΑΡΑΝΤΗΣ",1990,"Ο.Α.ΑΛΕΞΑΝΔΡΟΥΠΟΛΗΣ","Α"]
[11124,"M","ΨΑΪΛΑΣ ΙΩΑΝΝΗΣ",1989,"Α.Α.ΚΕΡΚΥΡΑΣ","Δ"]
[4531,"M","ΨΑΛΙΔΟΠΟΥΛΟΣ ΜΑΡΙΟΣ",1977,"ΚΕΦΑΛΛΗΝΙΑΚΟΣ Ο.Α.","ΣΤ"]
[20634,"M","ΨΑΛΛΙΔΑΣ ΦΩΤΙΟΣ",1988,"Ο.Α.ΚΑΛΑΜΑΤΑΣ","ΣΤ"]
[14975,"F","ΨΑΛΤΑΚΗ ΔΑΦΝΗ-ΣΤΥΛΙΑΝΗ",1985,"Ο.Α.ΧΕΡΣΟΝΗΣΟΥ","Ζ"]
[14970,"F","ΨΑΛΤΑΚΗ ΣΟΦΙΑ-ΝΤΕΖΙΡΕ",1989,"Ο.Α.ΧΕΡΣΟΝΗΣΟΥ","Ζ"]
[14854,"M","ΨΑΛΤΑΚΗΣ ΠΑΝΑΓΙΩΤΗΣ",1988,"Ο.Α.ΧΕΡΣΟΝΗΣΟΥ","Ζ"]
[8193,"M","ΨΑΛΤΑΚΟΣ ΓΡΗΓΟΡΙΟΣ",1980,"Α.Ο.ΟΛΥΜΠΙΑΔΑ ΒΥΡΩΝΑ","Η"]
[13097,"F","ΨΑΛΤΑΚΟΥ ΣΟΦΙΑ",1984,"Α.Ο.ΟΛΥΜΠΙΑΔΑ ΒΥΡΩΝΑ","Η"]
[6399,"F","ΨΑΛΤΗ ΕΛΕΝΑ",1974,"ΠΑΝΘΡΑΚΙΚΟΣ Ο.Α.ΚΟΜΟΤΗΝΗΣ","Α"]
[3505,"M","ΨΑΛΤΗΣ ΓΡΗΓΟΡΗΣ-ΦΙΛΙΠΠΟΣ",1974,"Α.Ο.ΚΗΦΙΣΙΑΣ","Η"]
[6400,"M","ΨΑΛΤΗΣ ΞΕΝΟΦΩΝ",1979,"ΠΑΝΘΡΑΚΙΚΟΣ Ο.Α.ΚΟΜΟΤΗΝΗΣ","Α"]
[10001,"F","ΨΑΡΑΔΑΚΗ ΜΑΡΙΑ-ΕΥΑΓΓΕΛΙΑ",1982,"Ο.Α.ΚΑΙΣΑΡΙΑΝΗΣ","Θ"]
[38974,"M","ΨΑΡΑΔΑΚΗΣ ΜΙΧΑΛΗΣ",2001,"Α.Ο.Α.ΓΙΕΛΟΟΥ","Η"]
[24364,"F","ΨΑΡΑΚΗ ΑΜΑΛΙΑ-ΜΑΡΙΝΑ",2002,"Α.Ο.ΣΙΚΥΩΝΟΣ ΚΙΑΤΟΥ","ΣΤ"]
[20390,"F","ΨΑΡΑΚΗ ΑΦΡΟΔΙΤΗ",1993,"Α.Ο.Α.ΧΑΪΔΑΡΙΟΥ","Θ"]
[30883,"M","ΨΑΡΑΚΗΣ ΑΝΤΩΝΗΣ",1967,"Σ.Α.ΤΡΙΠΟΛΗΣ","ΣΤ"]
[24365,"M","ΨΑΡΑΚΗΣ ΚΩΝΣΤΑΝΤΙΝΟΣ",2001,"Α.Ε.Κ.ΤΡΙΠΟΛΗΣ","ΣΤ"]
[10843,"M","ΨΑΡΑΚΟΣ ΚΥΡΙΑΚΟΣ",1970,"Δ.Α.Σ.ΑΝΩ ΛΙΟΣΙΩΝ","Θ"]
[7851,"M","ΨΑΡΑΣ ΕΥΑΓΓΕΛΟΣ",1978,"Α.Ο.ΒΑΡΗΣ ΑΝΑΓΥΡΟΥΣ","Η"]
[7852,"M","ΨΑΡΑΣ ΚΥΡΙΑΚΟΣ",1975,"Α.Ο.ΒΑΡΗΣ ΑΝΑΓΥΡΟΥΣ","Η"]
[26993,"M","ΨΑΡΑΣ ΧΡΗΣΤΟΣ",1994,"Γ.Α.Σ.ΜΑΓΝΗΣΙΑΣ","Ε"]
[33997,"F","ΨΑΡΑΥΤΗ ΑΙΚΑΤΕΡΙΝΗ",1998,"Α.Ε.Κ.ΤΡΙΠΟΛΗΣ","ΣΤ"]
[29677,"M","ΨΑΡΑΥΤΗΣ ΝΙΚΟΛΑΟΣ",1999,"Σ.Φ.Α.ΜΕΛΙΣΣΙΩΝ Ο ΦΟΙΒΟΣ","Η"]
[28575,"M","ΨΑΡΙΑΔΗΣ ΜΙΧΑΛΗΣ",2000,"Ο.Α.ΑΙΓΙΑΛΕΙΑΣ","ΣΤ"]
[39119,"F","ΨΑΡΙΑΣ ΓΕΩΡΓΙΟΣ",1998,"Α.Σ.Α.ΓΡΕΒΕΝΩΝ","Γ"]
[39122,"M","ΨΑΡΙΑΣ ΙΩΑΝΝΗΣ",1966,"Α.Σ.Α.ΓΡΕΒΕΝΩΝ","Γ"]
[39120,"M","ΨΑΡΙΑΣ ΝΕΣΤΟΡΑΣ",2001,"Α.Σ.Α.ΓΡΕΒΕΝΩΝ","Γ"]
[29941,"M","ΨΑΡΙΝΟΠΟΥΛΟΣ ΜΙΧΑΗΛ",1999,"Ο.Α.ΠΕΤΡΟΥΠΟΛΗΣ","Θ"]
[9794,"M","ΨΑΡΟΓΙΑΝΝΗΣ ΕΥΘΥΜΙΟΣ",1973,"Σ.Α.ΓΑΛΑΤΣΙΟΥ","Θ"]
[16962,"M","ΨΑΡΟΜΙΧΑΛΑΚΗΣ ΑΝΤΩΝΙΟΣ",1989,"Γ.Σ.ΛΙΒΥΚΟΣ ΙΕΡΑΠΕΤΡΑΣ","Ζ"]
[16762,"F","ΨΑΡΟΜΜΑΤΗ ΑΡΕΤΗ",1990,"Α.Ο.Α.ΗΛΙΟΥΠΟΛΗΣ","ΙΑ"]
[17216,"M","ΨΑΡΟΠΟΥΛΟΣ ΔΗΜΗΤΡΙΟΣ",1988,"Ο.Α.ΑΛΕΞΑΝΔΡΟΥΠΟΛΗΣ","Α"]
[15593,"M","ΨΑΡΟΠΟΥΛΟΣ ΦΩΤΙΟΣ",1987,"Ο.Α.ΑΛΕΞΑΝΔΡΟΥΠΟΛΗΣ","Α"]
[27085,"F","ΨΑΡΟΠΟΥΛΟΥ ΚΩΝΣΤΑΝΤΙΝΑ-ΜΑΡΙΑ",1996,"Α.Ο.ΣΙΚΥΩΝΟΣ ΚΙΑΤΟΥ","ΣΤ"]
[21599,"F","ΨΑΡΟΥ ΕΛΕΝΑ",1991,"Ο.Α.ΒΟΥΛΙΑΓΜΕΝΗΣ ΜΙΚΡΟΙ ΑΣΣΟΙ","ΙΑ"]
[15301,"F","ΨΑΡΟΥΔΑΚΗ ΔΑΝΑΗ",1990,"Α.Κ.Α.ΜΑΡΑΘΩΝΑ","Η"]
[24819,"M","ΨΑΡΟΥΔΑΚΗΣ ΓΙΑΝΝΗΣ",2000,"Ο.Α.ΛΕΣΒΟΥ","Θ"]
[669,"M","ΨΑΡΟΥΔΑΚΗΣ ΜΙΧΑΛΗΣ",1968,"ΗΡΑΚΛΕΙΟ Ο.Α.& Α.","Ζ"]
[24814,"M","ΨΑΡΟΥΔΑΚΗΣ ΝΙΚΟΛΑΣ",1999,"Ο.Α.ΛΕΣΒΟΥ","Θ"]
[667,"M","ΨΑΡΟΥΔΑΚΗΣ ΝΙΚΟΣ",1967,"ΗΡΑΚΛΕΙΟ Ο.Α.& Α.","Ζ"]
[20194,"M","ΨΑΡΟΥΔΑΚΗΣ ΠΑΝΤΕΛΗΣ",1996,"Ο.Α.ΧΑΝΙΩΝ","Ζ"]
[20399,"M","ΨΑΡΟΥΔΑΚΗΣ ΣΤΥΛΙΑΝΟΣ",1991,"Α.Ο.Α.ΡΕΘΥΜΝΟ Τ.Κ.","Ζ"]
[6617,"F","ΨΑΡΡΑ ΑΘΑΝΑΣΙΑ",1980,"Ο.Α.ΖΩΓΡΑΦΟΥ","Η"]
[17928,"F","ΨΑΡΡΑ ΕΙΡΗΝΗ",1990,"Α.Ο.Π.ΦΑΛΗΡΟΥ","ΙΑ"]
[6635,"F","ΨΑΡΡΑ ΚΩΝΣΤΑΝΤΙΝΑ-ΚΑΛΛΙΟΠΗ",1979,"Α.Σ.ΠΕΡΑ","ΙΑ"]
[35727,"F","ΨΑΡΡΑ ΦΩΤΕΙΝΗ",1995,"Ο.Α.ΖΩΓΡΑΦΟΥ","Η"]
[38391,"F","ΨΑΡΡΑΚΗ ΧΡΥΣΟΥΛΑ",1985,"Ο.Α.ΠΕΙΡΑΙΑ","Θ"]
[10951,"M","ΨΑΡΡΑΚΟΣ ΠΑΝΑΓΙΩΤΗΣ",1966,"Δ.Α.Σ.ΑΝΩ ΛΙΟΣΙΩΝ","Θ"]
[14683,"M","ΨΑΡΡΑΣ ΑΝΑΣΤΑΣΙΟΣ",1987,"ΚΕΦΑΛΛΗΝΙΑΚΟΣ Ο.Α.","ΣΤ"]
[27720,"M","ΨΑΡΡΑΣ ΑΝΑΣΤΑΣΙΟΣ",1998,"Σ.Ο.Α.ΚΑΡΔΙΤΣΑΣ ΦΩΚΙΑΝΟΣ","Ε"]
[13332,"M","ΨΑΡΡΑΣ ΔΗΜΗΤΡΙΟΣ",1985,"ΗΡΑΚΛΕΙΟ Ο.Α.& Α.","Ζ"]
[15071,"M","ΨΑΡΡΑΣ ΧΡΗΣΤΟΣ",1985,"ΚΕΦΑΛΛΗΝΙΑΚΟΣ Ο.Α.","ΣΤ"]
[23811,"M","ΨΑΡΡΗΣ ΔΗΜΗΤΡΙΟΣ",1970,"Α.Ο.ΒΟΥΛΑΣ","ΙΑ"]
[5195,"M","ΨΑΡΡΟΣ ΔΗΜΗΤΡΙΟΣ",1979,"Α.Ο.ΑΡΓΥΡΟΥΠΟΛΗΣ","ΙΑ"]
[3723,"M","ΨΑΡΡΟΣ ΙΩΑΝΝΗΣ",1976,"Α.Ο.ΑΡΓΥΡΟΥΠΟΛΗΣ","ΙΑ"]
[11284,"M","ΨΑΡΡΟΣ ΚΩΝΣΤΑΝΤΙΝΟΣ",1985,"Α.Ο.Α.ΑΤΤΙΚΟΣ ΗΛΙΟΣ","Η"]
[19793,"M","ΨΑΡΡΟΣ ΜΙΧΑΗΛ-ΑΝΑΣΤΑΣΙΟΣ",1994,"Ο.Α.ΑΘΗΝΩΝ","Η"]
[22455,"M","ΨΑΡΡΟΣ ΣΤΑΥΡΟΣ",1994,"Ο.Α.ΛΕΣΒΟΥ","Θ"]
[16692,"M","ΨΑΡΡΟΣ ΦΩΤΙΟΣ",1987,"Ο.Α.ΛΕΣΒΟΥ","Θ"]
[28838,"F","ΨΑΡΡΟΥ ΕΥΑΓΓΕΛΙΑ",2000,"ΡΗΓΑΣ Α.Ο.Α.ΑΡΓΟΛΙΔΑΣ","ΣΤ"]
[28837,"F","ΨΑΡΡΟΥ ΜΑΡΙΑ",1998,"ΡΗΓΑΣ Α.Ο.Α.ΑΡΓΟΛΙΔΑΣ","ΣΤ"]
[21600,"F","ΨΑΡΡΟΥ ΜΑΡΙΑ-ΑΝΝΑ",1993,"Ο.Α.ΒΟΥΛΙΑΓΜΕΝΗΣ ΜΙΚΡΟΙ ΑΣΣΟΙ","ΙΑ"]
[5543,"M","ΨΑΧΟΣ ΔΙΟΝΥΣΗΣ",1983,"Α.Ο.Π.ΦΑΛΗΡΟΥ","ΙΑ"]
[5542,"F","ΨΑΧΟΥ ΡΟΥΜΠΗ",1980,"Α.Ο.Π.ΦΑΛΗΡΟΥ","ΙΑ"]
[1791,"F","ΨΕΙΡΙΔΟΥ ΑΝΑΣΤΑΣΙΑ",1971,"Ο.Α.ΑΛΕΞΑΝΔΡΟΥΠΟΛΗΣ","Α"]
[27756,"F","ΨΕΥΤΕΛΗ ΕΛΕΝΗ",1981,"Ο.Α.ΤΟΥΜΠΑΣ","Β"]
[21310,"F","ΨΕΥΤΟΓΙΑΝΝΗ ΚΩΝΣΤΑΝΤΙΝΑ",1991,"Ο.Α.ΚΑΙΣΑΡΙΑΝΗΣ","Θ"]
[26285,"F","ΨΕΥΤΟΓΙΑΝΝΗ ΧΑΡΟΥΛΑ",1986,"Α.Ο.ΑΜΥΝΤΑΣ ΥΜΗΤΤΟΥ","ΙΑ"]
[8865,"M","ΨΗΜΑΣ ΔΗΜΗΤΡΙΟΣ",1980,"Σ.Α.ΚΑΣΤΟΡΙΑΣ ΠΡΩΤΕΑΣ","Γ"]
[14243,"M","ΨΗΤΙΛΛΗΣ ΚΡΙΝΟΣ",1986,"Ε.Φ.Τ.ΑΙΟΛΙΚΗ","Β"]
[10884,"M","ΨΗΦΗΣ ΣΤΕΡΓΙΟΣ",1981,"Σ.Ο.Α.ΚΑΡΔΙΤΣΑΣ ΦΩΚΙΑΝΟΣ","Ε"]
[5684,"M","ΨΙΜΟΠΟΥΛΟΣ ΕΜΜΑΝΟΥΗΛ",1978,"ΕΘΝΙΚΟΣ ΠΑΝΟΡΑΜΑΤΟΣ 2005","Β"]
[21455,"M","ΨΙΜΟΥΛΗΣ ΧΡΗΣΤΟΣ",1997,"Σ.Α.ΤΡΙΠΟΛΗΣ","ΣΤ"]
[12466,"F","ΨΙΣΤΑΚΗ ΚΥΡΙΑΚΗ",1987,"Ο.Α.ΚΑΒΑΛΑΣ ΑΛΕΞΑΝΔΡΟΣ","Α"]
[19872,"M","ΨΙΣΤΑΚΗΣ ΑΝΔΡΕΑΣ",1991,"Ο.Α.ΧΑΝΙΩΝ","Ζ"]
[20797,"M","ΨΙΣΤΑΚΗΣ ΑΝΔΡΕΑΣ",1991,"Ο.Α.ΧΑΝΙΩΝ","Ζ"]
[2717,"M","ΨΙΣΤΑΚΗΣ ΕΜΜΑΝΟΥΗΛ",1977,"ΗΡΑΚΛΕΙΟ Ο.Α.& Α.","Ζ"]
[1348,"M","ΨΙΣΤΑΚΗΣ ΝΕΚΤΑΡΙΟΣ",1971,"Ο.Α.ΧΑΝΙΩΝ","Ζ"]
[28737,"F","ΨΟΥΝΟΠΟΥΛΟΥ ΕΛΠΙΔΑ",1997,"Ο.Α.ΑΛΕΞΑΝΔΡΟΣ ΒΕΡΟΙΑΣ","Γ"]
[17968,"M","ΨΟΥΡΟΥΚΑΣ ΜΑΡΙΟΣ",1992,"Σ.Α.ΣΕΡΡΩΝ","Α"]
[1092,"F","ΨΥΛΛΑΚΗ ΜΑΙΡΗ",1967,"ΗΡΑΚΛΕΙΟ Ο.Α.& Α.","Ζ"]
[9010,"M","ΨΥΛΛΑΣ ΙΩΑΝΝΗΣ",1982,"Α.Ο.ΠΑΡΑΔΕΙΣΟΣ ΑΜΑΡΟΥΣΙΟΥ","Η"]
[16661,"F","ΨΥΛΛΙΔΗ-ΨΥΛΛΗ ΜΑΡΙΑ",1990,"Α.Ν.Σ.ΕΛΛΗΝΙΚΙΩΤΩΝ","ΙΑ"]
[8851,"F","ΨΥΛΛΙΝΑΚΗ ΘΕΟΚΛΕΙΑ",1972,"Σ.Ο.Ι.Σ.ΝΕΑ ΠΝΟΗ","Α"]
[3509,"M","ΨΥΛΛΟΣ ΑΡΙΣΤΕΙΔΗΣ",1971,"Α.Ο.ΠΑΡΑΔΕΙΣΟΣ ΑΜΑΡΟΥΣΙΟΥ","Η"]
[7371,"M","ΨΥΛΛΟΣ ΔΗΜΗΤΡΙΟΣ",1985,"ΑΙΟΛΟΣ Α.Λ.ΙΛΙΟΥ","Θ"]
[3510,"M","ΨΥΛΛΟΣ ΗΛΙΑΣ",1972,"Α.Ο.ΠΑΡΑΔΕΙΣΟΣ ΑΜΑΡΟΥΣΙΟΥ","Η"]
[33866,"M","ΨΥΛΟΠΟΥΛΟΣ ΗΛΙΑΣ",2001,"Ο.Α.ΚΟΥΦΑΛΙΩΝ ΘΕΣΣΑΛΟΝΙΚΗΣ","Β"]
[19965,"F","ΨΥΡΗ ΕΙΡΗΝΗ-ΟΜΟΝΟΙΑ",1994,"Ο.Α.ΚΩ","Θ"]
[30014,"F","ΨΥΡΟΥΚΗ ΕΥΑΝΘΙΑ",1997,"Ο.Α.ΛΕΣΒΟΥ","Θ"]
[10293,"M","ΨΥΡΡΑΣ ΒΑΣΙΛΕΙΟΣ",1984,"Σ.Α.ΕΛΑΣΣΟΝΑΣ","Ε"]
[33120,"F","ΨΥΡΡΗ ΔΙΟΝΥΣΙΑ",2001,"Α.Ε.Τ.ΝΙΚΗ ΠΑΤΡΩΝ","ΣΤ"]
[3508,"M","ΨΥΡΡΗΣ ΔΗΜΗΤΡΗΣ",1971,"Α.Ο.ΠΑΡΑΔΕΙΣΟΣ ΑΜΑΡΟΥΣΙΟΥ","Η"]
[15507,"M","ΨΥΧΑΡΑΚΗΣ ΜΙΧΑΗΛ",1983,"Α.Ο.ΚΗΦΙΣΙΑΣ","Η"]
[7464,"M","ΨΥΧΑΡΗΣ ΝΙΚΟΛΑΟΣ",1978,"Ο.Α.ΒΙΚΕΛΑΣ ΒΕΡΟΙΑΣ","Γ"]
[35271,"M","ΨΥΧΑΣ ΑΘΑΝΑΣΙΟΣ",2002,"Ο.Α.ΦΟΙΒΟΣ ΛΑΡΙΣΑΣ","Ε"]
[17978,"M","ΨΥΧΑΣ ΑΡΙΣΤΕΙΔΗΣ",1992,"ΝΑΥΠΛΙΑΚΟΣ Ο.Α.","ΣΤ"]
[18174,"F","ΨΥΧΟΓΙΟΠΟΥΛΟΥ ΚΑΤΕΡΙΝΑ",1992,"Α.Ε.ΠΟΡΤΟ ΡΑΦΤΗ","Η"]
[7631,"M","ΨΥΧΟΓΙΟΣ ΑΝΤΩΝΙΟΣ",1980,"Σ.Α.ΤΡΙΠΟΛΗΣ","ΣΤ"]
[24366,"M","ΨΥΧΟΓΙΟΣ ΙΩΑΝΝΗΣ",1997,"Σ.Α.ΤΡΙΠΟΛΗΣ","ΣΤ"]
[12530,"M","ΨΥΧΟΓΙΟΣ ΜΙΧΑΗΛ",1978,"Α.Ο.ΑΡΓΥΡΟΥΠΟΛΗΣ","ΙΑ"]
[7878,"M","ΨΥΧΟΓΙΟΣ ΜΙΧΑΛΗΣ",1978,"Ν.Ο.ΚΑΛΑΜΑΚΙΟΥ","ΙΑ"]
[6772,"F","ΨΥΧΟΓΙΟΥ ΔΗΜΗΤΡΑ",1979,"Α.Ε.Κ.ΤΡΙΠΟΛΗΣ","ΣΤ"]
[25013,"F","ΨΥΧΟΓΙΟΥ ΣΤΑΥΡΟΥΛΑ",1978,"Α.Ε.Κ.ΤΡΙΠΟΛΗΣ","ΣΤ"]
[6239,"F","ΨΥΧΟΓΙΟΥΛΑΚΗ ΜΥΡΣΙΝΗ",1979,"Α.Σ.Α.ΜΥΤΙΛΗΝΗΣ","Θ"]
[22635,"M","ΨΥΧΟΓΥΙΟΠΟΥΛΟΣ ΑΝΑΣΤΑΣΙΟΣ",1992,"Ο.Α.ΚΑΛΑΜΑΤΑΣ","ΣΤ"]
[21325,"M","ΨΥΧΟΓΥΙΟΣ ΙΩΑΝΝΗΣ",1997,"Α.Ε.Κ.ΤΡΙΠΟΛΗΣ","ΣΤ"]
[28299,"F","ΨΥΧΟΓΥΙΟΥ ΑΙΚΑΤΕΡΙΝΗ",1999,"ΦΙΛΙΑ Τ.Κ.","Ζ"]
[28297,"F","ΨΥΧΟΓΥΙΟΥ ΚΩΝΣΤΑΝΤΙΝΑ",1998,"ΦΙΛΙΑ Τ.Κ.","Ζ"]
[28298,"F","ΨΥΧΟΓΥΙΟΥ ΜΑΡΙΑ-ΕΛΕΝΗ",1996,"ΦΙΛΙΑ Τ.Κ.","Ζ"]
[13951,"F","ΨΥΧΟΓΥΪΟΥ ΣΩΤΗΡΙΑ",1988,"Ο.Α.ΓΟΥΔΙΟΥ","ΙΑ"]
[17244,"F","ΨΥΧΟΓΥΙΟΥ ΧΡΙΣΤΙΑΝΑ",1986,"Ο.Α.ΠΕΙΡΑΙΑ","Θ"]
[4420,"M","ΨΥΧΟΥΛΗΣ ΑΛΕΞΑΝΔΡΟΣ",1972,"Α.Σ.Α.ΛΑΡΙΣΑΣ","Ε"]
[28946,"F","ΨΩΜΑ ΑΝΑΣΤΑΣΙΑ",1996,"Ο.Α.ΡΕΘΥΜΝΟΥ","Ζ"]
[1591,"F","ΨΩΜΑΔΑΚΗ ΑΓΓΕΛΙΚΗ",1968,"Α.Κ.ΖΩΓΡΑΦΟΥ","ΙΑ"]
[36055,"F","ΨΩΜΑΔΑΚΗ-ΚΑΡΑΣΤΑΜΑΤΗ ΕΡΑΤΩ",2002,"Ο.Α.ΓΛΥΦΑΔΑΣ","ΙΑ"]
[34688,"F","ΨΩΜΑΚΑ ΙΩΑΝΝΑ",2001,"Ο.Α.ΧΟΛΑΡΓΟΥ","ΙΑ"]
[27622,"M","ΨΩΜΑΚΕΛΗΣ ΕΥΑΓΓΕΛΟΣ",1994,"Ο.Α.ΞΑΝΘΗΣ","Α"]
[27623,"M","ΨΩΜΑΚΕΛΗΣ ΚΩΝΣΤΑΝΤΙΝΟΣ",1999,"Ο.Α.ΞΑΝΘΗΣ","Α"]
[33436,"F","ΨΩΜΑΛΗ ΓΙΑΝΝΑ",2001,"Ο.Α.ΚΩ","Θ"]
[27747,"M","ΨΩΜΑΣ ΒΑΣΙΛΕΙΟΣ-ΜΑΡΙΟΣ",1996,"Ο.Α.ΤΟΥΜΠΑΣ","Β"]
[27037,"M","ΨΩΜΑΤΑΚΗΣ ΕΜΜΑΝΟΥΗΛ",1999,"Ο.Α.ΧΑΝΙΩΝ","Ζ"]
[24082,"M","ΨΩΜΙΑΔΗΣ ΝΙΚΟΛΑΟΣ",1994,"Α.Κ.Α.ΜΑΡΑΘΩΝΑ","Η"]
[7847,"M","ΨΩΜΟΠΟΥΛΟΣ ΚΩΝΣΤΑΝΤΙΝΟΣ",1981,"Ο.Α.ΠΑΝΟΡΑΜΑΤΟΣ","Β"]
[35109,"M","ΨΩΝΗΣ ΕΥΘΥΜΙΟΣ",2002,"Ο.Α.ΠΕΤΡΟΥΠΟΛΗΣ","Θ"]
[3632,"M","ΨΩΡΟΥΛΑΣ ΙΩΑΝΝΗΣ",1971,"Α.Κ.ΖΩΓΡΑΦΟΥ","ΙΑ"]
[4319,"M","ΨΩΡΟΥΛΑΣ ΝΙΚΟΛΑΟΣ",1980,"Α.Κ.ΖΩΓΡΑΦΟΥ","ΙΑ"]
[16677,"M","ΩΡΑΙΟΠΟΥΛΟΣ ΒΑΪΟΣ",1992,"Ο.Α.ΛΕΣΒΟΥ","Θ"]
[25815,"M","ΩΡΟΛΟΓΑΣ ΔΗΜΗΤΡΙΟΣ",1994,"Ο.Α.ΞΑΝΘΗΣ","Α"]